{"text_format":"1","workbook":"xlsx","n_sheets":22,"sheets":["Instructions","DataEntryPaste","DataEntryValues","Summary","OptimizationTrend","LogProfile","MaxSed","SedSum(1-4)","SedSum(5-8)","MaxFilter","FilterSum(1-9)","FilterSum(10-18)","FilterSum(19-27)","FilterSum(28-36)","BW Data","BW Data Chart","BW Data PT","LT-Trend","LT Settle","LT Filter","AllDataSort","MonthDist"],"not_rendered":{"charts":61,"images":0,"macros":1,"external_links":0,"defined_names":143,"comments":4,"pivot_tables":1},"unopened":[{"sheet":"LogProfile","index":5,"reason":"not_a_worksheet"},{"sheet":"MaxSed","index":6,"reason":"not_a_worksheet"},{"sheet":"MaxFilter","index":9,"reason":"not_a_worksheet"},{"sheet":"BW Data Chart","index":15,"reason":"not_a_worksheet"},{"sheet":"LT Settle","index":18,"reason":"not_a_worksheet"},{"sheet":"LT Filter","index":19,"reason":"not_a_worksheet"}],"bounds":{"document_bytes":16777216,"sheet_cells":100000,"rows_first":2000,"rows_last":500,"rows_between":2000,"halvings":0,"cell_chars":16384,"cell_head_chars":4096},"cells_cut":0,"cells_raw":0,"read":"whole","date_system":"1900"}

{"sheet":"Instructions","index":0,"n_rows":80,"n_cols":6,"rows_kept":80,"cut":false,"hidden":false,"merged":[]}
[null,"Optimization Assessment Software"]
[null,"Instructions"]
["Entering data from another spreadsheet (copy/pasting):"]
["1.","When entering data sets from another spreadsheet, use the DataEntryPaste worksheet.  This will"]
[null,"reduce problems that could occur due to formatting differences.  "]
["2.","Before entering new data, you should clear the data entry area of any pre-existing data.  This can be"]
[null,"performed by clicking on the CLEAR button."]
["3.","After the data is entered, click the TRANSFER button to transfer the data to the database."]
["4.","Go to the DataEntryValues worksheet and enter the plant name and performance goals."]
["5.","Click the UPDATE button to develop the Summary and Optimization Trend Reports."]
[]
["Entering individual data from plant records:"]
["1.","When entering daily data from plant records, use the DataEntryValues worksheet."]
["2.","Before entering new data, you should clear the database of any pre-existing data.  This can be "]
[null,"performed by clicking on the CLEAR button."]
["3.","After data is entered, click on the UPDATE button to develop the Summary and Optimization Trend"]
[null,"Reports."]
[]
[]
[]
[]
[]
["Hiding columns in DataEntryValues worksheet:"]
["1.","If not all filter data columns are needed, unused columns can be hidden.  For example, if a plant has 24"]
[null,"filters, the columns for filters 25 thru 36 can be hidden."]
["2.","To hide columns, the worksheet must first be unprotected by going to the Tools and Protection"]
[null,"commands.  After this is done, select the columns to be hidden and then go to the Format and Column"]
[null,"commands to hide the desired columns."]
[null,{"$f":"B1","v":"Optimization Assessment Software"}]
[null,"FILE:","Turb-opt36filtersV6.xls"]
[null,"AUTHOR:","L. DeMers, K. Rakness, B. Hegg"]
[null,"COMPANY:","Process Applications, Inc."]
[null,"PURPOSE:","To assess particulate removal in surface water treatment plants"]
[]
[null,"DATE MODIFIED:",null,"MODIFICATIONS & BY WHOM:"]
[null,"1999-04-15","LDD initiated program development."]
[null,"1999-05-26","LDD modified program to include individual sedimentation and filter graphs."]
[null,"1999-05-27","LDD modified program to indicate \"out of range\" warning for filter turbidity data entry."]
[null,"1999-07-23","LDD initiated program modifications to use percentile calculation."]
[null,"1999-09-23","LDD added column for combined filter effluent turbidity."]
[null,null,"Modifications also made to use percentile calculations."]
[null,"1999-09-25","LDD modified program to include optimization goal tracking features.",null,null,"s"]
[null,"1999-11-24","LDD added worst filter cell conditions and screen hide during macro."]
[null,"1999-11-28","LDD added worst sed basin cell conditions."]
[null,"1999-12-16","LDD corrected 95% calc. error in max. sed. and filter columns."]
[null,null,"LDD modified to data input to allow up to 12 filters."]
[null,"1999-12-17","LDD modified annual statistics to exclude STDEV and include % time meeting reg."]
[null,null,"requirement."]
[null,"2000-03-03","LDD fixed y-axis on individual sed and filter graphs"]
[null,"2000-05-13","LDD corrected Leap Year problem (temporary fix until modifications to account for both"]
[null,null,"Leap Year and non-Leap year data input is completed)."]
[null,"2000-06-08","LDD/KLR corrected Leap Year problem to allow data input for both Leap Year and non "]
[null,null,"Leap Year data."]
[null,"2000-11-28","LDD corrected error in max filter turbidity calc on DataEntryValues worksheet.  Saved"]
[null,null,"as turb-opt23p.xls."]
[null,"2001-03-27","LDD corrected error in max settled water graph to plot the max value from four sed"]
[null,null,"basins (versus the value from sed basin 1).  Also corrected date range in same graph."]
[null,null,"Saved as turb-opt24a.xls."]
[null,"2001-04-18","LDD added \"Yes/No\" step to clear macros.  Changed color of macro buttons."]
[null,"2002-08-23","LDD added LT-Trend worksheet to support LT Trend companion spreadsheet."]
[null,null,"Corrected y-axis lable on MaxFilter chart.  Saved as turb-opt26a.xls."]
[null,"2003-04-20","LDD added data entry cell for public water system number."]
[null,"2003-04-20","LDD added annual calculations for individual basin/filter 95th % and % values meeting"]
[null,null,"goal calculations.  Saved as turb-opt27.xls."]
[null,"2007-01-04","LDD completed program modifications to include turbidity data for up to 36 filters."]
[null,"2007-01-31","LDD corrected chart error on optimization trend worksheet.  Modified sed basin input"]
[null,null,"to include up to 8 basins.  Added input for system name."]
[null,null,"Changed combined filter turbidity RSQ datasets to include max. filter turbidity and"]
[null,null,"combined turbidity."]
[null,"2007-02-05","LDD modified settled water optimization trend chart to include all available settled"]
[null,null,"water data instead of maximum settled water data.  Updated long-term trend table and"]
[null,null,"corrected error in copying filter data."]
[null,"2007-04-11","LDD corrected error in monthly summary table range name that caused incorrect"]
[null,null,"combined turbidity data."]
[null,"2011-06-22","LDD updated spreadsheet to Excel 2010 version (.xlsm file format)."]
[null,null,"Changed name to Turb-opt36filtersV5.xlsm."]
[null,"2017-03-20","Moved filter backwash trending features to this worksheet using pivot table and charts."]
[null,"2017-04-03","Moved long-term trending features to this spreadsheet."]
[null,null,"Updated file name to Turb-opt36filtersV6.xlsm."]
[null,"Model developed by: Process Applications, Inc. Fort Collins, CO 970-223-5787"]

{"sheet":"DataEntryPaste","index":1,"n_rows":380,"n_cols":47,"rows_kept":380,"cut":false,"hidden":false,"merged":[]}
[]
[]
[null,"Instruction to users:  Paste plant turbidity data sets into the data entry area below.  The "]
[null,"data entry area will hold 366 days of data.  Following data input, transfer data to the"]
[null,"database by clicking on the data TRANSFER button.  Go to the DataEntryValues "]
[null,"worksheet to enter the plant name and performance goals."]
[]
[]
[]
[]
[]
[]
["Data Entry Area for Posting Data Sets"]
["Date","Raw","Sed 1","Sed 2","Sed 3","Sed 4","Sed 5","Sed 6","Sed 7","Sed 8","Filter 1","Filter 2","Filter 3","Filter 4","Filter 5","Filter 6","Filter 7","Filter 8","Filter 9","Filter 10","Filter 11","Filter 12","Filter 13","Filter 14","Filter 15","Filter 16","Filter 17","Filter 18","Filter 19","Filter 20","Filter 21","Filter 22","Filter 23","Filter 24","Filter 25","Filter 26","Filter 27","Filter 28","Filter 29","Filter 30","Filter 31","Filter 32","Filter 33","Filter 34","Filter 35","Filter 36","Combined"]
["2016-01-01"]
[{"$f":"A15+1","v":"2016-01-02"}]
[{"$f":"A16+1","v":"2016-01-03"}]
["2016-01-04"]
["2016-01-05"]
["2016-01-06"]
["2016-01-07"]
["2016-01-08"]
["2016-01-09"]
["2016-01-10"]
["2016-01-11"]
["2016-01-12"]
["2016-01-13"]
["2016-01-14"]
["2016-01-15"]
["2016-01-16"]
["2016-01-17"]
["2016-01-18"]
["2016-01-19"]
["2016-01-20"]
["2016-01-21"]
["2016-01-22"]
["2016-01-23"]
["2016-01-24"]
["2016-01-25"]
["2016-01-26"]
["2016-01-27"]
["2016-01-28"]
["2016-01-29"]
["2016-01-30"]
["2016-01-31"]
["2016-02-01"]
["2016-02-02"]
["2016-02-03"]
["2016-02-04"]
["2016-02-05"]
["2016-02-06"]
["2016-02-07"]
["2016-02-08"]
["2016-02-09"]
["2016-02-10"]
["2016-02-11"]
["2016-02-12"]
["2016-02-13"]
["2016-02-14"]
["2016-02-15"]
["2016-02-16"]
["2016-02-17"]
["2016-02-18"]
["2016-02-19"]
["2016-02-20"]
["2016-02-21"]
["2016-02-22"]
["2016-02-23"]
["2016-02-24"]
["2016-02-25"]
["2016-02-26"]
["2016-02-27"]
["2016-02-28"]
["2016-02-29"]
["2016-03-01"]
["2016-03-02"]
["2016-03-03"]
["2016-03-04"]
["2016-03-05"]
["2016-03-06"]
[{"$f":"A80+1","v":"2016-03-07"}]
["2016-03-08"]
["2016-03-09"]
["2016-03-10"]
["2016-03-11"]
["2016-03-12"]
["2016-03-13"]
["2016-03-14"]
["2016-03-15"]
["2016-03-16"]
["2016-03-17"]
["2016-03-18"]
["2016-03-19"]
["2016-03-20"]
["2016-03-21"]
["2016-03-22"]
["2016-03-23"]
["2016-03-24"]
["2016-03-25"]
["2016-03-26"]
["2016-03-27"]
["2016-03-28"]
["2016-03-29"]
["2016-03-30"]
["2016-03-31"]
["2016-04-01"]
["2016-04-02"]
["2016-04-03"]
["2016-04-04"]
["2016-04-05"]
["2016-04-06"]
["2016-04-07"]
["2016-04-08"]
["2016-04-09"]
["2016-04-10"]
["2016-04-11"]
["2016-04-12"]
["2016-04-13"]
["2016-04-14"]
["2016-04-15"]
["2016-04-16"]
["2016-04-17"]
["2016-04-18"]
["2016-04-19"]
["2016-04-20"]
["2016-04-21"]
["2016-04-22"]
["2016-04-23"]
["2016-04-24"]
["2016-04-25"]
["2016-04-26"]
["2016-04-27"]
["2016-04-28"]
["2016-04-29"]
["2016-04-30"]
["2016-05-01"]
["2016-05-02"]
["2016-05-03"]
["2016-05-04"]
["2016-05-05"]
["2016-05-06"]
["2016-05-07"]
["2016-05-08"]
["2016-05-09"]
[{"$f":"A144+1","v":"2016-05-10"}]
["2016-05-11"]
["2016-05-12"]
["2016-05-13"]
["2016-05-14"]
["2016-05-15"]
["2016-05-16"]
["2016-05-17"]
["2016-05-18"]
["2016-05-19"]
["2016-05-20"]
["2016-05-21"]
["2016-05-22"]
["2016-05-23"]
["2016-05-24"]
["2016-05-25"]
["2016-05-26"]
["2016-05-27"]
["2016-05-28"]
["2016-05-29"]
["2016-05-30"]
["2016-05-31"]
["2016-06-01"]
["2016-06-02"]
["2016-06-03"]
["2016-06-04"]
["2016-06-05"]
["2016-06-06"]
["2016-06-07"]
["2016-06-08"]
["2016-06-09"]
["2016-06-10"]
["2016-06-11"]
["2016-06-12"]
["2016-06-13"]
["2016-06-14"]
["2016-06-15"]
["2016-06-16"]
["2016-06-17"]
["2016-06-18"]
["2016-06-19"]
["2016-06-20"]
["2016-06-21"]
["2016-06-22"]
["2016-06-23"]
["2016-06-24"]
["2016-06-25"]
["2016-06-26"]
["2016-06-27"]
["2016-06-28"]
["2016-06-29"]
["2016-06-30"]
["2016-07-01"]
["2016-07-02"]
["2016-07-03"]
["2016-07-04"]
["2016-07-05"]
["2016-07-06"]
["2016-07-07"]
["2016-07-08"]
["2016-07-09"]
["2016-07-10"]
["2016-07-11"]
["2016-07-12"]
[{"$f":"A208+1","v":"2016-07-13"}]
["2016-07-14"]
["2016-07-15"]
["2016-07-16"]
["2016-07-17"]
["2016-07-18"]
["2016-07-19"]
["2016-07-20"]
["2016-07-21"]
["2016-07-22"]
["2016-07-23"]
["2016-07-24"]
["2016-07-25"]
["2016-07-26"]
["2016-07-27"]
["2016-07-28"]
["2016-07-29"]
["2016-07-30"]
["2016-07-31"]
["2016-08-01"]
["2016-08-02"]
["2016-08-03"]
["2016-08-04"]
["2016-08-05"]
["2016-08-06"]
["2016-08-07"]
["2016-08-08"]
["2016-08-09"]
["2016-08-10"]
["2016-08-11"]
["2016-08-12"]
["2016-08-13"]
["2016-08-14"]
["2016-08-15"]
["2016-08-16"]
["2016-08-17"]
["2016-08-18"]
["2016-08-19"]
["2016-08-20"]
["2016-08-21"]
["2016-08-22"]
["2016-08-23"]
["2016-08-24"]
["2016-08-25"]
["2016-08-26"]
["2016-08-27"]
["2016-08-28"]
["2016-08-29"]
["2016-08-30"]
["2016-08-31"]
["2016-09-01"]
["2016-09-02"]
["2016-09-03"]
["2016-09-04"]
["2016-09-05"]
["2016-09-06"]
["2016-09-07"]
["2016-09-08"]
["2016-09-09"]
["2016-09-10"]
["2016-09-11"]
["2016-09-12"]
["2016-09-13"]
["2016-09-14"]
[{"$f":"A272+1","v":"2016-09-15"}]
["2016-09-16"]
["2016-09-17"]
["2016-09-18"]
["2016-09-19"]
["2016-09-20"]
["2016-09-21"]
["2016-09-22"]
["2016-09-23"]
["2016-09-24"]
["2016-09-25"]
["2016-09-26"]
["2016-09-27"]
["2016-09-28"]
["2016-09-29"]
["2016-09-30"]
["2016-10-01"]
["2016-10-02"]
["2016-10-03"]
["2016-10-04"]
["2016-10-05"]
["2016-10-06"]
["2016-10-07"]
["2016-10-08"]
["2016-10-09"]
["2016-10-10"]
["2016-10-11"]
["2016-10-12"]
["2016-10-13"]
["2016-10-14"]
["2016-10-15"]
["2016-10-16"]
["2016-10-17"]
["2016-10-18"]
["2016-10-19"]
["2016-10-20"]
["2016-10-21"]
["2016-10-22"]
["2016-10-23"]
["2016-10-24"]
["2016-10-25"]
["2016-10-26"]
["2016-10-27"]
["2016-10-28"]
["2016-10-29"]
["2016-10-30"]
["2016-10-31"]
["2016-11-01"]
["2016-11-02"]
["2016-11-03"]
["2016-11-04"]
["2016-11-05"]
["2016-11-06"]
["2016-11-07"]
["2016-11-08"]
["2016-11-09"]
["2016-11-10"]
["2016-11-11"]
["2016-11-12"]
["2016-11-13"]
["2016-11-14"]
["2016-11-15"]
["2016-11-16"]
["2016-11-17"]
[{"$f":"A336+1","v":"2016-11-18"}]
["2016-11-19"]
["2016-11-20"]
["2016-11-21"]
["2016-11-22"]
["2016-11-23"]
["2016-11-24"]
["2016-11-25"]
["2016-11-26"]
["2016-11-27"]
["2016-11-28"]
["2016-11-29"]
["2016-11-30"]
["2016-12-01"]
["2016-12-02"]
["2016-12-03"]
["2016-12-04"]
["2016-12-05"]
["2016-12-06"]
["2016-12-07"]
["2016-12-08"]
["2016-12-09"]
["2016-12-10"]
["2016-12-11"]
["2016-12-12"]
["2016-12-13"]
["2016-12-14"]
["2016-12-15"]
["2016-12-16"]
["2016-12-17"]
["2016-12-18"]
["2016-12-19"]
["2016-12-20"]
["2016-12-21"]
["2016-12-22"]
["2016-12-23"]
["2016-12-24"]
["2016-12-25"]
["2016-12-26"]
["2016-12-27"]
["2016-12-28"]
["2016-12-29"]
["2016-12-30"]
["2016-12-31"]

{"sheet":"DataEntryValues","index":2,"n_rows":386,"n_cols":73,"rows_kept":386,"cut":false,"hidden":false,"merged":[[5,6,5,9],[6,6,6,9],[1,6,1,9],[2,6,2,9],[3,6,3,9],[4,6,4,9]]}
[]
[null,"System Name",null,null,null,null,"Rocky Mountain Water District"]
[null,"Plant Name",null,null,null,null,"Long's Peak WTP"]
[null,"PWS #",null,null,null,null,1031009]
[null,"Max. settled water turbidity goal",null,null,null,null,1]
[null,"Filtered water turbidity optimization goal",null,null,null,null,0.1]
[null,"Filtered water turbidity regulation",null,null,null,null,0.3]
[null,"Instruction to users:  Input plant name and turbidity goals above.  Input start date"]
[null,"and turbidity data below.  The database will hold 366 days of data.  The turbidity data"]
[null,"entry cells will turn yellow if the value exceeds the process goal.  Following data"]
[null,"input, develop the reports by clicking the UPDATE button."]
[]
[]
["Data Entry Area"]
[null,"Raw","Sed 1","Sed 2","Sed 3","Sed 4","Sed 5","Sed 6","Sed 7","Sed 8","Filter 1","Filter 2","Filter 3","Filter 4","Filter 5","Filter 6","Filter 7","Filter 8","Filter 9","Filter 10","Filter 11","Filter 12","Filter 13","Filter 14","Filter 15","Filter 16","Filter 17","Filter 18","Filter 19","Filter 20","Filter 21","Filter 22","Filter 23","Filter 24","Filter 25","Filter 26","Filter 27","Filter 28","Filter 29","Filter 30","Filter 31","Filter 32","Filter 33","Filter 34","Filter 35","Filter 36","Combined",null,null,null,null,null,null,null,"MaxSed","MaxSedPlot","Sed Goal","Max Filter","MaxFilterPlot","Filter Goal",null,null,"SetSort",null,"Set%",null,"FilSort",null,"Fil%",null,"CombSort",null,"Comb%"]
["2016-01-01",null,null,null,null,null,null,null,null,null,null,null,null,null,null,null,null,null,null,null,null,null,null,null,null,null,null,null,null,null,null,null,null,null,null,null,null,null,null,null,null,null,null,null,null,null,null,null,null,null,null,null,null,1,{"$f":"MAX(C16:J16)","v":0},null,{"$f":"$G$5","v":1},{"$f":"MAX(K16:AT16)","v":0},null,{"$f":"$G$6","v":0.1},null,null,null,109,{"$f":"100*COUNT($BK$16:BK16)/$BK$382","v":{"$error":"#DIV/0!"}},null,null,206,{"$f":"100*COUNT($BO$16:BO16)/$BO$382","v":{"$error":"#DIV/0!"}},null,null,215,{"$f":"100*COUNT($BS$16:BS16)/$BS$382","v":{"$error":"#DIV/0!"}}]
[{"$f":"A16+1","v":"2016-01-02"},null,null,null,null,null,null,null,null,null,null,null,null,null,null,null,null,null,null,null,null,null,null,null,null,null,null,null,null,null,null,null,null,null,null,null,null,null,null,null,null,null,null,null,null,null,null,null,null,null,null,null,null,{"$f":"BB16+1","v":2},{"$f":"MAX(C17:J17)","v":0},null,1,{"$f":"MAX(K17:AT17)","v":0},null,0.1,null,null,null,28,{"$f":"100*COUNT($BK$16:BK17)/$BK$382","v":{"$error":"#DIV/0!"}},null,null,240,{"$f":"100*COUNT($BO$16:BO17)/$BO$382","v":{"$error":"#DIV/0!"}},null,null,237,{"$f":"100*COUNT($BS$16:BS17)/$BS$382","v":{"$error":"#DIV/0!"}}]
["2016-01-03",null,null,null,null,null,null,null,null,null,null,null,null,null,null,null,null,null,null,null,null,null,null,null,null,null,null,null,null,null,null,null,null,null,null,null,null,null,null,null,null,null,null,null,null,null,null,null,null,null,null,null,null,3,0,null,1,0,null,0.1,null,null,null,191,{"$f":"100*COUNT($BK$16:BK18)/$BK$382","v":{"$error":"#DIV/0!"}},null,null,271,{"$f":"100*COUNT($BO$16:BO18)/$BO$382","v":{"$error":"#DIV/0!"}},null,null,212,{"$f":"100*COUNT($BS$16:BS18)/$BS$382","v":{"$error":"#DIV/0!"}}]
["2016-01-04",null,null,null,null,null,null,null,null,null,null,null,null,null,null,null,null,null,null,null,null,null,null,null,null,null,null,null,null,null,null,null,null,null,null,null,null,null,null,null,null,null,null,null,null,null,null,null,null,null,null,null,null,4,0,null,1,0,null,0.1,null,null,null,283,{"$f":"100*COUNT($BK$16:BK19)/$BK$382","v":{"$error":"#DIV/0!"}},null,null,248,{"$f":"100*COUNT($BO$16:BO19)/$BO$382","v":{"$error":"#DIV/0!"}},null,null,178,{"$f":"100*COUNT($BS$16:BS19)/$BS$382","v":{"$error":"#DIV/0!"}}]
["2016-01-05",null,null,null,null,null,null,null,null,null,null,null,null,null,null,null,null,null,null,null,null,null,null,null,null,null,null,null,null,null,null,null,null,null,null,null,null,null,null,null,null,null,null,null,null,null,null,null,null,null,null,null,null,5,0,null,1,0,null,0.1,null,null,null,99,{"$f":"100*COUNT($BK$16:BK20)/$BK$382","v":{"$error":"#DIV/0!"}},null,null,29,{"$f":"100*COUNT($BO$16:BO20)/$BO$382","v":{"$error":"#DIV/0!"}},null,null,163,{"$f":"100*COUNT($BS$16:BS20)/$BS$382","v":{"$error":"#DIV/0!"}}]
["2016-01-06",null,null,null,null,null,null,null,null,null,null,null,null,null,null,null,null,null,null,null,null,null,null,null,null,null,null,null,null,null,null,null,null,null,null,null,null,null,null,null,null,null,null,null,null,null,null,null,null,null,null,null,null,6,0,null,1,0,null,0.1,null,null,null,195,{"$f":"100*COUNT($BK$16:BK21)/$BK$382","v":{"$error":"#DIV/0!"}},null,null,64,{"$f":"100*COUNT($BO$16:BO21)/$BO$382","v":{"$error":"#DIV/0!"}},null,null,328,{"$f":"100*COUNT($BS$16:BS21)/$BS$382","v":{"$error":"#DIV/0!"}}]
["2016-01-07",null,null,null,null,null,null,null,null,null,null,null,null,null,null,null,null,null,null,null,null,null,null,null,null,null,null,null,null,null,null,null,null,null,null,null,null,null,null,null,null,null,null,null,null,null,null,null,null,null,null,null,null,7,0,null,1,0,null,0.1,null,null,null,133,{"$f":"100*COUNT($BK$16:BK22)/$BK$382","v":{"$error":"#DIV/0!"}},null,null,224,{"$f":"100*COUNT($BO$16:BO22)/$BO$382","v":{"$error":"#DIV/0!"}},null,null,209,{"$f":"100*COUNT($BS$16:BS22)/$BS$382","v":{"$error":"#DIV/0!"}}]
["2016-01-08",null,null,null,null,null,null,null,null,null,null,null,null,null,null,null,null,null,null,null,null,null,null,null,null,null,null,null,null,null,null,null,null,null,null,null,null,null,null,null,null,null,null,null,null,null,null,null,null,null,null,null,null,8,0,null,1,0,null,0.1,null,null,null,170,{"$f":"100*COUNT($BK$16:BK23)/$BK$382","v":{"$error":"#DIV/0!"}},null,null,232,{"$f":"100*COUNT($BO$16:BO23)/$BO$382","v":{"$error":"#DIV/0!"}},null,null,171,{"$f":"100*COUNT($BS$16:BS23)/$BS$382","v":{"$error":"#DIV/0!"}}]
["2016-01-09",null,null,null,null,null,null,null,null,null,null,null,null,null,null,null,null,null,null,null,null,null,null,null,null,null,null,null,null,null,null,null,null,null,null,null,null,null,null,null,null,null,null,null,null,null,null,null,null,null,null,null,null,9,0,null,1,0,null,0.1,null,null,null,259,{"$f":"100*COUNT($BK$16:BK24)/$BK$382","v":{"$error":"#DIV/0!"}},null,null,94,{"$f":"100*COUNT($BO$16:BO24)/$BO$382","v":{"$error":"#DIV/0!"}},null,null,74,{"$f":"100*COUNT($BS$16:BS24)/$BS$382","v":{"$error":"#DIV/0!"}}]
["2016-01-10",null,null,null,null,null,null,null,null,null,null,null,null,null,null,null,null,null,null,null,null,null,null,null,null,null,null,null,null,null,null,null,null,null,null,null,null,null,null,null,null,null,null,null,null,null,null,null,null,null,null,null,null,10,0,null,1,0,null,0.1,null,null,null,199,{"$f":"100*COUNT($BK$16:BK25)/$BK$382","v":{"$error":"#DIV/0!"}},null,null,272,{"$f":"100*COUNT($BO$16:BO25)/$BO$382","v":{"$error":"#DIV/0!"}},null,null,361,{"$f":"100*COUNT($BS$16:BS25)/$BS$382","v":{"$error":"#DIV/0!"}}]
["2016-01-11",null,null,null,null,null,null,null,null,null,null,null,null,null,null,null,null,null,null,null,null,null,null,null,null,null,null,null,null,null,null,null,null,null,null,null,null,null,null,null,null,null,null,null,null,null,null,null,null,null,null,null,null,11,0,null,1,0,null,0.1,null,null,null,314,{"$f":"100*COUNT($BK$16:BK26)/$BK$382","v":{"$error":"#DIV/0!"}},null,null,112,{"$f":"100*COUNT($BO$16:BO26)/$BO$382","v":{"$error":"#DIV/0!"}},null,null,69,{"$f":"100*COUNT($BS$16:BS26)/$BS$382","v":{"$error":"#DIV/0!"}}]
["2016-01-12",null,null,null,null,null,null,null,null,null,null,null,null,null,null,null,null,null,null,null,null,null,null,null,null,null,null,null,null,null,null,null,null,null,null,null,null,null,null,null,null,null,null,null,null,null,null,null,null,null,null,null,null,12,0,null,1,0,null,0.1,null,null,null,217,{"$f":"100*COUNT($BK$16:BK27)/$BK$382","v":{"$error":"#DIV/0!"}},null,null,316,{"$f":"100*COUNT($BO$16:BO27)/$BO$382","v":{"$error":"#DIV/0!"}},null,null,293,{"$f":"100*COUNT($BS$16:BS27)/$BS$382","v":{"$error":"#DIV/0!"}}]
["2016-01-13",null,null,null,null,null,null,null,null,null,null,null,null,null,null,null,null,null,null,null,null,null,null,null,null,null,null,null,null,null,null,null,null,null,null,null,null,null,null,null,null,null,null,null,null,null,null,null,null,null,null,null,null,13,0,null,1,0,null,0.1,null,null,null,179,{"$f":"100*COUNT($BK$16:BK28)/$BK$382","v":{"$error":"#DIV/0!"}},null,null,11,{"$f":"100*COUNT($BO$16:BO28)/$BO$382","v":{"$error":"#DIV/0!"}},null,null,40,{"$f":"100*COUNT($BS$16:BS28)/$BS$382","v":{"$error":"#DIV/0!"}}]
["2016-01-14",null,null,null,null,null,null,null,null,null,null,null,null,null,null,null,null,null,null,null,null,null,null,null,null,null,null,null,null,null,null,null,null,null,null,null,null,null,null,null,null,null,null,null,null,null,null,null,null,null,null,null,null,14,0,null,1,0,null,0.1,null,null,null,100,{"$f":"100*COUNT($BK$16:BK29)/$BK$382","v":{"$error":"#DIV/0!"}},null,null,252,{"$f":"100*COUNT($BO$16:BO29)/$BO$382","v":{"$error":"#DIV/0!"}},null,null,58,{"$f":"100*COUNT($BS$16:BS29)/$BS$382","v":{"$error":"#DIV/0!"}}]
["2016-01-15",null,null,null,null,null,null,null,null,null,null,null,null,null,null,null,null,null,null,null,null,null,null,null,null,null,null,null,null,null,null,null,null,null,null,null,null,null,null,null,null,null,null,null,null,null,null,null,null,null,null,null,null,15,0,null,1,0,null,0.1,null,null,null,181,{"$f":"100*COUNT($BK$16:BK30)/$BK$382","v":{"$error":"#DIV/0!"}},null,null,267,{"$f":"100*COUNT($BO$16:BO30)/$BO$382","v":{"$error":"#DIV/0!"}},null,null,302,{"$f":"100*COUNT($BS$16:BS30)/$BS$382","v":{"$error":"#DIV/0!"}}]
["2016-01-16",null,null,null,null,null,null,null,null,null,null,null,null,null,null,null,null,null,null,null,null,null,null,null,null,null,null,null,null,null,null,null,null,null,null,null,null,null,null,null,null,null,null,null,null,null,null,null,null,null,null,null,null,16,0,null,1,0,null,0.1,null,null,null,126,{"$f":"100*COUNT($BK$16:BK31)/$BK$382","v":{"$error":"#DIV/0!"}},null,null,281,{"$f":"100*COUNT($BO$16:BO31)/$BO$382","v":{"$error":"#DIV/0!"}},null,null,164,{"$f":"100*COUNT($BS$16:BS31)/$BS$382","v":{"$error":"#DIV/0!"}}]
["2016-01-17",null,null,null,null,null,null,null,null,null,null,null,null,null,null,null,null,null,null,null,null,null,null,null,null,null,null,null,null,null,null,null,null,null,null,null,null,null,null,null,null,null,null,null,null,null,null,null,null,null,null,null,null,17,0,null,1,0,null,0.1,null,null,null,256,{"$f":"100*COUNT($BK$16:BK32)/$BK$382","v":{"$error":"#DIV/0!"}},null,null,111,{"$f":"100*COUNT($BO$16:BO32)/$BO$382","v":{"$error":"#DIV/0!"}},null,null,291,{"$f":"100*COUNT($BS$16:BS32)/$BS$382","v":{"$error":"#DIV/0!"}}]
["2016-01-18",null,null,null,null,null,null,null,null,null,null,null,null,null,null,null,null,null,null,null,null,null,null,null,null,null,null,null,null,null,null,null,null,null,null,null,null,null,null,null,null,null,null,null,null,null,null,null,null,null,null,null,null,18,0,null,1,0,null,0.1,null,null,null,324,{"$f":"100*COUNT($BK$16:BK33)/$BK$382","v":{"$error":"#DIV/0!"}},null,null,115,{"$f":"100*COUNT($BO$16:BO33)/$BO$382","v":{"$error":"#DIV/0!"}},null,null,59,{"$f":"100*COUNT($BS$16:BS33)/$BS$382","v":{"$error":"#DIV/0!"}}]
["2016-01-19",null,null,null,null,null,null,null,null,null,null,null,null,null,null,null,null,null,null,null,null,null,null,null,null,null,null,null,null,null,null,null,null,null,null,null,null,null,null,null,null,null,null,null,null,null,null,null,null,null,null,null,null,19,0,null,1,0,null,0.1,null,null,null,190,{"$f":"100*COUNT($BK$16:BK34)/$BK$382","v":{"$error":"#DIV/0!"}},null,null,313,{"$f":"100*COUNT($BO$16:BO34)/$BO$382","v":{"$error":"#DIV/0!"}},null,null,145,{"$f":"100*COUNT($BS$16:BS34)/$BS$382","v":{"$error":"#DIV/0!"}}]
["2016-01-20",null,null,null,null,null,null,null,null,null,null,null,null,null,null,null,null,null,null,null,null,null,null,null,null,null,null,null,null,null,null,null,null,null,null,null,null,null,null,null,null,null,null,null,null,null,null,null,null,null,null,null,null,20,0,null,1,0,null,0.1,null,null,null,113,{"$f":"100*COUNT($BK$16:BK35)/$BK$382","v":{"$error":"#DIV/0!"}},null,null,241,{"$f":"100*COUNT($BO$16:BO35)/$BO$382","v":{"$error":"#DIV/0!"}},null,null,73,{"$f":"100*COUNT($BS$16:BS35)/$BS$382","v":{"$error":"#DIV/0!"}}]
["2016-01-21",null,null,null,null,null,null,null,null,null,null,null,null,null,null,null,null,null,null,null,null,null,null,null,null,null,null,null,null,null,null,null,null,null,null,null,null,null,null,null,null,null,null,null,null,null,null,null,null,null,null,null,null,21,0,null,1,0,null,0.1,null,null,null,186,{"$f":"100*COUNT($BK$16:BK36)/$BK$382","v":{"$error":"#DIV/0!"}},null,null,165,{"$f":"100*COUNT($BO$16:BO36)/$BO$382","v":{"$error":"#DIV/0!"}},null,null,231,{"$f":"100*COUNT($BS$16:BS36)/$BS$382","v":{"$error":"#DIV/0!"}}]
["2016-01-22",null,null,null,null,null,null,null,null,null,null,null,null,null,null,null,null,null,null,null,null,null,null,null,null,null,null,null,null,null,null,null,null,null,null,null,null,null,null,null,null,null,null,null,null,null,null,null,null,null,null,null,null,22,0,null,1,0,null,0.1,null,null,null,301,{"$f":"100*COUNT($BK$16:BK37)/$BK$382","v":{"$error":"#DIV/0!"}},null,null,58,{"$f":"100*COUNT($BO$16:BO37)/$BO$382","v":{"$error":"#DIV/0!"}},null,null,344,{"$f":"100*COUNT($BS$16:BS37)/$BS$382","v":{"$error":"#DIV/0!"}}]
["2016-01-23",null,null,null,null,null,null,null,null,null,null,null,null,null,null,null,null,null,null,null,null,null,null,null,null,null,null,null,null,null,null,null,null,null,null,null,null,null,null,null,null,null,null,null,null,null,null,null,null,null,null,null,null,23,0,null,1,0,null,0.1,null,null,null,57,{"$f":"100*COUNT($BK$16:BK38)/$BK$382","v":{"$error":"#DIV/0!"}},null,null,176,{"$f":"100*COUNT($BO$16:BO38)/$BO$382","v":{"$error":"#DIV/0!"}},null,null,172,{"$f":"100*COUNT($BS$16:BS38)/$BS$382","v":{"$error":"#DIV/0!"}}]
["2016-01-24",null,null,null,null,null,null,null,null,null,null,null,null,null,null,null,null,null,null,null,null,null,null,null,null,null,null,null,null,null,null,null,null,null,null,null,null,null,null,null,null,null,null,null,null,null,null,null,null,null,null,null,null,24,0,null,1,0,null,0.1,null,null,null,69,{"$f":"100*COUNT($BK$16:BK39)/$BK$382","v":{"$error":"#DIV/0!"}},null,null,340,{"$f":"100*COUNT($BO$16:BO39)/$BO$382","v":{"$error":"#DIV/0!"}},null,null,100,{"$f":"100*COUNT($BS$16:BS39)/$BS$382","v":{"$error":"#DIV/0!"}}]
["2016-01-25",null,null,null,null,null,null,null,null,null,null,null,null,null,null,null,null,null,null,null,null,null,null,null,null,null,null,null,null,null,null,null,null,null,null,null,null,null,null,null,null,null,null,null,null,null,null,null,null,null,null,null,null,25,0,null,1,0,null,0.1,null,null,null,335,{"$f":"100*COUNT($BK$16:BK40)/$BK$382","v":{"$error":"#DIV/0!"}},null,null,124,{"$f":"100*COUNT($BO$16:BO40)/$BO$382","v":{"$error":"#DIV/0!"}},null,null,30,{"$f":"100*COUNT($BS$16:BS40)/$BS$382","v":{"$error":"#DIV/0!"}}]
["2016-01-26",null,null,null,null,null,null,null,null,null,null,null,null,null,null,null,null,null,null,null,null,null,null,null,null,null,null,null,null,null,null,null,null,null,null,null,null,null,null,null,null,null,null,null,null,null,null,null,null,null,null,null,null,26,0,null,1,0,null,0.1,null,null,null,161,{"$f":"100*COUNT($BK$16:BK41)/$BK$382","v":{"$error":"#DIV/0!"}},null,null,268,{"$f":"100*COUNT($BO$16:BO41)/$BO$382","v":{"$error":"#DIV/0!"}},null,null,338,{"$f":"100*COUNT($BS$16:BS41)/$BS$382","v":{"$error":"#DIV/0!"}}]
["2016-01-27",null,null,null,null,null,null,null,null,null,null,null,null,null,null,null,null,null,null,null,null,null,null,null,null,null,null,null,null,null,null,null,null,null,null,null,null,null,null,null,null,null,null,null,null,null,null,null,null,null,null,null,null,27,0,null,1,0,null,0.1,null,null,null,129,{"$f":"100*COUNT($BK$16:BK42)/$BK$382","v":{"$error":"#DIV/0!"}},null,null,44,{"$f":"100*COUNT($BO$16:BO42)/$BO$382","v":{"$error":"#DIV/0!"}},null,null,70,{"$f":"100*COUNT($BS$16:BS42)/$BS$382","v":{"$error":"#DIV/0!"}}]
["2016-01-28",null,null,null,null,null,null,null,null,null,null,null,null,null,null,null,null,null,null,null,null,null,null,null,null,null,null,null,null,null,null,null,null,null,null,null,null,null,null,null,null,null,null,null,null,null,null,null,null,null,null,null,null,28,0,null,1,0,null,0.1,null,null,null,169,{"$f":"100*COUNT($BK$16:BK43)/$BK$382","v":{"$error":"#DIV/0!"}},null,null,15,{"$f":"100*COUNT($BO$16:BO43)/$BO$382","v":{"$error":"#DIV/0!"}},null,null,265,{"$f":"100*COUNT($BS$16:BS43)/$BS$382","v":{"$error":"#DIV/0!"}}]
["2016-01-29",null,null,null,null,null,null,null,null,null,null,null,null,null,null,null,null,null,null,null,null,null,null,null,null,null,null,null,null,null,null,null,null,null,null,null,null,null,null,null,null,null,null,null,null,null,null,null,null,null,null,null,null,29,0,null,1,0,null,0.1,null,null,null,274,{"$f":"100*COUNT($BK$16:BK44)/$BK$382","v":{"$error":"#DIV/0!"}},null,null,52,{"$f":"100*COUNT($BO$16:BO44)/$BO$382","v":{"$error":"#DIV/0!"}},null,null,225,{"$f":"100*COUNT($BS$16:BS44)/$BS$382","v":{"$error":"#DIV/0!"}}]
["2016-01-30",null,null,null,null,null,null,null,null,null,null,null,null,null,null,null,null,null,null,null,null,null,null,null,null,null,null,null,null,null,null,null,null,null,null,null,null,null,null,null,null,null,null,null,null,null,null,null,null,null,null,null,null,30,0,null,1,0,null,0.1,null,null,null,326,{"$f":"100*COUNT($BK$16:BK45)/$BK$382","v":{"$error":"#DIV/0!"}},null,null,345,{"$f":"100*COUNT($BO$16:BO45)/$BO$382","v":{"$error":"#DIV/0!"}},null,null,131,{"$f":"100*COUNT($BS$16:BS45)/$BS$382","v":{"$error":"#DIV/0!"}}]
["2016-01-31",null,null,null,null,null,null,null,null,null,null,null,null,null,null,null,null,null,null,null,null,null,null,null,null,null,null,null,null,null,null,null,null,null,null,null,null,null,null,null,null,null,null,null,null,null,null,null,null,null,null,null,null,31,0,null,1,0,null,0.1,null,null,null,118,{"$f":"100*COUNT($BK$16:BK46)/$BK$382","v":{"$error":"#DIV/0!"}},null,null,97,{"$f":"100*COUNT($BO$16:BO46)/$BO$382","v":{"$error":"#DIV/0!"}},null,null,122,{"$f":"100*COUNT($BS$16:BS46)/$BS$382","v":{"$error":"#DIV/0!"}}]
["2016-02-01",null,null,null,null,null,null,null,null,null,null,null,null,null,null,null,null,null,null,null,null,null,null,null,null,null,null,null,null,null,null,null,null,null,null,null,null,null,null,null,null,null,null,null,null,null,null,null,null,null,null,null,null,32,0,null,1,0,null,0.1,null,null,null,273,{"$f":"100*COUNT($BK$16:BK47)/$BK$382","v":{"$error":"#DIV/0!"}},null,null,126,{"$f":"100*COUNT($BO$16:BO47)/$BO$382","v":{"$error":"#DIV/0!"}},null,null,99,{"$f":"100*COUNT($BS$16:BS47)/$BS$382","v":{"$error":"#DIV/0!"}}]
["2016-02-02",null,null,null,null,null,null,null,null,null,null,null,null,null,null,null,null,null,null,null,null,null,null,null,null,null,null,null,null,null,null,null,null,null,null,null,null,null,null,null,null,null,null,null,null,null,null,null,null,null,null,null,null,33,0,null,1,0,null,0.1,null,null,null,65,{"$f":"100*COUNT($BK$16:BK48)/$BK$382","v":{"$error":"#DIV/0!"}},null,null,38,{"$f":"100*COUNT($BO$16:BO48)/$BO$382","v":{"$error":"#DIV/0!"}},null,null,1,{"$f":"100*COUNT($BS$16:BS48)/$BS$382","v":{"$error":"#DIV/0!"}}]
["2016-02-03",null,null,null,null,null,null,null,null,null,null,null,null,null,null,null,null,null,null,null,null,null,null,null,null,null,null,null,null,null,null,null,null,null,null,null,null,null,null,null,null,null,null,null,null,null,null,null,null,null,null,null,null,34,0,null,1,0,null,0.1,null,null,null,127,{"$f":"100*COUNT($BK$16:BK49)/$BK$382","v":{"$error":"#DIV/0!"}},null,null,5,{"$f":"100*COUNT($BO$16:BO49)/$BO$382","v":{"$error":"#DIV/0!"}},null,null,242,{"$f":"100*COUNT($BS$16:BS49)/$BS$382","v":{"$error":"#DIV/0!"}}]
["2016-02-04",null,null,null,null,null,null,null,null,null,null,null,null,null,null,null,null,null,null,null,null,null,null,null,null,null,null,null,null,null,null,null,null,null,null,null,null,null,null,null,null,null,null,null,null,null,null,null,null,null,null,null,null,35,0,null,1,0,null,0.1,null,null,null,270,{"$f":"100*COUNT($BK$16:BK50)/$BK$382","v":{"$error":"#DIV/0!"}},null,null,16,{"$f":"100*COUNT($BO$16:BO50)/$BO$382","v":{"$error":"#DIV/0!"}},null,null,301,{"$f":"100*COUNT($BS$16:BS50)/$BS$382","v":{"$error":"#DIV/0!"}}]
["2016-02-05",null,null,null,null,null,null,null,null,null,null,null,null,null,null,null,null,null,null,null,null,null,null,null,null,null,null,null,null,null,null,null,null,null,null,null,null,null,null,null,null,null,null,null,null,null,null,null,null,null,null,null,null,36,0,null,1,0,null,0.1,null,null,null,192,{"$f":"100*COUNT($BK$16:BK51)/$BK$382","v":{"$error":"#DIV/0!"}},null,null,201,{"$f":"100*COUNT($BO$16:BO51)/$BO$382","v":{"$error":"#DIV/0!"}},null,null,197,{"$f":"100*COUNT($BS$16:BS51)/$BS$382","v":{"$error":"#DIV/0!"}}]
["2016-02-06",null,null,null,null,null,null,null,null,null,null,null,null,null,null,null,null,null,null,null,null,null,null,null,null,null,null,null,null,null,null,null,null,null,null,null,null,null,null,null,null,null,null,null,null,null,null,null,null,null,null,null,null,37,0,null,1,0,null,0.1,null,null,null,135,{"$f":"100*COUNT($BK$16:BK52)/$BK$382","v":{"$error":"#DIV/0!"}},null,null,14,{"$f":"100*COUNT($BO$16:BO52)/$BO$382","v":{"$error":"#DIV/0!"}},null,null,79,{"$f":"100*COUNT($BS$16:BS52)/$BS$382","v":{"$error":"#DIV/0!"}}]
["2016-02-07",null,null,null,null,null,null,null,null,null,null,null,null,null,null,null,null,null,null,null,null,null,null,null,null,null,null,null,null,null,null,null,null,null,null,null,null,null,null,null,null,null,null,null,null,null,null,null,null,null,null,null,null,38,0,null,1,0,null,0.1,null,null,null,201,{"$f":"100*COUNT($BK$16:BK53)/$BK$382","v":{"$error":"#DIV/0!"}},null,null,87,{"$f":"100*COUNT($BO$16:BO53)/$BO$382","v":{"$error":"#DIV/0!"}},null,null,294,{"$f":"100*COUNT($BS$16:BS53)/$BS$382","v":{"$error":"#DIV/0!"}}]
["2016-02-08",null,null,null,null,null,null,null,null,null,null,null,null,null,null,null,null,null,null,null,null,null,null,null,null,null,null,null,null,null,null,null,null,null,null,null,null,null,null,null,null,null,null,null,null,null,null,null,null,null,null,null,null,39,0,null,1,0,null,0.1,null,null,null,364,{"$f":"100*COUNT($BK$16:BK54)/$BK$382","v":{"$error":"#DIV/0!"}},null,null,166,{"$f":"100*COUNT($BO$16:BO54)/$BO$382","v":{"$error":"#DIV/0!"}},null,null,71,{"$f":"100*COUNT($BS$16:BS54)/$BS$382","v":{"$error":"#DIV/0!"}}]
["2016-02-09",null,null,null,null,null,null,null,null,null,null,null,null,null,null,null,null,null,null,null,null,null,null,null,null,null,null,null,null,null,null,null,null,null,null,null,null,null,null,null,null,null,null,null,null,null,null,null,null,null,null,null,null,40,0,null,1,0,null,0.1,null,null,null,155,{"$f":"100*COUNT($BK$16:BK55)/$BK$382","v":{"$error":"#DIV/0!"}},null,null,153,{"$f":"100*COUNT($BO$16:BO55)/$BO$382","v":{"$error":"#DIV/0!"}},null,null,287,{"$f":"100*COUNT($BS$16:BS55)/$BS$382","v":{"$error":"#DIV/0!"}}]
["2016-02-10",null,null,null,null,null,null,null,null,null,null,null,null,null,null,null,null,null,null,null,null,null,null,null,null,null,null,null,null,null,null,null,null,null,null,null,null,null,null,null,null,null,null,null,null,null,null,null,null,null,null,null,null,41,0,null,1,0,null,0.1,null,null,null,319,{"$f":"100*COUNT($BK$16:BK56)/$BK$382","v":{"$error":"#DIV/0!"}},null,null,108,{"$f":"100*COUNT($BO$16:BO56)/$BO$382","v":{"$error":"#DIV/0!"}},null,null,34,{"$f":"100*COUNT($BS$16:BS56)/$BS$382","v":{"$error":"#DIV/0!"}}]
["2016-02-11",null,null,null,null,null,null,null,null,null,null,null,null,null,null,null,null,null,null,null,null,null,null,null,null,null,null,null,null,null,null,null,null,null,null,null,null,null,null,null,null,null,null,null,null,null,null,null,null,null,null,null,null,42,0,null,1,0,null,0.1,null,null,null,294,{"$f":"100*COUNT($BK$16:BK57)/$BK$382","v":{"$error":"#DIV/0!"}},null,null,314,{"$f":"100*COUNT($BO$16:BO57)/$BO$382","v":{"$error":"#DIV/0!"}},null,null,106,{"$f":"100*COUNT($BS$16:BS57)/$BS$382","v":{"$error":"#DIV/0!"}}]
["2016-02-12",null,null,null,null,null,null,null,null,null,null,null,null,null,null,null,null,null,null,null,null,null,null,null,null,null,null,null,null,null,null,null,null,null,null,null,null,null,null,null,null,null,null,null,null,null,null,null,null,null,null,null,null,43,0,null,1,0,null,0.1,null,null,null,315,{"$f":"100*COUNT($BK$16:BK58)/$BK$382","v":{"$error":"#DIV/0!"}},null,null,71,{"$f":"100*COUNT($BO$16:BO58)/$BO$382","v":{"$error":"#DIV/0!"}},null,null,81,{"$f":"100*COUNT($BS$16:BS58)/$BS$382","v":{"$error":"#DIV/0!"}}]
["2016-02-13",null,null,null,null,null,null,null,null,null,null,null,null,null,null,null,null,null,null,null,null,null,null,null,null,null,null,null,null,null,null,null,null,null,null,null,null,null,null,null,null,null,null,null,null,null,null,null,null,null,null,null,null,44,0,null,1,0,null,0.1,null,null,null,134,{"$f":"100*COUNT($BK$16:BK59)/$BK$382","v":{"$error":"#DIV/0!"}},null,null,41,{"$f":"100*COUNT($BO$16:BO59)/$BO$382","v":{"$error":"#DIV/0!"}},null,null,204,{"$f":"100*COUNT($BS$16:BS59)/$BS$382","v":{"$error":"#DIV/0!"}}]
["2016-02-14",null,null,null,null,null,null,null,null,null,null,null,null,null,null,null,null,null,null,null,null,null,null,null,null,null,null,null,null,null,null,null,null,null,null,null,null,null,null,null,null,null,null,null,null,null,null,null,null,null,null,null,null,45,0,null,1,0,null,0.1,null,null,null,310,{"$f":"100*COUNT($BK$16:BK60)/$BK$382","v":{"$error":"#DIV/0!"}},null,null,273,{"$f":"100*COUNT($BO$16:BO60)/$BO$382","v":{"$error":"#DIV/0!"}},null,null,null,{"$f":"100*COUNT($BS$16:BS60)/$BS$382","v":{"$error":"#DIV/0!"}}]
["2016-02-15",null,null,null,null,null,null,null,null,null,null,null,null,null,null,null,null,null,null,null,null,null,null,null,null,null,null,null,null,null,null,null,null,null,null,null,null,null,null,null,null,null,null,null,null,null,null,null,null,null,null,null,null,46,0,null,1,0,null,0.1,null,null,null,103,{"$f":"100*COUNT($BK$16:BK61)/$BK$382","v":{"$error":"#DIV/0!"}},null,null,346,{"$f":"100*COUNT($BO$16:BO61)/$BO$382","v":{"$error":"#DIV/0!"}},null,null,274,{"$f":"100*COUNT($BS$16:BS61)/$BS$382","v":{"$error":"#DIV/0!"}}]
["2016-02-16",null,null,null,null,null,null,null,null,null,null,null,null,null,null,null,null,null,null,null,null,null,null,null,null,null,null,null,null,null,null,null,null,null,null,null,null,null,null,null,null,null,null,null,null,null,null,null,null,null,null,null,null,47,0,null,1,0,null,0.1,null,null,null,361,{"$f":"100*COUNT($BK$16:BK62)/$BK$382","v":{"$error":"#DIV/0!"}},null,null,257,{"$f":"100*COUNT($BO$16:BO62)/$BO$382","v":{"$error":"#DIV/0!"}},null,null,45,{"$f":"100*COUNT($BS$16:BS62)/$BS$382","v":{"$error":"#DIV/0!"}}]
["2016-02-17",null,null,null,null,null,null,null,null,null,null,null,null,null,null,null,null,null,null,null,null,null,null,null,null,null,null,null,null,null,null,null,null,null,null,null,null,null,null,null,null,null,null,null,null,null,null,null,null,null,null,null,null,48,0,null,1,0,null,0.1,null,null,null,123,{"$f":"100*COUNT($BK$16:BK63)/$BK$382","v":{"$error":"#DIV/0!"}},null,null,23,{"$f":"100*COUNT($BO$16:BO63)/$BO$382","v":{"$error":"#DIV/0!"}},null,null,207,{"$f":"100*COUNT($BS$16:BS63)/$BS$382","v":{"$error":"#DIV/0!"}}]
["2016-02-18",null,null,null,null,null,null,null,null,null,null,null,null,null,null,null,null,null,null,null,null,null,null,null,null,null,null,null,null,null,null,null,null,null,null,null,null,null,null,null,null,null,null,null,null,null,null,null,null,null,null,null,null,49,0,null,1,0,null,0.1,null,null,null,337,{"$f":"100*COUNT($BK$16:BK64)/$BK$382","v":{"$error":"#DIV/0!"}},null,null,233,{"$f":"100*COUNT($BO$16:BO64)/$BO$382","v":{"$error":"#DIV/0!"}},null,null,46,{"$f":"100*COUNT($BS$16:BS64)/$BS$382","v":{"$error":"#DIV/0!"}}]
["2016-02-19",null,null,null,null,null,null,null,null,null,null,null,null,null,null,null,null,null,null,null,null,null,null,null,null,null,null,null,null,null,null,null,null,null,null,null,null,null,null,null,null,null,null,null,null,null,null,null,null,null,null,null,null,50,0,null,1,0,null,0.1,null,null,null,275,{"$f":"100*COUNT($BK$16:BK65)/$BK$382","v":{"$error":"#DIV/0!"}},null,null,319,{"$f":"100*COUNT($BO$16:BO65)/$BO$382","v":{"$error":"#DIV/0!"}},null,null,150,{"$f":"100*COUNT($BS$16:BS65)/$BS$382","v":{"$error":"#DIV/0!"}}]
["2016-02-20",null,null,null,null,null,null,null,null,null,null,null,null,null,null,null,null,null,null,null,null,null,null,null,null,null,null,null,null,null,null,null,null,null,null,null,null,null,null,null,null,null,null,null,null,null,null,null,null,null,null,null,null,51,0,null,1,0,null,0.1,null,null,null,351,{"$f":"100*COUNT($BK$16:BK66)/$BK$382","v":{"$error":"#DIV/0!"}},null,null,295,{"$f":"100*COUNT($BO$16:BO66)/$BO$382","v":{"$error":"#DIV/0!"}},null,null,321,{"$f":"100*COUNT($BS$16:BS66)/$BS$382","v":{"$error":"#DIV/0!"}}]
["2016-02-21",null,null,null,null,null,null,null,null,null,null,null,null,null,null,null,null,null,null,null,null,null,null,null,null,null,null,null,null,null,null,null,null,null,null,null,null,null,null,null,null,null,null,null,null,null,null,null,null,null,null,null,null,52,0,null,1,0,null,0.1,null,null,null,330,{"$f":"100*COUNT($BK$16:BK67)/$BK$382","v":{"$error":"#DIV/0!"}},null,null,55,{"$f":"100*COUNT($BO$16:BO67)/$BO$382","v":{"$error":"#DIV/0!"}},null,null,82,{"$f":"100*COUNT($BS$16:BS67)/$BS$382","v":{"$error":"#DIV/0!"}}]
["2016-02-22",null,null,null,null,null,null,null,null,null,null,null,null,null,null,null,null,null,null,null,null,null,null,null,null,null,null,null,null,null,null,null,null,null,null,null,null,null,null,null,null,null,null,null,null,null,null,null,null,null,null,null,null,53,0,null,1,0,null,0.1,null,null,null,268,{"$f":"100*COUNT($BK$16:BK68)/$BK$382","v":{"$error":"#DIV/0!"}},null,null,129,{"$f":"100*COUNT($BO$16:BO68)/$BO$382","v":{"$error":"#DIV/0!"}},null,null,108,{"$f":"100*COUNT($BS$16:BS68)/$BS$382","v":{"$error":"#DIV/0!"}}]
["2016-02-23",null,null,null,null,null,null,null,null,null,null,null,null,null,null,null,null,null,null,null,null,null,null,null,null,null,null,null,null,null,null,null,null,null,null,null,null,null,null,null,null,null,null,null,null,null,null,null,null,null,null,null,null,54,0,null,1,0,null,0.1,null,null,null,20,{"$f":"100*COUNT($BK$16:BK69)/$BK$382","v":{"$error":"#DIV/0!"}},null,null,105,{"$f":"100*COUNT($BO$16:BO69)/$BO$382","v":{"$error":"#DIV/0!"}},null,null,54,{"$f":"100*COUNT($BS$16:BS69)/$BS$382","v":{"$error":"#DIV/0!"}}]
["2016-02-24",null,null,null,null,null,null,null,null,null,null,null,null,null,null,null,null,null,null,null,null,null,null,null,null,null,null,null,null,null,null,null,null,null,null,null,null,null,null,null,null,null,null,null,null,null,null,null,null,null,null,null,null,55,0,null,1,0,null,0.1,null,null,null,225,{"$f":"100*COUNT($BK$16:BK70)/$BK$382","v":{"$error":"#DIV/0!"}},null,null,1,{"$f":"100*COUNT($BO$16:BO70)/$BO$382","v":{"$error":"#DIV/0!"}},null,null,95,{"$f":"100*COUNT($BS$16:BS70)/$BS$382","v":{"$error":"#DIV/0!"}}]
["2016-02-25",null,null,null,null,null,null,null,null,null,null,null,null,null,null,null,null,null,null,null,null,null,null,null,null,null,null,null,null,null,null,null,null,null,null,null,null,null,null,null,null,null,null,null,null,null,null,null,null,null,null,null,null,56,0,null,1,0,null,0.1,null,null,null,266,{"$f":"100*COUNT($BK$16:BK71)/$BK$382","v":{"$error":"#DIV/0!"}},null,null,68,{"$f":"100*COUNT($BO$16:BO71)/$BO$382","v":{"$error":"#DIV/0!"}},null,null,297,{"$f":"100*COUNT($BS$16:BS71)/$BS$382","v":{"$error":"#DIV/0!"}}]
["2016-02-26",null,null,null,null,null,null,null,null,null,null,null,null,null,null,null,null,null,null,null,null,null,null,null,null,null,null,null,null,null,null,null,null,null,null,null,null,null,null,null,null,null,null,null,null,null,null,null,null,null,null,null,null,57,0,null,1,0,null,0.1,null,null,null,104,{"$f":"100*COUNT($BK$16:BK72)/$BK$382","v":{"$error":"#DIV/0!"}},null,null,335,{"$f":"100*COUNT($BO$16:BO72)/$BO$382","v":{"$error":"#DIV/0!"}},null,null,253,{"$f":"100*COUNT($BS$16:BS72)/$BS$382","v":{"$error":"#DIV/0!"}}]
["2016-02-27",null,null,null,null,null,null,null,null,null,null,null,null,null,null,null,null,null,null,null,null,null,null,null,null,null,null,null,null,null,null,null,null,null,null,null,null,null,null,null,null,null,null,null,null,null,null,null,null,null,null,null,null,58,0,null,1,0,null,0.1,null,null,null,224,{"$f":"100*COUNT($BK$16:BK73)/$BK$382","v":{"$error":"#DIV/0!"}},null,null,114,{"$f":"100*COUNT($BO$16:BO73)/$BO$382","v":{"$error":"#DIV/0!"}},null,null,94,{"$f":"100*COUNT($BS$16:BS73)/$BS$382","v":{"$error":"#DIV/0!"}}]
["2016-02-28",null,null,null,null,null,null,null,null,null,null,null,null,null,null,null,null,null,null,null,null,null,null,null,null,null,null,null,null,null,null,null,null,null,null,null,null,null,null,null,null,null,null,null,null,null,null,null,null,null,null,null,null,59,0,null,1,0,null,0.1,null,null,null,233,{"$f":"100*COUNT($BK$16:BK74)/$BK$382","v":{"$error":"#DIV/0!"}},null,null,221,{"$f":"100*COUNT($BO$16:BO74)/$BO$382","v":{"$error":"#DIV/0!"}},null,null,286,{"$f":"100*COUNT($BS$16:BS74)/$BS$382","v":{"$error":"#DIV/0!"}}]
["2016-02-29",null,null,null,null,null,null,null,null,null,null,null,null,null,null,null,null,null,null,null,null,null,null,null,null,null,null,null,null,null,null,null,null,null,null,null,null,null,null,null,null,null,null,null,null,null,null,null,null,null,null,null,null,60,0,null,1,0,null,0.1,null,null,null,180,{"$f":"100*COUNT($BK$16:BK75)/$BK$382","v":{"$error":"#DIV/0!"}},null,null,173,{"$f":"100*COUNT($BO$16:BO75)/$BO$382","v":{"$error":"#DIV/0!"}},null,null,238,{"$f":"100*COUNT($BS$16:BS75)/$BS$382","v":{"$error":"#DIV/0!"}}]
["2016-03-01",null,null,null,null,null,null,null,null,null,null,null,null,null,null,null,null,null,null,null,null,null,null,null,null,null,null,null,null,null,null,null,null,null,null,null,null,null,null,null,null,null,null,null,null,null,null,null,null,null,null,null,null,61,0,null,1,0,null,0.1,null,null,null,176,{"$f":"100*COUNT($BK$16:BK76)/$BK$382","v":{"$error":"#DIV/0!"}},null,null,205,{"$f":"100*COUNT($BO$16:BO76)/$BO$382","v":{"$error":"#DIV/0!"}},null,null,124,{"$f":"100*COUNT($BS$16:BS76)/$BS$382","v":{"$error":"#DIV/0!"}}]
["2016-03-02",null,null,null,null,null,null,null,null,null,null,null,null,null,null,null,null,null,null,null,null,null,null,null,null,null,null,null,null,null,null,null,null,null,null,null,null,null,null,null,null,null,null,null,null,null,null,null,null,null,null,null,null,62,0,null,1,0,null,0.1,null,null,null,124,{"$f":"100*COUNT($BK$16:BK77)/$BK$382","v":{"$error":"#DIV/0!"}},null,null,7,{"$f":"100*COUNT($BO$16:BO77)/$BO$382","v":{"$error":"#DIV/0!"}},null,null,117,{"$f":"100*COUNT($BS$16:BS77)/$BS$382","v":{"$error":"#DIV/0!"}}]
["2016-03-03",null,null,null,null,null,null,null,null,null,null,null,null,null,null,null,null,null,null,null,null,null,null,null,null,null,null,null,null,null,null,null,null,null,null,null,null,null,null,null,null,null,null,null,null,null,null,null,null,null,null,null,null,63,0,null,1,0,null,0.1,null,null,null,107,{"$f":"100*COUNT($BK$16:BK78)/$BK$382","v":{"$error":"#DIV/0!"}},null,null,198,{"$f":"100*COUNT($BO$16:BO78)/$BO$382","v":{"$error":"#DIV/0!"}},null,null,240,{"$f":"100*COUNT($BS$16:BS78)/$BS$382","v":{"$error":"#DIV/0!"}}]
["2016-03-04",null,null,null,null,null,null,null,null,null,null,null,null,null,null,null,null,null,null,null,null,null,null,null,null,null,null,null,null,null,null,null,null,null,null,null,null,null,null,null,null,null,null,null,null,null,null,null,null,null,null,null,null,64,0,null,1,0,null,0.1,null,null,null,39,{"$f":"100*COUNT($BK$16:BK79)/$BK$382","v":{"$error":"#DIV/0!"}},null,null,21,{"$f":"100*COUNT($BO$16:BO79)/$BO$382","v":{"$error":"#DIV/0!"}},null,null,296,{"$f":"100*COUNT($BS$16:BS79)/$BS$382","v":{"$error":"#DIV/0!"}}]
["2016-03-05",null,null,null,null,null,null,null,null,null,null,null,null,null,null,null,null,null,null,null,null,null,null,null,null,null,null,null,null,null,null,null,null,null,null,null,null,null,null,null,null,null,null,null,null,null,null,null,null,null,null,null,null,65,0,null,{"$f":"$G$5","v":1},0,null,{"$f":"$G$6","v":0.1},null,null,null,363,{"$f":"100*COUNT($BK$16:BK80)/$BK$382","v":{"$error":"#DIV/0!"}},null,null,287,{"$f":"100*COUNT($BO$16:BO80)/$BO$382","v":{"$error":"#DIV/0!"}},null,null,254,{"$f":"100*COUNT($BS$16:BS80)/$BS$382","v":{"$error":"#DIV/0!"}}]
[{"$f":"A80+1","v":"2016-03-06"},null,null,null,null,null,null,null,null,null,null,null,null,null,null,null,null,null,null,null,null,null,null,null,null,null,null,null,null,null,null,null,null,null,null,null,null,null,null,null,null,null,null,null,null,null,null,null,null,null,null,null,null,{"$f":"BB80+1","v":66},{"$f":"MAX(C81:J81)","v":0},null,1,{"$f":"MAX(K81:AT81)","v":0},null,0.1,null,null,null,246,{"$f":"100*COUNT($BK$16:BK81)/$BK$382","v":{"$error":"#DIV/0!"}},null,null,154,{"$f":"100*COUNT($BO$16:BO81)/$BO$382","v":{"$error":"#DIV/0!"}},null,null,177,{"$f":"100*COUNT($BS$16:BS81)/$BS$382","v":{"$error":"#DIV/0!"}}]
["2016-03-07",null,null,null,null,null,null,null,null,null,null,null,null,null,null,null,null,null,null,null,null,null,null,null,null,null,null,null,null,null,null,null,null,null,null,null,null,null,null,null,null,null,null,null,null,null,null,null,null,null,null,null,null,67,0,null,1,0,null,0.1,null,null,null,311,{"$f":"100*COUNT($BK$16:BK82)/$BK$382","v":{"$error":"#DIV/0!"}},null,null,322,{"$f":"100*COUNT($BO$16:BO82)/$BO$382","v":{"$error":"#DIV/0!"}},null,null,152,{"$f":"100*COUNT($BS$16:BS82)/$BS$382","v":{"$error":"#DIV/0!"}}]
["2016-03-08",null,null,null,null,null,null,null,null,null,null,null,null,null,null,null,null,null,null,null,null,null,null,null,null,null,null,null,null,null,null,null,null,null,null,null,null,null,null,null,null,null,null,null,null,null,null,null,null,null,null,null,null,68,0,null,1,0,null,0.1,null,null,null,88,{"$f":"100*COUNT($BK$16:BK83)/$BK$382","v":{"$error":"#DIV/0!"}},null,null,354,{"$f":"100*COUNT($BO$16:BO83)/$BO$382","v":{"$error":"#DIV/0!"}},null,null,67,{"$f":"100*COUNT($BS$16:BS83)/$BS$382","v":{"$error":"#DIV/0!"}}]
["2016-03-09",null,null,null,null,null,null,null,null,null,null,null,null,null,null,null,null,null,null,null,null,null,null,null,null,null,null,null,null,null,null,null,null,null,null,null,null,null,null,null,null,null,null,null,null,null,null,null,null,null,null,null,null,69,0,null,1,0,null,0.1,null,null,null,25,{"$f":"100*COUNT($BK$16:BK84)/$BK$382","v":{"$error":"#DIV/0!"}},null,null,35,{"$f":"100*COUNT($BO$16:BO84)/$BO$382","v":{"$error":"#DIV/0!"}},null,null,22,{"$f":"100*COUNT($BS$16:BS84)/$BS$382","v":{"$error":"#DIV/0!"}}]
["2016-03-10",null,null,null,null,null,null,null,null,null,null,null,null,null,null,null,null,null,null,null,null,null,null,null,null,null,null,null,null,null,null,null,null,null,null,null,null,null,null,null,null,null,null,null,null,null,null,null,null,null,null,null,null,70,0,null,1,0,null,0.1,null,null,null,202,{"$f":"100*COUNT($BK$16:BK85)/$BK$382","v":{"$error":"#DIV/0!"}},null,null,62,{"$f":"100*COUNT($BO$16:BO85)/$BO$382","v":{"$error":"#DIV/0!"}},null,null,223,{"$f":"100*COUNT($BS$16:BS85)/$BS$382","v":{"$error":"#DIV/0!"}}]
["2016-03-11",null,null,null,null,null,null,null,null,null,null,null,null,null,null,null,null,null,null,null,null,null,null,null,null,null,null,null,null,null,null,null,null,null,null,null,null,null,null,null,null,null,null,null,null,null,null,null,null,null,null,null,null,71,0,null,1,0,null,0.1,null,null,null,298,{"$f":"100*COUNT($BK$16:BK86)/$BK$382","v":{"$error":"#DIV/0!"}},null,null,289,{"$f":"100*COUNT($BO$16:BO86)/$BO$382","v":{"$error":"#DIV/0!"}},null,null,160,{"$f":"100*COUNT($BS$16:BS86)/$BS$382","v":{"$error":"#DIV/0!"}}]
["2016-03-12",null,null,null,null,null,null,null,null,null,null,null,null,null,null,null,null,null,null,null,null,null,null,null,null,null,null,null,null,null,null,null,null,null,null,null,null,null,null,null,null,null,null,null,null,null,null,null,null,null,null,null,null,72,0,null,1,0,null,0.1,null,null,null,163,{"$f":"100*COUNT($BK$16:BK87)/$BK$382","v":{"$error":"#DIV/0!"}},null,null,261,{"$f":"100*COUNT($BO$16:BO87)/$BO$382","v":{"$error":"#DIV/0!"}},null,null,249,{"$f":"100*COUNT($BS$16:BS87)/$BS$382","v":{"$error":"#DIV/0!"}}]
["2016-03-13",null,null,null,null,null,null,null,null,null,null,null,null,null,null,null,null,null,null,null,null,null,null,null,null,null,null,null,null,null,null,null,null,null,null,null,null,null,null,null,null,null,null,null,null,null,null,null,null,null,null,null,null,73,0,null,1,0,null,0.1,null,null,null,89,{"$f":"100*COUNT($BK$16:BK88)/$BK$382","v":{"$error":"#DIV/0!"}},null,null,102,{"$f":"100*COUNT($BO$16:BO88)/$BO$382","v":{"$error":"#DIV/0!"}},null,null,112,{"$f":"100*COUNT($BS$16:BS88)/$BS$382","v":{"$error":"#DIV/0!"}}]
["2016-03-14",null,null,null,null,null,null,null,null,null,null,null,null,null,null,null,null,null,null,null,null,null,null,null,null,null,null,null,null,null,null,null,null,null,null,null,null,null,null,null,null,null,null,null,null,null,null,null,null,null,null,null,null,74,0,null,1,0,null,0.1,null,null,null,342,{"$f":"100*COUNT($BK$16:BK89)/$BK$382","v":{"$error":"#DIV/0!"}},null,null,149,{"$f":"100*COUNT($BO$16:BO89)/$BO$382","v":{"$error":"#DIV/0!"}},null,null,345,{"$f":"100*COUNT($BS$16:BS89)/$BS$382","v":{"$error":"#DIV/0!"}}]
["2016-03-15",null,null,null,null,null,null,null,null,null,null,null,null,null,null,null,null,null,null,null,null,null,null,null,null,null,null,null,null,null,null,null,null,null,null,null,null,null,null,null,null,null,null,null,null,null,null,null,null,null,null,null,null,75,0,null,1,0,null,0.1,null,null,null,333,{"$f":"100*COUNT($BK$16:BK90)/$BK$382","v":{"$error":"#DIV/0!"}},null,null,34,{"$f":"100*COUNT($BO$16:BO90)/$BO$382","v":{"$error":"#DIV/0!"}},null,null,348,{"$f":"100*COUNT($BS$16:BS90)/$BS$382","v":{"$error":"#DIV/0!"}}]
["2016-03-16",null,null,null,null,null,null,null,null,null,null,null,null,null,null,null,null,null,null,null,null,null,null,null,null,null,null,null,null,null,null,null,null,null,null,null,null,null,null,null,null,null,null,null,null,null,null,null,null,null,null,null,null,76,0,null,1,0,null,0.1,null,null,null,5,{"$f":"100*COUNT($BK$16:BK91)/$BK$382","v":{"$error":"#DIV/0!"}},null,null,9,{"$f":"100*COUNT($BO$16:BO91)/$BO$382","v":{"$error":"#DIV/0!"}},null,null,128,{"$f":"100*COUNT($BS$16:BS91)/$BS$382","v":{"$error":"#DIV/0!"}}]
["2016-03-17",null,null,null,null,null,null,null,null,null,null,null,null,null,null,null,null,null,null,null,null,null,null,null,null,null,null,null,null,null,null,null,null,null,null,null,null,null,null,null,null,null,null,null,null,null,null,null,null,null,null,null,null,77,0,null,1,0,null,0.1,null,null,null,111,{"$f":"100*COUNT($BK$16:BK92)/$BK$382","v":{"$error":"#DIV/0!"}},null,null,79,{"$f":"100*COUNT($BO$16:BO92)/$BO$382","v":{"$error":"#DIV/0!"}},null,null,28,{"$f":"100*COUNT($BS$16:BS92)/$BS$382","v":{"$error":"#DIV/0!"}}]
["2016-03-18",null,null,null,null,null,null,null,null,null,null,null,null,null,null,null,null,null,null,null,null,null,null,null,null,null,null,null,null,null,null,null,null,null,null,null,null,null,null,null,null,null,null,null,null,null,null,null,null,null,null,null,null,78,0,null,1,0,null,0.1,null,null,null,18,{"$f":"100*COUNT($BK$16:BK93)/$BK$382","v":{"$error":"#DIV/0!"}},null,null,332,{"$f":"100*COUNT($BO$16:BO93)/$BO$382","v":{"$error":"#DIV/0!"}},null,null,305,{"$f":"100*COUNT($BS$16:BS93)/$BS$382","v":{"$error":"#DIV/0!"}}]
["2016-03-19",null,null,null,null,null,null,null,null,null,null,null,null,null,null,null,null,null,null,null,null,null,null,null,null,null,null,null,null,null,null,null,null,null,null,null,null,null,null,null,null,null,null,null,null,null,null,null,null,null,null,null,null,79,0,null,1,0,null,0.1,null,null,null,222,{"$f":"100*COUNT($BK$16:BK94)/$BK$382","v":{"$error":"#DIV/0!"}},null,null,196,{"$f":"100*COUNT($BO$16:BO94)/$BO$382","v":{"$error":"#DIV/0!"}},null,null,357,{"$f":"100*COUNT($BS$16:BS94)/$BS$382","v":{"$error":"#DIV/0!"}}]
["2016-03-20",null,null,null,null,null,null,null,null,null,null,null,null,null,null,null,null,null,null,null,null,null,null,null,null,null,null,null,null,null,null,null,null,null,null,null,null,null,null,null,null,null,null,null,null,null,null,null,null,null,null,null,null,80,0,null,1,0,null,0.1,null,null,null,23,{"$f":"100*COUNT($BK$16:BK95)/$BK$382","v":{"$error":"#DIV/0!"}},null,null,99,{"$f":"100*COUNT($BO$16:BO95)/$BO$382","v":{"$error":"#DIV/0!"}},null,null,350,{"$f":"100*COUNT($BS$16:BS95)/$BS$382","v":{"$error":"#DIV/0!"}}]
["2016-03-21",null,null,null,null,null,null,null,null,null,null,null,null,null,null,null,null,null,null,null,null,null,null,null,null,null,null,null,null,null,null,null,null,null,null,null,null,null,null,null,null,null,null,null,null,null,null,null,null,null,null,null,null,81,0,null,1,0,null,0.1,null,null,null,211,{"$f":"100*COUNT($BK$16:BK96)/$BK$382","v":{"$error":"#DIV/0!"}},null,null,269,{"$f":"100*COUNT($BO$16:BO96)/$BO$382","v":{"$error":"#DIV/0!"}},null,null,309,{"$f":"100*COUNT($BS$16:BS96)/$BS$382","v":{"$error":"#DIV/0!"}}]
["2016-03-22",null,null,null,null,null,null,null,null,null,null,null,null,null,null,null,null,null,null,null,null,null,null,null,null,null,null,null,null,null,null,null,null,null,null,null,null,null,null,null,null,null,null,null,null,null,null,null,null,null,null,null,null,82,0,null,1,0,null,0.1,null,null,null,31,{"$f":"100*COUNT($BK$16:BK97)/$BK$382","v":{"$error":"#DIV/0!"}},null,null,160,{"$f":"100*COUNT($BO$16:BO97)/$BO$382","v":{"$error":"#DIV/0!"}},null,null,88,{"$f":"100*COUNT($BS$16:BS97)/$BS$382","v":{"$error":"#DIV/0!"}}]
["2016-03-23",null,null,null,null,null,null,null,null,null,null,null,null,null,null,null,null,null,null,null,null,null,null,null,null,null,null,null,null,null,null,null,null,null,null,null,null,null,null,null,null,null,null,null,null,null,null,null,null,null,null,null,null,83,0,null,1,0,null,0.1,null,null,null,75,{"$f":"100*COUNT($BK$16:BK98)/$BK$382","v":{"$error":"#DIV/0!"}},null,null,328,{"$f":"100*COUNT($BO$16:BO98)/$BO$382","v":{"$error":"#DIV/0!"}},null,null,118,{"$f":"100*COUNT($BS$16:BS98)/$BS$382","v":{"$error":"#DIV/0!"}}]
["2016-03-24",null,null,null,null,null,null,null,null,null,null,null,null,null,null,null,null,null,null,null,null,null,null,null,null,null,null,null,null,null,null,null,null,null,null,null,null,null,null,null,null,null,null,null,null,null,null,null,null,null,null,null,null,84,0,null,1,0,null,0.1,null,null,null,165,{"$f":"100*COUNT($BK$16:BK99)/$BK$382","v":{"$error":"#DIV/0!"}},null,null,120,{"$f":"100*COUNT($BO$16:BO99)/$BO$382","v":{"$error":"#DIV/0!"}},null,null,269,{"$f":"100*COUNT($BS$16:BS99)/$BS$382","v":{"$error":"#DIV/0!"}}]
["2016-03-25",null,null,null,null,null,null,null,null,null,null,null,null,null,null,null,null,null,null,null,null,null,null,null,null,null,null,null,null,null,null,null,null,null,null,null,null,null,null,null,null,null,null,null,null,null,null,null,null,null,null,null,null,85,0,null,1,0,null,0.1,null,null,null,3,{"$f":"100*COUNT($BK$16:BK100)/$BK$382","v":{"$error":"#DIV/0!"}},null,null,245,{"$f":"100*COUNT($BO$16:BO100)/$BO$382","v":{"$error":"#DIV/0!"}},null,null,358,{"$f":"100*COUNT($BS$16:BS100)/$BS$382","v":{"$error":"#DIV/0!"}}]
["2016-03-26",null,null,null,null,null,null,null,null,null,null,null,null,null,null,null,null,null,null,null,null,null,null,null,null,null,null,null,null,null,null,null,null,null,null,null,null,null,null,null,null,null,null,null,null,null,null,null,null,null,null,null,null,86,0,null,1,0,null,0.1,null,null,null,15,{"$f":"100*COUNT($BK$16:BK101)/$BK$382","v":{"$error":"#DIV/0!"}},null,null,353,{"$f":"100*COUNT($BO$16:BO101)/$BO$382","v":{"$error":"#DIV/0!"}},null,null,245,{"$f":"100*COUNT($BS$16:BS101)/$BS$382","v":{"$error":"#DIV/0!"}}]
["2016-03-27",null,null,null,null,null,null,null,null,null,null,null,null,null,null,null,null,null,null,null,null,null,null,null,null,null,null,null,null,null,null,null,null,null,null,null,null,null,null,null,null,null,null,null,null,null,null,null,null,null,null,null,null,87,0,null,1,0,null,0.1,null,null,null,117,{"$f":"100*COUNT($BK$16:BK102)/$BK$382","v":{"$error":"#DIV/0!"}},null,null,46,{"$f":"100*COUNT($BO$16:BO102)/$BO$382","v":{"$error":"#DIV/0!"}},null,null,64,{"$f":"100*COUNT($BS$16:BS102)/$BS$382","v":{"$error":"#DIV/0!"}}]
["2016-03-28",null,null,null,null,null,null,null,null,null,null,null,null,null,null,null,null,null,null,null,null,null,null,null,null,null,null,null,null,null,null,null,null,null,null,null,null,null,null,null,null,null,null,null,null,null,null,null,null,null,null,null,null,88,0,null,1,0,null,0.1,null,null,null,260,{"$f":"100*COUNT($BK$16:BK103)/$BK$382","v":{"$error":"#DIV/0!"}},null,null,67,{"$f":"100*COUNT($BO$16:BO103)/$BO$382","v":{"$error":"#DIV/0!"}},null,null,295,{"$f":"100*COUNT($BS$16:BS103)/$BS$382","v":{"$error":"#DIV/0!"}}]
["2016-03-29",null,null,null,null,null,null,null,null,null,null,null,null,null,null,null,null,null,null,null,null,null,null,null,null,null,null,null,null,null,null,null,null,null,null,null,null,null,null,null,null,null,null,null,null,null,null,null,null,null,null,null,null,89,0,null,1,0,null,0.1,null,null,null,34,{"$f":"100*COUNT($BK$16:BK104)/$BK$382","v":{"$error":"#DIV/0!"}},null,null,65,{"$f":"100*COUNT($BO$16:BO104)/$BO$382","v":{"$error":"#DIV/0!"}},null,null,260,{"$f":"100*COUNT($BS$16:BS104)/$BS$382","v":{"$error":"#DIV/0!"}}]
["2016-03-30",null,null,null,null,null,null,null,null,null,null,null,null,null,null,null,null,null,null,null,null,null,null,null,null,null,null,null,null,null,null,null,null,null,null,null,null,null,null,null,null,null,null,null,null,null,null,null,null,null,null,null,null,90,0,null,1,0,null,0.1,null,null,null,316,{"$f":"100*COUNT($BK$16:BK105)/$BK$382","v":{"$error":"#DIV/0!"}},null,null,187,{"$f":"100*COUNT($BO$16:BO105)/$BO$382","v":{"$error":"#DIV/0!"}},null,null,283,{"$f":"100*COUNT($BS$16:BS105)/$BS$382","v":{"$error":"#DIV/0!"}}]
["2016-03-31",null,null,null,null,null,null,null,null,null,null,null,null,null,null,null,null,null,null,null,null,null,null,null,null,null,null,null,null,null,null,null,null,null,null,null,null,null,null,null,null,null,null,null,null,null,null,null,null,null,null,null,null,91,0,null,1,0,null,0.1,null,null,null,267,{"$f":"100*COUNT($BK$16:BK106)/$BK$382","v":{"$error":"#DIV/0!"}},null,null,104,{"$f":"100*COUNT($BO$16:BO106)/$BO$382","v":{"$error":"#DIV/0!"}},null,null,35,{"$f":"100*COUNT($BS$16:BS106)/$BS$382","v":{"$error":"#DIV/0!"}}]
["2016-04-01",null,null,null,null,null,null,null,null,null,null,null,null,null,null,null,null,null,null,null,null,null,null,null,null,null,null,null,null,null,null,null,null,null,null,null,null,null,null,null,null,null,null,null,null,null,null,null,null,null,null,null,null,92,0,null,1,0,null,0.1,null,null,null,220,{"$f":"100*COUNT($BK$16:BK107)/$BK$382","v":{"$error":"#DIV/0!"}},null,null,98,{"$f":"100*COUNT($BO$16:BO107)/$BO$382","v":{"$error":"#DIV/0!"}},null,null,87,{"$f":"100*COUNT($BS$16:BS107)/$BS$382","v":{"$error":"#DIV/0!"}}]
["2016-04-02",null,null,null,null,null,null,null,null,null,null,null,null,null,null,null,null,null,null,null,null,null,null,null,null,null,null,null,null,null,null,null,null,null,null,null,null,null,null,null,null,null,null,null,null,null,null,null,null,null,null,null,null,93,0,null,1,0,null,0.1,null,null,null,92,{"$f":"100*COUNT($BK$16:BK108)/$BK$382","v":{"$error":"#DIV/0!"}},null,null,357,{"$f":"100*COUNT($BO$16:BO108)/$BO$382","v":{"$error":"#DIV/0!"}},null,null,319,{"$f":"100*COUNT($BS$16:BS108)/$BS$382","v":{"$error":"#DIV/0!"}}]
["2016-04-03",null,null,null,null,null,null,null,null,null,null,null,null,null,null,null,null,null,null,null,null,null,null,null,null,null,null,null,null,null,null,null,null,null,null,null,null,null,null,null,null,null,null,null,null,null,null,null,null,null,null,null,null,94,0,null,1,0,null,0.1,null,null,null,287,{"$f":"100*COUNT($BK$16:BK109)/$BK$382","v":{"$error":"#DIV/0!"}},null,null,254,{"$f":"100*COUNT($BO$16:BO109)/$BO$382","v":{"$error":"#DIV/0!"}},null,null,156,{"$f":"100*COUNT($BS$16:BS109)/$BS$382","v":{"$error":"#DIV/0!"}}]
["2016-04-04",null,null,null,null,null,null,null,null,null,null,null,null,null,null,null,null,null,null,null,null,null,null,null,null,null,null,null,null,null,null,null,null,null,null,null,null,null,null,null,null,null,null,null,null,null,null,null,null,null,null,null,null,95,0,null,1,0,null,0.1,null,null,null,213,{"$f":"100*COUNT($BK$16:BK110)/$BK$382","v":{"$error":"#DIV/0!"}},null,null,291,{"$f":"100*COUNT($BO$16:BO110)/$BO$382","v":{"$error":"#DIV/0!"}},null,null,7,{"$f":"100*COUNT($BS$16:BS110)/$BS$382","v":{"$error":"#DIV/0!"}}]
["2016-04-05",null,null,null,null,null,null,null,null,null,null,null,null,null,null,null,null,null,null,null,null,null,null,null,null,null,null,null,null,null,null,null,null,null,null,null,null,null,null,null,null,null,null,null,null,null,null,null,null,null,null,null,null,96,0,null,1,0,null,0.1,null,null,null,84,{"$f":"100*COUNT($BK$16:BK111)/$BK$382","v":{"$error":"#DIV/0!"}},null,null,253,{"$f":"100*COUNT($BO$16:BO111)/$BO$382","v":{"$error":"#DIV/0!"}},null,null,15,{"$f":"100*COUNT($BS$16:BS111)/$BS$382","v":{"$error":"#DIV/0!"}}]
["2016-04-06",null,null,null,null,null,null,null,null,null,null,null,null,null,null,null,null,null,null,null,null,null,null,null,null,null,null,null,null,null,null,null,null,null,null,null,null,null,null,null,null,null,null,null,null,null,null,null,null,null,null,null,null,97,0,null,1,0,null,0.1,null,null,null,308,{"$f":"100*COUNT($BK$16:BK112)/$BK$382","v":{"$error":"#DIV/0!"}},null,null,220,{"$f":"100*COUNT($BO$16:BO112)/$BO$382","v":{"$error":"#DIV/0!"}},null,null,208,{"$f":"100*COUNT($BS$16:BS112)/$BS$382","v":{"$error":"#DIV/0!"}}]
["2016-04-07",null,null,null,null,null,null,null,null,null,null,null,null,null,null,null,null,null,null,null,null,null,null,null,null,null,null,null,null,null,null,null,null,null,null,null,null,null,null,null,null,null,null,null,null,null,null,null,null,null,null,null,null,98,0,null,1,0,null,0.1,null,null,null,264,{"$f":"100*COUNT($BK$16:BK113)/$BK$382","v":{"$error":"#DIV/0!"}},null,null,133,{"$f":"100*COUNT($BO$16:BO113)/$BO$382","v":{"$error":"#DIV/0!"}},null,null,144,{"$f":"100*COUNT($BS$16:BS113)/$BS$382","v":{"$error":"#DIV/0!"}}]
["2016-04-08",null,null,null,null,null,null,null,null,null,null,null,null,null,null,null,null,null,null,null,null,null,null,null,null,null,null,null,null,null,null,null,null,null,null,null,null,null,null,null,null,null,null,null,null,null,null,null,null,null,null,null,null,99,0,null,1,0,null,0.1,null,null,null,185,{"$f":"100*COUNT($BK$16:BK114)/$BK$382","v":{"$error":"#DIV/0!"}},null,null,96,{"$f":"100*COUNT($BO$16:BO114)/$BO$382","v":{"$error":"#DIV/0!"}},null,null,236,{"$f":"100*COUNT($BS$16:BS114)/$BS$382","v":{"$error":"#DIV/0!"}}]
["2016-04-09",null,null,null,null,null,null,null,null,null,null,null,null,null,null,null,null,null,null,null,null,null,null,null,null,null,null,null,null,null,null,null,null,null,null,null,null,null,null,null,null,null,null,null,null,null,null,null,null,null,null,null,null,100,0,null,1,0,null,0.1,null,null,null,85,{"$f":"100*COUNT($BK$16:BK115)/$BK$382","v":{"$error":"#DIV/0!"}},null,null,164,{"$f":"100*COUNT($BO$16:BO115)/$BO$382","v":{"$error":"#DIV/0!"}},null,null,229,{"$f":"100*COUNT($BS$16:BS115)/$BS$382","v":{"$error":"#DIV/0!"}}]
["2016-04-10",null,null,null,null,null,null,null,null,null,null,null,null,null,null,null,null,null,null,null,null,null,null,null,null,null,null,null,null,null,null,null,null,null,null,null,null,null,null,null,null,null,null,null,null,null,null,null,null,null,null,null,null,101,0,null,1,0,null,0.1,null,null,null,197,{"$f":"100*COUNT($BK$16:BK116)/$BK$382","v":{"$error":"#DIV/0!"}},null,null,362,{"$f":"100*COUNT($BO$16:BO116)/$BO$382","v":{"$error":"#DIV/0!"}},null,null,183,{"$f":"100*COUNT($BS$16:BS116)/$BS$382","v":{"$error":"#DIV/0!"}}]
["2016-04-11",null,null,null,null,null,null,null,null,null,null,null,null,null,null,null,null,null,null,null,null,null,null,null,null,null,null,null,null,null,null,null,null,null,null,null,null,null,null,null,null,null,null,null,null,null,null,null,null,null,null,null,null,102,0,null,1,0,null,0.1,null,null,null,332,{"$f":"100*COUNT($BK$16:BK117)/$BK$382","v":{"$error":"#DIV/0!"}},null,null,306,{"$f":"100*COUNT($BO$16:BO117)/$BO$382","v":{"$error":"#DIV/0!"}},null,null,126,{"$f":"100*COUNT($BS$16:BS117)/$BS$382","v":{"$error":"#DIV/0!"}}]
["2016-04-12",null,null,null,null,null,null,null,null,null,null,null,null,null,null,null,null,null,null,null,null,null,null,null,null,null,null,null,null,null,null,null,null,null,null,null,null,null,null,null,null,null,null,null,null,null,null,null,null,null,null,null,null,103,0,null,1,0,null,0.1,null,null,null,269,{"$f":"100*COUNT($BK$16:BK118)/$BK$382","v":{"$error":"#DIV/0!"}},null,null,51,{"$f":"100*COUNT($BO$16:BO118)/$BO$382","v":{"$error":"#DIV/0!"}},null,null,226,{"$f":"100*COUNT($BS$16:BS118)/$BS$382","v":{"$error":"#DIV/0!"}}]
["2016-04-13",null,null,null,null,null,null,null,null,null,null,null,null,null,null,null,null,null,null,null,null,null,null,null,null,null,null,null,null,null,null,null,null,null,null,null,null,null,null,null,null,null,null,null,null,null,null,null,null,null,null,null,null,104,0,null,1,0,null,0.1,null,null,null,12,{"$f":"100*COUNT($BK$16:BK119)/$BK$382","v":{"$error":"#DIV/0!"}},null,null,234,{"$f":"100*COUNT($BO$16:BO119)/$BO$382","v":{"$error":"#DIV/0!"}},null,null,77,{"$f":"100*COUNT($BS$16:BS119)/$BS$382","v":{"$error":"#DIV/0!"}}]
["2016-04-14",null,null,null,null,null,null,null,null,null,null,null,null,null,null,null,null,null,null,null,null,null,null,null,null,null,null,null,null,null,null,null,null,null,null,null,null,null,null,null,null,null,null,null,null,null,null,null,null,null,null,null,null,105,0,null,1,0,null,0.1,null,null,null,336,{"$f":"100*COUNT($BK$16:BK120)/$BK$382","v":{"$error":"#DIV/0!"}},null,null,130,{"$f":"100*COUNT($BO$16:BO120)/$BO$382","v":{"$error":"#DIV/0!"}},null,null,281,{"$f":"100*COUNT($BS$16:BS120)/$BS$382","v":{"$error":"#DIV/0!"}}]
["2016-04-15",null,null,null,null,null,null,null,null,null,null,null,null,null,null,null,null,null,null,null,null,null,null,null,null,null,null,null,null,null,null,null,null,null,null,null,null,null,null,null,null,null,null,null,null,null,null,null,null,null,null,null,null,106,0,null,1,0,null,0.1,null,null,null,164,{"$f":"100*COUNT($BK$16:BK121)/$BK$382","v":{"$error":"#DIV/0!"}},null,null,138,{"$f":"100*COUNT($BO$16:BO121)/$BO$382","v":{"$error":"#DIV/0!"}},null,null,37,{"$f":"100*COUNT($BS$16:BS121)/$BS$382","v":{"$error":"#DIV/0!"}}]
["2016-04-16",null,null,null,null,null,null,null,null,null,null,null,null,null,null,null,null,null,null,null,null,null,null,null,null,null,null,null,null,null,null,null,null,null,null,null,null,null,null,null,null,null,null,null,null,null,null,null,null,null,null,null,null,107,0,null,1,0,null,0.1,null,null,null,365,{"$f":"100*COUNT($BK$16:BK122)/$BK$382","v":{"$error":"#DIV/0!"}},null,null,235,{"$f":"100*COUNT($BO$16:BO122)/$BO$382","v":{"$error":"#DIV/0!"}},null,null,192,{"$f":"100*COUNT($BS$16:BS122)/$BS$382","v":{"$error":"#DIV/0!"}}]
["2016-04-17",null,null,null,null,null,null,null,null,null,null,null,null,null,null,null,null,null,null,null,null,null,null,null,null,null,null,null,null,null,null,null,null,null,null,null,null,null,null,null,null,null,null,null,null,null,null,null,null,null,null,null,null,108,0,null,1,0,null,0.1,null,null,null,159,{"$f":"100*COUNT($BK$16:BK123)/$BK$382","v":{"$error":"#DIV/0!"}},null,null,100,{"$f":"100*COUNT($BO$16:BO123)/$BO$382","v":{"$error":"#DIV/0!"}},null,null,57,{"$f":"100*COUNT($BS$16:BS123)/$BS$382","v":{"$error":"#DIV/0!"}}]
["2016-04-18",null,null,null,null,null,null,null,null,null,null,null,null,null,null,null,null,null,null,null,null,null,null,null,null,null,null,null,null,null,null,null,null,null,null,null,null,null,null,null,null,null,null,null,null,null,null,null,null,null,null,null,null,109,0,null,1,0,null,0.1,null,null,null,226,{"$f":"100*COUNT($BK$16:BK124)/$BK$382","v":{"$error":"#DIV/0!"}},null,null,131,{"$f":"100*COUNT($BO$16:BO124)/$BO$382","v":{"$error":"#DIV/0!"}},null,null,168,{"$f":"100*COUNT($BS$16:BS124)/$BS$382","v":{"$error":"#DIV/0!"}}]
["2016-04-19",null,null,null,null,null,null,null,null,null,null,null,null,null,null,null,null,null,null,null,null,null,null,null,null,null,null,null,null,null,null,null,null,null,null,null,null,null,null,null,null,null,null,null,null,null,null,null,null,null,null,null,null,110,0,null,1,0,null,0.1,null,null,null,252,{"$f":"100*COUNT($BK$16:BK125)/$BK$382","v":{"$error":"#DIV/0!"}},null,null,296,{"$f":"100*COUNT($BO$16:BO125)/$BO$382","v":{"$error":"#DIV/0!"}},null,null,111,{"$f":"100*COUNT($BS$16:BS125)/$BS$382","v":{"$error":"#DIV/0!"}}]
["2016-04-20",null,null,null,null,null,null,null,null,null,null,null,null,null,null,null,null,null,null,null,null,null,null,null,null,null,null,null,null,null,null,null,null,null,null,null,null,null,null,null,null,null,null,null,null,null,null,null,null,null,null,null,null,111,0,null,1,0,null,0.1,null,null,null,97,{"$f":"100*COUNT($BK$16:BK126)/$BK$382","v":{"$error":"#DIV/0!"}},null,null,262,{"$f":"100*COUNT($BO$16:BO126)/$BO$382","v":{"$error":"#DIV/0!"}},null,null,20,{"$f":"100*COUNT($BS$16:BS126)/$BS$382","v":{"$error":"#DIV/0!"}}]
["2016-04-21",null,null,null,null,null,null,null,null,null,null,null,null,null,null,null,null,null,null,null,null,null,null,null,null,null,null,null,null,null,null,null,null,null,null,null,null,null,null,null,null,null,null,null,null,null,null,null,null,null,null,null,null,112,0,null,1,0,null,0.1,null,null,null,321,{"$f":"100*COUNT($BK$16:BK127)/$BK$382","v":{"$error":"#DIV/0!"}},null,null,242,{"$f":"100*COUNT($BO$16:BO127)/$BO$382","v":{"$error":"#DIV/0!"}},null,null,271,{"$f":"100*COUNT($BS$16:BS127)/$BS$382","v":{"$error":"#DIV/0!"}}]
["2016-04-22",null,null,null,null,null,null,null,null,null,null,null,null,null,null,null,null,null,null,null,null,null,null,null,null,null,null,null,null,null,null,null,null,null,null,null,null,null,null,null,null,null,null,null,null,null,null,null,null,null,null,null,null,113,0,null,1,0,null,0.1,null,null,null,138,{"$f":"100*COUNT($BK$16:BK128)/$BK$382","v":{"$error":"#DIV/0!"}},null,null,117,{"$f":"100*COUNT($BO$16:BO128)/$BO$382","v":{"$error":"#DIV/0!"}},null,null,149,{"$f":"100*COUNT($BS$16:BS128)/$BS$382","v":{"$error":"#DIV/0!"}}]
["2016-04-23",null,null,null,null,null,null,null,null,null,null,null,null,null,null,null,null,null,null,null,null,null,null,null,null,null,null,null,null,null,null,null,null,null,null,null,null,null,null,null,null,null,null,null,null,null,null,null,null,null,null,null,null,114,0,null,1,0,null,0.1,null,null,null,174,{"$f":"100*COUNT($BK$16:BK129)/$BK$382","v":{"$error":"#DIV/0!"}},null,null,179,{"$f":"100*COUNT($BO$16:BO129)/$BO$382","v":{"$error":"#DIV/0!"}},null,null,116,{"$f":"100*COUNT($BS$16:BS129)/$BS$382","v":{"$error":"#DIV/0!"}}]
["2016-04-24",null,null,null,null,null,null,null,null,null,null,null,null,null,null,null,null,null,null,null,null,null,null,null,null,null,null,null,null,null,null,null,null,null,null,null,null,null,null,null,null,null,null,null,null,null,null,null,null,null,null,null,null,115,0,null,1,0,null,0.1,null,null,null,52,{"$f":"100*COUNT($BK$16:BK130)/$BK$382","v":{"$error":"#DIV/0!"}},null,null,150,{"$f":"100*COUNT($BO$16:BO130)/$BO$382","v":{"$error":"#DIV/0!"}},null,null,139,{"$f":"100*COUNT($BS$16:BS130)/$BS$382","v":{"$error":"#DIV/0!"}}]
["2016-04-25",null,null,null,null,null,null,null,null,null,null,null,null,null,null,null,null,null,null,null,null,null,null,null,null,null,null,null,null,null,null,null,null,null,null,null,null,null,null,null,null,null,null,null,null,null,null,null,null,null,null,null,null,116,0,null,1,0,null,0.1,null,null,null,91,{"$f":"100*COUNT($BK$16:BK131)/$BK$382","v":{"$error":"#DIV/0!"}},null,null,360,{"$f":"100*COUNT($BO$16:BO131)/$BO$382","v":{"$error":"#DIV/0!"}},null,null,335,{"$f":"100*COUNT($BS$16:BS131)/$BS$382","v":{"$error":"#DIV/0!"}}]
["2016-04-26",null,null,null,null,null,null,null,null,null,null,null,null,null,null,null,null,null,null,null,null,null,null,null,null,null,null,null,null,null,null,null,null,null,null,null,null,null,null,null,null,null,null,null,null,null,null,null,null,null,null,null,null,117,0,null,1,0,null,0.1,null,null,null,101,{"$f":"100*COUNT($BK$16:BK132)/$BK$382","v":{"$error":"#DIV/0!"}},null,null,85,{"$f":"100*COUNT($BO$16:BO132)/$BO$382","v":{"$error":"#DIV/0!"}},null,null,203,{"$f":"100*COUNT($BS$16:BS132)/$BS$382","v":{"$error":"#DIV/0!"}}]
["2016-04-27",null,null,null,null,null,null,null,null,null,null,null,null,null,null,null,null,null,null,null,null,null,null,null,null,null,null,null,null,null,null,null,null,null,null,null,null,null,null,null,null,null,null,null,null,null,null,null,null,null,null,null,null,118,0,null,1,0,null,0.1,null,null,null,63,{"$f":"100*COUNT($BK$16:BK133)/$BK$382","v":{"$error":"#DIV/0!"}},null,null,92,{"$f":"100*COUNT($BO$16:BO133)/$BO$382","v":{"$error":"#DIV/0!"}},null,null,320,{"$f":"100*COUNT($BS$16:BS133)/$BS$382","v":{"$error":"#DIV/0!"}}]
["2016-04-28",null,null,null,null,null,null,null,null,null,null,null,null,null,null,null,null,null,null,null,null,null,null,null,null,null,null,null,null,null,null,null,null,null,null,null,null,null,null,null,null,null,null,null,null,null,null,null,null,null,null,null,null,119,0,null,1,0,null,0.1,null,null,null,219,{"$f":"100*COUNT($BK$16:BK134)/$BK$382","v":{"$error":"#DIV/0!"}},null,null,184,{"$f":"100*COUNT($BO$16:BO134)/$BO$382","v":{"$error":"#DIV/0!"}},null,null,147,{"$f":"100*COUNT($BS$16:BS134)/$BS$382","v":{"$error":"#DIV/0!"}}]
["2016-04-29",null,null,null,null,null,null,null,null,null,null,null,null,null,null,null,null,null,null,null,null,null,null,null,null,null,null,null,null,null,null,null,null,null,null,null,null,null,null,null,null,null,null,null,null,null,null,null,null,null,null,null,null,120,0,null,1,0,null,0.1,null,null,null,320,{"$f":"100*COUNT($BK$16:BK135)/$BK$382","v":{"$error":"#DIV/0!"}},null,null,255,{"$f":"100*COUNT($BO$16:BO135)/$BO$382","v":{"$error":"#DIV/0!"}},null,null,44,{"$f":"100*COUNT($BS$16:BS135)/$BS$382","v":{"$error":"#DIV/0!"}}]
["2016-04-30",null,null,null,null,null,null,null,null,null,null,null,null,null,null,null,null,null,null,null,null,null,null,null,null,null,null,null,null,null,null,null,null,null,null,null,null,null,null,null,null,null,null,null,null,null,null,null,null,null,null,null,null,121,0,null,1,0,null,0.1,null,null,null,263,{"$f":"100*COUNT($BK$16:BK136)/$BK$382","v":{"$error":"#DIV/0!"}},null,null,93,{"$f":"100*COUNT($BO$16:BO136)/$BO$382","v":{"$error":"#DIV/0!"}},null,null,148,{"$f":"100*COUNT($BS$16:BS136)/$BS$382","v":{"$error":"#DIV/0!"}}]
["2016-05-01",null,null,null,null,null,null,null,null,null,null,null,null,null,null,null,null,null,null,null,null,null,null,null,null,null,null,null,null,null,null,null,null,null,null,null,null,null,null,null,null,null,null,null,null,null,null,null,null,null,null,null,null,122,0,null,1,0,null,0.1,null,null,null,150,{"$f":"100*COUNT($BK$16:BK137)/$BK$382","v":{"$error":"#DIV/0!"}},null,null,260,{"$f":"100*COUNT($BO$16:BO137)/$BO$382","v":{"$error":"#DIV/0!"}},null,null,247,{"$f":"100*COUNT($BS$16:BS137)/$BS$382","v":{"$error":"#DIV/0!"}}]
["2016-05-02",null,null,null,null,null,null,null,null,null,null,null,null,null,null,null,null,null,null,null,null,null,null,null,null,null,null,null,null,null,null,null,null,null,null,null,null,null,null,null,null,null,null,null,null,null,null,null,null,null,null,null,null,123,0,null,1,0,null,0.1,null,null,null,14,{"$f":"100*COUNT($BK$16:BK138)/$BK$382","v":{"$error":"#DIV/0!"}},null,null,265,{"$f":"100*COUNT($BO$16:BO138)/$BO$382","v":{"$error":"#DIV/0!"}},null,null,333,{"$f":"100*COUNT($BS$16:BS138)/$BS$382","v":{"$error":"#DIV/0!"}}]
["2016-05-03",null,null,null,null,null,null,null,null,null,null,null,null,null,null,null,null,null,null,null,null,null,null,null,null,null,null,null,null,null,null,null,null,null,null,null,null,null,null,null,null,null,null,null,null,null,null,null,null,null,null,null,null,124,0,null,1,0,null,0.1,null,null,null,102,{"$f":"100*COUNT($BK$16:BK139)/$BK$382","v":{"$error":"#DIV/0!"}},null,null,305,{"$f":"100*COUNT($BO$16:BO139)/$BO$382","v":{"$error":"#DIV/0!"}},null,null,38,{"$f":"100*COUNT($BS$16:BS139)/$BS$382","v":{"$error":"#DIV/0!"}}]
["2016-05-04",null,null,null,null,null,null,null,null,null,null,null,null,null,null,null,null,null,null,null,null,null,null,null,null,null,null,null,null,null,null,null,null,null,null,null,null,null,null,null,null,null,null,null,null,null,null,null,null,null,null,null,null,125,0,null,1,0,null,0.1,null,null,null,53,{"$f":"100*COUNT($BK$16:BK140)/$BK$382","v":{"$error":"#DIV/0!"}},null,null,10,{"$f":"100*COUNT($BO$16:BO140)/$BO$382","v":{"$error":"#DIV/0!"}},null,null,56,{"$f":"100*COUNT($BS$16:BS140)/$BS$382","v":{"$error":"#DIV/0!"}}]
["2016-05-05",null,null,null,null,null,null,null,null,null,null,null,null,null,null,null,null,null,null,null,null,null,null,null,null,null,null,null,null,null,null,null,null,null,null,null,null,null,null,null,null,null,null,null,null,null,null,null,null,null,null,null,null,126,0,null,1,0,null,0.1,null,null,null,86,{"$f":"100*COUNT($BK$16:BK141)/$BK$382","v":{"$error":"#DIV/0!"}},null,null,156,{"$f":"100*COUNT($BO$16:BO141)/$BO$382","v":{"$error":"#DIV/0!"}},null,null,5,{"$f":"100*COUNT($BS$16:BS141)/$BS$382","v":{"$error":"#DIV/0!"}}]
["2016-05-06",null,null,null,null,null,null,null,null,null,null,null,null,null,null,null,null,null,null,null,null,null,null,null,null,null,null,null,null,null,null,null,null,null,null,null,null,null,null,null,null,null,null,null,null,null,null,null,null,null,null,null,null,127,0,null,1,0,null,0.1,null,null,null,148,{"$f":"100*COUNT($BK$16:BK142)/$BK$382","v":{"$error":"#DIV/0!"}},null,null,197,{"$f":"100*COUNT($BO$16:BO142)/$BO$382","v":{"$error":"#DIV/0!"}},null,null,4,{"$f":"100*COUNT($BS$16:BS142)/$BS$382","v":{"$error":"#DIV/0!"}}]
["2016-05-07",null,null,null,null,null,null,null,null,null,null,null,null,null,null,null,null,null,null,null,null,null,null,null,null,null,null,null,null,null,null,null,null,null,null,null,null,null,null,null,null,null,null,null,null,null,null,null,null,null,null,null,null,128,0,null,1,0,null,0.1,null,null,null,73,{"$f":"100*COUNT($BK$16:BK143)/$BK$382","v":{"$error":"#DIV/0!"}},null,null,325,{"$f":"100*COUNT($BO$16:BO143)/$BO$382","v":{"$error":"#DIV/0!"}},null,null,277,{"$f":"100*COUNT($BS$16:BS143)/$BS$382","v":{"$error":"#DIV/0!"}}]
["2016-05-08",null,null,null,null,null,null,null,null,null,null,null,null,null,null,null,null,null,null,null,null,null,null,null,null,null,null,null,null,null,null,null,null,null,null,null,null,null,null,null,null,null,null,null,null,null,null,null,null,null,null,null,null,129,0,null,{"$f":"$G$5","v":1},0,null,{"$f":"$G$6","v":0.1},null,null,null,139,{"$f":"100*COUNT($BK$16:BK144)/$BK$382","v":{"$error":"#DIV/0!"}},null,null,186,{"$f":"100*COUNT($BO$16:BO144)/$BO$382","v":{"$error":"#DIV/0!"}},null,null,193,{"$f":"100*COUNT($BS$16:BS144)/$BS$382","v":{"$error":"#DIV/0!"}}]
[{"$f":"A144+1","v":"2016-05-09"},null,null,null,null,null,null,null,null,null,null,null,null,null,null,null,null,null,null,null,null,null,null,null,null,null,null,null,null,null,null,null,null,null,null,null,null,null,null,null,null,null,null,null,null,null,null,null,null,null,null,null,null,{"$f":"BB144+1","v":130},{"$f":"MAX(C145:J145)","v":0},null,1,{"$f":"MAX(K145:AT145)","v":0},null,0.1,null,null,null,244,{"$f":"100*COUNT($BK$16:BK145)/$BK$382","v":{"$error":"#DIV/0!"}},null,null,69,{"$f":"100*COUNT($BO$16:BO145)/$BO$382","v":{"$error":"#DIV/0!"}},null,null,275,{"$f":"100*COUNT($BS$16:BS145)/$BS$382","v":{"$error":"#DIV/0!"}}]
["2016-05-10",null,null,null,null,null,null,null,null,null,null,null,null,null,null,null,null,null,null,null,null,null,null,null,null,null,null,null,null,null,null,null,null,null,null,null,null,null,null,null,null,null,null,null,null,null,null,null,null,null,null,null,null,131,0,null,1,0,null,0.1,null,null,null,236,{"$f":"100*COUNT($BK$16:BK146)/$BK$382","v":{"$error":"#DIV/0!"}},null,null,75,{"$f":"100*COUNT($BO$16:BO146)/$BO$382","v":{"$error":"#DIV/0!"}},null,null,278,{"$f":"100*COUNT($BS$16:BS146)/$BS$382","v":{"$error":"#DIV/0!"}}]
["2016-05-11",null,null,null,null,null,null,null,null,null,null,null,null,null,null,null,null,null,null,null,null,null,null,null,null,null,null,null,null,null,null,null,null,null,null,null,null,null,null,null,null,null,null,null,null,null,null,null,null,null,null,null,null,132,0,null,1,0,null,0.1,null,null,null,297,{"$f":"100*COUNT($BK$16:BK147)/$BK$382","v":{"$error":"#DIV/0!"}},null,null,358,{"$f":"100*COUNT($BO$16:BO147)/$BO$382","v":{"$error":"#DIV/0!"}},null,null,219,{"$f":"100*COUNT($BS$16:BS147)/$BS$382","v":{"$error":"#DIV/0!"}}]
["2016-05-12",null,null,null,null,null,null,null,null,null,null,null,null,null,null,null,null,null,null,null,null,null,null,null,null,null,null,null,null,null,null,null,null,null,null,null,null,null,null,null,null,null,null,null,null,null,null,null,null,null,null,null,null,133,0,null,1,0,null,0.1,null,null,null,96,{"$f":"100*COUNT($BK$16:BK148)/$BK$382","v":{"$error":"#DIV/0!"}},null,null,146,{"$f":"100*COUNT($BO$16:BO148)/$BO$382","v":{"$error":"#DIV/0!"}},null,null,83,{"$f":"100*COUNT($BS$16:BS148)/$BS$382","v":{"$error":"#DIV/0!"}}]
["2016-05-13",null,null,null,null,null,null,null,null,null,null,null,null,null,null,null,null,null,null,null,null,null,null,null,null,null,null,null,null,null,null,null,null,null,null,null,null,null,null,null,null,null,null,null,null,null,null,null,null,null,null,null,null,134,0,null,1,0,null,0.1,null,null,null,16,{"$f":"100*COUNT($BK$16:BK149)/$BK$382","v":{"$error":"#DIV/0!"}},null,null,218,{"$f":"100*COUNT($BO$16:BO149)/$BO$382","v":{"$error":"#DIV/0!"}},null,null,21,{"$f":"100*COUNT($BS$16:BS149)/$BS$382","v":{"$error":"#DIV/0!"}}]
["2016-05-14",null,null,null,null,null,null,null,null,null,null,null,null,null,null,null,null,null,null,null,null,null,null,null,null,null,null,null,null,null,null,null,null,null,null,null,null,null,null,null,null,null,null,null,null,null,null,null,null,null,null,null,null,135,0,null,1,0,null,0.1,null,null,null,327,{"$f":"100*COUNT($BK$16:BK150)/$BK$382","v":{"$error":"#DIV/0!"}},null,null,288,{"$f":"100*COUNT($BO$16:BO150)/$BO$382","v":{"$error":"#DIV/0!"}},null,null,258,{"$f":"100*COUNT($BS$16:BS150)/$BS$382","v":{"$error":"#DIV/0!"}}]
["2016-05-15",null,null,null,null,null,null,null,null,null,null,null,null,null,null,null,null,null,null,null,null,null,null,null,null,null,null,null,null,null,null,null,null,null,null,null,null,null,null,null,null,null,null,null,null,null,null,null,null,null,null,null,null,136,0,null,1,0,null,0.1,null,null,null,173,{"$f":"100*COUNT($BK$16:BK151)/$BK$382","v":{"$error":"#DIV/0!"}},null,null,159,{"$f":"100*COUNT($BO$16:BO151)/$BO$382","v":{"$error":"#DIV/0!"}},null,null,316,{"$f":"100*COUNT($BS$16:BS151)/$BS$382","v":{"$error":"#DIV/0!"}}]
["2016-05-16",null,null,null,null,null,null,null,null,null,null,null,null,null,null,null,null,null,null,null,null,null,null,null,null,null,null,null,null,null,null,null,null,null,null,null,null,null,null,null,null,null,null,null,null,null,null,null,null,null,null,null,null,137,0,null,1,0,null,0.1,null,null,null,194,{"$f":"100*COUNT($BK$16:BK152)/$BK$382","v":{"$error":"#DIV/0!"}},null,null,113,{"$f":"100*COUNT($BO$16:BO152)/$BO$382","v":{"$error":"#DIV/0!"}},null,null,141,{"$f":"100*COUNT($BS$16:BS152)/$BS$382","v":{"$error":"#DIV/0!"}}]
["2016-05-17",null,null,null,null,null,null,null,null,null,null,null,null,null,null,null,null,null,null,null,null,null,null,null,null,null,null,null,null,null,null,null,null,null,null,null,null,null,null,null,null,null,null,null,null,null,null,null,null,null,null,null,null,138,0,null,1,0,null,0.1,null,null,null,356,{"$f":"100*COUNT($BK$16:BK153)/$BK$382","v":{"$error":"#DIV/0!"}},null,null,119,{"$f":"100*COUNT($BO$16:BO153)/$BO$382","v":{"$error":"#DIV/0!"}},null,null,26,{"$f":"100*COUNT($BS$16:BS153)/$BS$382","v":{"$error":"#DIV/0!"}}]
["2016-05-18",null,null,null,null,null,null,null,null,null,null,null,null,null,null,null,null,null,null,null,null,null,null,null,null,null,null,null,null,null,null,null,null,null,null,null,null,null,null,null,null,null,null,null,null,null,null,null,null,null,null,null,null,139,0,null,1,0,null,0.1,null,null,null,210,{"$f":"100*COUNT($BK$16:BK154)/$BK$382","v":{"$error":"#DIV/0!"}},null,null,210,{"$f":"100*COUNT($BO$16:BO154)/$BO$382","v":{"$error":"#DIV/0!"}},null,null,136,{"$f":"100*COUNT($BS$16:BS154)/$BS$382","v":{"$error":"#DIV/0!"}}]
["2016-05-19",null,null,null,null,null,null,null,null,null,null,null,null,null,null,null,null,null,null,null,null,null,null,null,null,null,null,null,null,null,null,null,null,null,null,null,null,null,null,null,null,null,null,null,null,null,null,null,null,null,null,null,null,140,0,null,1,0,null,0.1,null,null,null,4,{"$f":"100*COUNT($BK$16:BK155)/$BK$382","v":{"$error":"#DIV/0!"}},null,null,78,{"$f":"100*COUNT($BO$16:BO155)/$BO$382","v":{"$error":"#DIV/0!"}},null,null,50,{"$f":"100*COUNT($BS$16:BS155)/$BS$382","v":{"$error":"#DIV/0!"}}]
["2016-05-20",null,null,null,null,null,null,null,null,null,null,null,null,null,null,null,null,null,null,null,null,null,null,null,null,null,null,null,null,null,null,null,null,null,null,null,null,null,null,null,null,null,null,null,null,null,null,null,null,null,null,null,null,141,0,null,1,0,null,0.1,null,null,null,110,{"$f":"100*COUNT($BK$16:BK156)/$BK$382","v":{"$error":"#DIV/0!"}},null,null,2,{"$f":"100*COUNT($BO$16:BO156)/$BO$382","v":{"$error":"#DIV/0!"}},null,null,110,{"$f":"100*COUNT($BS$16:BS156)/$BS$382","v":{"$error":"#DIV/0!"}}]
["2016-05-21",null,null,null,null,null,null,null,null,null,null,null,null,null,null,null,null,null,null,null,null,null,null,null,null,null,null,null,null,null,null,null,null,null,null,null,null,null,null,null,null,null,null,null,null,null,null,null,null,null,null,null,null,142,0,null,1,0,null,0.1,null,null,null,45,{"$f":"100*COUNT($BK$16:BK157)/$BK$382","v":{"$error":"#DIV/0!"}},null,null,194,{"$f":"100*COUNT($BO$16:BO157)/$BO$382","v":{"$error":"#DIV/0!"}},null,null,3,{"$f":"100*COUNT($BS$16:BS157)/$BS$382","v":{"$error":"#DIV/0!"}}]
["2016-05-22",null,null,null,null,null,null,null,null,null,null,null,null,null,null,null,null,null,null,null,null,null,null,null,null,null,null,null,null,null,null,null,null,null,null,null,null,null,null,null,null,null,null,null,null,null,null,null,null,null,null,null,null,143,0,null,1,0,null,0.1,null,null,null,249,{"$f":"100*COUNT($BK$16:BK158)/$BK$382","v":{"$error":"#DIV/0!"}},null,null,361,{"$f":"100*COUNT($BO$16:BO158)/$BO$382","v":{"$error":"#DIV/0!"}},null,null,290,{"$f":"100*COUNT($BS$16:BS158)/$BS$382","v":{"$error":"#DIV/0!"}}]
["2016-05-23",null,null,null,null,null,null,null,null,null,null,null,null,null,null,null,null,null,null,null,null,null,null,null,null,null,null,null,null,null,null,null,null,null,null,null,null,null,null,null,null,null,null,null,null,null,null,null,null,null,null,null,null,144,0,null,1,0,null,0.1,null,null,null,360,{"$f":"100*COUNT($BK$16:BK159)/$BK$382","v":{"$error":"#DIV/0!"}},null,null,284,{"$f":"100*COUNT($BO$16:BO159)/$BO$382","v":{"$error":"#DIV/0!"}},null,null,91,{"$f":"100*COUNT($BS$16:BS159)/$BS$382","v":{"$error":"#DIV/0!"}}]
["2016-05-24",null,null,null,null,null,null,null,null,null,null,null,null,null,null,null,null,null,null,null,null,null,null,null,null,null,null,null,null,null,null,null,null,null,null,null,null,null,null,null,null,null,null,null,null,null,null,null,null,null,null,null,null,145,0,null,1,0,null,0.1,null,null,null,38,{"$f":"100*COUNT($BK$16:BK160)/$BK$382","v":{"$error":"#DIV/0!"}},null,null,101,{"$f":"100*COUNT($BO$16:BO160)/$BO$382","v":{"$error":"#DIV/0!"}},null,null,62,{"$f":"100*COUNT($BS$16:BS160)/$BS$382","v":{"$error":"#DIV/0!"}}]
["2016-05-25",null,null,null,null,null,null,null,null,null,null,null,null,null,null,null,null,null,null,null,null,null,null,null,null,null,null,null,null,null,null,null,null,null,null,null,null,null,null,null,null,null,null,null,null,null,null,null,null,null,null,null,null,146,0,null,1,0,null,0.1,null,null,null,349,{"$f":"100*COUNT($BK$16:BK161)/$BK$382","v":{"$error":"#DIV/0!"}},null,null,88,{"$f":"100*COUNT($BO$16:BO161)/$BO$382","v":{"$error":"#DIV/0!"}},null,null,327,{"$f":"100*COUNT($BS$16:BS161)/$BS$382","v":{"$error":"#DIV/0!"}}]
["2016-05-26",null,null,null,null,null,null,null,null,null,null,null,null,null,null,null,null,null,null,null,null,null,null,null,null,null,null,null,null,null,null,null,null,null,null,null,null,null,null,null,null,null,null,null,null,null,null,null,null,null,null,null,null,147,0,null,1,0,null,0.1,null,null,null,242,{"$f":"100*COUNT($BK$16:BK162)/$BK$382","v":{"$error":"#DIV/0!"}},null,null,128,{"$f":"100*COUNT($BO$16:BO162)/$BO$382","v":{"$error":"#DIV/0!"}},null,null,63,{"$f":"100*COUNT($BS$16:BS162)/$BS$382","v":{"$error":"#DIV/0!"}}]
["2016-05-27",null,null,null,null,null,null,null,null,null,null,null,null,null,null,null,null,null,null,null,null,null,null,null,null,null,null,null,null,null,null,null,null,null,null,null,null,null,null,null,null,null,null,null,null,null,null,null,null,null,null,null,null,148,0,null,1,0,null,0.1,null,null,null,345,{"$f":"100*COUNT($BK$16:BK163)/$BK$382","v":{"$error":"#DIV/0!"}},null,null,216,{"$f":"100*COUNT($BO$16:BO163)/$BO$382","v":{"$error":"#DIV/0!"}},null,null,279,{"$f":"100*COUNT($BS$16:BS163)/$BS$382","v":{"$error":"#DIV/0!"}}]
["2016-05-28",null,null,null,null,null,null,null,null,null,null,null,null,null,null,null,null,null,null,null,null,null,null,null,null,null,null,null,null,null,null,null,null,null,null,null,null,null,null,null,null,null,null,null,null,null,null,null,null,null,null,null,null,149,0,null,1,0,null,0.1,null,null,null,78,{"$f":"100*COUNT($BK$16:BK164)/$BK$382","v":{"$error":"#DIV/0!"}},null,null,141,{"$f":"100*COUNT($BO$16:BO164)/$BO$382","v":{"$error":"#DIV/0!"}},null,null,159,{"$f":"100*COUNT($BS$16:BS164)/$BS$382","v":{"$error":"#DIV/0!"}}]
["2016-05-29",null,null,null,null,null,null,null,null,null,null,null,null,null,null,null,null,null,null,null,null,null,null,null,null,null,null,null,null,null,null,null,null,null,null,null,null,null,null,null,null,null,null,null,null,null,null,null,null,null,null,null,null,150,0,null,1,0,null,0.1,null,null,null,59,{"$f":"100*COUNT($BK$16:BK165)/$BK$382","v":{"$error":"#DIV/0!"}},null,null,19,{"$f":"100*COUNT($BO$16:BO165)/$BO$382","v":{"$error":"#DIV/0!"}},null,null,266,{"$f":"100*COUNT($BS$16:BS165)/$BS$382","v":{"$error":"#DIV/0!"}}]
["2016-05-30",null,null,null,null,null,null,null,null,null,null,null,null,null,null,null,null,null,null,null,null,null,null,null,null,null,null,null,null,null,null,null,null,null,null,null,null,null,null,null,null,null,null,null,null,null,null,null,null,null,null,null,null,151,0,null,1,0,null,0.1,null,null,null,334,{"$f":"100*COUNT($BK$16:BK166)/$BK$382","v":{"$error":"#DIV/0!"}},null,null,178,{"$f":"100*COUNT($BO$16:BO166)/$BO$382","v":{"$error":"#DIV/0!"}},null,null,6,{"$f":"100*COUNT($BS$16:BS166)/$BS$382","v":{"$error":"#DIV/0!"}}]
["2016-05-31",null,null,null,null,null,null,null,null,null,null,null,null,null,null,null,null,null,null,null,null,null,null,null,null,null,null,null,null,null,null,null,null,null,null,null,null,null,null,null,null,null,null,null,null,null,null,null,null,null,null,null,null,152,0,null,1,0,null,0.1,null,null,null,68,{"$f":"100*COUNT($BK$16:BK167)/$BK$382","v":{"$error":"#DIV/0!"}},null,null,202,{"$f":"100*COUNT($BO$16:BO167)/$BO$382","v":{"$error":"#DIV/0!"}},null,null,201,{"$f":"100*COUNT($BS$16:BS167)/$BS$382","v":{"$error":"#DIV/0!"}}]
["2016-06-01",null,null,null,null,null,null,null,null,null,null,null,null,null,null,null,null,null,null,null,null,null,null,null,null,null,null,null,null,null,null,null,null,null,null,null,null,null,null,null,null,null,null,null,null,null,null,null,null,null,null,null,null,153,0,null,1,0,null,0.1,null,null,null,87,{"$f":"100*COUNT($BK$16:BK168)/$BK$382","v":{"$error":"#DIV/0!"}},null,null,127,{"$f":"100*COUNT($BO$16:BO168)/$BO$382","v":{"$error":"#DIV/0!"}},null,null,356,{"$f":"100*COUNT($BS$16:BS168)/$BS$382","v":{"$error":"#DIV/0!"}}]
["2016-06-02",null,null,null,null,null,null,null,null,null,null,null,null,null,null,null,null,null,null,null,null,null,null,null,null,null,null,null,null,null,null,null,null,null,null,null,null,null,null,null,null,null,null,null,null,null,null,null,null,null,null,null,null,154,0,null,1,0,null,0.1,null,null,null,10,{"$f":"100*COUNT($BK$16:BK169)/$BK$382","v":{"$error":"#DIV/0!"}},null,null,315,{"$f":"100*COUNT($BO$16:BO169)/$BO$382","v":{"$error":"#DIV/0!"}},null,null,343,{"$f":"100*COUNT($BS$16:BS169)/$BS$382","v":{"$error":"#DIV/0!"}}]
["2016-06-03",null,null,null,null,null,null,null,null,null,null,null,null,null,null,null,null,null,null,null,null,null,null,null,null,null,null,null,null,null,null,null,null,null,null,null,null,null,null,null,null,null,null,null,null,null,null,null,null,null,null,null,null,155,0,null,1,0,null,0.1,null,null,null,344,{"$f":"100*COUNT($BK$16:BK170)/$BK$382","v":{"$error":"#DIV/0!"}},null,null,275,{"$f":"100*COUNT($BO$16:BO170)/$BO$382","v":{"$error":"#DIV/0!"}},null,null,39,{"$f":"100*COUNT($BS$16:BS170)/$BS$382","v":{"$error":"#DIV/0!"}}]
["2016-06-04",null,null,null,null,null,null,null,null,null,null,null,null,null,null,null,null,null,null,null,null,null,null,null,null,null,null,null,null,null,null,null,null,null,null,null,null,null,null,null,null,null,null,null,null,null,null,null,null,null,null,null,null,156,0,null,1,0,null,0.1,null,null,null,183,{"$f":"100*COUNT($BK$16:BK171)/$BK$382","v":{"$error":"#DIV/0!"}},null,null,174,{"$f":"100*COUNT($BO$16:BO171)/$BO$382","v":{"$error":"#DIV/0!"}},null,null,169,{"$f":"100*COUNT($BS$16:BS171)/$BS$382","v":{"$error":"#DIV/0!"}}]
["2016-06-05",null,null,null,null,null,null,null,null,null,null,null,null,null,null,null,null,null,null,null,null,null,null,null,null,null,null,null,null,null,null,null,null,null,null,null,null,null,null,null,null,null,null,null,null,null,null,null,null,null,null,null,null,157,0,null,1,0,null,0.1,null,null,null,206,{"$f":"100*COUNT($BK$16:BK172)/$BK$382","v":{"$error":"#DIV/0!"}},null,null,135,{"$f":"100*COUNT($BO$16:BO172)/$BO$382","v":{"$error":"#DIV/0!"}},null,null,241,{"$f":"100*COUNT($BS$16:BS172)/$BS$382","v":{"$error":"#DIV/0!"}}]
["2016-06-06",null,null,null,null,null,null,null,null,null,null,null,null,null,null,null,null,null,null,null,null,null,null,null,null,null,null,null,null,null,null,null,null,null,null,null,null,null,null,null,null,null,null,null,null,null,null,null,null,null,null,null,null,158,0,null,1,0,null,0.1,null,null,null,29,{"$f":"100*COUNT($BK$16:BK173)/$BK$382","v":{"$error":"#DIV/0!"}},null,null,28,{"$f":"100*COUNT($BO$16:BO173)/$BO$382","v":{"$error":"#DIV/0!"}},null,null,92,{"$f":"100*COUNT($BS$16:BS173)/$BS$382","v":{"$error":"#DIV/0!"}}]
["2016-06-07",null,null,null,null,null,null,null,null,null,null,null,null,null,null,null,null,null,null,null,null,null,null,null,null,null,null,null,null,null,null,null,null,null,null,null,null,null,null,null,null,null,null,null,null,null,null,null,null,null,null,null,null,159,0,null,1,0,null,0.1,null,null,null,131,{"$f":"100*COUNT($BK$16:BK174)/$BK$382","v":{"$error":"#DIV/0!"}},null,null,199,{"$f":"100*COUNT($BO$16:BO174)/$BO$382","v":{"$error":"#DIV/0!"}},null,null,133,{"$f":"100*COUNT($BS$16:BS174)/$BS$382","v":{"$error":"#DIV/0!"}}]
["2016-06-08",null,null,null,null,null,null,null,null,null,null,null,null,null,null,null,null,null,null,null,null,null,null,null,null,null,null,null,null,null,null,null,null,null,null,null,null,null,null,null,null,null,null,null,null,null,null,null,null,null,null,null,null,160,0,null,1,0,null,0.1,null,null,null,136,{"$f":"100*COUNT($BK$16:BK175)/$BK$382","v":{"$error":"#DIV/0!"}},null,null,208,{"$f":"100*COUNT($BO$16:BO175)/$BO$382","v":{"$error":"#DIV/0!"}},null,null,184,{"$f":"100*COUNT($BS$16:BS175)/$BS$382","v":{"$error":"#DIV/0!"}}]
["2016-06-09",null,null,null,null,null,null,null,null,null,null,null,null,null,null,null,null,null,null,null,null,null,null,null,null,null,null,null,null,null,null,null,null,null,null,null,null,null,null,null,null,null,null,null,null,null,null,null,null,null,null,null,null,161,0,null,1,0,null,0.1,null,null,null,144,{"$f":"100*COUNT($BK$16:BK176)/$BK$382","v":{"$error":"#DIV/0!"}},null,null,162,{"$f":"100*COUNT($BO$16:BO176)/$BO$382","v":{"$error":"#DIV/0!"}},null,null,332,{"$f":"100*COUNT($BS$16:BS176)/$BS$382","v":{"$error":"#DIV/0!"}}]
["2016-06-10",null,null,null,null,null,null,null,null,null,null,null,null,null,null,null,null,null,null,null,null,null,null,null,null,null,null,null,null,null,null,null,null,null,null,null,null,null,null,null,null,null,null,null,null,null,null,null,null,null,null,null,null,162,0,null,1,0,null,0.1,null,null,null,160,{"$f":"100*COUNT($BK$16:BK177)/$BK$382","v":{"$error":"#DIV/0!"}},null,null,219,{"$f":"100*COUNT($BO$16:BO177)/$BO$382","v":{"$error":"#DIV/0!"}},null,null,33,{"$f":"100*COUNT($BS$16:BS177)/$BS$382","v":{"$error":"#DIV/0!"}}]
["2016-06-11",null,null,null,null,null,null,null,null,null,null,null,null,null,null,null,null,null,null,null,null,null,null,null,null,null,null,null,null,null,null,null,null,null,null,null,null,null,null,null,null,null,null,null,null,null,null,null,null,null,null,null,null,163,0,null,1,0,null,0.1,null,null,null,317,{"$f":"100*COUNT($BK$16:BK178)/$BK$382","v":{"$error":"#DIV/0!"}},null,null,344,{"$f":"100*COUNT($BO$16:BO178)/$BO$382","v":{"$error":"#DIV/0!"}},null,null,85,{"$f":"100*COUNT($BS$16:BS178)/$BS$382","v":{"$error":"#DIV/0!"}}]
["2016-06-12",null,null,null,null,null,null,null,null,null,null,null,null,null,null,null,null,null,null,null,null,null,null,null,null,null,null,null,null,null,null,null,null,null,null,null,null,null,null,null,null,null,null,null,null,null,null,null,null,null,null,null,null,164,0,null,1,0,null,0.1,null,null,null,208,{"$f":"100*COUNT($BK$16:BK179)/$BK$382","v":{"$error":"#DIV/0!"}},null,null,53,{"$f":"100*COUNT($BO$16:BO179)/$BO$382","v":{"$error":"#DIV/0!"}},null,null,202,{"$f":"100*COUNT($BS$16:BS179)/$BS$382","v":{"$error":"#DIV/0!"}}]
["2016-06-13",null,null,null,null,null,null,null,null,null,null,null,null,null,null,null,null,null,null,null,null,null,null,null,null,null,null,null,null,null,null,null,null,null,null,null,null,null,null,null,null,null,null,null,null,null,null,null,null,null,null,null,null,165,0,null,1,0,null,0.1,null,null,null,141,{"$f":"100*COUNT($BK$16:BK180)/$BK$382","v":{"$error":"#DIV/0!"}},null,null,229,{"$f":"100*COUNT($BO$16:BO180)/$BO$382","v":{"$error":"#DIV/0!"}},null,null,199,{"$f":"100*COUNT($BS$16:BS180)/$BS$382","v":{"$error":"#DIV/0!"}}]
["2016-06-14",null,null,null,null,null,null,null,null,null,null,null,null,null,null,null,null,null,null,null,null,null,null,null,null,null,null,null,null,null,null,null,null,null,null,null,null,null,null,null,null,null,null,null,null,null,null,null,null,null,null,null,null,166,0,null,1,0,null,0.1,null,null,null,251,{"$f":"100*COUNT($BK$16:BK181)/$BK$382","v":{"$error":"#DIV/0!"}},null,null,310,{"$f":"100*COUNT($BO$16:BO181)/$BO$382","v":{"$error":"#DIV/0!"}},null,null,8,{"$f":"100*COUNT($BS$16:BS181)/$BS$382","v":{"$error":"#DIV/0!"}}]
["2016-06-15",null,null,null,null,null,null,null,null,null,null,null,null,null,null,null,null,null,null,null,null,null,null,null,null,null,null,null,null,null,null,null,null,null,null,null,null,null,null,null,null,null,null,null,null,null,null,null,null,null,null,null,null,167,0,null,1,0,null,0.1,null,null,null,338,{"$f":"100*COUNT($BK$16:BK182)/$BK$382","v":{"$error":"#DIV/0!"}},null,null,323,{"$f":"100*COUNT($BO$16:BO182)/$BO$382","v":{"$error":"#DIV/0!"}},null,null,227,{"$f":"100*COUNT($BS$16:BS182)/$BS$382","v":{"$error":"#DIV/0!"}}]
["2016-06-16",null,null,null,null,null,null,null,null,null,null,null,null,null,null,null,null,null,null,null,null,null,null,null,null,null,null,null,null,null,null,null,null,null,null,null,null,null,null,null,null,null,null,null,null,null,null,null,null,null,null,null,null,168,0,null,1,0,null,0.1,null,null,null,60,{"$f":"100*COUNT($BK$16:BK183)/$BK$382","v":{"$error":"#DIV/0!"}},null,null,311,{"$f":"100*COUNT($BO$16:BO183)/$BO$382","v":{"$error":"#DIV/0!"}},null,null,14,{"$f":"100*COUNT($BS$16:BS183)/$BS$382","v":{"$error":"#DIV/0!"}}]
["2016-06-17",null,null,null,null,null,null,null,null,null,null,null,null,null,null,null,null,null,null,null,null,null,null,null,null,null,null,null,null,null,null,null,null,null,null,null,null,null,null,null,null,null,null,null,null,null,null,null,null,null,null,null,null,169,0,null,1,0,null,0.1,null,null,null,339,{"$f":"100*COUNT($BK$16:BK184)/$BK$382","v":{"$error":"#DIV/0!"}},null,null,8,{"$f":"100*COUNT($BO$16:BO184)/$BO$382","v":{"$error":"#DIV/0!"}},null,null,270,{"$f":"100*COUNT($BS$16:BS184)/$BS$382","v":{"$error":"#DIV/0!"}}]
["2016-06-18",null,null,null,null,null,null,null,null,null,null,null,null,null,null,null,null,null,null,null,null,null,null,null,null,null,null,null,null,null,null,null,null,null,null,null,null,null,null,null,null,null,null,null,null,null,null,null,null,null,null,null,null,170,0,null,1,0,null,0.1,null,null,null,166,{"$f":"100*COUNT($BK$16:BK185)/$BK$382","v":{"$error":"#DIV/0!"}},null,null,144,{"$f":"100*COUNT($BO$16:BO185)/$BO$382","v":{"$error":"#DIV/0!"}},null,null,75,{"$f":"100*COUNT($BS$16:BS185)/$BS$382","v":{"$error":"#DIV/0!"}}]
["2016-06-19",null,null,null,null,null,null,null,null,null,null,null,null,null,null,null,null,null,null,null,null,null,null,null,null,null,null,null,null,null,null,null,null,null,null,null,null,null,null,null,null,null,null,null,null,null,null,null,null,null,null,null,null,171,0,null,1,0,null,0.1,null,null,null,51,{"$f":"100*COUNT($BK$16:BK186)/$BK$382","v":{"$error":"#DIV/0!"}},null,null,181,{"$f":"100*COUNT($BO$16:BO186)/$BO$382","v":{"$error":"#DIV/0!"}},null,null,342,{"$f":"100*COUNT($BS$16:BS186)/$BS$382","v":{"$error":"#DIV/0!"}}]
["2016-06-20",null,null,null,null,null,null,null,null,null,null,null,null,null,null,null,null,null,null,null,null,null,null,null,null,null,null,null,null,null,null,null,null,null,null,null,null,null,null,null,null,null,null,null,null,null,null,null,null,null,null,null,null,172,0,null,1,0,null,0.1,null,null,null,177,{"$f":"100*COUNT($BK$16:BK187)/$BK$382","v":{"$error":"#DIV/0!"}},null,null,249,{"$f":"100*COUNT($BO$16:BO187)/$BO$382","v":{"$error":"#DIV/0!"}},null,null,288,{"$f":"100*COUNT($BS$16:BS187)/$BS$382","v":{"$error":"#DIV/0!"}}]
["2016-06-21",null,null,null,null,null,null,null,null,null,null,null,null,null,null,null,null,null,null,null,null,null,null,null,null,null,null,null,null,null,null,null,null,null,null,null,null,null,null,null,null,null,null,null,null,null,null,null,null,null,null,null,null,173,0,null,1,0,null,0.1,null,null,null,328,{"$f":"100*COUNT($BK$16:BK188)/$BK$382","v":{"$error":"#DIV/0!"}},null,null,320,{"$f":"100*COUNT($BO$16:BO188)/$BO$382","v":{"$error":"#DIV/0!"}},null,null,113,{"$f":"100*COUNT($BS$16:BS188)/$BS$382","v":{"$error":"#DIV/0!"}}]
["2016-06-22",null,null,null,null,null,null,null,null,null,null,null,null,null,null,null,null,null,null,null,null,null,null,null,null,null,null,null,null,null,null,null,null,null,null,null,null,null,null,null,null,null,null,null,null,null,null,null,null,null,null,null,null,174,0,null,1,0,null,0.1,null,null,null,272,{"$f":"100*COUNT($BK$16:BK189)/$BK$382","v":{"$error":"#DIV/0!"}},null,null,40,{"$f":"100*COUNT($BO$16:BO189)/$BO$382","v":{"$error":"#DIV/0!"}},null,null,65,{"$f":"100*COUNT($BS$16:BS189)/$BS$382","v":{"$error":"#DIV/0!"}}]
["2016-06-23",null,null,null,null,null,null,null,null,null,null,null,null,null,null,null,null,null,null,null,null,null,null,null,null,null,null,null,null,null,null,null,null,null,null,null,null,null,null,null,null,null,null,null,null,null,null,null,null,null,null,null,null,175,0,null,1,0,null,0.1,null,null,null,286,{"$f":"100*COUNT($BK$16:BK190)/$BK$382","v":{"$error":"#DIV/0!"}},null,null,195,{"$f":"100*COUNT($BO$16:BO190)/$BO$382","v":{"$error":"#DIV/0!"}},null,null,303,{"$f":"100*COUNT($BS$16:BS190)/$BS$382","v":{"$error":"#DIV/0!"}}]
["2016-06-24",null,null,null,null,null,null,null,null,null,null,null,null,null,null,null,null,null,null,null,null,null,null,null,null,null,null,null,null,null,null,null,null,null,null,null,null,null,null,null,null,null,null,null,null,null,null,null,null,null,null,null,null,176,0,null,1,0,null,0.1,null,null,null,343,{"$f":"100*COUNT($BK$16:BK191)/$BK$382","v":{"$error":"#DIV/0!"}},null,null,193,{"$f":"100*COUNT($BO$16:BO191)/$BO$382","v":{"$error":"#DIV/0!"}},null,null,313,{"$f":"100*COUNT($BS$16:BS191)/$BS$382","v":{"$error":"#DIV/0!"}}]
["2016-06-25",null,null,null,null,null,null,null,null,null,null,null,null,null,null,null,null,null,null,null,null,null,null,null,null,null,null,null,null,null,null,null,null,null,null,null,null,null,null,null,null,null,null,null,null,null,null,null,null,null,null,null,null,177,0,null,1,0,null,0.1,null,null,null,95,{"$f":"100*COUNT($BK$16:BK192)/$BK$382","v":{"$error":"#DIV/0!"}},null,null,343,{"$f":"100*COUNT($BO$16:BO192)/$BO$382","v":{"$error":"#DIV/0!"}},null,null,264,{"$f":"100*COUNT($BS$16:BS192)/$BS$382","v":{"$error":"#DIV/0!"}}]
["2016-06-26",null,null,null,null,null,null,null,null,null,null,null,null,null,null,null,null,null,null,null,null,null,null,null,null,null,null,null,null,null,null,null,null,null,null,null,null,null,null,null,null,null,null,null,null,null,null,null,null,null,null,null,null,178,0,null,1,0,null,0.1,null,null,null,276,{"$f":"100*COUNT($BK$16:BK193)/$BK$382","v":{"$error":"#DIV/0!"}},null,null,31,{"$f":"100*COUNT($BO$16:BO193)/$BO$382","v":{"$error":"#DIV/0!"}},null,null,189,{"$f":"100*COUNT($BS$16:BS193)/$BS$382","v":{"$error":"#DIV/0!"}}]
["2016-06-27",null,null,null,null,null,null,null,null,null,null,null,null,null,null,null,null,null,null,null,null,null,null,null,null,null,null,null,null,null,null,null,null,null,null,null,null,null,null,null,null,null,null,null,null,null,null,null,null,null,null,null,null,179,0,null,1,0,null,0.1,null,null,null,90,{"$f":"100*COUNT($BK$16:BK194)/$BK$382","v":{"$error":"#DIV/0!"}},null,null,86,{"$f":"100*COUNT($BO$16:BO194)/$BO$382","v":{"$error":"#DIV/0!"}},null,null,97,{"$f":"100*COUNT($BS$16:BS194)/$BS$382","v":{"$error":"#DIV/0!"}}]
["2016-06-28",null,null,null,null,null,null,null,null,null,null,null,null,null,null,null,null,null,null,null,null,null,null,null,null,null,null,null,null,null,null,null,null,null,null,null,null,null,null,null,null,null,null,null,null,null,null,null,null,null,null,null,null,180,0,null,1,0,null,0.1,null,null,null,299,{"$f":"100*COUNT($BK$16:BK195)/$BK$382","v":{"$error":"#DIV/0!"}},null,null,348,{"$f":"100*COUNT($BO$16:BO195)/$BO$382","v":{"$error":"#DIV/0!"}},null,null,176,{"$f":"100*COUNT($BS$16:BS195)/$BS$382","v":{"$error":"#DIV/0!"}}]
["2016-06-29",null,null,null,null,null,null,null,null,null,null,null,null,null,null,null,null,null,null,null,null,null,null,null,null,null,null,null,null,null,null,null,null,null,null,null,null,null,null,null,null,null,null,null,null,null,null,null,null,null,null,null,null,181,0,null,1,0,null,0.1,null,null,null,245,{"$f":"100*COUNT($BK$16:BK196)/$BK$382","v":{"$error":"#DIV/0!"}},null,null,147,{"$f":"100*COUNT($BO$16:BO196)/$BO$382","v":{"$error":"#DIV/0!"}},null,null,180,{"$f":"100*COUNT($BS$16:BS196)/$BS$382","v":{"$error":"#DIV/0!"}}]
["2016-06-30",null,null,null,null,null,null,null,null,null,null,null,null,null,null,null,null,null,null,null,null,null,null,null,null,null,null,null,null,null,null,null,null,null,null,null,null,null,null,null,null,null,null,null,null,null,null,null,null,null,null,null,null,182,0,null,1,0,null,0.1,null,null,null,303,{"$f":"100*COUNT($BK$16:BK197)/$BK$382","v":{"$error":"#DIV/0!"}},null,null,18,{"$f":"100*COUNT($BO$16:BO197)/$BO$382","v":{"$error":"#DIV/0!"}},null,null,299,{"$f":"100*COUNT($BS$16:BS197)/$BS$382","v":{"$error":"#DIV/0!"}}]
["2016-07-01",null,null,null,null,null,null,null,null,null,null,null,null,null,null,null,null,null,null,null,null,null,null,null,null,null,null,null,null,null,null,null,null,null,null,null,null,null,null,null,null,null,null,null,null,null,null,null,null,null,null,null,null,183,0,null,1,0,null,0.1,null,null,null,74,{"$f":"100*COUNT($BK$16:BK198)/$BK$382","v":{"$error":"#DIV/0!"}},null,null,212,{"$f":"100*COUNT($BO$16:BO198)/$BO$382","v":{"$error":"#DIV/0!"}},null,null,61,{"$f":"100*COUNT($BS$16:BS198)/$BS$382","v":{"$error":"#DIV/0!"}}]
["2016-07-02",null,null,null,null,null,null,null,null,null,null,null,null,null,null,null,null,null,null,null,null,null,null,null,null,null,null,null,null,null,null,null,null,null,null,null,null,null,null,null,null,null,null,null,null,null,null,null,null,null,null,null,null,184,0,null,1,0,null,0.1,null,null,null,56,{"$f":"100*COUNT($BK$16:BK199)/$BK$382","v":{"$error":"#DIV/0!"}},null,null,336,{"$f":"100*COUNT($BO$16:BO199)/$BO$382","v":{"$error":"#DIV/0!"}},null,null,352,{"$f":"100*COUNT($BS$16:BS199)/$BS$382","v":{"$error":"#DIV/0!"}}]
["2016-07-03",null,null,null,null,null,null,null,null,null,null,null,null,null,null,null,null,null,null,null,null,null,null,null,null,null,null,null,null,null,null,null,null,null,null,null,null,null,null,null,null,null,null,null,null,null,null,null,null,null,null,null,null,185,0,null,1,0,null,0.1,null,null,null,157,{"$f":"100*COUNT($BK$16:BK200)/$BK$382","v":{"$error":"#DIV/0!"}},null,null,84,{"$f":"100*COUNT($BO$16:BO200)/$BO$382","v":{"$error":"#DIV/0!"}},null,null,80,{"$f":"100*COUNT($BS$16:BS200)/$BS$382","v":{"$error":"#DIV/0!"}}]
["2016-07-04",null,null,null,null,null,null,null,null,null,null,null,null,null,null,null,null,null,null,null,null,null,null,null,null,null,null,null,null,null,null,null,null,null,null,null,null,null,null,null,null,null,null,null,null,null,null,null,null,null,null,null,null,186,0,null,1,0,null,0.1,null,null,null,196,{"$f":"100*COUNT($BK$16:BK201)/$BK$382","v":{"$error":"#DIV/0!"}},null,null,321,{"$f":"100*COUNT($BO$16:BO201)/$BO$382","v":{"$error":"#DIV/0!"}},null,null,185,{"$f":"100*COUNT($BS$16:BS201)/$BS$382","v":{"$error":"#DIV/0!"}}]
["2016-07-05",null,null,null,null,null,null,null,null,null,null,null,null,null,null,null,null,null,null,null,null,null,null,null,null,null,null,null,null,null,null,null,null,null,null,null,null,null,null,null,null,null,null,null,null,null,null,null,null,null,null,null,null,187,0,null,1,0,null,0.1,null,null,null,346,{"$f":"100*COUNT($BK$16:BK202)/$BK$382","v":{"$error":"#DIV/0!"}},null,null,293,{"$f":"100*COUNT($BO$16:BO202)/$BO$382","v":{"$error":"#DIV/0!"}},null,null,78,{"$f":"100*COUNT($BS$16:BS202)/$BS$382","v":{"$error":"#DIV/0!"}}]
["2016-07-06",null,null,null,null,null,null,null,null,null,null,null,null,null,null,null,null,null,null,null,null,null,null,null,null,null,null,null,null,null,null,null,null,null,null,null,null,null,null,null,null,null,null,null,null,null,null,null,null,null,null,null,null,188,0,null,1,0,null,0.1,null,null,null,295,{"$f":"100*COUNT($BK$16:BK203)/$BK$382","v":{"$error":"#DIV/0!"}},null,null,60,{"$f":"100*COUNT($BO$16:BO203)/$BO$382","v":{"$error":"#DIV/0!"}},null,null,234,{"$f":"100*COUNT($BS$16:BS203)/$BS$382","v":{"$error":"#DIV/0!"}}]
["2016-07-07",null,null,null,null,null,null,null,null,null,null,null,null,null,null,null,null,null,null,null,null,null,null,null,null,null,null,null,null,null,null,null,null,null,null,null,null,null,null,null,null,null,null,null,null,null,null,null,null,null,null,null,null,189,0,null,1,0,null,0.1,null,null,null,119,{"$f":"100*COUNT($BK$16:BK204)/$BK$382","v":{"$error":"#DIV/0!"}},null,null,318,{"$f":"100*COUNT($BO$16:BO204)/$BO$382","v":{"$error":"#DIV/0!"}},null,null,289,{"$f":"100*COUNT($BS$16:BS204)/$BS$382","v":{"$error":"#DIV/0!"}}]
["2016-07-08",null,null,null,null,null,null,null,null,null,null,null,null,null,null,null,null,null,null,null,null,null,null,null,null,null,null,null,null,null,null,null,null,null,null,null,null,null,null,null,null,null,null,null,null,null,null,null,null,null,null,null,null,190,0,null,1,0,null,0.1,null,null,null,48,{"$f":"100*COUNT($BK$16:BK205)/$BK$382","v":{"$error":"#DIV/0!"}},null,null,250,{"$f":"100*COUNT($BO$16:BO205)/$BO$382","v":{"$error":"#DIV/0!"}},null,null,217,{"$f":"100*COUNT($BS$16:BS205)/$BS$382","v":{"$error":"#DIV/0!"}}]
["2016-07-09",null,null,null,null,null,null,null,null,null,null,null,null,null,null,null,null,null,null,null,null,null,null,null,null,null,null,null,null,null,null,null,null,null,null,null,null,null,null,null,null,null,null,null,null,null,null,null,null,null,null,null,null,191,0,null,1,0,null,0.1,null,null,null,49,{"$f":"100*COUNT($BK$16:BK206)/$BK$382","v":{"$error":"#DIV/0!"}},null,null,116,{"$f":"100*COUNT($BO$16:BO206)/$BO$382","v":{"$error":"#DIV/0!"}},null,null,120,{"$f":"100*COUNT($BS$16:BS206)/$BS$382","v":{"$error":"#DIV/0!"}}]
["2016-07-10",null,null,null,null,null,null,null,null,null,null,null,null,null,null,null,null,null,null,null,null,null,null,null,null,null,null,null,null,null,null,null,null,null,null,null,null,null,null,null,null,null,null,null,null,null,null,null,null,null,null,null,null,192,0,null,1,0,null,0.1,null,null,null,71,{"$f":"100*COUNT($BK$16:BK207)/$BK$382","v":{"$error":"#DIV/0!"}},null,null,183,{"$f":"100*COUNT($BO$16:BO207)/$BO$382","v":{"$error":"#DIV/0!"}},null,null,325,{"$f":"100*COUNT($BS$16:BS207)/$BS$382","v":{"$error":"#DIV/0!"}}]
["2016-07-11",null,null,null,null,null,null,null,null,null,null,null,null,null,null,null,null,null,null,null,null,null,null,null,null,null,null,null,null,null,null,null,null,null,null,null,null,null,null,null,null,null,null,null,null,null,null,null,null,null,null,null,null,193,0,null,{"$f":"$G$5","v":1},0,null,{"$f":"$G$6","v":0.1},null,null,null,358,{"$f":"100*COUNT($BK$16:BK208)/$BK$382","v":{"$error":"#DIV/0!"}},null,null,137,{"$f":"100*COUNT($BO$16:BO208)/$BO$382","v":{"$error":"#DIV/0!"}},null,null,86,{"$f":"100*COUNT($BS$16:BS208)/$BS$382","v":{"$error":"#DIV/0!"}}]
[{"$f":"A208+1","v":"2016-07-12"},null,null,null,null,null,null,null,null,null,null,null,null,null,null,null,null,null,null,null,null,null,null,null,null,null,null,null,null,null,null,null,null,null,null,null,null,null,null,null,null,null,null,null,null,null,null,null,null,null,null,null,null,{"$f":"BB208+1","v":194},{"$f":"MAX(C209:J209)","v":0},null,1,{"$f":"MAX(K209:AT209)","v":0},null,0.1,null,null,null,313,{"$f":"100*COUNT($BK$16:BK209)/$BK$382","v":{"$error":"#DIV/0!"}},null,null,189,{"$f":"100*COUNT($BO$16:BO209)/$BO$382","v":{"$error":"#DIV/0!"}},null,null,123,{"$f":"100*COUNT($BS$16:BS209)/$BS$382","v":{"$error":"#DIV/0!"}}]
["2016-07-13",null,null,null,null,null,null,null,null,null,null,null,null,null,null,null,null,null,null,null,null,null,null,null,null,null,null,null,null,null,null,null,null,null,null,null,null,null,null,null,null,null,null,null,null,null,null,null,null,null,null,null,null,195,0,null,1,0,null,0.1,null,null,null,121,{"$f":"100*COUNT($BK$16:BK210)/$BK$382","v":{"$error":"#DIV/0!"}},null,null,294,{"$f":"100*COUNT($BO$16:BO210)/$BO$382","v":{"$error":"#DIV/0!"}},null,null,276,{"$f":"100*COUNT($BS$16:BS210)/$BS$382","v":{"$error":"#DIV/0!"}}]
["2016-07-14",null,null,null,null,null,null,null,null,null,null,null,null,null,null,null,null,null,null,null,null,null,null,null,null,null,null,null,null,null,null,null,null,null,null,null,null,null,null,null,null,null,null,null,null,null,null,null,null,null,null,null,null,196,0,null,1,0,null,0.1,null,null,null,27,{"$f":"100*COUNT($BK$16:BK211)/$BK$382","v":{"$error":"#DIV/0!"}},null,null,47,{"$f":"100*COUNT($BO$16:BO211)/$BO$382","v":{"$error":"#DIV/0!"}},null,null,263,{"$f":"100*COUNT($BS$16:BS211)/$BS$382","v":{"$error":"#DIV/0!"}}]
["2016-07-15",null,null,null,null,null,null,null,null,null,null,null,null,null,null,null,null,null,null,null,null,null,null,null,null,null,null,null,null,null,null,null,null,null,null,null,null,null,null,null,null,null,null,null,null,null,null,null,null,null,null,null,null,197,0,null,1,0,null,0.1,null,null,null,248,{"$f":"100*COUNT($BK$16:BK212)/$BK$382","v":{"$error":"#DIV/0!"}},null,null,200,{"$f":"100*COUNT($BO$16:BO212)/$BO$382","v":{"$error":"#DIV/0!"}},null,null,243,{"$f":"100*COUNT($BS$16:BS212)/$BS$382","v":{"$error":"#DIV/0!"}}]
["2016-07-16",null,null,null,null,null,null,null,null,null,null,null,null,null,null,null,null,null,null,null,null,null,null,null,null,null,null,null,null,null,null,null,null,null,null,null,null,null,null,null,null,null,null,null,null,null,null,null,null,null,null,null,null,198,0,null,1,0,null,0.1,null,null,null,304,{"$f":"100*COUNT($BK$16:BK213)/$BK$382","v":{"$error":"#DIV/0!"}},null,null,290,{"$f":"100*COUNT($BO$16:BO213)/$BO$382","v":{"$error":"#DIV/0!"}},null,null,162,{"$f":"100*COUNT($BS$16:BS213)/$BS$382","v":{"$error":"#DIV/0!"}}]
["2016-07-17",null,null,null,null,null,null,null,null,null,null,null,null,null,null,null,null,null,null,null,null,null,null,null,null,null,null,null,null,null,null,null,null,null,null,null,null,null,null,null,null,null,null,null,null,null,null,null,null,null,null,null,null,199,0,null,1,0,null,0.1,null,null,null,167,{"$f":"100*COUNT($BK$16:BK214)/$BK$382","v":{"$error":"#DIV/0!"}},null,null,326,{"$f":"100*COUNT($BO$16:BO214)/$BO$382","v":{"$error":"#DIV/0!"}},null,null,359,{"$f":"100*COUNT($BS$16:BS214)/$BS$382","v":{"$error":"#DIV/0!"}}]
["2016-07-18",null,null,null,null,null,null,null,null,null,null,null,null,null,null,null,null,null,null,null,null,null,null,null,null,null,null,null,null,null,null,null,null,null,null,null,null,null,null,null,null,null,null,null,null,null,null,null,null,null,null,null,null,200,0,null,1,0,null,0.1,null,null,null,218,{"$f":"100*COUNT($BK$16:BK215)/$BK$382","v":{"$error":"#DIV/0!"}},null,null,237,{"$f":"100*COUNT($BO$16:BO215)/$BO$382","v":{"$error":"#DIV/0!"}},null,null,47,{"$f":"100*COUNT($BS$16:BS215)/$BS$382","v":{"$error":"#DIV/0!"}}]
["2016-07-19",null,null,null,null,null,null,null,null,null,null,null,null,null,null,null,null,null,null,null,null,null,null,null,null,null,null,null,null,null,null,null,null,null,null,null,null,null,null,null,null,null,null,null,null,null,null,null,null,null,null,null,null,201,0,null,1,0,null,0.1,null,null,null,76,{"$f":"100*COUNT($BK$16:BK216)/$BK$382","v":{"$error":"#DIV/0!"}},null,null,167,{"$f":"100*COUNT($BO$16:BO216)/$BO$382","v":{"$error":"#DIV/0!"}},null,null,216,{"$f":"100*COUNT($BS$16:BS216)/$BS$382","v":{"$error":"#DIV/0!"}}]
["2016-07-20",null,null,null,null,null,null,null,null,null,null,null,null,null,null,null,null,null,null,null,null,null,null,null,null,null,null,null,null,null,null,null,null,null,null,null,null,null,null,null,null,null,null,null,null,null,null,null,null,null,null,null,null,202,0,null,1,0,null,0.1,null,null,null,125,{"$f":"100*COUNT($BK$16:BK217)/$BK$382","v":{"$error":"#DIV/0!"}},null,null,307,{"$f":"100*COUNT($BO$16:BO217)/$BO$382","v":{"$error":"#DIV/0!"}},null,null,307,{"$f":"100*COUNT($BS$16:BS217)/$BS$382","v":{"$error":"#DIV/0!"}}]
["2016-07-21",null,null,null,null,null,null,null,null,null,null,null,null,null,null,null,null,null,null,null,null,null,null,null,null,null,null,null,null,null,null,null,null,null,null,null,null,null,null,null,null,null,null,null,null,null,null,null,null,null,null,null,null,203,0,null,1,0,null,0.1,null,null,null,340,{"$f":"100*COUNT($BK$16:BK218)/$BK$382","v":{"$error":"#DIV/0!"}},null,null,161,{"$f":"100*COUNT($BO$16:BO218)/$BO$382","v":{"$error":"#DIV/0!"}},null,null,18,{"$f":"100*COUNT($BS$16:BS218)/$BS$382","v":{"$error":"#DIV/0!"}}]
["2016-07-22",null,null,null,null,null,null,null,null,null,null,null,null,null,null,null,null,null,null,null,null,null,null,null,null,null,null,null,null,null,null,null,null,null,null,null,null,null,null,null,null,null,null,null,null,null,null,null,null,null,null,null,null,204,0,null,1,0,null,0.1,null,null,null,215,{"$f":"100*COUNT($BK$16:BK219)/$BK$382","v":{"$error":"#DIV/0!"}},null,null,125,{"$f":"100*COUNT($BO$16:BO219)/$BO$382","v":{"$error":"#DIV/0!"}},null,null,250,{"$f":"100*COUNT($BS$16:BS219)/$BS$382","v":{"$error":"#DIV/0!"}}]
["2016-07-23",null,null,null,null,null,null,null,null,null,null,null,null,null,null,null,null,null,null,null,null,null,null,null,null,null,null,null,null,null,null,null,null,null,null,null,null,null,null,null,null,null,null,null,null,null,null,null,null,null,null,null,null,205,0,null,1,0,null,0.1,null,null,null,348,{"$f":"100*COUNT($BK$16:BK220)/$BK$382","v":{"$error":"#DIV/0!"}},null,null,27,{"$f":"100*COUNT($BO$16:BO220)/$BO$382","v":{"$error":"#DIV/0!"}},null,null,235,{"$f":"100*COUNT($BS$16:BS220)/$BS$382","v":{"$error":"#DIV/0!"}}]
["2016-07-24",null,null,null,null,null,null,null,null,null,null,null,null,null,null,null,null,null,null,null,null,null,null,null,null,null,null,null,null,null,null,null,null,null,null,null,null,null,null,null,null,null,null,null,null,null,null,null,null,null,null,null,null,206,0,null,1,0,null,0.1,null,null,null,350,{"$f":"100*COUNT($BK$16:BK221)/$BK$382","v":{"$error":"#DIV/0!"}},null,null,13,{"$f":"100*COUNT($BO$16:BO221)/$BO$382","v":{"$error":"#DIV/0!"}},null,null,362,{"$f":"100*COUNT($BS$16:BS221)/$BS$382","v":{"$error":"#DIV/0!"}}]
["2016-07-25",null,null,null,null,null,null,null,null,null,null,null,null,null,null,null,null,null,null,null,null,null,null,null,null,null,null,null,null,null,null,null,null,null,null,null,null,null,null,null,null,null,null,null,null,null,null,null,null,null,null,null,null,207,0,null,1,0,null,0.1,null,null,null,212,{"$f":"100*COUNT($BK$16:BK222)/$BK$382","v":{"$error":"#DIV/0!"}},null,null,132,{"$f":"100*COUNT($BO$16:BO222)/$BO$382","v":{"$error":"#DIV/0!"}},null,null,10,{"$f":"100*COUNT($BS$16:BS222)/$BS$382","v":{"$error":"#DIV/0!"}}]
["2016-07-26",null,null,null,null,null,null,null,null,null,null,null,null,null,null,null,null,null,null,null,null,null,null,null,null,null,null,null,null,null,null,null,null,null,null,null,null,null,null,null,null,null,null,null,null,null,null,null,null,null,null,null,null,208,0,null,1,0,null,0.1,null,null,null,359,{"$f":"100*COUNT($BK$16:BK223)/$BK$382","v":{"$error":"#DIV/0!"}},null,null,109,{"$f":"100*COUNT($BO$16:BO223)/$BO$382","v":{"$error":"#DIV/0!"}},null,null,13,{"$f":"100*COUNT($BS$16:BS223)/$BS$382","v":{"$error":"#DIV/0!"}}]
["2016-07-27",null,null,null,null,null,null,null,null,null,null,null,null,null,null,null,null,null,null,null,null,null,null,null,null,null,null,null,null,null,null,null,null,null,null,null,null,null,null,null,null,null,null,null,null,null,null,null,null,null,null,null,null,209,0,null,1,0,null,0.1,null,null,null,17,{"$f":"100*COUNT($BK$16:BK224)/$BK$382","v":{"$error":"#DIV/0!"}},null,null,350,{"$f":"100*COUNT($BO$16:BO224)/$BO$382","v":{"$error":"#DIV/0!"}},null,null,262,{"$f":"100*COUNT($BS$16:BS224)/$BS$382","v":{"$error":"#DIV/0!"}}]
["2016-07-28",null,null,null,null,null,null,null,null,null,null,null,null,null,null,null,null,null,null,null,null,null,null,null,null,null,null,null,null,null,null,null,null,null,null,null,null,null,null,null,null,null,null,null,null,null,null,null,null,null,null,null,null,210,0,null,1,0,null,0.1,null,null,null,354,{"$f":"100*COUNT($BK$16:BK225)/$BK$382","v":{"$error":"#DIV/0!"}},null,null,363,{"$f":"100*COUNT($BO$16:BO225)/$BO$382","v":{"$error":"#DIV/0!"}},null,null,102,{"$f":"100*COUNT($BS$16:BS225)/$BS$382","v":{"$error":"#DIV/0!"}}]
["2016-07-29",null,null,null,null,null,null,null,null,null,null,null,null,null,null,null,null,null,null,null,null,null,null,null,null,null,null,null,null,null,null,null,null,null,null,null,null,null,null,null,null,null,null,null,null,null,null,null,null,null,null,null,null,211,0,null,1,0,null,0.1,null,null,null,228,{"$f":"100*COUNT($BK$16:BK226)/$BK$382","v":{"$error":"#DIV/0!"}},null,null,225,{"$f":"100*COUNT($BO$16:BO226)/$BO$382","v":{"$error":"#DIV/0!"}},null,null,365,{"$f":"100*COUNT($BS$16:BS226)/$BS$382","v":{"$error":"#DIV/0!"}}]
["2016-07-30",null,null,null,null,null,null,null,null,null,null,null,null,null,null,null,null,null,null,null,null,null,null,null,null,null,null,null,null,null,null,null,null,null,null,null,null,null,null,null,null,null,null,null,null,null,null,null,null,null,null,null,null,212,0,null,1,0,null,0.1,null,null,null,122,{"$f":"100*COUNT($BK$16:BK227)/$BK$382","v":{"$error":"#DIV/0!"}},null,null,192,{"$f":"100*COUNT($BO$16:BO227)/$BO$382","v":{"$error":"#DIV/0!"}},null,null,140,{"$f":"100*COUNT($BS$16:BS227)/$BS$382","v":{"$error":"#DIV/0!"}}]
["2016-07-31",null,null,null,null,null,null,null,null,null,null,null,null,null,null,null,null,null,null,null,null,null,null,null,null,null,null,null,null,null,null,null,null,null,null,null,null,null,null,null,null,null,null,null,null,null,null,null,null,null,null,null,null,213,0,null,1,0,null,0.1,null,null,null,265,{"$f":"100*COUNT($BK$16:BK228)/$BK$382","v":{"$error":"#DIV/0!"}},null,null,177,{"$f":"100*COUNT($BO$16:BO228)/$BO$382","v":{"$error":"#DIV/0!"}},null,null,304,{"$f":"100*COUNT($BS$16:BS228)/$BS$382","v":{"$error":"#DIV/0!"}}]
["2016-08-01",null,null,null,null,null,null,null,null,null,null,null,null,null,null,null,null,null,null,null,null,null,null,null,null,null,null,null,null,null,null,null,null,null,null,null,null,null,null,null,null,null,null,null,null,null,null,null,null,null,null,null,null,214,0,null,1,0,null,0.1,null,null,null,120,{"$f":"100*COUNT($BK$16:BK229)/$BK$382","v":{"$error":"#DIV/0!"}},null,null,304,{"$f":"100*COUNT($BO$16:BO229)/$BO$382","v":{"$error":"#DIV/0!"}},null,null,157,{"$f":"100*COUNT($BS$16:BS229)/$BS$382","v":{"$error":"#DIV/0!"}}]
["2016-08-02",null,null,null,null,null,null,null,null,null,null,null,null,null,null,null,null,null,null,null,null,null,null,null,null,null,null,null,null,null,null,null,null,null,null,null,null,null,null,null,null,null,null,null,null,null,null,null,null,null,null,null,null,215,0,null,1,0,null,0.1,null,null,null,258,{"$f":"100*COUNT($BK$16:BK230)/$BK$382","v":{"$error":"#DIV/0!"}},null,null,308,{"$f":"100*COUNT($BO$16:BO230)/$BO$382","v":{"$error":"#DIV/0!"}},null,null,174,{"$f":"100*COUNT($BS$16:BS230)/$BS$382","v":{"$error":"#DIV/0!"}}]
["2016-08-03",null,null,null,null,null,null,null,null,null,null,null,null,null,null,null,null,null,null,null,null,null,null,null,null,null,null,null,null,null,null,null,null,null,null,null,null,null,null,null,null,null,null,null,null,null,null,null,null,null,null,null,null,216,0,null,1,0,null,0.1,null,null,null,153,{"$f":"100*COUNT($BK$16:BK231)/$BK$382","v":{"$error":"#DIV/0!"}},null,null,63,{"$f":"100*COUNT($BO$16:BO231)/$BO$382","v":{"$error":"#DIV/0!"}},null,null,31,{"$f":"100*COUNT($BS$16:BS231)/$BS$382","v":{"$error":"#DIV/0!"}}]
["2016-08-04",null,null,null,null,null,null,null,null,null,null,null,null,null,null,null,null,null,null,null,null,null,null,null,null,null,null,null,null,null,null,null,null,null,null,null,null,null,null,null,null,null,null,null,null,null,null,null,null,null,null,null,null,217,0,null,1,0,null,0.1,null,null,null,178,{"$f":"100*COUNT($BK$16:BK232)/$BK$382","v":{"$error":"#DIV/0!"}},null,null,356,{"$f":"100*COUNT($BO$16:BO232)/$BO$382","v":{"$error":"#DIV/0!"}},null,null,323,{"$f":"100*COUNT($BS$16:BS232)/$BS$382","v":{"$error":"#DIV/0!"}}]
["2016-08-05",null,null,null,null,null,null,null,null,null,null,null,null,null,null,null,null,null,null,null,null,null,null,null,null,null,null,null,null,null,null,null,null,null,null,null,null,null,null,null,null,null,null,null,null,null,null,null,null,null,null,null,null,218,0,null,1,0,null,0.1,null,null,null,296,{"$f":"100*COUNT($BK$16:BK233)/$BK$382","v":{"$error":"#DIV/0!"}},null,null,143,{"$f":"100*COUNT($BO$16:BO233)/$BO$382","v":{"$error":"#DIV/0!"}},null,null,251,{"$f":"100*COUNT($BS$16:BS233)/$BS$382","v":{"$error":"#DIV/0!"}}]
["2016-08-06",null,null,null,null,null,null,null,null,null,null,null,null,null,null,null,null,null,null,null,null,null,null,null,null,null,null,null,null,null,null,null,null,null,null,null,null,null,null,null,null,null,null,null,null,null,null,null,null,null,null,null,null,219,0,null,1,0,null,0.1,null,null,null,290,{"$f":"100*COUNT($BK$16:BK234)/$BK$382","v":{"$error":"#DIV/0!"}},null,null,286,{"$f":"100*COUNT($BO$16:BO234)/$BO$382","v":{"$error":"#DIV/0!"}},null,null,206,{"$f":"100*COUNT($BS$16:BS234)/$BS$382","v":{"$error":"#DIV/0!"}}]
["2016-08-07",null,null,null,null,null,null,null,null,null,null,null,null,null,null,null,null,null,null,null,null,null,null,null,null,null,null,null,null,null,null,null,null,null,null,null,null,null,null,null,null,null,null,null,null,null,null,null,null,null,null,null,null,220,0,null,1,0,null,0.1,null,null,null,204,{"$f":"100*COUNT($BK$16:BK235)/$BK$382","v":{"$error":"#DIV/0!"}},null,null,258,{"$f":"100*COUNT($BO$16:BO235)/$BO$382","v":{"$error":"#DIV/0!"}},null,null,53,{"$f":"100*COUNT($BS$16:BS235)/$BS$382","v":{"$error":"#DIV/0!"}}]
["2016-08-08",null,null,null,null,null,null,null,null,null,null,null,null,null,null,null,null,null,null,null,null,null,null,null,null,null,null,null,null,null,null,null,null,null,null,null,null,null,null,null,null,null,null,null,null,null,null,null,null,null,null,null,null,221,0,null,1,0,null,0.1,null,null,null,132,{"$f":"100*COUNT($BK$16:BK236)/$BK$382","v":{"$error":"#DIV/0!"}},null,null,39,{"$f":"100*COUNT($BO$16:BO236)/$BO$382","v":{"$error":"#DIV/0!"}},null,null,16,{"$f":"100*COUNT($BS$16:BS236)/$BS$382","v":{"$error":"#DIV/0!"}}]
["2016-08-09",null,null,null,null,null,null,null,null,null,null,null,null,null,null,null,null,null,null,null,null,null,null,null,null,null,null,null,null,null,null,null,null,null,null,null,null,null,null,null,null,null,null,null,null,null,null,null,null,null,null,null,null,222,0,null,1,0,null,0.1,null,null,null,152,{"$f":"100*COUNT($BK$16:BK237)/$BK$382","v":{"$error":"#DIV/0!"}},null,null,365,{"$f":"100*COUNT($BO$16:BO237)/$BO$382","v":{"$error":"#DIV/0!"}},null,null,228,{"$f":"100*COUNT($BS$16:BS237)/$BS$382","v":{"$error":"#DIV/0!"}}]
["2016-08-10",null,null,null,null,null,null,null,null,null,null,null,null,null,null,null,null,null,null,null,null,null,null,null,null,null,null,null,null,null,null,null,null,null,null,null,null,null,null,null,null,null,null,null,null,null,null,null,null,null,null,null,null,223,0,null,1,0,null,0.1,null,null,null,278,{"$f":"100*COUNT($BK$16:BK238)/$BK$382","v":{"$error":"#DIV/0!"}},null,null,251,{"$f":"100*COUNT($BO$16:BO238)/$BO$382","v":{"$error":"#DIV/0!"}},null,null,158,{"$f":"100*COUNT($BS$16:BS238)/$BS$382","v":{"$error":"#DIV/0!"}}]
["2016-08-11",null,null,null,null,null,null,null,null,null,null,null,null,null,null,null,null,null,null,null,null,null,null,null,null,null,null,null,null,null,null,null,null,null,null,null,null,null,null,null,null,null,null,null,null,null,null,null,null,null,null,null,null,224,0,null,1,0,null,0.1,null,null,null,291,{"$f":"100*COUNT($BK$16:BK239)/$BK$382","v":{"$error":"#DIV/0!"}},null,null,259,{"$f":"100*COUNT($BO$16:BO239)/$BO$382","v":{"$error":"#DIV/0!"}},null,null,230,{"$f":"100*COUNT($BS$16:BS239)/$BS$382","v":{"$error":"#DIV/0!"}}]
["2016-08-12",null,null,null,null,null,null,null,null,null,null,null,null,null,null,null,null,null,null,null,null,null,null,null,null,null,null,null,null,null,null,null,null,null,null,null,null,null,null,null,null,null,null,null,null,null,null,null,null,null,null,null,null,225,0,null,1,0,null,0.1,null,null,null,254,{"$f":"100*COUNT($BK$16:BK240)/$BK$382","v":{"$error":"#DIV/0!"}},null,null,45,{"$f":"100*COUNT($BO$16:BO240)/$BO$382","v":{"$error":"#DIV/0!"}},null,null,130,{"$f":"100*COUNT($BS$16:BS240)/$BS$382","v":{"$error":"#DIV/0!"}}]
["2016-08-13",null,null,null,null,null,null,null,null,null,null,null,null,null,null,null,null,null,null,null,null,null,null,null,null,null,null,null,null,null,null,null,null,null,null,null,null,null,null,null,null,null,null,null,null,null,null,null,null,null,null,null,null,226,0,null,1,0,null,0.1,null,null,null,106,{"$f":"100*COUNT($BK$16:BK241)/$BK$382","v":{"$error":"#DIV/0!"}},null,null,82,{"$f":"100*COUNT($BO$16:BO241)/$BO$382","v":{"$error":"#DIV/0!"}},null,null,42,{"$f":"100*COUNT($BS$16:BS241)/$BS$382","v":{"$error":"#DIV/0!"}}]
["2016-08-14",null,null,null,null,null,null,null,null,null,null,null,null,null,null,null,null,null,null,null,null,null,null,null,null,null,null,null,null,null,null,null,null,null,null,null,null,null,null,null,null,null,null,null,null,null,null,null,null,null,null,null,null,227,0,null,1,0,null,0.1,null,null,null,154,{"$f":"100*COUNT($BK$16:BK242)/$BK$382","v":{"$error":"#DIV/0!"}},null,null,157,{"$f":"100*COUNT($BO$16:BO242)/$BO$382","v":{"$error":"#DIV/0!"}},null,null,272,{"$f":"100*COUNT($BS$16:BS242)/$BS$382","v":{"$error":"#DIV/0!"}}]
["2016-08-15",null,null,null,null,null,null,null,null,null,null,null,null,null,null,null,null,null,null,null,null,null,null,null,null,null,null,null,null,null,null,null,null,null,null,null,null,null,null,null,null,null,null,null,null,null,null,null,null,null,null,null,null,228,0,null,1,0,null,0.1,null,null,null,175,{"$f":"100*COUNT($BK$16:BK243)/$BK$382","v":{"$error":"#DIV/0!"}},null,null,263,{"$f":"100*COUNT($BO$16:BO243)/$BO$382","v":{"$error":"#DIV/0!"}},null,null,308,{"$f":"100*COUNT($BS$16:BS243)/$BS$382","v":{"$error":"#DIV/0!"}}]
["2016-08-16",null,null,null,null,null,null,null,null,null,null,null,null,null,null,null,null,null,null,null,null,null,null,null,null,null,null,null,null,null,null,null,null,null,null,null,null,null,null,null,null,null,null,null,null,null,null,null,null,null,null,null,null,229,0,null,1,0,null,0.1,null,null,null,240,{"$f":"100*COUNT($BK$16:BK244)/$BK$382","v":{"$error":"#DIV/0!"}},null,null,227,{"$f":"100*COUNT($BO$16:BO244)/$BO$382","v":{"$error":"#DIV/0!"}},null,null,310,{"$f":"100*COUNT($BS$16:BS244)/$BS$382","v":{"$error":"#DIV/0!"}}]
["2016-08-17",null,null,null,null,null,null,null,null,null,null,null,null,null,null,null,null,null,null,null,null,null,null,null,null,null,null,null,null,null,null,null,null,null,null,null,null,null,null,null,null,null,null,null,null,null,null,null,null,null,null,null,null,230,0,null,1,0,null,0.1,null,null,null,50,{"$f":"100*COUNT($BK$16:BK245)/$BK$382","v":{"$error":"#DIV/0!"}},null,null,49,{"$f":"100*COUNT($BO$16:BO245)/$BO$382","v":{"$error":"#DIV/0!"}},null,null,132,{"$f":"100*COUNT($BS$16:BS245)/$BS$382","v":{"$error":"#DIV/0!"}}]
["2016-08-18",null,null,null,null,null,null,null,null,null,null,null,null,null,null,null,null,null,null,null,null,null,null,null,null,null,null,null,null,null,null,null,null,null,null,null,null,null,null,null,null,null,null,null,null,null,null,null,null,null,null,null,null,231,0,null,1,0,null,0.1,null,null,null,200,{"$f":"100*COUNT($BK$16:BK246)/$BK$382","v":{"$error":"#DIV/0!"}},null,null,209,{"$f":"100*COUNT($BO$16:BO246)/$BO$382","v":{"$error":"#DIV/0!"}},null,null,182,{"$f":"100*COUNT($BS$16:BS246)/$BS$382","v":{"$error":"#DIV/0!"}}]
["2016-08-19",null,null,null,null,null,null,null,null,null,null,null,null,null,null,null,null,null,null,null,null,null,null,null,null,null,null,null,null,null,null,null,null,null,null,null,null,null,null,null,null,null,null,null,null,null,null,null,null,null,null,null,null,232,0,null,1,0,null,0.1,null,null,null,54,{"$f":"100*COUNT($BK$16:BK247)/$BK$382","v":{"$error":"#DIV/0!"}},null,null,301,{"$f":"100*COUNT($BO$16:BO247)/$BO$382","v":{"$error":"#DIV/0!"}},null,null,300,{"$f":"100*COUNT($BS$16:BS247)/$BS$382","v":{"$error":"#DIV/0!"}}]
["2016-08-20",null,null,null,null,null,null,null,null,null,null,null,null,null,null,null,null,null,null,null,null,null,null,null,null,null,null,null,null,null,null,null,null,null,null,null,null,null,null,null,null,null,null,null,null,null,null,null,null,null,null,null,null,233,0,null,1,0,null,0.1,null,null,null,8,{"$f":"100*COUNT($BK$16:BK248)/$BK$382","v":{"$error":"#DIV/0!"}},null,null,70,{"$f":"100*COUNT($BO$16:BO248)/$BO$382","v":{"$error":"#DIV/0!"}},null,null,252,{"$f":"100*COUNT($BS$16:BS248)/$BS$382","v":{"$error":"#DIV/0!"}}]
["2016-08-21",null,null,null,null,null,null,null,null,null,null,null,null,null,null,null,null,null,null,null,null,null,null,null,null,null,null,null,null,null,null,null,null,null,null,null,null,null,null,null,null,null,null,null,null,null,null,null,null,null,null,null,null,234,0,null,1,0,null,0.1,null,null,null,30,{"$f":"100*COUNT($BK$16:BK249)/$BK$382","v":{"$error":"#DIV/0!"}},null,null,121,{"$f":"100*COUNT($BO$16:BO249)/$BO$382","v":{"$error":"#DIV/0!"}},null,null,188,{"$f":"100*COUNT($BS$16:BS249)/$BS$382","v":{"$error":"#DIV/0!"}}]
["2016-08-22",null,null,null,null,null,null,null,null,null,null,null,null,null,null,null,null,null,null,null,null,null,null,null,null,null,null,null,null,null,null,null,null,null,null,null,null,null,null,null,null,null,null,null,null,null,null,null,null,null,null,null,null,235,0,null,1,0,null,0.1,null,null,null,329,{"$f":"100*COUNT($BK$16:BK250)/$BK$382","v":{"$error":"#DIV/0!"}},null,null,170,{"$f":"100*COUNT($BO$16:BO250)/$BO$382","v":{"$error":"#DIV/0!"}},null,null,213,{"$f":"100*COUNT($BS$16:BS250)/$BS$382","v":{"$error":"#DIV/0!"}}]
["2016-08-23",null,null,null,null,null,null,null,null,null,null,null,null,null,null,null,null,null,null,null,null,null,null,null,null,null,null,null,null,null,null,null,null,null,null,null,null,null,null,null,null,null,null,null,null,null,null,null,null,null,null,null,null,236,0,null,1,0,null,0.1,null,null,null,362,{"$f":"100*COUNT($BK$16:BK251)/$BK$382","v":{"$error":"#DIV/0!"}},null,null,163,{"$f":"100*COUNT($BO$16:BO251)/$BO$382","v":{"$error":"#DIV/0!"}},null,null,84,{"$f":"100*COUNT($BS$16:BS251)/$BS$382","v":{"$error":"#DIV/0!"}}]
["2016-08-24",null,null,null,null,null,null,null,null,null,null,null,null,null,null,null,null,null,null,null,null,null,null,null,null,null,null,null,null,null,null,null,null,null,null,null,null,null,null,null,null,null,null,null,null,null,null,null,null,null,null,null,null,237,0,null,1,0,null,0.1,null,null,null,146,{"$f":"100*COUNT($BK$16:BK252)/$BK$382","v":{"$error":"#DIV/0!"}},null,null,106,{"$f":"100*COUNT($BO$16:BO252)/$BO$382","v":{"$error":"#DIV/0!"}},null,null,115,{"$f":"100*COUNT($BS$16:BS252)/$BS$382","v":{"$error":"#DIV/0!"}}]
["2016-08-25",null,null,null,null,null,null,null,null,null,null,null,null,null,null,null,null,null,null,null,null,null,null,null,null,null,null,null,null,null,null,null,null,null,null,null,null,null,null,null,null,null,null,null,null,null,null,null,null,null,null,null,null,238,0,null,1,0,null,0.1,null,null,null,322,{"$f":"100*COUNT($BK$16:BK253)/$BK$382","v":{"$error":"#DIV/0!"}},null,null,158,{"$f":"100*COUNT($BO$16:BO253)/$BO$382","v":{"$error":"#DIV/0!"}},null,null,232,{"$f":"100*COUNT($BS$16:BS253)/$BS$382","v":{"$error":"#DIV/0!"}}]
["2016-08-26",null,null,null,null,null,null,null,null,null,null,null,null,null,null,null,null,null,null,null,null,null,null,null,null,null,null,null,null,null,null,null,null,null,null,null,null,null,null,null,null,null,null,null,null,null,null,null,null,null,null,null,null,239,0,null,1,0,null,0.1,null,null,null,305,{"$f":"100*COUNT($BK$16:BK254)/$BK$382","v":{"$error":"#DIV/0!"}},null,null,190,{"$f":"100*COUNT($BO$16:BO254)/$BO$382","v":{"$error":"#DIV/0!"}},null,null,90,{"$f":"100*COUNT($BS$16:BS254)/$BS$382","v":{"$error":"#DIV/0!"}}]
["2016-08-27",null,null,null,null,null,null,null,null,null,null,null,null,null,null,null,null,null,null,null,null,null,null,null,null,null,null,null,null,null,null,null,null,null,null,null,null,null,null,null,null,null,null,null,null,null,null,null,null,null,null,null,null,240,0,null,1,0,null,0.1,null,null,null,130,{"$f":"100*COUNT($BK$16:BK255)/$BK$382","v":{"$error":"#DIV/0!"}},null,null,214,{"$f":"100*COUNT($BO$16:BO255)/$BO$382","v":{"$error":"#DIV/0!"}},null,null,166,{"$f":"100*COUNT($BS$16:BS255)/$BS$382","v":{"$error":"#DIV/0!"}}]
["2016-08-28",null,null,null,null,null,null,null,null,null,null,null,null,null,null,null,null,null,null,null,null,null,null,null,null,null,null,null,null,null,null,null,null,null,null,null,null,null,null,null,null,null,null,null,null,null,null,null,null,null,null,null,null,241,0,null,1,0,null,0.1,null,null,null,229,{"$f":"100*COUNT($BK$16:BK256)/$BK$382","v":{"$error":"#DIV/0!"}},null,null,337,{"$f":"100*COUNT($BO$16:BO256)/$BO$382","v":{"$error":"#DIV/0!"}},null,null,98,{"$f":"100*COUNT($BS$16:BS256)/$BS$382","v":{"$error":"#DIV/0!"}}]
["2016-08-29",null,null,null,null,null,null,null,null,null,null,null,null,null,null,null,null,null,null,null,null,null,null,null,null,null,null,null,null,null,null,null,null,null,null,null,null,null,null,null,null,null,null,null,null,null,null,null,null,null,null,null,null,242,0,null,1,0,null,0.1,null,null,null,279,{"$f":"100*COUNT($BK$16:BK257)/$BK$382","v":{"$error":"#DIV/0!"}},null,null,355,{"$f":"100*COUNT($BO$16:BO257)/$BO$382","v":{"$error":"#DIV/0!"}},null,null,211,{"$f":"100*COUNT($BS$16:BS257)/$BS$382","v":{"$error":"#DIV/0!"}}]
["2016-08-30",null,null,null,null,null,null,null,null,null,null,null,null,null,null,null,null,null,null,null,null,null,null,null,null,null,null,null,null,null,null,null,null,null,null,null,null,null,null,null,null,null,null,null,null,null,null,null,null,null,null,null,null,243,0,null,1,0,null,0.1,null,null,null,108,{"$f":"100*COUNT($BK$16:BK258)/$BK$382","v":{"$error":"#DIV/0!"}},null,null,89,{"$f":"100*COUNT($BO$16:BO258)/$BO$382","v":{"$error":"#DIV/0!"}},null,null,68,{"$f":"100*COUNT($BS$16:BS258)/$BS$382","v":{"$error":"#DIV/0!"}}]
["2016-08-31",null,null,null,null,null,null,null,null,null,null,null,null,null,null,null,null,null,null,null,null,null,null,null,null,null,null,null,null,null,null,null,null,null,null,null,null,null,null,null,null,null,null,null,null,null,null,null,null,null,null,null,null,244,0,null,1,0,null,0.1,null,null,null,257,{"$f":"100*COUNT($BK$16:BK259)/$BK$382","v":{"$error":"#DIV/0!"}},null,null,81,{"$f":"100*COUNT($BO$16:BO259)/$BO$382","v":{"$error":"#DIV/0!"}},null,null,142,{"$f":"100*COUNT($BS$16:BS259)/$BS$382","v":{"$error":"#DIV/0!"}}]
["2016-09-01",null,null,null,null,null,null,null,null,null,null,null,null,null,null,null,null,null,null,null,null,null,null,null,null,null,null,null,null,null,null,null,null,null,null,null,null,null,null,null,null,null,null,null,null,null,null,null,null,null,null,null,null,245,0,null,1,0,null,0.1,null,null,null,230,{"$f":"100*COUNT($BK$16:BK260)/$BK$382","v":{"$error":"#DIV/0!"}},null,null,83,{"$f":"100*COUNT($BO$16:BO260)/$BO$382","v":{"$error":"#DIV/0!"}},null,null,222,{"$f":"100*COUNT($BS$16:BS260)/$BS$382","v":{"$error":"#DIV/0!"}}]
["2016-09-02",null,null,null,null,null,null,null,null,null,null,null,null,null,null,null,null,null,null,null,null,null,null,null,null,null,null,null,null,null,null,null,null,null,null,null,null,null,null,null,null,null,null,null,null,null,null,null,null,null,null,null,null,246,0,null,1,0,null,0.1,null,null,null,357,{"$f":"100*COUNT($BK$16:BK261)/$BK$382","v":{"$error":"#DIV/0!"}},null,null,148,{"$f":"100*COUNT($BO$16:BO261)/$BO$382","v":{"$error":"#DIV/0!"}},null,null,329,{"$f":"100*COUNT($BS$16:BS261)/$BS$382","v":{"$error":"#DIV/0!"}}]
["2016-09-03",null,null,null,null,null,null,null,null,null,null,null,null,null,null,null,null,null,null,null,null,null,null,null,null,null,null,null,null,null,null,null,null,null,null,null,null,null,null,null,null,null,null,null,null,null,null,null,null,null,null,null,null,247,0,null,1,0,null,0.1,null,null,null,142,{"$f":"100*COUNT($BK$16:BK262)/$BK$382","v":{"$error":"#DIV/0!"}},null,null,169,{"$f":"100*COUNT($BO$16:BO262)/$BO$382","v":{"$error":"#DIV/0!"}},null,null,76,{"$f":"100*COUNT($BS$16:BS262)/$BS$382","v":{"$error":"#DIV/0!"}}]
["2016-09-04",null,null,null,null,null,null,null,null,null,null,null,null,null,null,null,null,null,null,null,null,null,null,null,null,null,null,null,null,null,null,null,null,null,null,null,null,null,null,null,null,null,null,null,null,null,null,null,null,null,null,null,null,248,0,null,1,0,null,0.1,null,null,null,41,{"$f":"100*COUNT($BK$16:BK263)/$BK$382","v":{"$error":"#DIV/0!"}},null,null,76,{"$f":"100*COUNT($BO$16:BO263)/$BO$382","v":{"$error":"#DIV/0!"}},null,null,127,{"$f":"100*COUNT($BS$16:BS263)/$BS$382","v":{"$error":"#DIV/0!"}}]
["2016-09-05",null,null,null,null,null,null,null,null,null,null,null,null,null,null,null,null,null,null,null,null,null,null,null,null,null,null,null,null,null,null,null,null,null,null,null,null,null,null,null,null,null,null,null,null,null,null,null,null,null,null,null,null,249,0,null,1,0,null,0.1,null,null,null,172,{"$f":"100*COUNT($BK$16:BK264)/$BK$382","v":{"$error":"#DIV/0!"}},null,null,217,{"$f":"100*COUNT($BO$16:BO264)/$BO$382","v":{"$error":"#DIV/0!"}},null,null,353,{"$f":"100*COUNT($BS$16:BS264)/$BS$382","v":{"$error":"#DIV/0!"}}]
["2016-09-06",null,null,null,null,null,null,null,null,null,null,null,null,null,null,null,null,null,null,null,null,null,null,null,null,null,null,null,null,null,null,null,null,null,null,null,null,null,null,null,null,null,null,null,null,null,null,null,null,null,null,null,null,250,0,null,1,0,null,0.1,null,null,null,235,{"$f":"100*COUNT($BK$16:BK265)/$BK$382","v":{"$error":"#DIV/0!"}},null,null,277,{"$f":"100*COUNT($BO$16:BO265)/$BO$382","v":{"$error":"#DIV/0!"}},null,null,218,{"$f":"100*COUNT($BS$16:BS265)/$BS$382","v":{"$error":"#DIV/0!"}}]
["2016-09-07",null,null,null,null,null,null,null,null,null,null,null,null,null,null,null,null,null,null,null,null,null,null,null,null,null,null,null,null,null,null,null,null,null,null,null,null,null,null,null,null,null,null,null,null,null,null,null,null,null,null,null,null,251,0,null,1,0,null,0.1,null,null,null,171,{"$f":"100*COUNT($BK$16:BK266)/$BK$382","v":{"$error":"#DIV/0!"}},null,null,312,{"$f":"100*COUNT($BO$16:BO266)/$BO$382","v":{"$error":"#DIV/0!"}},null,null,25,{"$f":"100*COUNT($BS$16:BS266)/$BS$382","v":{"$error":"#DIV/0!"}}]
["2016-09-08",null,null,null,null,null,null,null,null,null,null,null,null,null,null,null,null,null,null,null,null,null,null,null,null,null,null,null,null,null,null,null,null,null,null,null,null,null,null,null,null,null,null,null,null,null,null,null,null,null,null,null,null,252,0,null,1,0,null,0.1,null,null,null,24,{"$f":"100*COUNT($BK$16:BK267)/$BK$382","v":{"$error":"#DIV/0!"}},null,null,238,{"$f":"100*COUNT($BO$16:BO267)/$BO$382","v":{"$error":"#DIV/0!"}},null,null,179,{"$f":"100*COUNT($BS$16:BS267)/$BS$382","v":{"$error":"#DIV/0!"}}]
["2016-09-09",null,null,null,null,null,null,null,null,null,null,null,null,null,null,null,null,null,null,null,null,null,null,null,null,null,null,null,null,null,null,null,null,null,null,null,null,null,null,null,null,null,null,null,null,null,null,null,null,null,null,null,null,253,0,null,1,0,null,0.1,null,null,null,33,{"$f":"100*COUNT($BK$16:BK268)/$BK$382","v":{"$error":"#DIV/0!"}},null,null,122,{"$f":"100*COUNT($BO$16:BO268)/$BO$382","v":{"$error":"#DIV/0!"}},null,null,194,{"$f":"100*COUNT($BS$16:BS268)/$BS$382","v":{"$error":"#DIV/0!"}}]
["2016-09-10",null,null,null,null,null,null,null,null,null,null,null,null,null,null,null,null,null,null,null,null,null,null,null,null,null,null,null,null,null,null,null,null,null,null,null,null,null,null,null,null,null,null,null,null,null,null,null,null,null,null,null,null,254,0,null,1,0,null,0.1,null,null,null,331,{"$f":"100*COUNT($BK$16:BK269)/$BK$382","v":{"$error":"#DIV/0!"}},null,null,359,{"$f":"100*COUNT($BO$16:BO269)/$BO$382","v":{"$error":"#DIV/0!"}},null,null,24,{"$f":"100*COUNT($BS$16:BS269)/$BS$382","v":{"$error":"#DIV/0!"}}]
["2016-09-11",null,null,null,null,null,null,null,null,null,null,null,null,null,null,null,null,null,null,null,null,null,null,null,null,null,null,null,null,null,null,null,null,null,null,null,null,null,null,null,null,null,null,null,null,null,null,null,null,null,null,null,null,255,0,null,1,0,null,0.1,null,null,null,227,{"$f":"100*COUNT($BK$16:BK270)/$BK$382","v":{"$error":"#DIV/0!"}},null,null,270,{"$f":"100*COUNT($BO$16:BO270)/$BO$382","v":{"$error":"#DIV/0!"}},null,null,146,{"$f":"100*COUNT($BS$16:BS270)/$BS$382","v":{"$error":"#DIV/0!"}}]
["2016-09-12",null,null,null,null,null,null,null,null,null,null,null,null,null,null,null,null,null,null,null,null,null,null,null,null,null,null,null,null,null,null,null,null,null,null,null,null,null,null,null,null,null,null,null,null,null,null,null,null,null,null,null,null,256,0,null,1,0,null,0.1,null,null,null,156,{"$f":"100*COUNT($BK$16:BK271)/$BK$382","v":{"$error":"#DIV/0!"}},null,null,191,{"$f":"100*COUNT($BO$16:BO271)/$BO$382","v":{"$error":"#DIV/0!"}},null,null,11,{"$f":"100*COUNT($BS$16:BS271)/$BS$382","v":{"$error":"#DIV/0!"}}]
["2016-09-13",null,null,null,null,null,null,null,null,null,null,null,null,null,null,null,null,null,null,null,null,null,null,null,null,null,null,null,null,null,null,null,null,null,null,null,null,null,null,null,null,null,null,null,null,null,null,null,null,null,null,null,null,257,0,null,{"$f":"$G$5","v":1},0,null,{"$f":"$G$6","v":0.1},null,null,null,282,{"$f":"100*COUNT($BK$16:BK272)/$BK$382","v":{"$error":"#DIV/0!"}},null,null,151,{"$f":"100*COUNT($BO$16:BO272)/$BO$382","v":{"$error":"#DIV/0!"}},null,null,153,{"$f":"100*COUNT($BS$16:BS272)/$BS$382","v":{"$error":"#DIV/0!"}}]
[{"$f":"A272+1","v":"2016-09-14"},null,null,null,null,null,null,null,null,null,null,null,null,null,null,null,null,null,null,null,null,null,null,null,null,null,null,null,null,null,null,null,null,null,null,null,null,null,null,null,null,null,null,null,null,null,null,null,null,null,null,null,null,{"$f":"BB272+1","v":258},{"$f":"MAX(C273:J273)","v":0},null,1,{"$f":"MAX(K273:AT273)","v":0},null,0.1,null,null,null,271,{"$f":"100*COUNT($BK$16:BK273)/$BK$382","v":{"$error":"#DIV/0!"}},null,null,207,{"$f":"100*COUNT($BO$16:BO273)/$BO$382","v":{"$error":"#DIV/0!"}},null,null,105,{"$f":"100*COUNT($BS$16:BS273)/$BS$382","v":{"$error":"#DIV/0!"}}]
["2016-09-15",null,null,null,null,null,null,null,null,null,null,null,null,null,null,null,null,null,null,null,null,null,null,null,null,null,null,null,null,null,null,null,null,null,null,null,null,null,null,null,null,null,null,null,null,null,null,null,null,null,null,null,null,259,0,null,1,0,null,0.1,null,null,null,13,{"$f":"100*COUNT($BK$16:BK274)/$BK$382","v":{"$error":"#DIV/0!"}},null,null,134,{"$f":"100*COUNT($BO$16:BO274)/$BO$382","v":{"$error":"#DIV/0!"}},null,null,292,{"$f":"100*COUNT($BS$16:BS274)/$BS$382","v":{"$error":"#DIV/0!"}}]
["2016-09-16",null,null,null,null,null,null,null,null,null,null,null,null,null,null,null,null,null,null,null,null,null,null,null,null,null,null,null,null,null,null,null,null,null,null,null,null,null,null,null,null,null,null,null,null,null,null,null,null,null,null,null,null,260,0,null,1,0,null,0.1,null,null,null,285,{"$f":"100*COUNT($BK$16:BK275)/$BK$382","v":{"$error":"#DIV/0!"}},null,null,303,{"$f":"100*COUNT($BO$16:BO275)/$BO$382","v":{"$error":"#DIV/0!"}},null,null,161,{"$f":"100*COUNT($BS$16:BS275)/$BS$382","v":{"$error":"#DIV/0!"}}]
["2016-09-17",null,null,null,null,null,null,null,null,null,null,null,null,null,null,null,null,null,null,null,null,null,null,null,null,null,null,null,null,null,null,null,null,null,null,null,null,null,null,null,null,null,null,null,null,null,null,null,null,null,null,null,null,261,0,null,1,0,null,0.1,null,null,null,205,{"$f":"100*COUNT($BK$16:BK276)/$BK$382","v":{"$error":"#DIV/0!"}},null,null,172,{"$f":"100*COUNT($BO$16:BO276)/$BO$382","v":{"$error":"#DIV/0!"}},null,null,104,{"$f":"100*COUNT($BS$16:BS276)/$BS$382","v":{"$error":"#DIV/0!"}}]
["2016-09-18",null,null,null,null,null,null,null,null,null,null,null,null,null,null,null,null,null,null,null,null,null,null,null,null,null,null,null,null,null,null,null,null,null,null,null,null,null,null,null,null,null,null,null,null,null,null,null,null,null,null,null,null,262,0,null,1,0,null,0.1,null,null,null,128,{"$f":"100*COUNT($BK$16:BK277)/$BK$382","v":{"$error":"#DIV/0!"}},null,null,282,{"$f":"100*COUNT($BO$16:BO277)/$BO$382","v":{"$error":"#DIV/0!"}},null,null,125,{"$f":"100*COUNT($BS$16:BS277)/$BS$382","v":{"$error":"#DIV/0!"}}]
["2016-09-19",null,null,null,null,null,null,null,null,null,null,null,null,null,null,null,null,null,null,null,null,null,null,null,null,null,null,null,null,null,null,null,null,null,null,null,null,null,null,null,null,null,null,null,null,null,null,null,null,null,null,null,null,263,0,null,1,0,null,0.1,null,null,null,238,{"$f":"100*COUNT($BK$16:BK278)/$BK$382","v":{"$error":"#DIV/0!"}},null,null,33,{"$f":"100*COUNT($BO$16:BO278)/$BO$382","v":{"$error":"#DIV/0!"}},null,null,221,{"$f":"100*COUNT($BS$16:BS278)/$BS$382","v":{"$error":"#DIV/0!"}}]
["2016-09-20",null,null,null,null,null,null,null,null,null,null,null,null,null,null,null,null,null,null,null,null,null,null,null,null,null,null,null,null,null,null,null,null,null,null,null,null,null,null,null,null,null,null,null,null,null,null,null,null,null,null,null,null,264,0,null,1,0,null,0.1,null,null,null,19,{"$f":"100*COUNT($BK$16:BK279)/$BK$382","v":{"$error":"#DIV/0!"}},null,null,56,{"$f":"100*COUNT($BO$16:BO279)/$BO$382","v":{"$error":"#DIV/0!"}},null,null,138,{"$f":"100*COUNT($BS$16:BS279)/$BS$382","v":{"$error":"#DIV/0!"}}]
["2016-09-21",null,null,null,null,null,null,null,null,null,null,null,null,null,null,null,null,null,null,null,null,null,null,null,null,null,null,null,null,null,null,null,null,null,null,null,null,null,null,null,null,null,null,null,null,null,null,null,null,null,null,null,null,265,0,null,1,0,null,0.1,null,null,null,312,{"$f":"100*COUNT($BK$16:BK280)/$BK$382","v":{"$error":"#DIV/0!"}},null,null,280,{"$f":"100*COUNT($BO$16:BO280)/$BO$382","v":{"$error":"#DIV/0!"}},null,null,19,{"$f":"100*COUNT($BS$16:BS280)/$BS$382","v":{"$error":"#DIV/0!"}}]
["2016-09-22",null,null,null,null,null,null,null,null,null,null,null,null,null,null,null,null,null,null,null,null,null,null,null,null,null,null,null,null,null,null,null,null,null,null,null,null,null,null,null,null,null,null,null,null,null,null,null,null,null,null,null,null,266,0,null,1,0,null,0.1,null,null,null,223,{"$f":"100*COUNT($BK$16:BK281)/$BK$382","v":{"$error":"#DIV/0!"}},null,null,152,{"$f":"100*COUNT($BO$16:BO281)/$BO$382","v":{"$error":"#DIV/0!"}},null,null,143,{"$f":"100*COUNT($BS$16:BS281)/$BS$382","v":{"$error":"#DIV/0!"}}]
["2016-09-23",null,null,null,null,null,null,null,null,null,null,null,null,null,null,null,null,null,null,null,null,null,null,null,null,null,null,null,null,null,null,null,null,null,null,null,null,null,null,null,null,null,null,null,null,null,null,null,null,null,null,null,null,267,0,null,1,0,null,0.1,null,null,null,151,{"$f":"100*COUNT($BK$16:BK282)/$BK$382","v":{"$error":"#DIV/0!"}},null,null,20,{"$f":"100*COUNT($BO$16:BO282)/$BO$382","v":{"$error":"#DIV/0!"}},null,null,317,{"$f":"100*COUNT($BS$16:BS282)/$BS$382","v":{"$error":"#DIV/0!"}}]
["2016-09-24",null,null,null,null,null,null,null,null,null,null,null,null,null,null,null,null,null,null,null,null,null,null,null,null,null,null,null,null,null,null,null,null,null,null,null,null,null,null,null,null,null,null,null,null,null,null,null,null,null,null,null,null,268,0,null,1,0,null,0.1,null,null,null,318,{"$f":"100*COUNT($BK$16:BK283)/$BK$382","v":{"$error":"#DIV/0!"}},null,null,246,{"$f":"100*COUNT($BO$16:BO283)/$BO$382","v":{"$error":"#DIV/0!"}},null,null,49,{"$f":"100*COUNT($BS$16:BS283)/$BS$382","v":{"$error":"#DIV/0!"}}]
["2016-09-25",null,null,null,null,null,null,null,null,null,null,null,null,null,null,null,null,null,null,null,null,null,null,null,null,null,null,null,null,null,null,null,null,null,null,null,null,null,null,null,null,null,null,null,null,null,null,null,null,null,null,null,null,269,0,null,1,0,null,0.1,null,null,null,7,{"$f":"100*COUNT($BK$16:BK284)/$BK$382","v":{"$error":"#DIV/0!"}},null,null,95,{"$f":"100*COUNT($BO$16:BO284)/$BO$382","v":{"$error":"#DIV/0!"}},null,null,340,{"$f":"100*COUNT($BS$16:BS284)/$BS$382","v":{"$error":"#DIV/0!"}}]
["2016-09-26",null,null,null,null,null,null,null,null,null,null,null,null,null,null,null,null,null,null,null,null,null,null,null,null,null,null,null,null,null,null,null,null,null,null,null,null,null,null,null,null,null,null,null,null,null,null,null,null,null,null,null,null,270,0,null,1,0,null,0.1,null,null,null,158,{"$f":"100*COUNT($BK$16:BK285)/$BK$382","v":{"$error":"#DIV/0!"}},null,null,50,{"$f":"100*COUNT($BO$16:BO285)/$BO$382","v":{"$error":"#DIV/0!"}},null,null,190,{"$f":"100*COUNT($BS$16:BS285)/$BS$382","v":{"$error":"#DIV/0!"}}]
["2016-09-27",null,null,null,null,null,null,null,null,null,null,null,null,null,null,null,null,null,null,null,null,null,null,null,null,null,null,null,null,null,null,null,null,null,null,null,null,null,null,null,null,null,null,null,null,null,null,null,null,null,null,null,null,271,0,null,1,0,null,0.1,null,null,null,81,{"$f":"100*COUNT($BK$16:BK286)/$BK$382","v":{"$error":"#DIV/0!"}},null,null,264,{"$f":"100*COUNT($BO$16:BO286)/$BO$382","v":{"$error":"#DIV/0!"}},null,null,48,{"$f":"100*COUNT($BS$16:BS286)/$BS$382","v":{"$error":"#DIV/0!"}}]
["2016-09-28",null,null,null,null,null,null,null,null,null,null,null,null,null,null,null,null,null,null,null,null,null,null,null,null,null,null,null,null,null,null,null,null,null,null,null,null,null,null,null,null,null,null,null,null,null,null,null,null,null,null,null,null,272,0,null,1,0,null,0.1,null,null,null,67,{"$f":"100*COUNT($BK$16:BK287)/$BK$382","v":{"$error":"#DIV/0!"}},null,null,213,{"$f":"100*COUNT($BO$16:BO287)/$BO$382","v":{"$error":"#DIV/0!"}},null,null,114,{"$f":"100*COUNT($BS$16:BS287)/$BS$382","v":{"$error":"#DIV/0!"}}]
["2016-09-29",null,null,null,null,null,null,null,null,null,null,null,null,null,null,null,null,null,null,null,null,null,null,null,null,null,null,null,null,null,null,null,null,null,null,null,null,null,null,null,null,null,null,null,null,null,null,null,null,null,null,null,null,273,0,null,1,0,null,0.1,null,null,null,42,{"$f":"100*COUNT($BK$16:BK288)/$BK$382","v":{"$error":"#DIV/0!"}},null,null,72,{"$f":"100*COUNT($BO$16:BO288)/$BO$382","v":{"$error":"#DIV/0!"}},null,null,284,{"$f":"100*COUNT($BS$16:BS288)/$BS$382","v":{"$error":"#DIV/0!"}}]
["2016-09-30",null,null,null,null,null,null,null,null,null,null,null,null,null,null,null,null,null,null,null,null,null,null,null,null,null,null,null,null,null,null,null,null,null,null,null,null,null,null,null,null,null,null,null,null,null,null,null,null,null,null,null,null,274,0,null,1,0,null,0.1,null,null,null,145,{"$f":"100*COUNT($BK$16:BK289)/$BK$382","v":{"$error":"#DIV/0!"}},null,null,302,{"$f":"100*COUNT($BO$16:BO289)/$BO$382","v":{"$error":"#DIV/0!"}},null,null,312,{"$f":"100*COUNT($BS$16:BS289)/$BS$382","v":{"$error":"#DIV/0!"}}]
["2016-10-01",null,null,null,null,null,null,null,null,null,null,null,null,null,null,null,null,null,null,null,null,null,null,null,null,null,null,null,null,null,null,null,null,null,null,null,null,null,null,null,null,null,null,null,null,null,null,null,null,null,null,null,null,275,0,null,1,0,null,0.1,null,null,null,247,{"$f":"100*COUNT($BK$16:BK290)/$BK$382","v":{"$error":"#DIV/0!"}},null,null,32,{"$f":"100*COUNT($BO$16:BO290)/$BO$382","v":{"$error":"#DIV/0!"}},null,null,306,{"$f":"100*COUNT($BS$16:BS290)/$BS$382","v":{"$error":"#DIV/0!"}}]
["2016-10-02",null,null,null,null,null,null,null,null,null,null,null,null,null,null,null,null,null,null,null,null,null,null,null,null,null,null,null,null,null,null,null,null,null,null,null,null,null,null,null,null,null,null,null,null,null,null,null,null,null,null,null,null,276,0,null,1,0,null,0.1,null,null,null,149,{"$f":"100*COUNT($BK$16:BK291)/$BK$382","v":{"$error":"#DIV/0!"}},null,null,188,{"$f":"100*COUNT($BO$16:BO291)/$BO$382","v":{"$error":"#DIV/0!"}},null,null,186,{"$f":"100*COUNT($BS$16:BS291)/$BS$382","v":{"$error":"#DIV/0!"}}]
["2016-10-03",null,null,null,null,null,null,null,null,null,null,null,null,null,null,null,null,null,null,null,null,null,null,null,null,null,null,null,null,null,null,null,null,null,null,null,null,null,null,null,null,null,null,null,null,null,null,null,null,null,null,null,null,277,0,null,1,0,null,0.1,null,null,null,162,{"$f":"100*COUNT($BK$16:BK292)/$BK$382","v":{"$error":"#DIV/0!"}},null,null,204,{"$f":"100*COUNT($BO$16:BO292)/$BO$382","v":{"$error":"#DIV/0!"}},null,null,137,{"$f":"100*COUNT($BS$16:BS292)/$BS$382","v":{"$error":"#DIV/0!"}}]
["2016-10-04",null,null,null,null,null,null,null,null,null,null,null,null,null,null,null,null,null,null,null,null,null,null,null,null,null,null,null,null,null,null,null,null,null,null,null,null,null,null,null,null,null,null,null,null,null,null,null,null,null,null,null,null,278,0,null,1,0,null,0.1,null,null,null,293,{"$f":"100*COUNT($BK$16:BK293)/$BK$382","v":{"$error":"#DIV/0!"}},null,null,139,{"$f":"100*COUNT($BO$16:BO293)/$BO$382","v":{"$error":"#DIV/0!"}},null,null,364,{"$f":"100*COUNT($BS$16:BS293)/$BS$382","v":{"$error":"#DIV/0!"}}]
["2016-10-05",null,null,null,null,null,null,null,null,null,null,null,null,null,null,null,null,null,null,null,null,null,null,null,null,null,null,null,null,null,null,null,null,null,null,null,null,null,null,null,null,null,null,null,null,null,null,null,null,null,null,null,null,279,0,null,1,0,null,0.1,null,null,null,292,{"$f":"100*COUNT($BK$16:BK294)/$BK$382","v":{"$error":"#DIV/0!"}},null,null,247,{"$f":"100*COUNT($BO$16:BO294)/$BO$382","v":{"$error":"#DIV/0!"}},null,null,55,{"$f":"100*COUNT($BS$16:BS294)/$BS$382","v":{"$error":"#DIV/0!"}}]
["2016-10-06",null,null,null,null,null,null,null,null,null,null,null,null,null,null,null,null,null,null,null,null,null,null,null,null,null,null,null,null,null,null,null,null,null,null,null,null,null,null,null,null,null,null,null,null,null,null,null,null,null,null,null,null,280,0,null,1,0,null,0.1,null,null,null,147,{"$f":"100*COUNT($BK$16:BK295)/$BK$382","v":{"$error":"#DIV/0!"}},null,null,211,{"$f":"100*COUNT($BO$16:BO295)/$BO$382","v":{"$error":"#DIV/0!"}},null,null,96,{"$f":"100*COUNT($BS$16:BS295)/$BS$382","v":{"$error":"#DIV/0!"}}]
["2016-10-07",null,null,null,null,null,null,null,null,null,null,null,null,null,null,null,null,null,null,null,null,null,null,null,null,null,null,null,null,null,null,null,null,null,null,null,null,null,null,null,null,null,null,null,null,null,null,null,null,null,null,null,null,281,0,null,1,0,null,0.1,null,null,null,36,{"$f":"100*COUNT($BK$16:BK296)/$BK$382","v":{"$error":"#DIV/0!"}},null,null,285,{"$f":"100*COUNT($BO$16:BO296)/$BO$382","v":{"$error":"#DIV/0!"}},null,null,173,{"$f":"100*COUNT($BS$16:BS296)/$BS$382","v":{"$error":"#DIV/0!"}}]
["2016-10-08",null,null,null,null,null,null,null,null,null,null,null,null,null,null,null,null,null,null,null,null,null,null,null,null,null,null,null,null,null,null,null,null,null,null,null,null,null,null,null,null,null,null,null,null,null,null,null,null,null,null,null,null,282,0,null,1,0,null,0.1,null,null,null,353,{"$f":"100*COUNT($BK$16:BK297)/$BK$382","v":{"$error":"#DIV/0!"}},null,null,223,{"$f":"100*COUNT($BO$16:BO297)/$BO$382","v":{"$error":"#DIV/0!"}},null,null,337,{"$f":"100*COUNT($BS$16:BS297)/$BS$382","v":{"$error":"#DIV/0!"}}]
["2016-10-09",null,null,null,null,null,null,null,null,null,null,null,null,null,null,null,null,null,null,null,null,null,null,null,null,null,null,null,null,null,null,null,null,null,null,null,null,null,null,null,null,null,null,null,null,null,null,null,null,null,null,null,null,283,0,null,1,0,null,0.1,null,null,null,184,{"$f":"100*COUNT($BK$16:BK298)/$BK$382","v":{"$error":"#DIV/0!"}},null,null,347,{"$f":"100*COUNT($BO$16:BO298)/$BO$382","v":{"$error":"#DIV/0!"}},null,null,239,{"$f":"100*COUNT($BS$16:BS298)/$BS$382","v":{"$error":"#DIV/0!"}}]
["2016-10-10",null,null,null,null,null,null,null,null,null,null,null,null,null,null,null,null,null,null,null,null,null,null,null,null,null,null,null,null,null,null,null,null,null,null,null,null,null,null,null,null,null,null,null,null,null,null,null,null,null,null,null,null,284,0,null,1,0,null,0.1,null,null,null,216,{"$f":"100*COUNT($BK$16:BK299)/$BK$382","v":{"$error":"#DIV/0!"}},null,null,331,{"$f":"100*COUNT($BO$16:BO299)/$BO$382","v":{"$error":"#DIV/0!"}},null,null,107,{"$f":"100*COUNT($BS$16:BS299)/$BS$382","v":{"$error":"#DIV/0!"}}]
["2016-10-11",null,null,null,null,null,null,null,null,null,null,null,null,null,null,null,null,null,null,null,null,null,null,null,null,null,null,null,null,null,null,null,null,null,null,null,null,null,null,null,null,null,null,null,null,null,null,null,null,null,null,null,null,285,0,null,1,0,null,0.1,null,null,null,79,{"$f":"100*COUNT($BK$16:BK300)/$BK$382","v":{"$error":"#DIV/0!"}},null,null,61,{"$f":"100*COUNT($BO$16:BO300)/$BO$382","v":{"$error":"#DIV/0!"}},null,null,259,{"$f":"100*COUNT($BS$16:BS300)/$BS$382","v":{"$error":"#DIV/0!"}}]
["2016-10-12",null,null,null,null,null,null,null,null,null,null,null,null,null,null,null,null,null,null,null,null,null,null,null,null,null,null,null,null,null,null,null,null,null,null,null,null,null,null,null,null,null,null,null,null,null,null,null,null,null,null,null,null,286,0,null,1,0,null,0.1,null,null,null,309,{"$f":"100*COUNT($BK$16:BK301)/$BK$382","v":{"$error":"#DIV/0!"}},null,null,123,{"$f":"100*COUNT($BO$16:BO301)/$BO$382","v":{"$error":"#DIV/0!"}},null,null,167,{"$f":"100*COUNT($BS$16:BS301)/$BS$382","v":{"$error":"#DIV/0!"}}]
["2016-10-13",null,null,null,null,null,null,null,null,null,null,null,null,null,null,null,null,null,null,null,null,null,null,null,null,null,null,null,null,null,null,null,null,null,null,null,null,null,null,null,null,null,null,null,null,null,null,null,null,null,null,null,null,287,0,null,1,0,null,0.1,null,null,null,187,{"$f":"100*COUNT($BK$16:BK302)/$BK$382","v":{"$error":"#DIV/0!"}},null,null,300,{"$f":"100*COUNT($BO$16:BO302)/$BO$382","v":{"$error":"#DIV/0!"}},null,null,315,{"$f":"100*COUNT($BS$16:BS302)/$BS$382","v":{"$error":"#DIV/0!"}}]
["2016-10-14",null,null,null,null,null,null,null,null,null,null,null,null,null,null,null,null,null,null,null,null,null,null,null,null,null,null,null,null,null,null,null,null,null,null,null,null,null,null,null,null,null,null,null,null,null,null,null,null,null,null,null,null,288,0,null,1,0,null,0.1,null,null,null,207,{"$f":"100*COUNT($BK$16:BK303)/$BK$382","v":{"$error":"#DIV/0!"}},null,null,203,{"$f":"100*COUNT($BO$16:BO303)/$BO$382","v":{"$error":"#DIV/0!"}},null,null,129,{"$f":"100*COUNT($BS$16:BS303)/$BS$382","v":{"$error":"#DIV/0!"}}]
["2016-10-15",null,null,null,null,null,null,null,null,null,null,null,null,null,null,null,null,null,null,null,null,null,null,null,null,null,null,null,null,null,null,null,null,null,null,null,null,null,null,null,null,null,null,null,null,null,null,null,null,null,null,null,null,289,0,null,1,0,null,0.1,null,null,null,237,{"$f":"100*COUNT($BK$16:BK304)/$BK$382","v":{"$error":"#DIV/0!"}},null,null,334,{"$f":"100*COUNT($BO$16:BO304)/$BO$382","v":{"$error":"#DIV/0!"}},null,null,267,{"$f":"100*COUNT($BS$16:BS304)/$BS$382","v":{"$error":"#DIV/0!"}}]
["2016-10-16",null,null,null,null,null,null,null,null,null,null,null,null,null,null,null,null,null,null,null,null,null,null,null,null,null,null,null,null,null,null,null,null,null,null,null,null,null,null,null,null,null,null,null,null,null,null,null,null,null,null,null,null,290,0,null,1,0,null,0.1,null,null,null,243,{"$f":"100*COUNT($BK$16:BK305)/$BK$382","v":{"$error":"#DIV/0!"}},null,null,299,{"$f":"100*COUNT($BO$16:BO305)/$BO$382","v":{"$error":"#DIV/0!"}},null,null,72,{"$f":"100*COUNT($BS$16:BS305)/$BS$382","v":{"$error":"#DIV/0!"}}]
["2016-10-17",null,null,null,null,null,null,null,null,null,null,null,null,null,null,null,null,null,null,null,null,null,null,null,null,null,null,null,null,null,null,null,null,null,null,null,null,null,null,null,null,null,null,null,null,null,null,null,null,null,null,null,null,291,0,null,1,0,null,0.1,null,null,null,203,{"$f":"100*COUNT($BK$16:BK306)/$BK$382","v":{"$error":"#DIV/0!"}},null,null,3,{"$f":"100*COUNT($BO$16:BO306)/$BO$382","v":{"$error":"#DIV/0!"}},null,null,256,{"$f":"100*COUNT($BS$16:BS306)/$BS$382","v":{"$error":"#DIV/0!"}}]
["2016-10-18",null,null,null,null,null,null,null,null,null,null,null,null,null,null,null,null,null,null,null,null,null,null,null,null,null,null,null,null,null,null,null,null,null,null,null,null,null,null,null,null,null,null,null,null,null,null,null,null,null,null,null,null,292,0,null,1,0,null,0.1,null,null,null,239,{"$f":"100*COUNT($BK$16:BK307)/$BK$382","v":{"$error":"#DIV/0!"}},null,null,171,{"$f":"100*COUNT($BO$16:BO307)/$BO$382","v":{"$error":"#DIV/0!"}},null,null,273,{"$f":"100*COUNT($BS$16:BS307)/$BS$382","v":{"$error":"#DIV/0!"}}]
["2016-10-19",null,null,null,null,null,null,null,null,null,null,null,null,null,null,null,null,null,null,null,null,null,null,null,null,null,null,null,null,null,null,null,null,null,null,null,null,null,null,null,null,null,null,null,null,null,null,null,null,null,null,null,null,293,0,null,1,0,null,0.1,null,null,null,255,{"$f":"100*COUNT($BK$16:BK308)/$BK$382","v":{"$error":"#DIV/0!"}},null,null,25,{"$f":"100*COUNT($BO$16:BO308)/$BO$382","v":{"$error":"#DIV/0!"}},null,null,198,{"$f":"100*COUNT($BS$16:BS308)/$BS$382","v":{"$error":"#DIV/0!"}}]
["2016-10-20",null,null,null,null,null,null,null,null,null,null,null,null,null,null,null,null,null,null,null,null,null,null,null,null,null,null,null,null,null,null,null,null,null,null,null,null,null,null,null,null,null,null,null,null,null,null,null,null,null,null,null,null,294,0,null,1,0,null,0.1,null,null,null,281,{"$f":"100*COUNT($BK$16:BK309)/$BK$382","v":{"$error":"#DIV/0!"}},null,null,17,{"$f":"100*COUNT($BO$16:BO309)/$BO$382","v":{"$error":"#DIV/0!"}},null,null,191,{"$f":"100*COUNT($BS$16:BS309)/$BS$382","v":{"$error":"#DIV/0!"}}]
["2016-10-21",null,null,null,null,null,null,null,null,null,null,null,null,null,null,null,null,null,null,null,null,null,null,null,null,null,null,null,null,null,null,null,null,null,null,null,null,null,null,null,null,null,null,null,null,null,null,null,null,null,null,null,null,295,0,null,1,0,null,0.1,null,null,null,61,{"$f":"100*COUNT($BK$16:BK310)/$BK$382","v":{"$error":"#DIV/0!"}},null,null,278,{"$f":"100*COUNT($BO$16:BO310)/$BO$382","v":{"$error":"#DIV/0!"}},null,null,93,{"$f":"100*COUNT($BS$16:BS310)/$BS$382","v":{"$error":"#DIV/0!"}}]
["2016-10-22",null,null,null,null,null,null,null,null,null,null,null,null,null,null,null,null,null,null,null,null,null,null,null,null,null,null,null,null,null,null,null,null,null,null,null,null,null,null,null,null,null,null,null,null,null,null,null,null,null,null,null,null,296,0,null,1,0,null,0.1,null,null,null,241,{"$f":"100*COUNT($BK$16:BK311)/$BK$382","v":{"$error":"#DIV/0!"}},null,null,364,{"$f":"100*COUNT($BO$16:BO311)/$BO$382","v":{"$error":"#DIV/0!"}},null,null,220,{"$f":"100*COUNT($BS$16:BS311)/$BS$382","v":{"$error":"#DIV/0!"}}]
["2016-10-23",null,null,null,null,null,null,null,null,null,null,null,null,null,null,null,null,null,null,null,null,null,null,null,null,null,null,null,null,null,null,null,null,null,null,null,null,null,null,null,null,null,null,null,null,null,null,null,null,null,null,null,null,297,0,null,1,0,null,0.1,null,null,null,188,{"$f":"100*COUNT($BK$16:BK312)/$BK$382","v":{"$error":"#DIV/0!"}},null,null,91,{"$f":"100*COUNT($BO$16:BO312)/$BO$382","v":{"$error":"#DIV/0!"}},null,null,330,{"$f":"100*COUNT($BS$16:BS312)/$BS$382","v":{"$error":"#DIV/0!"}}]
["2016-10-24",null,null,null,null,null,null,null,null,null,null,null,null,null,null,null,null,null,null,null,null,null,null,null,null,null,null,null,null,null,null,null,null,null,null,null,null,null,null,null,null,null,null,null,null,null,null,null,null,null,null,null,null,298,0,null,1,0,null,0.1,null,null,null,21,{"$f":"100*COUNT($BK$16:BK313)/$BK$382","v":{"$error":"#DIV/0!"}},null,null,329,{"$f":"100*COUNT($BO$16:BO313)/$BO$382","v":{"$error":"#DIV/0!"}},null,null,233,{"$f":"100*COUNT($BS$16:BS313)/$BS$382","v":{"$error":"#DIV/0!"}}]
["2016-10-25",null,null,null,null,null,null,null,null,null,null,null,null,null,null,null,null,null,null,null,null,null,null,null,null,null,null,null,null,null,null,null,null,null,null,null,null,null,null,null,null,null,null,null,null,null,null,null,null,null,null,null,null,299,0,null,1,0,null,0.1,null,null,null,37,{"$f":"100*COUNT($BK$16:BK314)/$BK$382","v":{"$error":"#DIV/0!"}},null,null,298,{"$f":"100*COUNT($BO$16:BO314)/$BO$382","v":{"$error":"#DIV/0!"}},null,null,109,{"$f":"100*COUNT($BS$16:BS314)/$BS$382","v":{"$error":"#DIV/0!"}}]
["2016-10-26",null,null,null,null,null,null,null,null,null,null,null,null,null,null,null,null,null,null,null,null,null,null,null,null,null,null,null,null,null,null,null,null,null,null,null,null,null,null,null,null,null,null,null,null,null,null,null,null,null,null,null,null,300,0,null,1,0,null,0.1,null,null,null,189,{"$f":"100*COUNT($BK$16:BK315)/$BK$382","v":{"$error":"#DIV/0!"}},null,null,283,{"$f":"100*COUNT($BO$16:BO315)/$BO$382","v":{"$error":"#DIV/0!"}},null,null,29,{"$f":"100*COUNT($BS$16:BS315)/$BS$382","v":{"$error":"#DIV/0!"}}]
["2016-10-27",null,null,null,null,null,null,null,null,null,null,null,null,null,null,null,null,null,null,null,null,null,null,null,null,null,null,null,null,null,null,null,null,null,null,null,null,null,null,null,null,null,null,null,null,null,null,null,null,null,null,null,null,301,0,null,1,0,null,0.1,null,null,null,193,{"$f":"100*COUNT($BK$16:BK316)/$BK$382","v":{"$error":"#DIV/0!"}},null,null,182,{"$f":"100*COUNT($BO$16:BO316)/$BO$382","v":{"$error":"#DIV/0!"}},null,null,280,{"$f":"100*COUNT($BS$16:BS316)/$BS$382","v":{"$error":"#DIV/0!"}}]
["2016-10-28",null,null,null,null,null,null,null,null,null,null,null,null,null,null,null,null,null,null,null,null,null,null,null,null,null,null,null,null,null,null,null,null,null,null,null,null,null,null,null,null,null,null,null,null,null,null,null,null,null,null,null,null,302,0,null,1,0,null,0.1,null,null,null,64,{"$f":"100*COUNT($BK$16:BK317)/$BK$382","v":{"$error":"#DIV/0!"}},null,null,36,{"$f":"100*COUNT($BO$16:BO317)/$BO$382","v":{"$error":"#DIV/0!"}},null,null,165,{"$f":"100*COUNT($BS$16:BS317)/$BS$382","v":{"$error":"#DIV/0!"}}]
["2016-10-29",null,null,null,null,null,null,null,null,null,null,null,null,null,null,null,null,null,null,null,null,null,null,null,null,null,null,null,null,null,null,null,null,null,null,null,null,null,null,null,null,null,null,null,null,null,null,null,null,null,null,null,null,303,0,null,1,0,null,0.1,null,null,null,112,{"$f":"100*COUNT($BK$16:BK318)/$BK$382","v":{"$error":"#DIV/0!"}},null,null,73,{"$f":"100*COUNT($BO$16:BO318)/$BO$382","v":{"$error":"#DIV/0!"}},null,null,349,{"$f":"100*COUNT($BS$16:BS318)/$BS$382","v":{"$error":"#DIV/0!"}}]
["2016-10-30",null,null,null,null,null,null,null,null,null,null,null,null,null,null,null,null,null,null,null,null,null,null,null,null,null,null,null,null,null,null,null,null,null,null,null,null,null,null,null,null,null,null,null,null,null,null,null,null,null,null,null,null,304,0,null,1,0,null,0.1,null,null,null,355,{"$f":"100*COUNT($BK$16:BK319)/$BK$382","v":{"$error":"#DIV/0!"}},null,null,null,{"$f":"100*COUNT($BO$16:BO319)/$BO$382","v":{"$error":"#DIV/0!"}},null,null,170,{"$f":"100*COUNT($BS$16:BS319)/$BS$382","v":{"$error":"#DIV/0!"}}]
["2016-10-31",null,null,null,null,null,null,null,null,null,null,null,null,null,null,null,null,null,null,null,null,null,null,null,null,null,null,null,null,null,null,null,null,null,null,null,null,null,null,null,null,null,null,null,null,null,null,null,null,null,null,null,null,305,0,null,1,0,null,0.1,null,null,null,284,{"$f":"100*COUNT($BK$16:BK320)/$BK$382","v":{"$error":"#DIV/0!"}},null,null,180,{"$f":"100*COUNT($BO$16:BO320)/$BO$382","v":{"$error":"#DIV/0!"}},null,null,119,{"$f":"100*COUNT($BS$16:BS320)/$BS$382","v":{"$error":"#DIV/0!"}}]
["2016-11-01",null,null,null,null,null,null,null,null,null,null,null,null,null,null,null,null,null,null,null,null,null,null,null,null,null,null,null,null,null,null,null,null,null,null,null,null,null,null,null,null,null,null,null,null,null,null,null,null,null,null,null,null,306,0,null,1,0,null,0.1,null,null,null,62,{"$f":"100*COUNT($BK$16:BK321)/$BK$382","v":{"$error":"#DIV/0!"}},null,null,297,{"$f":"100*COUNT($BO$16:BO321)/$BO$382","v":{"$error":"#DIV/0!"}},null,null,103,{"$f":"100*COUNT($BS$16:BS321)/$BS$382","v":{"$error":"#DIV/0!"}}]
["2016-11-02",null,null,null,null,null,null,null,null,null,null,null,null,null,null,null,null,null,null,null,null,null,null,null,null,null,null,null,null,null,null,null,null,null,null,null,null,null,null,null,null,null,null,null,null,null,null,null,null,null,null,null,null,307,0,null,1,0,null,0.1,null,null,null,11,{"$f":"100*COUNT($BK$16:BK322)/$BK$382","v":{"$error":"#DIV/0!"}},null,null,256,{"$f":"100*COUNT($BO$16:BO322)/$BO$382","v":{"$error":"#DIV/0!"}},null,null,298,{"$f":"100*COUNT($BS$16:BS322)/$BS$382","v":{"$error":"#DIV/0!"}}]
["2016-11-03",null,null,null,null,null,null,null,null,null,null,null,null,null,null,null,null,null,null,null,null,null,null,null,null,null,null,null,null,null,null,null,null,null,null,null,null,null,null,null,null,null,null,null,null,null,null,null,null,null,null,null,null,308,0,null,1,0,null,0.1,null,null,null,262,{"$f":"100*COUNT($BK$16:BK323)/$BK$382","v":{"$error":"#DIV/0!"}},null,null,185,{"$f":"100*COUNT($BO$16:BO323)/$BO$382","v":{"$error":"#DIV/0!"}},null,null,336,{"$f":"100*COUNT($BS$16:BS323)/$BS$382","v":{"$error":"#DIV/0!"}}]
["2016-11-04",null,null,null,null,null,null,null,null,null,null,null,null,null,null,null,null,null,null,null,null,null,null,null,null,null,null,null,null,null,null,null,null,null,null,null,null,null,null,null,null,null,null,null,null,null,null,null,null,null,null,null,null,309,0,null,1,0,null,0.1,null,null,null,82,{"$f":"100*COUNT($BK$16:BK324)/$BK$382","v":{"$error":"#DIV/0!"}},null,null,136,{"$f":"100*COUNT($BO$16:BO324)/$BO$382","v":{"$error":"#DIV/0!"}},null,null,355,{"$f":"100*COUNT($BS$16:BS324)/$BS$382","v":{"$error":"#DIV/0!"}}]
["2016-11-05",null,null,null,null,null,null,null,null,null,null,null,null,null,null,null,null,null,null,null,null,null,null,null,null,null,null,null,null,null,null,null,null,null,null,null,null,null,null,null,null,null,null,null,null,null,null,null,null,null,null,null,null,310,0,null,1,0,null,0.1,null,null,null,55,{"$f":"100*COUNT($BK$16:BK325)/$BK$382","v":{"$error":"#DIV/0!"}},null,null,292,{"$f":"100*COUNT($BO$16:BO325)/$BO$382","v":{"$error":"#DIV/0!"}},null,null,51,{"$f":"100*COUNT($BS$16:BS325)/$BS$382","v":{"$error":"#DIV/0!"}}]
["2016-11-06",null,null,null,null,null,null,null,null,null,null,null,null,null,null,null,null,null,null,null,null,null,null,null,null,null,null,null,null,null,null,null,null,null,null,null,null,null,null,null,null,null,null,null,null,null,null,null,null,null,null,null,null,311,0,null,1,0,null,0.1,null,null,null,232,{"$f":"100*COUNT($BK$16:BK326)/$BK$382","v":{"$error":"#DIV/0!"}},null,null,168,{"$f":"100*COUNT($BO$16:BO326)/$BO$382","v":{"$error":"#DIV/0!"}},null,null,351,{"$f":"100*COUNT($BS$16:BS326)/$BS$382","v":{"$error":"#DIV/0!"}}]
["2016-11-07",null,null,null,null,null,null,null,null,null,null,null,null,null,null,null,null,null,null,null,null,null,null,null,null,null,null,null,null,null,null,null,null,null,null,null,null,null,null,null,null,null,null,null,null,null,null,null,null,null,null,null,null,312,0,null,1,0,null,0.1,null,null,null,2,{"$f":"100*COUNT($BK$16:BK327)/$BK$382","v":{"$error":"#DIV/0!"}},null,null,239,{"$f":"100*COUNT($BO$16:BO327)/$BO$382","v":{"$error":"#DIV/0!"}},null,null,255,{"$f":"100*COUNT($BS$16:BS327)/$BS$382","v":{"$error":"#DIV/0!"}}]
["2016-11-08",null,null,null,null,null,null,null,null,null,null,null,null,null,null,null,null,null,null,null,null,null,null,null,null,null,null,null,null,null,null,null,null,null,null,null,null,null,null,null,null,null,null,null,null,null,null,null,null,null,null,null,null,313,0,null,1,0,null,0.1,null,null,null,302,{"$f":"100*COUNT($BK$16:BK328)/$BK$382","v":{"$error":"#DIV/0!"}},null,null,80,{"$f":"100*COUNT($BO$16:BO328)/$BO$382","v":{"$error":"#DIV/0!"}},null,null,12,{"$f":"100*COUNT($BS$16:BS328)/$BS$382","v":{"$error":"#DIV/0!"}}]
["2016-11-09",null,null,null,null,null,null,null,null,null,null,null,null,null,null,null,null,null,null,null,null,null,null,null,null,null,null,null,null,null,null,null,null,null,null,null,null,null,null,null,null,null,null,null,null,null,null,null,null,null,null,null,null,314,0,null,1,0,null,0.1,null,null,null,40,{"$f":"100*COUNT($BK$16:BK329)/$BK$382","v":{"$error":"#DIV/0!"}},null,null,243,{"$f":"100*COUNT($BO$16:BO329)/$BO$382","v":{"$error":"#DIV/0!"}},null,null,187,{"$f":"100*COUNT($BS$16:BS329)/$BS$382","v":{"$error":"#DIV/0!"}}]
["2016-11-10",null,null,null,null,null,null,null,null,null,null,null,null,null,null,null,null,null,null,null,null,null,null,null,null,null,null,null,null,null,null,null,null,null,null,null,null,null,null,null,null,null,null,null,null,null,null,null,null,null,null,null,null,315,0,null,1,0,null,0.1,null,null,null,325,{"$f":"100*COUNT($BK$16:BK330)/$BK$382","v":{"$error":"#DIV/0!"}},null,null,145,{"$f":"100*COUNT($BO$16:BO330)/$BO$382","v":{"$error":"#DIV/0!"}},null,null,360,{"$f":"100*COUNT($BS$16:BS330)/$BS$382","v":{"$error":"#DIV/0!"}}]
["2016-11-11",null,null,null,null,null,null,null,null,null,null,null,null,null,null,null,null,null,null,null,null,null,null,null,null,null,null,null,null,null,null,null,null,null,null,null,null,null,null,null,null,null,null,null,null,null,null,null,null,null,null,null,null,316,0,null,1,0,null,0.1,null,null,null,72,{"$f":"100*COUNT($BK$16:BK331)/$BK$382","v":{"$error":"#DIV/0!"}},null,null,351,{"$f":"100*COUNT($BO$16:BO331)/$BO$382","v":{"$error":"#DIV/0!"}},null,null,257,{"$f":"100*COUNT($BS$16:BS331)/$BS$382","v":{"$error":"#DIV/0!"}}]
["2016-11-12",null,null,null,null,null,null,null,null,null,null,null,null,null,null,null,null,null,null,null,null,null,null,null,null,null,null,null,null,null,null,null,null,null,null,null,null,null,null,null,null,null,null,null,null,null,null,null,null,null,null,null,null,317,0,null,1,0,null,0.1,null,null,null,null,{"$f":"100*COUNT($BK$16:BK332)/$BK$382","v":{"$error":"#DIV/0!"}},null,null,309,{"$f":"100*COUNT($BO$16:BO332)/$BO$382","v":{"$error":"#DIV/0!"}},null,null,195,{"$f":"100*COUNT($BS$16:BS332)/$BS$382","v":{"$error":"#DIV/0!"}}]
["2016-11-13",null,null,null,null,null,null,null,null,null,null,null,null,null,null,null,null,null,null,null,null,null,null,null,null,null,null,null,null,null,null,null,null,null,null,null,null,null,null,null,null,null,null,null,null,null,null,null,null,null,null,null,null,318,0,null,1,0,null,0.1,null,null,null,115,{"$f":"100*COUNT($BK$16:BK333)/$BK$382","v":{"$error":"#DIV/0!"}},null,null,110,{"$f":"100*COUNT($BO$16:BO333)/$BO$382","v":{"$error":"#DIV/0!"}},null,null,311,{"$f":"100*COUNT($BS$16:BS333)/$BS$382","v":{"$error":"#DIV/0!"}}]
["2016-11-14",null,null,null,null,null,null,null,null,null,null,null,null,null,null,null,null,null,null,null,null,null,null,null,null,null,null,null,null,null,null,null,null,null,null,null,null,null,null,null,null,null,null,null,null,null,null,null,null,null,null,null,null,319,0,null,1,0,null,0.1,null,null,null,261,{"$f":"100*COUNT($BK$16:BK334)/$BK$382","v":{"$error":"#DIV/0!"}},null,null,54,{"$f":"100*COUNT($BO$16:BO334)/$BO$382","v":{"$error":"#DIV/0!"}},null,null,339,{"$f":"100*COUNT($BS$16:BS334)/$BS$382","v":{"$error":"#DIV/0!"}}]
["2016-11-15",null,null,null,null,null,null,null,null,null,null,null,null,null,null,null,null,null,null,null,null,null,null,null,null,null,null,null,null,null,null,null,null,null,null,null,null,null,null,null,null,null,null,null,null,null,null,null,null,null,null,null,null,320,0,null,1,0,null,0.1,null,null,null,32,{"$f":"100*COUNT($BK$16:BK335)/$BK$382","v":{"$error":"#DIV/0!"}},null,null,4,{"$f":"100*COUNT($BO$16:BO335)/$BO$382","v":{"$error":"#DIV/0!"}},null,null,154,{"$f":"100*COUNT($BS$16:BS335)/$BS$382","v":{"$error":"#DIV/0!"}}]
["2016-11-16",null,null,null,null,null,null,null,null,null,null,null,null,null,null,null,null,null,null,null,null,null,null,null,null,null,null,null,null,null,null,null,null,null,null,null,null,null,null,null,null,null,null,null,null,null,null,null,null,null,null,null,null,321,0,null,{"$f":"$G$5","v":1},0,null,{"$f":"$G$6","v":0.1},null,null,null,143,{"$f":"100*COUNT($BK$16:BK336)/$BK$382","v":{"$error":"#DIV/0!"}},null,null,12,{"$f":"100*COUNT($BO$16:BO336)/$BO$382","v":{"$error":"#DIV/0!"}},null,null,205,{"$f":"100*COUNT($BS$16:BS336)/$BS$382","v":{"$error":"#DIV/0!"}}]
[{"$f":"A336+1","v":"2016-11-17"},null,null,null,null,null,null,null,null,null,null,null,null,null,null,null,null,null,null,null,null,null,null,null,null,null,null,null,null,null,null,null,null,null,null,null,null,null,null,null,null,null,null,null,null,null,null,null,null,null,null,null,null,{"$f":"BB336+1","v":322},{"$f":"MAX(C337:J337)","v":0},null,1,{"$f":"MAX(K337:AT337)","v":0},null,0.1,null,null,null,323,{"$f":"100*COUNT($BK$16:BK337)/$BK$382","v":{"$error":"#DIV/0!"}},null,null,77,{"$f":"100*COUNT($BO$16:BO337)/$BO$382","v":{"$error":"#DIV/0!"}},null,null,246,{"$f":"100*COUNT($BS$16:BS337)/$BS$382","v":{"$error":"#DIV/0!"}}]
["2016-11-18",null,null,null,null,null,null,null,null,null,null,null,null,null,null,null,null,null,null,null,null,null,null,null,null,null,null,null,null,null,null,null,null,null,null,null,null,null,null,null,null,null,null,null,null,null,null,null,null,null,null,null,null,323,0,null,1,0,null,0.1,null,null,null,253,{"$f":"100*COUNT($BK$16:BK338)/$BK$382","v":{"$error":"#DIV/0!"}},null,null,341,{"$f":"100*COUNT($BO$16:BO338)/$BO$382","v":{"$error":"#DIV/0!"}},null,null,23,{"$f":"100*COUNT($BS$16:BS338)/$BS$382","v":{"$error":"#DIV/0!"}}]
["2016-11-19",null,null,null,null,null,null,null,null,null,null,null,null,null,null,null,null,null,null,null,null,null,null,null,null,null,null,null,null,null,null,null,null,null,null,null,null,null,null,null,null,null,null,null,null,null,null,null,null,null,null,null,null,324,0,null,1,0,null,0.1,null,null,null,288,{"$f":"100*COUNT($BK$16:BK339)/$BK$382","v":{"$error":"#DIV/0!"}},null,null,22,{"$f":"100*COUNT($BO$16:BO339)/$BO$382","v":{"$error":"#DIV/0!"}},null,null,89,{"$f":"100*COUNT($BS$16:BS339)/$BS$382","v":{"$error":"#DIV/0!"}}]
["2016-11-20",null,null,null,null,null,null,null,null,null,null,null,null,null,null,null,null,null,null,null,null,null,null,null,null,null,null,null,null,null,null,null,null,null,null,null,null,null,null,null,null,null,null,null,null,null,null,null,null,null,null,null,null,325,0,null,1,0,null,0.1,null,null,null,43,{"$f":"100*COUNT($BK$16:BK340)/$BK$382","v":{"$error":"#DIV/0!"}},null,null,24,{"$f":"100*COUNT($BO$16:BO340)/$BO$382","v":{"$error":"#DIV/0!"}},null,null,261,{"$f":"100*COUNT($BS$16:BS340)/$BS$382","v":{"$error":"#DIV/0!"}}]
["2016-11-21",null,null,null,null,null,null,null,null,null,null,null,null,null,null,null,null,null,null,null,null,null,null,null,null,null,null,null,null,null,null,null,null,null,null,null,null,null,null,null,null,null,null,null,null,null,null,null,null,null,null,null,null,326,0,null,1,0,null,0.1,null,null,null,44,{"$f":"100*COUNT($BK$16:BK341)/$BK$382","v":{"$error":"#DIV/0!"}},null,null,48,{"$f":"100*COUNT($BO$16:BO341)/$BO$382","v":{"$error":"#DIV/0!"}},null,null,32,{"$f":"100*COUNT($BS$16:BS341)/$BS$382","v":{"$error":"#DIV/0!"}}]
["2016-11-22",null,null,null,null,null,null,null,null,null,null,null,null,null,null,null,null,null,null,null,null,null,null,null,null,null,null,null,null,null,null,null,null,null,null,null,null,null,null,null,null,null,null,null,null,null,null,null,null,null,null,null,null,327,0,null,1,0,null,0.1,null,null,null,114,{"$f":"100*COUNT($BK$16:BK342)/$BK$382","v":{"$error":"#DIV/0!"}},null,null,37,{"$f":"100*COUNT($BO$16:BO342)/$BO$382","v":{"$error":"#DIV/0!"}},null,null,322,{"$f":"100*COUNT($BS$16:BS342)/$BS$382","v":{"$error":"#DIV/0!"}}]
["2016-11-23",null,null,null,null,null,null,null,null,null,null,null,null,null,null,null,null,null,null,null,null,null,null,null,null,null,null,null,null,null,null,null,null,null,null,null,null,null,null,null,null,null,null,null,null,null,null,null,null,null,null,null,null,328,0,null,1,0,null,0.1,null,null,null,234,{"$f":"100*COUNT($BK$16:BK343)/$BK$382","v":{"$error":"#DIV/0!"}},null,null,215,{"$f":"100*COUNT($BO$16:BO343)/$BO$382","v":{"$error":"#DIV/0!"}},null,null,135,{"$f":"100*COUNT($BS$16:BS343)/$BS$382","v":{"$error":"#DIV/0!"}}]
["2016-11-24",null,null,null,null,null,null,null,null,null,null,null,null,null,null,null,null,null,null,null,null,null,null,null,null,null,null,null,null,null,null,null,null,null,null,null,null,null,null,null,null,null,null,null,null,null,null,null,null,null,null,null,null,329,0,null,1,0,null,0.1,null,null,null,93,{"$f":"100*COUNT($BK$16:BK344)/$BK$382","v":{"$error":"#DIV/0!"}},null,null,222,{"$f":"100*COUNT($BO$16:BO344)/$BO$382","v":{"$error":"#DIV/0!"}},null,null,41,{"$f":"100*COUNT($BS$16:BS344)/$BS$382","v":{"$error":"#DIV/0!"}}]
["2016-11-25",null,null,null,null,null,null,null,null,null,null,null,null,null,null,null,null,null,null,null,null,null,null,null,null,null,null,null,null,null,null,null,null,null,null,null,null,null,null,null,null,null,null,null,null,null,null,null,null,null,null,null,null,330,0,null,1,0,null,0.1,null,null,null,80,{"$f":"100*COUNT($BK$16:BK345)/$BK$382","v":{"$error":"#DIV/0!"}},null,null,57,{"$f":"100*COUNT($BO$16:BO345)/$BO$382","v":{"$error":"#DIV/0!"}},null,null,200,{"$f":"100*COUNT($BS$16:BS345)/$BS$382","v":{"$error":"#DIV/0!"}}]
["2016-11-26",null,null,null,null,null,null,null,null,null,null,null,null,null,null,null,null,null,null,null,null,null,null,null,null,null,null,null,null,null,null,null,null,null,null,null,null,null,null,null,null,null,null,null,null,null,null,null,null,null,null,null,null,331,0,null,1,0,null,0.1,null,null,null,300,{"$f":"100*COUNT($BK$16:BK346)/$BK$382","v":{"$error":"#DIV/0!"}},null,null,231,{"$f":"100*COUNT($BO$16:BO346)/$BO$382","v":{"$error":"#DIV/0!"}},null,null,331,{"$f":"100*COUNT($BS$16:BS346)/$BS$382","v":{"$error":"#DIV/0!"}}]
["2016-11-27",null,null,null,null,null,null,null,null,null,null,null,null,null,null,null,null,null,null,null,null,null,null,null,null,null,null,null,null,null,null,null,null,null,null,null,null,null,null,null,null,null,null,null,null,null,null,null,null,null,null,null,null,332,0,null,1,0,null,0.1,null,null,null,26,{"$f":"100*COUNT($BK$16:BK347)/$BK$382","v":{"$error":"#DIV/0!"}},null,null,352,{"$f":"100*COUNT($BO$16:BO347)/$BO$382","v":{"$error":"#DIV/0!"}},null,null,285,{"$f":"100*COUNT($BS$16:BS347)/$BS$382","v":{"$error":"#DIV/0!"}}]
["2016-11-28",null,null,null,null,null,null,null,null,null,null,null,null,null,null,null,null,null,null,null,null,null,null,null,null,null,null,null,null,null,null,null,null,null,null,null,null,null,null,null,null,null,null,null,null,null,null,null,null,null,null,null,null,333,0,null,1,0,null,0.1,null,null,null,214,{"$f":"100*COUNT($BK$16:BK348)/$BK$382","v":{"$error":"#DIV/0!"}},null,null,42,{"$f":"100*COUNT($BO$16:BO348)/$BO$382","v":{"$error":"#DIV/0!"}},null,null,347,{"$f":"100*COUNT($BS$16:BS348)/$BS$382","v":{"$error":"#DIV/0!"}}]
[{"$f":"A348+1","v":"2016-11-29"},null,null,null,null,null,null,null,null,null,null,null,null,null,null,null,null,null,null,null,null,null,null,null,null,null,null,null,null,null,null,null,null,null,null,null,null,null,null,null,null,null,null,null,null,null,null,null,null,null,null,null,null,334,0,null,1,0,null,0.1,null,null,null,347,{"$f":"100*COUNT($BK$16:BK349)/$BK$382","v":{"$error":"#DIV/0!"}},null,null,330,{"$f":"100*COUNT($BO$16:BO349)/$BO$382","v":{"$error":"#DIV/0!"}},null,null,224,{"$f":"100*COUNT($BS$16:BS349)/$BS$382","v":{"$error":"#DIV/0!"}}]
[{"$f":"A349+1","v":"2016-11-30"},null,null,null,null,null,null,null,null,null,null,null,null,null,null,null,null,null,null,null,null,null,null,null,null,null,null,null,null,null,null,null,null,null,null,null,null,null,null,null,null,null,null,null,null,null,null,null,null,null,null,null,null,335,0,null,1,0,null,0.1,null,null,null,46,{"$f":"100*COUNT($BK$16:BK350)/$BK$382","v":{"$error":"#DIV/0!"}},null,null,26,{"$f":"100*COUNT($BO$16:BO350)/$BO$382","v":{"$error":"#DIV/0!"}},null,null,363,{"$f":"100*COUNT($BS$16:BS350)/$BS$382","v":{"$error":"#DIV/0!"}}]
["2016-12-01",null,null,null,null,null,null,null,null,null,null,null,null,null,null,null,null,null,null,null,null,null,null,null,null,null,null,null,null,null,null,null,null,null,null,null,null,null,null,null,null,null,null,null,null,null,null,null,null,null,null,null,null,336,0,null,1,0,null,0.1,null,null,null,182,{"$f":"100*COUNT($BK$16:BK351)/$BK$382","v":{"$error":"#DIV/0!"}},null,null,236,{"$f":"100*COUNT($BO$16:BO351)/$BO$382","v":{"$error":"#DIV/0!"}},null,null,334,{"$f":"100*COUNT($BS$16:BS351)/$BS$382","v":{"$error":"#DIV/0!"}}]
["2016-12-02",null,null,null,null,null,null,null,null,null,null,null,null,null,null,null,null,null,null,null,null,null,null,null,null,null,null,null,null,null,null,null,null,null,null,null,null,null,null,null,null,null,null,null,null,null,null,null,null,null,null,null,null,337,0,null,1,0,null,0.1,null,null,null,289,{"$f":"100*COUNT($BK$16:BK352)/$BK$382","v":{"$error":"#DIV/0!"}},null,null,327,{"$f":"100*COUNT($BO$16:BO352)/$BO$382","v":{"$error":"#DIV/0!"}},null,null,27,{"$f":"100*COUNT($BS$16:BS352)/$BS$382","v":{"$error":"#DIV/0!"}}]
["2016-12-03",null,null,null,null,null,null,null,null,null,null,null,null,null,null,null,null,null,null,null,null,null,null,null,null,null,null,null,null,null,null,null,null,null,null,null,null,null,null,null,null,null,null,null,null,null,null,null,null,null,null,null,null,338,0,null,1,0,null,0.1,null,null,null,352,{"$f":"100*COUNT($BK$16:BK353)/$BK$382","v":{"$error":"#DIV/0!"}},null,null,43,{"$f":"100*COUNT($BO$16:BO353)/$BO$382","v":{"$error":"#DIV/0!"}},null,null,121,{"$f":"100*COUNT($BS$16:BS353)/$BS$382","v":{"$error":"#DIV/0!"}}]
["2016-12-04",null,null,null,null,null,null,null,null,null,null,null,null,null,null,null,null,null,null,null,null,null,null,null,null,null,null,null,null,null,null,null,null,null,null,null,null,null,null,null,null,null,null,null,null,null,null,null,null,null,null,null,null,339,0,null,1,0,null,0.1,null,null,null,221,{"$f":"100*COUNT($BK$16:BK354)/$BK$382","v":{"$error":"#DIV/0!"}},null,null,317,{"$f":"100*COUNT($BO$16:BO354)/$BO$382","v":{"$error":"#DIV/0!"}},null,null,314,{"$f":"100*COUNT($BS$16:BS354)/$BS$382","v":{"$error":"#DIV/0!"}}]
["2016-12-05",null,null,null,null,null,null,null,null,null,null,null,null,null,null,null,null,null,null,null,null,null,null,null,null,null,null,null,null,null,null,null,null,null,null,null,null,null,null,null,null,null,null,null,null,null,null,null,null,null,null,null,null,340,0,null,1,0,null,0.1,null,null,null,140,{"$f":"100*COUNT($BK$16:BK355)/$BK$382","v":{"$error":"#DIV/0!"}},null,null,155,{"$f":"100*COUNT($BO$16:BO355)/$BO$382","v":{"$error":"#DIV/0!"}},null,null,244,{"$f":"100*COUNT($BS$16:BS355)/$BS$382","v":{"$error":"#DIV/0!"}}]
["2016-12-06",null,null,null,null,null,null,null,null,null,null,null,null,null,null,null,null,null,null,null,null,null,null,null,null,null,null,null,null,null,null,null,null,null,null,null,null,null,null,null,null,null,null,null,null,null,null,null,null,null,null,null,null,341,0,null,1,0,null,0.1,null,null,null,105,{"$f":"100*COUNT($BK$16:BK356)/$BK$382","v":{"$error":"#DIV/0!"}},null,null,90,{"$f":"100*COUNT($BO$16:BO356)/$BO$382","v":{"$error":"#DIV/0!"}},null,null,66,{"$f":"100*COUNT($BS$16:BS356)/$BS$382","v":{"$error":"#DIV/0!"}}]
["2016-12-07",null,null,null,null,null,null,null,null,null,null,null,null,null,null,null,null,null,null,null,null,null,null,null,null,null,null,null,null,null,null,null,null,null,null,null,null,null,null,null,null,null,null,null,null,null,null,null,null,null,null,null,null,342,0,null,1,0,null,0.1,null,null,null,77,{"$f":"100*COUNT($BK$16:BK357)/$BK$382","v":{"$error":"#DIV/0!"}},null,null,230,{"$f":"100*COUNT($BO$16:BO357)/$BO$382","v":{"$error":"#DIV/0!"}},null,null,210,{"$f":"100*COUNT($BS$16:BS357)/$BS$382","v":{"$error":"#DIV/0!"}}]
["2016-12-08",null,null,null,null,null,null,null,null,null,null,null,null,null,null,null,null,null,null,null,null,null,null,null,null,null,null,null,null,null,null,null,null,null,null,null,null,null,null,null,null,null,null,null,null,null,null,null,null,null,null,null,null,343,0,null,1,0,null,0.1,null,null,null,168,{"$f":"100*COUNT($BK$16:BK358)/$BK$382","v":{"$error":"#DIV/0!"}},null,null,74,{"$f":"100*COUNT($BO$16:BO358)/$BO$382","v":{"$error":"#DIV/0!"}},null,null,248,{"$f":"100*COUNT($BS$16:BS358)/$BS$382","v":{"$error":"#DIV/0!"}}]
["2016-12-09",null,null,null,null,null,null,null,null,null,null,null,null,null,null,null,null,null,null,null,null,null,null,null,null,null,null,null,null,null,null,null,null,null,null,null,null,null,null,null,null,null,null,null,null,null,null,null,null,null,null,null,null,344,0,null,1,0,null,0.1,null,null,null,231,{"$f":"100*COUNT($BK$16:BK359)/$BK$382","v":{"$error":"#DIV/0!"}},null,null,140,{"$f":"100*COUNT($BO$16:BO359)/$BO$382","v":{"$error":"#DIV/0!"}},null,null,346,{"$f":"100*COUNT($BS$16:BS359)/$BS$382","v":{"$error":"#DIV/0!"}}]
["2016-12-10",null,null,null,null,null,null,null,null,null,null,null,null,null,null,null,null,null,null,null,null,null,null,null,null,null,null,null,null,null,null,null,null,null,null,null,null,null,null,null,null,null,null,null,null,null,null,null,null,null,null,null,null,345,0,null,1,0,null,0.1,null,null,null,35,{"$f":"100*COUNT($BK$16:BK360)/$BK$382","v":{"$error":"#DIV/0!"}},null,null,228,{"$f":"100*COUNT($BO$16:BO360)/$BO$382","v":{"$error":"#DIV/0!"}},null,null,181,{"$f":"100*COUNT($BS$16:BS360)/$BS$382","v":{"$error":"#DIV/0!"}}]
["2016-12-11",null,null,null,null,null,null,null,null,null,null,null,null,null,null,null,null,null,null,null,null,null,null,null,null,null,null,null,null,null,null,null,null,null,null,null,null,null,null,null,null,null,null,null,null,null,null,null,null,null,null,null,null,346,0,null,1,0,null,0.1,null,null,null,1,{"$f":"100*COUNT($BK$16:BK361)/$BK$382","v":{"$error":"#DIV/0!"}},null,null,118,{"$f":"100*COUNT($BO$16:BO361)/$BO$382","v":{"$error":"#DIV/0!"}},null,null,282,{"$f":"100*COUNT($BS$16:BS361)/$BS$382","v":{"$error":"#DIV/0!"}}]
["2016-12-12",null,null,null,null,null,null,null,null,null,null,null,null,null,null,null,null,null,null,null,null,null,null,null,null,null,null,null,null,null,null,null,null,null,null,null,null,null,null,null,null,null,null,null,null,null,null,null,null,null,null,null,null,347,0,null,1,0,null,0.1,null,null,null,94,{"$f":"100*COUNT($BK$16:BK362)/$BK$382","v":{"$error":"#DIV/0!"}},null,null,274,{"$f":"100*COUNT($BO$16:BO362)/$BO$382","v":{"$error":"#DIV/0!"}},null,null,60,{"$f":"100*COUNT($BS$16:BS362)/$BS$382","v":{"$error":"#DIV/0!"}}]
["2016-12-13",null,null,null,null,null,null,null,null,null,null,null,null,null,null,null,null,null,null,null,null,null,null,null,null,null,null,null,null,null,null,null,null,null,null,null,null,null,null,null,null,null,null,null,null,null,null,null,null,null,null,null,null,348,0,null,1,0,null,0.1,null,null,null,116,{"$f":"100*COUNT($BK$16:BK363)/$BK$382","v":{"$error":"#DIV/0!"}},null,null,226,{"$f":"100*COUNT($BO$16:BO363)/$BO$382","v":{"$error":"#DIV/0!"}},null,null,326,{"$f":"100*COUNT($BS$16:BS363)/$BS$382","v":{"$error":"#DIV/0!"}}]
["2016-12-14",null,null,null,null,null,null,null,null,null,null,null,null,null,null,null,null,null,null,null,null,null,null,null,null,null,null,null,null,null,null,null,null,null,null,null,null,null,null,null,null,null,null,null,null,null,null,null,null,null,null,null,null,349,0,null,1,0,null,0.1,null,null,null,250,{"$f":"100*COUNT($BK$16:BK364)/$BK$382","v":{"$error":"#DIV/0!"}},null,null,175,{"$f":"100*COUNT($BO$16:BO364)/$BO$382","v":{"$error":"#DIV/0!"}},null,null,175,{"$f":"100*COUNT($BS$16:BS364)/$BS$382","v":{"$error":"#DIV/0!"}}]
["2016-12-15",null,null,null,null,null,null,null,null,null,null,null,null,null,null,null,null,null,null,null,null,null,null,null,null,null,null,null,null,null,null,null,null,null,null,null,null,null,null,null,null,null,null,null,null,null,null,null,null,null,null,null,null,350,0,null,1,0,null,0.1,null,null,null,277,{"$f":"100*COUNT($BK$16:BK365)/$BK$382","v":{"$error":"#DIV/0!"}},null,null,333,{"$f":"100*COUNT($BO$16:BO365)/$BO$382","v":{"$error":"#DIV/0!"}},null,null,151,{"$f":"100*COUNT($BS$16:BS365)/$BS$382","v":{"$error":"#DIV/0!"}}]
["2016-12-16",null,null,null,null,null,null,null,null,null,null,null,null,null,null,null,null,null,null,null,null,null,null,null,null,null,null,null,null,null,null,null,null,null,null,null,null,null,null,null,null,null,null,null,null,null,null,null,null,null,null,null,null,351,0,null,1,0,null,0.1,null,null,null,66,{"$f":"100*COUNT($BK$16:BK366)/$BK$382","v":{"$error":"#DIV/0!"}},null,null,339,{"$f":"100*COUNT($BO$16:BO366)/$BO$382","v":{"$error":"#DIV/0!"}},null,null,268,{"$f":"100*COUNT($BS$16:BS366)/$BS$382","v":{"$error":"#DIV/0!"}}]
["2016-12-17",null,null,null,null,null,null,null,null,null,null,null,null,null,null,null,null,null,null,null,null,null,null,null,null,null,null,null,null,null,null,null,null,null,null,null,null,null,null,null,null,null,null,null,null,null,null,null,null,null,null,null,null,352,0,null,1,0,null,0.1,null,null,null,9,{"$f":"100*COUNT($BK$16:BK367)/$BK$382","v":{"$error":"#DIV/0!"}},null,null,59,{"$f":"100*COUNT($BO$16:BO367)/$BO$382","v":{"$error":"#DIV/0!"}},null,null,324,{"$f":"100*COUNT($BS$16:BS367)/$BS$382","v":{"$error":"#DIV/0!"}}]
["2016-12-18",null,null,null,null,null,null,null,null,null,null,null,null,null,null,null,null,null,null,null,null,null,null,null,null,null,null,null,null,null,null,null,null,null,null,null,null,null,null,null,null,null,null,null,null,null,null,null,null,null,null,null,null,353,0,null,1,0,null,0.1,null,null,null,306,{"$f":"100*COUNT($BK$16:BK368)/$BK$382","v":{"$error":"#DIV/0!"}},null,null,66,{"$f":"100*COUNT($BO$16:BO368)/$BO$382","v":{"$error":"#DIV/0!"}},null,null,214,{"$f":"100*COUNT($BS$16:BS368)/$BS$382","v":{"$error":"#DIV/0!"}}]
["2016-12-19",null,null,null,null,null,null,null,null,null,null,null,null,null,null,null,null,null,null,null,null,null,null,null,null,null,null,null,null,null,null,null,null,null,null,null,null,null,null,null,null,null,null,null,null,null,null,null,null,null,null,null,null,354,0,null,1,0,null,0.1,null,null,null,198,{"$f":"100*COUNT($BK$16:BK369)/$BK$382","v":{"$error":"#DIV/0!"}},null,null,266,{"$f":"100*COUNT($BO$16:BO369)/$BO$382","v":{"$error":"#DIV/0!"}},null,null,155,{"$f":"100*COUNT($BS$16:BS369)/$BS$382","v":{"$error":"#DIV/0!"}}]
["2016-12-20",null,null,null,null,null,null,null,null,null,null,null,null,null,null,null,null,null,null,null,null,null,null,null,null,null,null,null,null,null,null,null,null,null,null,null,null,null,null,null,null,null,null,null,null,null,null,null,null,null,null,null,null,355,0,null,1,0,null,0.1,null,null,null,70,{"$f":"100*COUNT($BK$16:BK370)/$BK$382","v":{"$error":"#DIV/0!"}},null,null,103,{"$f":"100*COUNT($BO$16:BO370)/$BO$382","v":{"$error":"#DIV/0!"}},null,null,354,{"$f":"100*COUNT($BS$16:BS370)/$BS$382","v":{"$error":"#DIV/0!"}}]
["2016-12-21",null,null,null,null,null,null,null,null,null,null,null,null,null,null,null,null,null,null,null,null,null,null,null,null,null,null,null,null,null,null,null,null,null,null,null,null,null,null,null,null,null,null,null,null,null,null,null,null,null,null,null,null,356,0,null,1,0,null,0.1,null,null,null,341,{"$f":"100*COUNT($BK$16:BK371)/$BK$382","v":{"$error":"#DIV/0!"}},null,null,244,{"$f":"100*COUNT($BO$16:BO371)/$BO$382","v":{"$error":"#DIV/0!"}},null,null,341,{"$f":"100*COUNT($BS$16:BS371)/$BS$382","v":{"$error":"#DIV/0!"}}]
["2016-12-22",null,null,null,null,null,null,null,null,null,null,null,null,null,null,null,null,null,null,null,null,null,null,null,null,null,null,null,null,null,null,null,null,null,null,null,null,null,null,null,null,null,null,null,null,null,null,null,null,null,null,null,null,357,0,null,1,0,null,0.1,null,null,null,22,{"$f":"100*COUNT($BK$16:BK372)/$BK$382","v":{"$error":"#DIV/0!"}},null,null,324,{"$f":"100*COUNT($BO$16:BO372)/$BO$382","v":{"$error":"#DIV/0!"}},null,null,52,{"$f":"100*COUNT($BS$16:BS372)/$BS$382","v":{"$error":"#DIV/0!"}}]
["2016-12-23",null,null,null,null,null,null,null,null,null,null,null,null,null,null,null,null,null,null,null,null,null,null,null,null,null,null,null,null,null,null,null,null,null,null,null,null,null,null,null,null,null,null,null,null,null,null,null,null,null,null,null,null,358,0,null,1,0,null,0.1,null,null,null,280,{"$f":"100*COUNT($BK$16:BK373)/$BK$382","v":{"$error":"#DIV/0!"}},null,null,107,{"$f":"100*COUNT($BO$16:BO373)/$BO$382","v":{"$error":"#DIV/0!"}},null,null,2,{"$f":"100*COUNT($BS$16:BS373)/$BS$382","v":{"$error":"#DIV/0!"}}]
["2016-12-24",null,null,null,null,null,null,null,null,null,null,null,null,null,null,null,null,null,null,null,null,null,null,null,null,null,null,null,null,null,null,null,null,null,null,null,null,null,null,null,null,null,null,null,null,null,null,null,null,null,null,null,null,359,0,null,1,0,null,0.1,null,null,null,209,{"$f":"100*COUNT($BK$16:BK374)/$BK$382","v":{"$error":"#DIV/0!"}},null,null,349,{"$f":"100*COUNT($BO$16:BO374)/$BO$382","v":{"$error":"#DIV/0!"}},null,null,36,{"$f":"100*COUNT($BS$16:BS374)/$BS$382","v":{"$error":"#DIV/0!"}}]
["2016-12-25",null,null,null,null,null,null,null,null,null,null,null,null,null,null,null,null,null,null,null,null,null,null,null,null,null,null,null,null,null,null,null,null,null,null,null,null,null,null,null,null,null,null,null,null,null,null,null,null,null,null,null,null,360,0,null,1,0,null,0.1,null,null,null,6,{"$f":"100*COUNT($BK$16:BK375)/$BK$382","v":{"$error":"#DIV/0!"}},null,null,276,{"$f":"100*COUNT($BO$16:BO375)/$BO$382","v":{"$error":"#DIV/0!"}},null,null,134,{"$f":"100*COUNT($BS$16:BS375)/$BS$382","v":{"$error":"#DIV/0!"}}]
["2016-12-26",null,null,null,null,null,null,null,null,null,null,null,null,null,null,null,null,null,null,null,null,null,null,null,null,null,null,null,null,null,null,null,null,null,null,null,null,null,null,null,null,null,null,null,null,null,null,null,null,null,null,null,null,361,0,null,1,0,null,0.1,null,null,null,83,{"$f":"100*COUNT($BK$16:BK376)/$BK$382","v":{"$error":"#DIV/0!"}},null,null,142,{"$f":"100*COUNT($BO$16:BO376)/$BO$382","v":{"$error":"#DIV/0!"}},null,null,17,{"$f":"100*COUNT($BS$16:BS376)/$BS$382","v":{"$error":"#DIV/0!"}}]
["2016-12-27",null,null,null,null,null,null,null,null,null,null,null,null,null,null,null,null,null,null,null,null,null,null,null,null,null,null,null,null,null,null,null,null,null,null,null,null,null,null,null,null,null,null,null,null,null,null,null,null,null,null,null,null,362,0,null,1,0,null,0.1,null,null,null,98,{"$f":"100*COUNT($BK$16:BK377)/$BK$382","v":{"$error":"#DIV/0!"}},null,null,30,{"$f":"100*COUNT($BO$16:BO377)/$BO$382","v":{"$error":"#DIV/0!"}},null,null,9,{"$f":"100*COUNT($BS$16:BS377)/$BS$382","v":{"$error":"#DIV/0!"}}]
["2016-12-28",null,null,null,null,null,null,null,null,null,null,null,null,null,null,null,null,null,null,null,null,null,null,null,null,null,null,null,null,null,null,null,null,null,null,null,null,null,null,null,null,null,null,null,null,null,null,null,null,null,null,null,null,363,0,null,1,0,null,0.1,null,null,null,58,{"$f":"100*COUNT($BK$16:BK378)/$BK$382","v":{"$error":"#DIV/0!"}},null,null,6,{"$f":"100*COUNT($BO$16:BO378)/$BO$382","v":{"$error":"#DIV/0!"}},null,null,101,{"$f":"100*COUNT($BS$16:BS378)/$BS$382","v":{"$error":"#DIV/0!"}}]
["2016-12-29",null,null,null,null,null,null,null,null,null,null,null,null,null,null,null,null,null,null,null,null,null,null,null,null,null,null,null,null,null,null,null,null,null,null,null,null,null,null,null,null,null,null,null,null,null,null,null,null,null,null,null,null,364,0,null,1,0,null,0.1,null,null,null,47,{"$f":"100*COUNT($BK$16:BK379)/$BK$382","v":{"$error":"#DIV/0!"}},null,null,279,{"$f":"100*COUNT($BO$16:BO379)/$BO$382","v":{"$error":"#DIV/0!"}},null,null,196,{"$f":"100*COUNT($BS$16:BS379)/$BS$382","v":{"$error":"#DIV/0!"}}]
["2016-12-30",null,null,null,null,null,null,null,null,null,null,null,null,null,null,null,null,null,null,null,null,null,null,null,null,null,null,null,null,null,null,null,null,null,null,null,null,null,null,null,null,null,null,null,null,null,null,null,null,null,null,null,null,365,0,null,1,0,null,0.1,null,null,null,307,{"$f":"100*COUNT($BK$16:BK380)/$BK$382","v":{"$error":"#DIV/0!"}},null,null,342,{"$f":"100*COUNT($BO$16:BO380)/$BO$382","v":{"$error":"#DIV/0!"}},null,null,43,{"$f":"100*COUNT($BS$16:BS380)/$BS$382","v":{"$error":"#DIV/0!"}}]
["2016-12-31",null,null,null,null,null,null,null,null,null,null,null,null,null,null,null,null,null,null,null,null,null,null,null,null,null,null,null,null,null,null,null,null,null,null,null,null,null,null,null,null,null,null,null,null,null,null,null,null,null,null,null,null,366,0,null,1,0,null,0.1,null,null,null,137,{"$f":"100*COUNT($BK$16:BK381)/$BK$382","v":{"$error":"#DIV/0!"}},null,null,338,{"$f":"100*COUNT($BO$16:BO381)/$BO$382","v":{"$error":"#DIV/0!"}},null,null,318,{"$f":"100*COUNT($BS$16:BS381)/$BS$382","v":{"$error":"#DIV/0!"}}]
[null,null,null,null,null,null,null,null,null,null,null,null,null,null,null,null,null,null,null,null,null,null,null,null,null,null,null,null,null,null,null,null,null,null,null,null,null,null,null,null,null,null,null,null,null,null,null,null,null,null,null,null,null,null,null,null,null,null,null,null,null,null,{"$f":"COUNT(BK16:BK381)","v":0},null,null,null,{"$f":"COUNT(BO16:BO381)","v":0},null,null,null,{"$f":"COUNT(BS16:BS381)","v":0}]
[]
[]
[]
[null,null,null,null,null,null,null,null,null,null,null,null,null,null,null,null,null,null,null,null,null,null,null,null,null,null,null,null,null,null,null,null,null,null,null,null,null,null,null,null,null,null,null,null,null,null,null,null,null,null,null,null,null,null,null,null,null,null,null,null,null,null,{"$f":"VLOOKUP(2,BK16:BM381,3)","v":{"$error":"#N/A"}}]

{"sheet":"Summary","index":3,"n_rows":43,"n_cols":17,"rows_kept":43,"cut":false,"hidden":false,"merged":[[25,2,25,3],[24,2,24,4]]}
[]
[null,null,{"$f":"DataEntryValues!G3&\"  \"&DataEntryValues!G4","v":"Long's Peak WTP  1031009"},null,null,null,null,null,null,null,null,null,null,null,null,null,"Treatment Barrier Performance Summary"]
[]
[]
[]
[]
[]
[]
[]
[]
[]
[]
[]
[]
[]
[]
[]
[]
[]
[]
[]
[]
[]
[]
[null,null,"ANNUAL DATA",null,null,"Avg","Min","Max","RSQ",0.95,"Opt. Goal","Reg."]
[null,null,null,null,null,"NTU","NTU","NTU",null,"NTU","% Values","% Values"]
[null,null,"Raw Turbidity",null,null,{"$f":"IF(SUM(Raw)=0,,AVERAGE(Raw))","v":0},{"$f":"IF(SUM(Raw)=0,,MIN(Raw))","v":0},{"$f":"IF(SUM(Raw)=0,,MAX(Raw))","v":0},"n/a",{"$f":"IF(SUM(Raw)=0,,PERCENTILE(Raw, 0.95))","v":0},"n/a","n/a"]
[null,null,"Max. Settled Turbidity",null,null,{"$f":"IF(SUM(MaxSedPlot)=0,,AVERAGE(MaxSedPlot))","v":0},{"$f":"IF(SUM(MaxSedPlot)=0,,MIN(MaxSedPlot))","v":0},{"$f":"IF(SUM(MaxSedPlot)=0,,MAX(MaxSedPlot))","v":0},{"$f":"IF(SUM(Raw)=0,,IF(SUM(MaxSedPlot)=0,,RSQ(Raw,MaxSedPlot)))","v":0},{"$f":"IF(SUM(MaxSedPlot)=0,,PERCENTILE(MaxSedPlot,0.95))","v":0},{"$f":"VLOOKUP(DataEntryValues!G5,DataEntryValues!BK16:BM381,3)","v":{"$error":"#N/A"}},"n/a"]
[null,null,"Max. Filtered Turbidity",null,null,{"$f":"IF(SUM(MaxFilterPlot)=0,,AVERAGE(MaxFilterPlot))","v":0},{"$f":"IF(SUM(MaxFilterPlot)=0,,MIN(MaxFilterPlot))","v":0},{"$f":"(IF(SUM(MaxFilterPlot)=0,,MAX(MaxFilterPlot)))","v":0},{"$f":"IF(SUM(MaxSedPlot)=0,,IF(SUM(MaxFilterPlot)=0,,RSQ(MaxSedPlot,MaxFilterPlot)))","v":0},{"$f":"IF(SUM(MaxFilterPlot)=0,,PERCENTILE(MaxFilterPlot,0.95))","v":0},{"$f":"VLOOKUP(DataEntryValues!G6,DataEntryValues!BO16:BQ381,3)","v":{"$error":"#N/A"}},"n/a"]
[null,null,"Combined Filtered Turbidity",null,null,{"$f":"IF(SUM(Comb)=0,,AVERAGE(Comb))","v":0},{"$f":"IF(SUM(Comb)=0,,MIN(Comb))","v":0},{"$f":"IF(SUM(Comb)=0,,MAX(Comb))","v":0},{"$f":"IF(SUM(MaxFilterPlot)=0,,IF(SUM(Comb)=0,,RSQ(MaxFilterPlot,Comb)))","v":0},{"$f":"IF(SUM(Comb)=0,,PERCENTILE(Comb,0.95))","v":0},{"$f":"VLOOKUP(DataEntryValues!G6,DataEntryValues!BS16:BU381,3)","v":{"$error":"#N/A"}},{"$f":"VLOOKUP(DataEntryValues!G7,DataEntryValues!BS16:BU381,3)","v":{"$error":"#N/A"}}]
[]
[null,null,"RSQ = Correlation Coefficient for two selected data sets (> ~ 0.25 suggests correlation)"]
[null,null,"95% = 95th Percentile value for data set"]
[null,null,"Opt. Goal = % of values in data set that are less than or equal to the selected optimization turbidity goal"]
[null,null,"Reg.  = % of values in data set that are less than or equal to the regulated turbidity requirement"]
[]
[]
[]
[]
[]
[]
[]
[null,null,{"$f":"Instructions!B1","v":"Optimization Assessment Software"}]

{"sheet":"OptimizationTrend","index":4,"n_rows":40,"n_cols":60,"rows_kept":40,"cut":false,"hidden":false,"merged":[[5,57,5,59]]}
[]
[null,null,{"$f":"DataEntryValues!$G$3&\"  \"&DataEntryValues!$G$4","v":"Long's Peak WTP  1031009"},null,null,null,null,null,null,null,null,null,null,null,null,null,null,null,null,null,null,null,null,null,null,"Optimization Trend Report",null,null,null,null,null,null,null,null,{"$f":"DataEntryValues!$G$3&\"  \"&DataEntryValues!$G$4","v":"Long's Peak WTP  1031009"},null,null,null,null,null,null,null,null,null,null,null,null,null,null,null,null,null,null,null,null,null,"Optimization Trend Report"]
[]
[]
[null,null,null,"Settled Water Turbidity",null,null,null,null,null,null,null,null,null,null,null,"Filtered Water Turbidity",null,null,null,null,null,null,null,null,null,null,null,null,null,null,null,null,null,null,null,"Filtered Water Turbidity"]
[null,null,null,"95th Percentile Values (NTU)",null,null,null,null,null,null,null,null,"% Values Meeting Goal",null,null,"95th Percentile Values (NTU)",null,null,null,null,null,null,null,null,null,null,null,null,null,null,null,null,null,null,null,"95th Percentile Values (NTU)",null,null,null,null,null,null,null,null,null,null,null,null,null,null,null,null,null,null,null,null,null,"% Values Meeting Goal"]
[null,null,null,"Sed 1","Sed 2","Sed 3","Sed 4","Sed 5","Sed 6","Sed 7","Sed 8","All Sed","3 NTU","2 NTU","1 NTU","Filter 1","Filter 2","Filter 3","Filter 4","Filter 5","Filter 6","Filter 7","Filter 8","Filter 9","Filter 10","Filter 11","Filter 12","Filter 13","Filter 14","Filter 15","Filter 16",null,null,null,null,"Filter 17","Filter 18","Filter 19","Filter 20","Filter 21","Filter 22","Filter 23","Filter 24","Filter 25","Filter 26","Filter 27","Filter 28","Filter 29","Filter 30","Filter 31","Filter 32","Filter 33","Filter 34","Filter 35","Filter 36","Combined","All Filters",0.3,0.2,0.1]
[null,null,"2016-01-01",null,null,null,null,null,null,null,null,null,null,null,null,null,null,null,null,null,null,null,null,null,null,null,null,null,null,null,null,null,null,null,"2016-01-01"]
[null,null,"2016-02-01",null,null,null,null,null,null,null,null,null,null,null,null,null,null,null,null,null,null,null,null,null,null,null,null,null,null,null,null,null,null,null,"2016-02-01"]
[null,null,"2016-03-01",null,null,null,null,null,null,null,null,null,null,null,null,null,null,null,null,null,null,null,null,null,null,null,null,null,null,null,null,null,null,null,"2016-03-01"]
[null,null,"2016-04-01",null,null,null,null,null,null,null,null,null,null,null,null,null,null,null,null,null,null,null,null,null,null,null,null,null,null,null,null,null,null,null,"2016-04-01"]
[null,null,"2016-05-01",null,null,null,null,null,null,null,null,null,null,null,null,null,null,null,null,null,null,null,null,null,null,null,null,null,null,null,null,null,null,null,"2016-05-01"]
[null,null,"2016-06-01",null,null,null,null,null,null,null,null,null,null,null,null,null,null,null,null,null,null,null,null,null,null,null,null,null,null,null,null,null,null,null,"2016-06-01"]
[null,null,"2016-07-01",null,null,null,null,null,null,null,null,null,null,null,null,null,null,null,null,null,null,null,null,null,null,null,null,null,null,null,null,null,null,null,"2016-07-01"]
[null,null,"2016-08-01",null,null,null,null,null,null,null,null,null,null,null,null,null,null,null,null,null,null,null,null,null,null,null,null,null,null,null,null,null,null,null,"2016-08-01"]
[null,null,"2016-09-01",null,null,null,null,null,null,null,null,null,null,null,null,null,null,null,null,null,null,null,null,null,null,null,null,null,null,null,null,null,null,null,"2016-09-01"]
[null,null,"2016-10-01",null,null,null,null,null,null,null,null,null,null,null,null,null,null,null,null,null,null,null,null,null,null,null,null,null,null,null,null,null,null,null,"2016-10-01"]
[null,null,"2016-11-01",null,null,null,null,null,null,null,null,null,null,null,null,null,null,null,null,null,null,null,null,null,null,null,null,null,null,null,null,null,null,null,"2016-11-01"]
[null,null,"2016-12-01",null,null,null,null,null,null,null,null,null,null,null,null,null,null,null,null,null,null,null,null,null,null,null,null,null,null,null,null,null,null,null,"2016-12-01"]
[null,null,"Yr. 95%",{"$f":"IF(SUM(DataEntryValues!C16:C381)=0,,PERCENTILE(DataEntryValues!C16:C381,0.95))","v":0},{"$f":"IF(SUM(DataEntryValues!D16:D381)=0,,PERCENTILE(DataEntryValues!D16:D381,0.95))","v":0},{"$f":"IF(SUM(DataEntryValues!E16:E381)=0,,PERCENTILE(DataEntryValues!E16:E381,0.95))","v":0},{"$f":"IF(SUM(DataEntryValues!F16:F381)=0,,PERCENTILE(DataEntryValues!F16:F381,0.95))","v":0},{"$f":"IF(SUM(DataEntryValues!G16:G381)=0,,PERCENTILE(DataEntryValues!G16:G381,0.95))","v":0},{"$f":"IF(SUM(DataEntryValues!H16:H381)=0,,PERCENTILE(DataEntryValues!H16:H381,0.95))","v":0},{"$f":"IF(SUM(DataEntryValues!I16:I381)=0,,PERCENTILE(DataEntryValues!I16:I381,0.95))","v":0},{"$f":"IF(SUM(DataEntryValues!J16:J381)=0,,PERCENTILE(DataEntryValues!J16:J381,0.95))","v":0},null,null,null,null,{"$f":"IF(SUM(DataEntryValues!K16:K381)=0,,PERCENTILE(DataEntryValues!K16:K381,0.95))","v":0},{"$f":"IF(SUM(DataEntryValues!L16:L381)=0,,PERCENTILE(DataEntryValues!L16:L381,0.95))","v":0},{"$f":"IF(SUM(DataEntryValues!M16:M381)=0,,PERCENTILE(DataEntryValues!M16:M381,0.95))","v":0},{"$f":"IF(SUM(DataEntryValues!N16:N381)=0,,PERCENTILE(DataEntryValues!N16:N381,0.95))","v":0},{"$f":"IF(SUM(DataEntryValues!O16:O381)=0,,PERCENTILE(DataEntryValues!O16:O381,0.95))","v":0},{"$f":"IF(SUM(DataEntryValues!P16:P381)=0,,PERCENTILE(DataEntryValues!P16:P381,0.95))","v":0},{"$f":"IF(SUM(DataEntryValues!Q16:Q381)=0,,PERCENTILE(DataEntryValues!Q16:Q381,0.95))","v":0},{"$f":"IF(SUM(DataEntryValues!R16:R381)=0,,PERCENTILE(DataEntryValues!R16:R381,0.95))","v":0},{"$f":"IF(SUM(DataEntryValues!S16:S381)=0,,PERCENTILE(DataEntryValues!S16:S381,0.95))","v":0},{"$f":"IF(SUM(DataEntryValues!T16:T381)=0,,PERCENTILE(DataEntryValues!T16:T381,0.95))","v":0},{"$f":"IF(SUM(DataEntryValues!U16:U381)=0,,PERCENTILE(DataEntryValues!U16:U381,0.95))","v":0},{"$f":"IF(SUM(DataEntryValues!V16:V381)=0,,PERCENTILE(DataEntryValues!V16:V381,0.95))","v":0},{"$f":"IF(SUM(DataEntryValues!W16:W381)=0,,PERCENTILE(DataEntryValues!W16:W381,0.95))","v":0},{"$f":"IF(SUM(DataEntryValues!X16:X381)=0,,PERCENTILE(DataEntryValues!X16:X381,0.95))","v":0},{"$f":"IF(SUM(DataEntryValues!Y16:Y381)=0,,PERCENTILE(DataEntryValues!Y16:Y381,0.95))","v":0},{"$f":"IF(SUM(DataEntryValues!Z16:Z381)=0,,PERCENTILE(DataEntryValues!Z16:Z381,0.95))","v":0},null,null,null,"Yr. 95%",{"$f":"IF(SUM(DataEntryValues!AA16:AA381)=0,,PERCENTILE(DataEntryValues!AA16:AA381,0.95))","v":0},{"$f":"IF(SUM(DataEntryValues!AB16:AB381)=0,,PERCENTILE(DataEntryValues!AB16:AB381,0.95))","v":0},{"$f":"IF(SUM(DataEntryValues!AC16:AC381)=0,,PERCENTILE(DataEntryValues!AC16:AC381,0.95))","v":0},{"$f":"IF(SUM(DataEntryValues!AD16:AD381)=0,,PERCENTILE(DataEntryValues!AD16:AD381,0.95))","v":0},{"$f":"IF(SUM(DataEntryValues!AE16:AE381)=0,,PERCENTILE(DataEntryValues!AE16:AE381,0.95))","v":0},{"$f":"IF(SUM(DataEntryValues!AF16:AF381)=0,,PERCENTILE(DataEntryValues!AF16:AF381,0.95))","v":0},{"$f":"IF(SUM(DataEntryValues!AG16:AG381)=0,,PERCENTILE(DataEntryValues!AG16:AG381,0.95))","v":0},{"$f":"IF(SUM(DataEntryValues!AH16:AH381)=0,,PERCENTILE(DataEntryValues!AH16:AH381,0.95))","v":0},{"$f":"IF(SUM(DataEntryValues!AI16:AI381)=0,,PERCENTILE(DataEntryValues!AI16:AI381,0.95))","v":0},{"$f":"IF(SUM(DataEntryValues!AJ16:AJ381)=0,,PERCENTILE(DataEntryValues!AJ16:AJ381,0.95))","v":0},{"$f":"IF(SUM(DataEntryValues!AK16:AK381)=0,,PERCENTILE(DataEntryValues!AK16:AK381,0.95))","v":0},{"$f":"IF(SUM(DataEntryValues!AL16:AL381)=0,,PERCENTILE(DataEntryValues!AL16:AL381,0.95))","v":0},{"$f":"IF(SUM(DataEntryValues!AM16:AM381)=0,,PERCENTILE(DataEntryValues!AM16:AM381,0.95))","v":0},{"$f":"IF(SUM(DataEntryValues!AN16:AN381)=0,,PERCENTILE(DataEntryValues!AN16:AN381,0.95))","v":0},{"$f":"IF(SUM(DataEntryValues!AO16:AO381)=0,,PERCENTILE(DataEntryValues!AO16:AO381,0.95))","v":0},{"$f":"IF(SUM(DataEntryValues!AP16:AP381)=0,,PERCENTILE(DataEntryValues!AP16:AP381,0.95))","v":0},{"$f":"IF(SUM(DataEntryValues!AQ16:AQ381)=0,,PERCENTILE(DataEntryValues!AQ16:AQ381,0.95))","v":0},{"$f":"IF(SUM(DataEntryValues!AR16:AR381)=0,,PERCENTILE(DataEntryValues!AR16:AR381,0.95))","v":0},{"$f":"IF(SUM(DataEntryValues!AS16:AS381)=0,,PERCENTILE(DataEntryValues!AS16:AS381,0.95))","v":0},{"$f":"IF(SUM(DataEntryValues!AT16:AT381)=0,,PERCENTILE(DataEntryValues!AT16:AT381,0.95))","v":0},null,{"$f":"IF(SUM(DataEntryValues!AU16:AU381)=0,,PERCENTILE(DataEntryValues!AU16:AU381,0.95))","v":0}]
[null,null,"Yr. Goal",{"$f":"IF(SUM(DataEntryValues!C16:C381)=0,,FREQUENCY(DataEntryValues!C16:C381,DataEntryValues!$G$5)/COUNT(DataEntryValues!C16:C381))","v":0},{"$f":"IF(SUM(DataEntryValues!D16:D381)=0,,FREQUENCY(DataEntryValues!D16:D381,DataEntryValues!$G$5)/COUNT(DataEntryValues!D16:D381))","v":0},{"$f":"IF(SUM(DataEntryValues!E16:E381)=0,,FREQUENCY(DataEntryValues!E16:E381,DataEntryValues!$G$5)/COUNT(DataEntryValues!E16:E381))","v":0},{"$f":"IF(SUM(DataEntryValues!F16:F381)=0,,FREQUENCY(DataEntryValues!F16:F381,DataEntryValues!$G$5)/COUNT(DataEntryValues!F16:F381))","v":0},{"$f":"IF(SUM(DataEntryValues!G16:G381)=0,,FREQUENCY(DataEntryValues!G16:G381,DataEntryValues!$G$5)/COUNT(DataEntryValues!G16:G381))","v":0},{"$f":"IF(SUM(DataEntryValues!H16:H381)=0,,FREQUENCY(DataEntryValues!H16:H381,DataEntryValues!$G$5)/COUNT(DataEntryValues!H16:H381))","v":0},{"$f":"IF(SUM(DataEntryValues!I16:I381)=0,,FREQUENCY(DataEntryValues!I16:I381,DataEntryValues!$G$5)/COUNT(DataEntryValues!I16:I381))","v":0},{"$f":"IF(SUM(DataEntryValues!J16:J381)=0,,FREQUENCY(DataEntryValues!J16:J381,DataEntryValues!$G$5)/COUNT(DataEntryValues!J16:J381))","v":0},null,null,null,null,{"$f":"IF(SUM(DataEntryValues!K16:K381)=0,,FREQUENCY(DataEntryValues!K16:K381,DataEntryValues!$G$6)/COUNT(DataEntryValues!K16:K381))","v":0},{"$f":"IF(SUM(DataEntryValues!L16:L381)=0,,FREQUENCY(DataEntryValues!L16:L381,DataEntryValues!$G$6)/COUNT(DataEntryValues!L16:L381))","v":0},{"$f":"IF(SUM(DataEntryValues!M16:M381)=0,,FREQUENCY(DataEntryValues!M16:M381,DataEntryValues!$G$6)/COUNT(DataEntryValues!M16:M381))","v":0},{"$f":"IF(SUM(DataEntryValues!N16:N381)=0,,FREQUENCY(DataEntryValues!N16:N381,DataEntryValues!$G$6)/COUNT(DataEntryValues!N16:N381))","v":0},{"$f":"IF(SUM(DataEntryValues!O16:O381)=0,,FREQUENCY(DataEntryValues!O16:O381,DataEntryValues!$G$6)/COUNT(DataEntryValues!O16:O381))","v":0},{"$f":"IF(SUM(DataEntryValues!P16:P381)=0,,FREQUENCY(DataEntryValues!P16:P381,DataEntryValues!$G$6)/COUNT(DataEntryValues!P16:P381))","v":0},{"$f":"IF(SUM(DataEntryValues!Q16:Q381)=0,,FREQUENCY(DataEntryValues!Q16:Q381,DataEntryValues!$G$6)/COUNT(DataEntryValues!Q16:Q381))","v":0},{"$f":"IF(SUM(DataEntryValues!R16:R381)=0,,FREQUENCY(DataEntryValues!R16:R381,DataEntryValues!$G$6)/COUNT(DataEntryValues!R16:R381))","v":0},{"$f":"IF(SUM(DataEntryValues!S16:S381)=0,,FREQUENCY(DataEntryValues!S16:S381,DataEntryValues!$G$6)/COUNT(DataEntryValues!S16:S381))","v":0},{"$f":"IF(SUM(DataEntryValues!T16:T381)=0,,FREQUENCY(DataEntryValues!T16:T381,DataEntryValues!$G$6)/COUNT(DataEntryValues!T16:T381))","v":0},{"$f":"IF(SUM(DataEntryValues!U16:U381)=0,,FREQUENCY(DataEntryValues!U16:U381,DataEntryValues!$G$6)/COUNT(DataEntryValues!U16:U381))","v":0},{"$f":"IF(SUM(DataEntryValues!V16:V381)=0,,FREQUENCY(DataEntryValues!V16:V381,DataEntryValues!$G$6)/COUNT(DataEntryValues!V16:V381))","v":0},{"$f":"IF(SUM(DataEntryValues!W16:W381)=0,,FREQUENCY(DataEntryValues!W16:W381,DataEntryValues!$G$6)/COUNT(DataEntryValues!W16:W381))","v":0},{"$f":"IF(SUM(DataEntryValues!X16:X381)=0,,FREQUENCY(DataEntryValues!X16:X381,DataEntryValues!$G$6)/COUNT(DataEntryValues!X16:X381))","v":0},{"$f":"IF(SUM(DataEntryValues!Y16:Y381)=0,,FREQUENCY(DataEntryValues!Y16:Y381,DataEntryValues!$G$6)/COUNT(DataEntryValues!Y16:Y381))","v":0},{"$f":"IF(SUM(DataEntryValues!Z16:Z381)=0,,FREQUENCY(DataEntryValues!Z16:Z381,DataEntryValues!$G$6)/COUNT(DataEntryValues!Z16:Z381))","v":0},null,null,null,"Yr. Goal",{"$f":"IF(SUM(DataEntryValues!AA16:AA381)=0,,FREQUENCY(DataEntryValues!AA16:AA381,DataEntryValues!$G$6)/COUNT(DataEntryValues!AA16:AA381))","v":0},{"$f":"IF(SUM(DataEntryValues!AB16:AB381)=0,,FREQUENCY(DataEntryValues!AB16:AB381,DataEntryValues!$G$6)/COUNT(DataEntryValues!AB16:AB381))","v":0},{"$f":"IF(SUM(DataEntryValues!AC16:AC381)=0,,FREQUENCY(DataEntryValues!AC16:AC381,DataEntryValues!$G$6)/COUNT(DataEntryValues!AC16:AC381))","v":0},{"$f":"IF(SUM(DataEntryValues!AD16:AD381)=0,,FREQUENCY(DataEntryValues!AD16:AD381,DataEntryValues!$G$6)/COUNT(DataEntryValues!AD16:AD381))","v":0},{"$f":"IF(SUM(DataEntryValues!AE16:AE381)=0,,FREQUENCY(DataEntryValues!AE16:AE381,DataEntryValues!$G$6)/COUNT(DataEntryValues!AE16:AE381))","v":0},{"$f":"IF(SUM(DataEntryValues!AF16:AF381)=0,,FREQUENCY(DataEntryValues!AF16:AF381,DataEntryValues!$G$6)/COUNT(DataEntryValues!AF16:AF381))","v":0},{"$f":"IF(SUM(DataEntryValues!AG16:AG381)=0,,FREQUENCY(DataEntryValues!AG16:AG381,DataEntryValues!$G$6)/COUNT(DataEntryValues!AG16:AG381))","v":0},{"$f":"IF(SUM(DataEntryValues!AH16:AH381)=0,,FREQUENCY(DataEntryValues!AH16:AH381,DataEntryValues!$G$6)/COUNT(DataEntryValues!AH16:AH381))","v":0},{"$f":"IF(SUM(DataEntryValues!AI16:AI381)=0,,FREQUENCY(DataEntryValues!AI16:AI381,DataEntryValues!$G$6)/COUNT(DataEntryValues!AI16:AI381))","v":0},{"$f":"IF(SUM(DataEntryValues!AJ16:AJ381)=0,,FREQUENCY(DataEntryValues!AJ16:AJ381,DataEntryValues!$G$6)/COUNT(DataEntryValues!AJ16:AJ381))","v":0},{"$f":"IF(SUM(DataEntryValues!AK16:AK381)=0,,FREQUENCY(DataEntryValues!AK16:AK381,DataEntryValues!$G$6)/COUNT(DataEntryValues!AK16:AK381))","v":0},{"$f":"IF(SUM(DataEntryValues!AL16:AL381)=0,,FREQUENCY(DataEntryValues!AL16:AL381,DataEntryValues!$G$6)/COUNT(DataEntryValues!AL16:AL381))","v":0},{"$f":"IF(SUM(DataEntryValues!AM16:AM381)=0,,FREQUENCY(DataEntryValues!AM16:AM381,DataEntryValues!$G$6)/COUNT(DataEntryValues!AM16:AM381))","v":0},{"$f":"IF(SUM(DataEntryValues!AN16:AN381)=0,,FREQUENCY(DataEntryValues!AN16:AN381,DataEntryValues!$G$6)/COUNT(DataEntryValues!AN16:AN381))","v":0},{"$f":"IF(SUM(DataEntryValues!AO16:AO381)=0,,FREQUENCY(DataEntryValues!AO16:AO381,DataEntryValues!$G$6)/COUNT(DataEntryValues!AO16:AO381))","v":0},{"$f":"IF(SUM(DataEntryValues!AP16:AP381)=0,,FREQUENCY(DataEntryValues!AP16:AP381,DataEntryValues!$G$6)/COUNT(DataEntryValues!AP16:AP381))","v":0},{"$f":"IF(SUM(DataEntryValues!AQ16:AQ381)=0,,FREQUENCY(DataEntryValues!AQ16:AQ381,DataEntryValues!$G$6)/COUNT(DataEntryValues!AQ16:AQ381))","v":0},{"$f":"IF(SUM(DataEntryValues!AR16:AR381)=0,,FREQUENCY(DataEntryValues!AR16:AR381,DataEntryValues!$G$6)/COUNT(DataEntryValues!AR16:AR381))","v":0},{"$f":"IF(SUM(DataEntryValues!AS16:AS381)=0,,FREQUENCY(DataEntryValues!AS16:AS381,DataEntryValues!$G$6)/COUNT(DataEntryValues!AS16:AS381))","v":0},{"$f":"IF(SUM(DataEntryValues!AT16:AT381)=0,,FREQUENCY(DataEntryValues!AT16:AT381,DataEntryValues!$G$6)/COUNT(DataEntryValues!AT16:AT381))","v":0},null,{"$f":"IF(SUM(DataEntryValues!AU16:AU381)=0,,FREQUENCY(DataEntryValues!AU16:AU381,DataEntryValues!$G$6)/COUNT(DataEntryValues!AU16:AU381))","v":0}]
[]
[]
[]
[]
[]
[]
[]
[]
[]
[]
[]
[]
[]
[]
[]
[]
[]
[]
[null,null,null,{"$f":"Instructions!B1","v":"Optimization Assessment Software"},null,null,null,null,null,null,null,null,null,null,null,null,null,null,null,null,null,null,null,null,null,null,null,null,null,null,null,null,null,null,null,{"$f":"Instructions!AC1","v":0}]

{"sheet":"SedSum(1-4)","index":7,"n_rows":1,"n_cols":1,"rows_kept":1,"cut":false,"hidden":false,"merged":[[0,0,0,12]]}
["Sedimentation Performance Summary"]

{"sheet":"SedSum(5-8)","index":8,"n_rows":1,"n_cols":1,"rows_kept":1,"cut":false,"hidden":false,"merged":[[0,0,0,12]]}
["Sedimentation Performance Summary"]

{"sheet":"FilterSum(1-9)","index":10,"n_rows":1,"n_cols":1,"rows_kept":1,"cut":false,"hidden":false,"merged":[]}
["Filtration Performance Summary (Filters 1 - 9)"]

{"sheet":"FilterSum(10-18)","index":11,"n_rows":1,"n_cols":1,"rows_kept":1,"cut":false,"hidden":false,"merged":[]}
["Filtration Performance Summary (Filters 10 - 18)"]

{"sheet":"FilterSum(19-27)","index":12,"n_rows":1,"n_cols":1,"rows_kept":1,"cut":false,"hidden":false,"merged":[]}
["Filtration Performance Summary (Filters 19 - 27)"]

{"sheet":"FilterSum(28-36)","index":13,"n_rows":1,"n_cols":1,"rows_kept":1,"cut":false,"hidden":false,"merged":[]}
["Filtration Performance Summary (Filters 28 - 36)"]

{"sheet":"BW Data","index":14,"n_rows":632,"n_cols":44,"rows_kept":632,"cut":false,"hidden":false,"merged":[]}
[null,"Data input screen for filter backwash data."]
[null,"For filters with filter-to-waste (FTW) capability, input three values",null,null,null,null,null,"Return to Service Turbidity (% values <= goal)"]
[null,"per backwash: 1) max. turbidity during FTW period, 2) turbidity at",null,null,null,null,null,null,"Filter #"]
[null,"return to service (RTS) and 3) FTW time.",null,null,null,null,null,"Goal",1,2,3,4,5,6,7,8,9,10,11,12,13,14,15,16,17,18,19,20,21,22,23,24,25,26,27,28,29,30,31,32,33,34,35,36]
[null,"For filters without FTW capability, input two values per backwash:",null,null,null,null,null,"Peak",{"$f":"IFERROR(COUNTIFS(Table1[Filter],I4,Table1[Peak Turbidity],\"<=\"&ROUND($D$10,2))/COUNTIF(Table1[Filter],I4),\"\")","v":0.93396226415094341},{"$f":"IFERROR(COUNTIFS(Table1[Filter],J4,Table1[Peak Turbidity],\"<=\"&ROUND($D$10,2))/COUNTIF(Table1[Filter],J4),\"\")","v":0.95959595959595956},{"$f":"IFERROR(COUNTIFS(Table1[Filter],K4,Table1[Peak Turbidity],\"<=\"&ROUND($D$10,2))/COUNTIF(Table1[Filter],K4),\"\")","v":0.92307692307692313},{"$f":"IFERROR(COUNTIFS(Table1[Filter],L4,Table1[Peak Turbidity],\"<=\"&ROUND($D$10,2))/COUNTIF(Table1[Filter],L4),\"\")","v":0.93396226415094341},{"$f":"IFERROR(COUNTIFS(Table1[Filter],M4,Table1[Peak Turbidity],\"<=\"&ROUND($D$10,2))/COUNTIF(Table1[Filter],M4),\"\")","v":0.95959595959595956},{"$f":"IFERROR(COUNTIFS(Table1[Filter],N4,Table1[Peak Turbidity],\"<=\"&ROUND($D$10,2))/COUNTIF(Table1[Filter],N4),\"\")","v":0.92307692307692313},{"$f":"IFERROR(COUNTIFS(Table1[Filter],O4,Table1[Peak Turbidity],\"<=\"&ROUND($D$10,2))/COUNTIF(Table1[Filter],O4),\"\")","v":""},{"$f":"IFERROR(COUNTIFS(Table1[Filter],P4,Table1[Peak Turbidity],\"<=\"&ROUND($D$10,2))/COUNTIF(Table1[Filter],P4),\"\")","v":""},{"$f":"IFERROR(COUNTIFS(Table1[Filter],Q4,Table1[Peak Turbidity],\"<=\"&ROUND($D$10,2))/COUNTIF(Table1[Filter],Q4),\"\")","v":""},{"$f":"IFERROR(COUNTIFS(Table1[Filter],R4,Table1[Peak Turbidity],\"<=\"&ROUND($D$10,2))/COUNTIF(Table1[Filter],R4),\"\")","v":""},{"$f":"IFERROR(COUNTIFS(Table1[Filter],S4,Table1[Peak Turbidity],\"<=\"&ROUND($D$10,2))/COUNTIF(Table1[Filter],S4),\"\")","v":""},{"$f":"IFERROR(COUNTIFS(Table1[Filter],T4,Table1[Peak Turbidity],\"<=\"&ROUND($D$10,2))/COUNTIF(Table1[Filter],T4),\"\")","v":""},{"$f":"IFERROR(COUNTIFS(Table1[Filter],U4,Table1[Peak Turbidity],\"<=\"&ROUND($D$10,2))/COUNTIF(Table1[Filter],U4),\"\")","v":""},{"$f":"IFERROR(COUNTIFS(Table1[Filter],V4,Table1[Peak Turbidity],\"<=\"&ROUND($D$10,2))/COUNTIF(Table1[Filter],V4),\"\")","v":""},{"$f":"IFERROR(COUNTIFS(Table1[Filter],W4,Table1[Peak Turbidity],\"<=\"&ROUND($D$10,2))/COUNTIF(Table1[Filter],W4),\"\")","v":""},{"$f":"IFERROR(COUNTIFS(Table1[Filter],X4,Table1[Peak Turbidity],\"<=\"&ROUND($D$10,2))/COUNTIF(Table1[Filter],X4),\"\")","v":""},{"$f":"IFERROR(COUNTIFS(Table1[Filter],Y4,Table1[Peak Turbidity],\"<=\"&ROUND($D$10,2))/COUNTIF(Table1[Filter],Y4),\"\")","v":""},{"$f":"IFERROR(COUNTIFS(Table1[Filter],Z4,Table1[Peak Turbidity],\"<=\"&ROUND($D$10,2))/COUNTIF(Table1[Filter],Z4),\"\")","v":""},{"$f":"IFERROR(COUNTIFS(Table1[Filter],AA4,Table1[Peak Turbidity],\"<=\"&ROUND($D$10,2))/COUNTIF(Table1[Filter],AA4),\"\")","v":""},{"$f":"IFERROR(COUNTIFS(Table1[Filter],AB4,Table1[Peak Turbidity],\"<=\"&ROUND($D$10,2))/COUNTIF(Table1[Filter],AB4),\"\")","v":""},{"$f":"IFERROR(COUNTIFS(Table1[Filter],AC4,Table1[Peak Turbidity],\"<=\"&ROUND($D$10,2))/COUNTIF(Table1[Filter],AC4),\"\")","v":""},{"$f":"IFERROR(COUNTIFS(Table1[Filter],AD4,Table1[Peak Turbidity],\"<=\"&ROUND($D$10,2))/COUNTIF(Table1[Filter],AD4),\"\")","v":""},{"$f":"IFERROR(COUNTIFS(Table1[Filter],AE4,Table1[Peak Turbidity],\"<=\"&ROUND($D$10,2))/COUNTIF(Table1[Filter],AE4),\"\")","v":""},{"$f":"IFERROR(COUNTIFS(Table1[Filter],AF4,Table1[Peak Turbidity],\"<=\"&ROUND($D$10,2))/COUNTIF(Table1[Filter],AF4),\"\")","v":""},{"$f":"IFERROR(COUNTIFS(Table1[Filter],AG4,Table1[Peak Turbidity],\"<=\"&ROUND($D$10,2))/COUNTIF(Table1[Filter],AG4),\"\")","v":""},{"$f":"IFERROR(COUNTIFS(Table1[Filter],AH4,Table1[Peak Turbidity],\"<=\"&ROUND($D$10,2))/COUNTIF(Table1[Filter],AH4),\"\")","v":""},{"$f":"IFERROR(COUNTIFS(Table1[Filter],AI4,Table1[Peak Turbidity],\"<=\"&ROUND($D$10,2))/COUNTIF(Table1[Filter],AI4),\"\")","v":""},{"$f":"IFERROR(COUNTIFS(Table1[Filter],AJ4,Table1[Peak Turbidity],\"<=\"&ROUND($D$10,2))/COUNTIF(Table1[Filter],AJ4),\"\")","v":""},{"$f":"IFERROR(COUNTIFS(Table1[Filter],AK4,Table1[Peak Turbidity],\"<=\"&ROUND($D$10,2))/COUNTIF(Table1[Filter],AK4),\"\")","v":""},{"$f":"IFERROR(COUNTIFS(Table1[Filter],AL4,Table1[Peak Turbidity],\"<=\"&ROUND($D$10,2))/COUNTIF(Table1[Filter],AL4),\"\")","v":""},{"$f":"IFERROR(COUNTIFS(Table1[Filter],AM4,Table1[Peak Turbidity],\"<=\"&ROUND($D$10,2))/COUNTIF(Table1[Filter],AM4),\"\")","v":""},{"$f":"IFERROR(COUNTIFS(Table1[Filter],AN4,Table1[Peak Turbidity],\"<=\"&ROUND($D$10,2))/COUNTIF(Table1[Filter],AN4),\"\")","v":""},{"$f":"IFERROR(COUNTIFS(Table1[Filter],AO4,Table1[Peak Turbidity],\"<=\"&ROUND($D$10,2))/COUNTIF(Table1[Filter],AO4),\"\")","v":""},{"$f":"IFERROR(COUNTIFS(Table1[Filter],AP4,Table1[Peak Turbidity],\"<=\"&ROUND($D$10,2))/COUNTIF(Table1[Filter],AP4),\"\")","v":""},{"$f":"IFERROR(COUNTIFS(Table1[Filter],AQ4,Table1[Peak Turbidity],\"<=\"&ROUND($D$10,2))/COUNTIF(Table1[Filter],AQ4),\"\")","v":""},{"$f":"IFERROR(COUNTIFS(Table1[Filter],AR4,Table1[Peak Turbidity],\"<=\"&ROUND($D$10,2))/COUNTIF(Table1[Filter],AR4),\"\")","v":""}]
[null,"1) max. turbidity during initial 15 minutes of filter run and",null,null,null,null,null,"RTS",{"$f":"IFERROR(COUNTIFS(Table1[Filter],I4,Table1[RTS Turbidity],\"<=\"&ROUND($E$10,2))/COUNTIF(Table1[Filter],I4),\"\")","v":0.68867924528301883},{"$f":"IFERROR(COUNTIFS(Table1[Filter],J4,Table1[RTS Turbidity],\"<=\"&ROUND($E$10,2))/COUNTIF(Table1[Filter],J4),\"\")","v":0.77777777777777779},{"$f":"IFERROR(COUNTIFS(Table1[Filter],K4,Table1[RTS Turbidity],\"<=\"&ROUND($E$10,2))/COUNTIF(Table1[Filter],K4),\"\")","v":0.75961538461538458},{"$f":"IFERROR(COUNTIFS(Table1[Filter],L4,Table1[RTS Turbidity],\"<=\"&ROUND($E$10,2))/COUNTIF(Table1[Filter],L4),\"\")","v":0.68867924528301883},{"$f":"IFERROR(COUNTIFS(Table1[Filter],M4,Table1[RTS Turbidity],\"<=\"&ROUND($E$10,2))/COUNTIF(Table1[Filter],M4),\"\")","v":0.77777777777777779},{"$f":"IFERROR(COUNTIFS(Table1[Filter],N4,Table1[RTS Turbidity],\"<=\"&ROUND($E$10,2))/COUNTIF(Table1[Filter],N4),\"\")","v":0.75961538461538458},{"$f":"IFERROR(COUNTIFS(Table1[Filter],O4,Table1[RTS Turbidity],\"<=\"&ROUND($E$10,2))/COUNTIF(Table1[Filter],O4),\"\")","v":""},{"$f":"IFERROR(COUNTIFS(Table1[Filter],P4,Table1[RTS Turbidity],\"<=\"&ROUND($E$10,2))/COUNTIF(Table1[Filter],P4),\"\")","v":""},{"$f":"IFERROR(COUNTIFS(Table1[Filter],Q4,Table1[RTS Turbidity],\"<=\"&ROUND($E$10,2))/COUNTIF(Table1[Filter],Q4),\"\")","v":""},{"$f":"IFERROR(COUNTIFS(Table1[Filter],R4,Table1[RTS Turbidity],\"<=\"&ROUND($E$10,2))/COUNTIF(Table1[Filter],R4),\"\")","v":""},{"$f":"IFERROR(COUNTIFS(Table1[Filter],S4,Table1[RTS Turbidity],\"<=\"&ROUND($E$10,2))/COUNTIF(Table1[Filter],S4),\"\")","v":""},{"$f":"IFERROR(COUNTIFS(Table1[Filter],T4,Table1[RTS Turbidity],\"<=\"&ROUND($E$10,2))/COUNTIF(Table1[Filter],T4),\"\")","v":""},{"$f":"IFERROR(COUNTIFS(Table1[Filter],U4,Table1[RTS Turbidity],\"<=\"&ROUND($E$10,2))/COUNTIF(Table1[Filter],U4),\"\")","v":""},{"$f":"IFERROR(COUNTIFS(Table1[Filter],V4,Table1[RTS Turbidity],\"<=\"&ROUND($E$10,2))/COUNTIF(Table1[Filter],V4),\"\")","v":""},{"$f":"IFERROR(COUNTIFS(Table1[Filter],W4,Table1[RTS Turbidity],\"<=\"&ROUND($E$10,2))/COUNTIF(Table1[Filter],W4),\"\")","v":""},{"$f":"IFERROR(COUNTIFS(Table1[Filter],X4,Table1[RTS Turbidity],\"<=\"&ROUND($E$10,2))/COUNTIF(Table1[Filter],X4),\"\")","v":""},{"$f":"IFERROR(COUNTIFS(Table1[Filter],Y4,Table1[RTS Turbidity],\"<=\"&ROUND($E$10,2))/COUNTIF(Table1[Filter],Y4),\"\")","v":""},{"$f":"IFERROR(COUNTIFS(Table1[Filter],Z4,Table1[RTS Turbidity],\"<=\"&ROUND($E$10,2))/COUNTIF(Table1[Filter],Z4),\"\")","v":""},{"$f":"IFERROR(COUNTIFS(Table1[Filter],AA4,Table1[RTS Turbidity],\"<=\"&ROUND($E$10,2))/COUNTIF(Table1[Filter],AA4),\"\")","v":""},{"$f":"IFERROR(COUNTIFS(Table1[Filter],AB4,Table1[RTS Turbidity],\"<=\"&ROUND($E$10,2))/COUNTIF(Table1[Filter],AB4),\"\")","v":""},{"$f":"IFERROR(COUNTIFS(Table1[Filter],AC4,Table1[RTS Turbidity],\"<=\"&ROUND($E$10,2))/COUNTIF(Table1[Filter],AC4),\"\")","v":""},{"$f":"IFERROR(COUNTIFS(Table1[Filter],AD4,Table1[RTS Turbidity],\"<=\"&ROUND($E$10,2))/COUNTIF(Table1[Filter],AD4),\"\")","v":""},{"$f":"IFERROR(COUNTIFS(Table1[Filter],AE4,Table1[RTS Turbidity],\"<=\"&ROUND($E$10,2))/COUNTIF(Table1[Filter],AE4),\"\")","v":""},{"$f":"IFERROR(COUNTIFS(Table1[Filter],AF4,Table1[RTS Turbidity],\"<=\"&ROUND($E$10,2))/COUNTIF(Table1[Filter],AF4),\"\")","v":""},{"$f":"IFERROR(COUNTIFS(Table1[Filter],AG4,Table1[RTS Turbidity],\"<=\"&ROUND($E$10,2))/COUNTIF(Table1[Filter],AG4),\"\")","v":""},{"$f":"IFERROR(COUNTIFS(Table1[Filter],AH4,Table1[RTS Turbidity],\"<=\"&ROUND($E$10,2))/COUNTIF(Table1[Filter],AH4),\"\")","v":""},{"$f":"IFERROR(COUNTIFS(Table1[Filter],AI4,Table1[RTS Turbidity],\"<=\"&ROUND($E$10,2))/COUNTIF(Table1[Filter],AI4),\"\")","v":""},{"$f":"IFERROR(COUNTIFS(Table1[Filter],AJ4,Table1[RTS Turbidity],\"<=\"&ROUND($E$10,2))/COUNTIF(Table1[Filter],AJ4),\"\")","v":""},{"$f":"IFERROR(COUNTIFS(Table1[Filter],AK4,Table1[RTS Turbidity],\"<=\"&ROUND($E$10,2))/COUNTIF(Table1[Filter],AK4),\"\")","v":""},{"$f":"IFERROR(COUNTIFS(Table1[Filter],AL4,Table1[RTS Turbidity],\"<=\"&ROUND($E$10,2))/COUNTIF(Table1[Filter],AL4),\"\")","v":""},{"$f":"IFERROR(COUNTIFS(Table1[Filter],AM4,Table1[RTS Turbidity],\"<=\"&ROUND($E$10,2))/COUNTIF(Table1[Filter],AM4),\"\")","v":""},{"$f":"IFERROR(COUNTIFS(Table1[Filter],AN4,Table1[RTS Turbidity],\"<=\"&ROUND($E$10,2))/COUNTIF(Table1[Filter],AN4),\"\")","v":""},{"$f":"IFERROR(COUNTIFS(Table1[Filter],AO4,Table1[RTS Turbidity],\"<=\"&ROUND($E$10,2))/COUNTIF(Table1[Filter],AO4),\"\")","v":""},{"$f":"IFERROR(COUNTIFS(Table1[Filter],AP4,Table1[RTS Turbidity],\"<=\"&ROUND($E$10,2))/COUNTIF(Table1[Filter],AP4),\"\")","v":""},{"$f":"IFERROR(COUNTIFS(Table1[Filter],AQ4,Table1[RTS Turbidity],\"<=\"&ROUND($E$10,2))/COUNTIF(Table1[Filter],AQ4),\"\")","v":""},{"$f":"IFERROR(COUNTIFS(Table1[Filter],AR4,Table1[RTS Turbidity],\"<=\"&ROUND($E$10,2))/COUNTIF(Table1[Filter],AR4),\"\")","v":""}]
[null,"2) turbidity after 15 minutes of filter run."]
[null,"To start, delete rows with demo data, but leave a few rows for new."]
[null,"Add new data to bottom of table.",null,null,null,null,null,"Turbidity during FTW (95th percentile)"]
[null,null,"Perf. Goals (NTU)",0.3,0.1,"Avg FTW",null,null,"Filter #"]
[null,null,"% values <= Goal",{"$f":"COUNTIF(D15:D632,\"<=\"&ROUND(D10,2))/COUNT(D15:D632)*100","v":94.155844155844164},{"$f":"COUNTIF(E15:E632,\"<=\"&ROUND(E10,2))/COUNT(E15:E632)*100","v":74.110032362459549},"Time",null,"Percentile",1,2,3,4,5,6,7,8,9,10,11,12,13,14,15,16,17,18,19,20,21,22,23,24,25,26,27,28,29,30,31,32,33,34,35,36]
[null,null,"95th % NTU",{"$f":"IF(SUM(D15:D632)=0,\"\",PERCENTILE(D15:D632,0.95))","v":0.32500000000000001},{"$f":"IF(SUM(E15:E632)=0,\"\",PERCENTILE(E15:E632,0.95))","v":0.17},{"$f":"IF(SUM(F15:F632)=0,\"\",AVERAGE(F15:F632))","v":24.708737864077669},null,"Peak",{"$f":"IFERROR(PERCENTILE(IF(Table1[Filter]=I$11,Table1[Peak Turbidity],\"\"),0.95),\"\")","v":0.3115},{"$f":"IFERROR(PERCENTILE(IF(Table1[Filter]=J$11,Table1[Peak Turbidity],\"\"),0.95),\"\")","v":0.2745999999999999},{"$f":"IFERROR(PERCENTILE(IF(Table1[Filter]=K$11,Table1[Peak Turbidity],\"\"),0.95),\"\")","v":0.33079999999999998},{"$f":"IFERROR(PERCENTILE(IF(Table1[Filter]=L$11,Table1[Peak Turbidity],\"\"),0.95),\"\")","v":0.3115},{"$f":"IFERROR(PERCENTILE(IF(Table1[Filter]=M$11,Table1[Peak Turbidity],\"\"),0.95),\"\")","v":0.2745999999999999},{"$f":"IFERROR(PERCENTILE(IF(Table1[Filter]=N$11,Table1[Peak Turbidity],\"\"),0.95),\"\")","v":0.33079999999999998},{"$f":"IFERROR(PERCENTILE(IF(Table1[Filter]=O$11,Table1[Peak Turbidity],\"\"),0.95),\"\")","v":""},{"$f":"IFERROR(PERCENTILE(IF(Table1[Filter]=P$11,Table1[Peak Turbidity],\"\"),0.95),\"\")","v":""},{"$f":"IFERROR(PERCENTILE(IF(Table1[Filter]=Q$11,Table1[Peak Turbidity],\"\"),0.95),\"\")","v":""},{"$f":"IFERROR(PERCENTILE(IF(Table1[Filter]=R$11,Table1[Peak Turbidity],\"\"),0.95),\"\")","v":""},{"$f":"IFERROR(PERCENTILE(IF(Table1[Filter]=S$11,Table1[Peak Turbidity],\"\"),0.95),\"\")","v":""},{"$f":"IFERROR(PERCENTILE(IF(Table1[Filter]=T$11,Table1[Peak Turbidity],\"\"),0.95),\"\")","v":""},{"$f":"IFERROR(PERCENTILE(IF(Table1[Filter]=U$11,Table1[Peak Turbidity],\"\"),0.95),\"\")","v":""},{"$f":"IFERROR(PERCENTILE(IF(Table1[Filter]=V$11,Table1[Peak Turbidity],\"\"),0.95),\"\")","v":""},{"$f":"IFERROR(PERCENTILE(IF(Table1[Filter]=W$11,Table1[Peak Turbidity],\"\"),0.95),\"\")","v":""},{"$f":"IFERROR(PERCENTILE(IF(Table1[Filter]=X$11,Table1[Peak Turbidity],\"\"),0.95),\"\")","v":""},{"$f":"IFERROR(PERCENTILE(IF(Table1[Filter]=Y$11,Table1[Peak Turbidity],\"\"),0.95),\"\")","v":""},{"$f":"IFERROR(PERCENTILE(IF(Table1[Filter]=Z$11,Table1[Peak Turbidity],\"\"),0.95),\"\")","v":""},{"$f":"IFERROR(PERCENTILE(IF(Table1[Filter]=AA$11,Table1[Peak Turbidity],\"\"),0.95),\"\")","v":""},{"$f":"IFERROR(PERCENTILE(IF(Table1[Filter]=AB$11,Table1[Peak Turbidity],\"\"),0.95),\"\")","v":""},{"$f":"IFERROR(PERCENTILE(IF(Table1[Filter]=AC$11,Table1[Peak Turbidity],\"\"),0.95),\"\")","v":""},{"$f":"IFERROR(PERCENTILE(IF(Table1[Filter]=AD$11,Table1[Peak Turbidity],\"\"),0.95),\"\")","v":""},{"$f":"IFERROR(PERCENTILE(IF(Table1[Filter]=AE$11,Table1[Peak Turbidity],\"\"),0.95),\"\")","v":""},{"$f":"IFERROR(PERCENTILE(IF(Table1[Filter]=AF$11,Table1[Peak Turbidity],\"\"),0.95),\"\")","v":""},{"$f":"IFERROR(PERCENTILE(IF(Table1[Filter]=AG$11,Table1[Peak Turbidity],\"\"),0.95),\"\")","v":""},{"$f":"IFERROR(PERCENTILE(IF(Table1[Filter]=AH$11,Table1[Peak Turbidity],\"\"),0.95),\"\")","v":""},{"$f":"IFERROR(PERCENTILE(IF(Table1[Filter]=AI$11,Table1[Peak Turbidity],\"\"),0.95),\"\")","v":""},{"$f":"IFERROR(PERCENTILE(IF(Table1[Filter]=AJ$11,Table1[Peak Turbidity],\"\"),0.95),\"\")","v":""},{"$f":"IFERROR(PERCENTILE(IF(Table1[Filter]=AK$11,Table1[Peak Turbidity],\"\"),0.95),\"\")","v":""},{"$f":"IFERROR(PERCENTILE(IF(Table1[Filter]=AL$11,Table1[Peak Turbidity],\"\"),0.95),\"\")","v":""},{"$f":"IFERROR(PERCENTILE(IF(Table1[Filter]=AM$11,Table1[Peak Turbidity],\"\"),0.95),\"\")","v":""},{"$f":"IFERROR(PERCENTILE(IF(Table1[Filter]=AN$11,Table1[Peak Turbidity],\"\"),0.95),\"\")","v":""},{"$f":"IFERROR(PERCENTILE(IF(Table1[Filter]=AO$11,Table1[Peak Turbidity],\"\"),0.95),\"\")","v":""},{"$f":"IFERROR(PERCENTILE(IF(Table1[Filter]=AP$11,Table1[Peak Turbidity],\"\"),0.95),\"\")","v":""},{"$f":"IFERROR(PERCENTILE(IF(Table1[Filter]=AQ$11,Table1[Peak Turbidity],\"\"),0.95),\"\")","v":""},{"$f":"IFERROR(PERCENTILE(IF(Table1[Filter]=AR$11,Table1[Peak Turbidity],\"\"),0.95),\"\")","v":""}]
[null,null,null,null,null,null,null,"RTS",{"$f":"IFERROR(PERCENTILE(IF(Table1[Filter]=I$11,Table1[RTS Turbidity],\"\"),0.95),\"\")","v":0.161},{"$f":"IFERROR(PERCENTILE(IF(Table1[Filter]=J$11,Table1[RTS Turbidity],\"\"),0.95),\"\")","v":0.18439999999999993},{"$f":"IFERROR(PERCENTILE(IF(Table1[Filter]=K$11,Table1[RTS Turbidity],\"\"),0.95),\"\")","v":0.15934999999999994},{"$f":"IFERROR(PERCENTILE(IF(Table1[Filter]=L$11,Table1[RTS Turbidity],\"\"),0.95),\"\")","v":0.161},{"$f":"IFERROR(PERCENTILE(IF(Table1[Filter]=M$11,Table1[RTS Turbidity],\"\"),0.95),\"\")","v":0.18439999999999993},{"$f":"IFERROR(PERCENTILE(IF(Table1[Filter]=N$11,Table1[RTS Turbidity],\"\"),0.95),\"\")","v":0.15934999999999994},{"$f":"IFERROR(PERCENTILE(IF(Table1[Filter]=O$11,Table1[RTS Turbidity],\"\"),0.95),\"\")","v":""},{"$f":"IFERROR(PERCENTILE(IF(Table1[Filter]=P$11,Table1[RTS Turbidity],\"\"),0.95),\"\")","v":""},{"$f":"IFERROR(PERCENTILE(IF(Table1[Filter]=Q$11,Table1[RTS Turbidity],\"\"),0.95),\"\")","v":""},{"$f":"IFERROR(PERCENTILE(IF(Table1[Filter]=R$11,Table1[RTS Turbidity],\"\"),0.95),\"\")","v":""},{"$f":"IFERROR(PERCENTILE(IF(Table1[Filter]=S$11,Table1[RTS Turbidity],\"\"),0.95),\"\")","v":""},{"$f":"IFERROR(PERCENTILE(IF(Table1[Filter]=T$11,Table1[RTS Turbidity],\"\"),0.95),\"\")","v":""},{"$f":"IFERROR(PERCENTILE(IF(Table1[Filter]=U$11,Table1[RTS Turbidity],\"\"),0.95),\"\")","v":""},{"$f":"IFERROR(PERCENTILE(IF(Table1[Filter]=V$11,Table1[RTS Turbidity],\"\"),0.95),\"\")","v":""},{"$f":"IFERROR(PERCENTILE(IF(Table1[Filter]=W$11,Table1[RTS Turbidity],\"\"),0.95),\"\")","v":""},{"$f":"IFERROR(PERCENTILE(IF(Table1[Filter]=X$11,Table1[RTS Turbidity],\"\"),0.95),\"\")","v":""},{"$f":"IFERROR(PERCENTILE(IF(Table1[Filter]=Y$11,Table1[RTS Turbidity],\"\"),0.95),\"\")","v":""},{"$f":"IFERROR(PERCENTILE(IF(Table1[Filter]=Z$11,Table1[RTS Turbidity],\"\"),0.95),\"\")","v":""},{"$f":"IFERROR(PERCENTILE(IF(Table1[Filter]=AA$11,Table1[RTS Turbidity],\"\"),0.95),\"\")","v":""},{"$f":"IFERROR(PERCENTILE(IF(Table1[Filter]=AB$11,Table1[RTS Turbidity],\"\"),0.95),\"\")","v":""},{"$f":"IFERROR(PERCENTILE(IF(Table1[Filter]=AC$11,Table1[RTS Turbidity],\"\"),0.95),\"\")","v":""},{"$f":"IFERROR(PERCENTILE(IF(Table1[Filter]=AD$11,Table1[RTS Turbidity],\"\"),0.95),\"\")","v":""},{"$f":"IFERROR(PERCENTILE(IF(Table1[Filter]=AE$11,Table1[RTS Turbidity],\"\"),0.95),\"\")","v":""},{"$f":"IFERROR(PERCENTILE(IF(Table1[Filter]=AF$11,Table1[RTS Turbidity],\"\"),0.95),\"\")","v":""},{"$f":"IFERROR(PERCENTILE(IF(Table1[Filter]=AG$11,Table1[RTS Turbidity],\"\"),0.95),\"\")","v":""},{"$f":"IFERROR(PERCENTILE(IF(Table1[Filter]=AH$11,Table1[RTS Turbidity],\"\"),0.95),\"\")","v":""},{"$f":"IFERROR(PERCENTILE(IF(Table1[Filter]=AI$11,Table1[RTS Turbidity],\"\"),0.95),\"\")","v":""},{"$f":"IFERROR(PERCENTILE(IF(Table1[Filter]=AJ$11,Table1[RTS Turbidity],\"\"),0.95),\"\")","v":""},{"$f":"IFERROR(PERCENTILE(IF(Table1[Filter]=AK$11,Table1[RTS Turbidity],\"\"),0.95),\"\")","v":""},{"$f":"IFERROR(PERCENTILE(IF(Table1[Filter]=AL$11,Table1[RTS Turbidity],\"\"),0.95),\"\")","v":""},{"$f":"IFERROR(PERCENTILE(IF(Table1[Filter]=AM$11,Table1[RTS Turbidity],\"\"),0.95),\"\")","v":""},{"$f":"IFERROR(PERCENTILE(IF(Table1[Filter]=AN$11,Table1[RTS Turbidity],\"\"),0.95),\"\")","v":""},{"$f":"IFERROR(PERCENTILE(IF(Table1[Filter]=AO$11,Table1[RTS Turbidity],\"\"),0.95),\"\")","v":""},{"$f":"IFERROR(PERCENTILE(IF(Table1[Filter]=AP$11,Table1[RTS Turbidity],\"\"),0.95),\"\")","v":""},{"$f":"IFERROR(PERCENTILE(IF(Table1[Filter]=AQ$11,Table1[RTS Turbidity],\"\"),0.95),\"\")","v":""},{"$f":"IFERROR(PERCENTILE(IF(Table1[Filter]=AR$11,Table1[RTS Turbidity],\"\"),0.95),\"\")","v":""}]
[null,"BW Date","Filter","Peak Turbidity","RTS Turbidity","FTW Time (min)"]
[null,"2008-01-01",3,0.10100000000000001,5.8999999999999997E-2,15]
[null,"2008-01-01",6,0.10100000000000001,5.8999999999999997E-2,15]
[null,"2008-01-02",2,0.16400000000000001,9.8000000000000004E-2,25]
[null,"2008-01-02",5,0.16400000000000001,9.8000000000000004E-2,25]
[null,"2008-01-02",1,0.109,9.8000000000000004E-2,15]
[null,"2008-01-02",4,0.109,9.8000000000000004E-2,15]
[null,"2008-01-04",3,7.9000000000000001E-2,7.3999999999999996E-2,17]
[null,"2008-01-04",6,7.9000000000000001E-2,7.3999999999999996E-2,17]
[null,"2008-01-07",3,9.4E-2,8.6999999999999994E-2,35]
[null,"2008-01-07",6,9.4E-2,8.6999999999999994E-2,35]
[null,"2008-01-08",2,0.10100000000000001,8.4000000000000005E-2,15]
[null,"2008-01-08",5,0.10100000000000001,8.4000000000000005E-2,15]
[null,"2008-01-09",1,9.0999999999999998E-2,8.5999999999999993E-2,15]
[null,"2008-01-09",4,9.0999999999999998E-2,8.5999999999999993E-2,15]
[null,"2008-01-10",3,0.129,9.2999999999999999E-2,10]
[null,"2008-01-10",6,0.129,9.2999999999999999E-2,10]
[null,"2008-01-11",2,0.13600000000000001,0.112,22]
[null,"2008-01-11",5,0.13600000000000001,0.112,22]
[null,"2008-01-11",1,0.125,0.11899999999999999,20]
[null,"2008-01-11",4,0.125,0.11899999999999999,20]
[null,"2008-01-14",3,6.5000000000000002E-2,5.7000000000000002E-2,15]
[null,"2008-01-14",6,6.5000000000000002E-2,5.7000000000000002E-2,15]
[null,"2008-01-15",2,0.11,8.6999999999999994E-2,20]
[null,"2008-01-15",5,0.11,8.6999999999999994E-2,20]
[null,"2008-01-15",1,9.9000000000000005E-2,9.0999999999999998E-2,15]
[null,"2008-01-15",4,9.9000000000000005E-2,9.0999999999999998E-2,15]
[null,"2008-01-15",6,6.0999999999999999E-2,0.17499999999999999,15]
[null,"2008-01-16",3,6.0999999999999999E-2,0.17499999999999999,15]
[null,"2008-01-16",3,0.14000000000000001,7.0000000000000007E-2,15]
[null,"2008-01-16",6,0.14000000000000001,7.0000000000000007E-2,15]
[null,"2008-01-17",1,0.11899999999999999,9.8000000000000004E-2,22]
[null,"2008-01-17",4,0.11899999999999999,9.8000000000000004E-2,22]
[null,"2008-01-17",3,0.12,9.8000000000000004E-2,17]
[null,"2008-01-17",6,0.12,9.8000000000000004E-2,17]
[null,"2008-01-18",3,0.11899999999999999,6.3E-2,16]
[null,"2008-01-18",6,0.11899999999999999,6.3E-2,16]
[null,"2008-01-19",1,0.107,9.9000000000000005E-2,22]
[null,"2008-01-19",4,0.107,9.9000000000000005E-2,22]
[null,"2008-01-19",2,0.125,0.10299999999999999,20]
[null,"2008-01-19",5,0.125,0.10299999999999999,20]
[null,"2008-01-21",3,7.0999999999999994E-2,7.0000000000000007E-2,18]
[null,"2008-01-21",6,7.0999999999999994E-2,7.0000000000000007E-2,18]
[null,"2008-01-22",1,0.13100000000000001,9.9000000000000005E-2,30]
[null,"2008-01-22",2,0.13400000000000001,9.9000000000000005E-2,30]
[null,"2008-01-22",4,0.13100000000000001,9.9000000000000005E-2,30]
[null,"2008-01-22",5,0.13400000000000001,9.9000000000000005E-2,30]
[null,"2008-01-24",2,0.216,0.183,30]
[null,"2008-01-24",5,0.216,0.183,30]
[null,"2008-01-24",1,0.17899999999999999,0.16800000000000001,25]
[null,"2008-01-24",4,0.17899999999999999,0.16800000000000001,25]
[null,"2008-01-24",3,0.127,9.4E-2,12]
[null,"2008-01-24",6,0.127,9.4E-2,12]
[null,"2008-01-27",2,8.7999999999999995E-2,8.4000000000000005E-2,15]
[null,"2008-01-27",5,8.7999999999999995E-2,8.4000000000000005E-2,15]
[null,"2008-01-27",1,7.8E-2,7.0999999999999994E-2,14]
[null,"2008-01-27",4,7.8E-2,7.0999999999999994E-2,14]
[null,"2008-01-27",3,8.2000000000000003E-2,7.9000000000000001E-2,13]
[null,"2008-01-27",6,8.2000000000000003E-2,7.9000000000000001E-2,13]
[null,"2008-01-28",3,0.14299999999999999,6.5000000000000002E-2,12]
[null,"2008-01-28",6,0.14299999999999999,6.5000000000000002E-2,12]
[null,"2008-01-30",1,7.4999999999999997E-2,6.6000000000000003E-2,17]
[null,"2008-01-30",2,0.106,9.1999999999999998E-2,17]
[null,"2008-01-30",4,7.4999999999999997E-2,6.6000000000000003E-2,17]
[null,"2008-01-30",5,0.106,9.1999999999999998E-2,17]
[null,"2008-01-31",3,7.0000000000000007E-2,5.5E-2,15]
[null,"2008-01-31",6,7.0000000000000007E-2,5.5E-2,15]
[null,"2008-02-01",2,9.4E-2,8.7999999999999995E-2,15]
[null,"2008-02-01",5,9.4E-2,8.7999999999999995E-2,15]
[null,"2008-02-02",1,7.0999999999999994E-2,7.0000000000000007E-2,14]
[null,"2008-02-02",4,7.0999999999999994E-2,7.0000000000000007E-2,14]
[null,"2008-02-03",3,8.5000000000000006E-2,6.4000000000000001E-2,11]
[null,"2008-02-03",6,8.5000000000000006E-2,6.4000000000000001E-2,11]
[null,"2008-02-04",2,0.57199999999999995,5.5E-2,8]
[null,"2008-02-04",5,0.57199999999999995,5.5E-2,8]
[null,"2008-02-05",3,6.6000000000000003E-2,6.3E-2,11]
[null,"2008-02-05",6,6.6000000000000003E-2,6.3E-2,11]
[null,"2008-02-07",2,0.80100000000000005,0.26600000000000001,320]
[null,"2008-02-07",5,0.80100000000000005,0.26600000000000001,320]
[null,"2008-02-07",3,0.42399999999999999,0.24,140]
[null,"2008-02-07",6,0.42399999999999999,0.24,140]
[null,"2008-02-07",1,0.115,0.111,50]
[null,"2008-02-07",4,0.115,0.111,50]
[null,"2008-02-08",1,0.74199999999999999,0.105,30]
[null,"2008-02-08",4,0.74199999999999999,0.105,30]
[null,"2008-02-09",2,0.14399999999999999,8.7999999999999995E-2,25]
[null,"2008-02-09",5,0.14399999999999999,8.7999999999999995E-2,25]
[null,"2008-02-09",3,6.4000000000000001E-2,6.0999999999999999E-2,12]
[null,"2008-02-09",6,6.4000000000000001E-2,6.0999999999999999E-2,12]
[null,"2008-02-13",1,0.1,9.0999999999999998E-2,22]
[null,"2008-02-13",4,0.1,9.0999999999999998E-2,22]
[null,"2008-02-14",2,0.11899999999999999,0.09,25]
[null,"2008-02-14",5,0.11899999999999999,0.09,25]
[null,"2008-02-14",3,0.08,5.8999999999999997E-2,16]
[null,"2008-02-14",6,0.08,5.8999999999999997E-2,16]
[null,"2008-02-15",1,0.125,0.1,30]
[null,"2008-02-15",4,0.125,0.1,30]
[null,"2008-02-15",3,7.3999999999999996E-2,7.0000000000000007E-2,13]
[null,"2008-02-15",6,7.3999999999999996E-2,7.0000000000000007E-2,13]
[null,"2008-02-16",2,0.125,9.7000000000000003E-2,30]
[null,"2008-02-16",5,0.125,9.7000000000000003E-2,30]
[null,"2008-02-16",3,7.8E-2,6.3E-2,10]
[null,"2008-02-16",6,7.8E-2,6.3E-2,10]
[null,"2008-02-17",1,0.127,9.6000000000000002E-2,35]
[null,"2008-02-17",4,0.127,9.6000000000000002E-2,35]
[null,"2008-02-18",2,0.115,9.8000000000000004E-2,10]
[null,"2008-02-18",3,6.9000000000000006E-2,6.6000000000000003E-2,10]
[null,"2008-02-18",5,0.115,9.8000000000000004E-2,10]
[null,"2008-02-18",6,6.9000000000000006E-2,6.6000000000000003E-2,10]
[null,"2008-02-19",1,null,0.14899999999999999,150]
[null,"2008-02-19",4,null,0.14899999999999999,150]
[null,"2008-02-20",2,0.442,0.16200000000000001,155]
[null,"2008-02-20",5,0.442,0.16200000000000001,155]
[null,"2008-02-20",3,0.121,8.1000000000000003E-2,15]
[null,"2008-02-20",6,0.121,8.1000000000000003E-2,15]
[null,"2008-02-21",1,0.12,0.108,25]
[null,"2008-02-21",4,0.12,0.108,25]
[null,"2008-02-22",2,0.115,0.104,20]
[null,"2008-02-22",5,0.115,0.104,20]
[null,"2008-02-22",3,7.3999999999999996E-2,7.2999999999999995E-2,13]
[null,"2008-02-22",6,7.3999999999999996E-2,7.2999999999999995E-2,13]
[null,"2008-02-23",1,0.153,0.124,30]
[null,"2008-02-23",4,0.153,0.124,30]
[null,"2008-02-24",2,0.155,9.9000000000000005E-2,30]
[null,"2008-02-24",5,0.155,9.9000000000000005E-2,30]
[null,"2008-02-25",1,0.13400000000000001,0.109,30]
[null,"2008-02-25",4,0.13400000000000001,0.109,30]
[null,"2008-02-25",3,7.4999999999999997E-2,7.2999999999999995E-2,13]
[null,"2008-02-25",6,7.4999999999999997E-2,7.2999999999999995E-2,13]
[null,"2008-02-26",2,0.14000000000000001,9.9000000000000005E-2,30]
[null,"2008-02-26",5,0.14000000000000001,9.9000000000000005E-2,30]
[null,"2008-02-27",1,0.127,0.12,25]
[null,"2008-02-27",4,0.127,0.12,25]
[null,"2008-02-27",3,7.4999999999999997E-2,7.2999999999999995E-2,13]
[null,"2008-02-27",6,7.4999999999999997E-2,7.2999999999999995E-2,13]
[null,"2008-04-03",1,8.1000000000000003E-2,7.4999999999999997E-2,16]
[null,"2008-04-03",4,8.1000000000000003E-2,7.4999999999999997E-2,16]
[null,"2008-04-03",3,8.2000000000000003E-2,0.06,13]
[null,"2008-04-03",6,8.2000000000000003E-2,0.06,13]
[null,"2008-04-04",2,0.113,6.6000000000000003E-2,17]
[null,"2008-04-04",5,0.113,6.6000000000000003E-2,17]
[null,"2008-04-05",3,0.158,7.3999999999999996E-2,12]
[null,"2008-04-05",6,0.158,7.3999999999999996E-2,12]
[null,"2008-04-06",1,9.5000000000000001E-2,8.6999999999999994E-2,12]
[null,"2008-04-06",4,9.5000000000000001E-2,8.6999999999999994E-2,12]
[null,"2008-04-06",2,7.3999999999999996E-2,7.0999999999999994E-2,11]
[null,"2008-04-06",5,7.3999999999999996E-2,7.0999999999999994E-2,11]
[null,"2008-04-09",3,0.14099999999999999,0.08,15]
[null,"2008-04-09",6,0.14099999999999999,0.08,15]
[null,"2008-04-10",1,0.14399999999999999,9.9000000000000005E-2,16]
[null,"2008-04-10",4,0.14399999999999999,9.9000000000000005E-2,16]
[null,"2008-04-10",2,7.9000000000000001E-2,7.0999999999999994E-2,12]
[null,"2008-04-10",5,7.9000000000000001E-2,7.0999999999999994E-2,12]
[null,"2008-04-26",1,0.16500000000000001,9.1999999999999998E-2,11]
[null,"2008-04-26",4,0.16500000000000001,9.1999999999999998E-2,11]
[null,"2008-04-27",3,0.108,7.1999999999999995E-2,12]
[null,"2008-04-27",6,0.108,7.1999999999999995E-2,12]
[null,"2008-04-28",2,6.7000000000000004E-2,6.3E-2,14]
[null,"2008-04-28",5,6.7000000000000004E-2,6.3E-2,14]
[null,"2008-04-30",1,0.122,7.3999999999999996E-2,13]
[null,"2008-04-30",4,0.122,7.3999999999999996E-2,13]
[null,"2008-05-01",2,5.8999999999999997E-2,5.3999999999999999E-2,14]
[null,"2008-05-01",5,5.8999999999999997E-2,5.3999999999999999E-2,14]
[null,"2008-05-03",1,7.9000000000000001E-2,7.1999999999999995E-2,13]
[null,"2008-05-03",4,7.9000000000000001E-2,7.1999999999999995E-2,13]
[null,"2008-05-04",2,5.8999999999999997E-2,4.9000000000000002E-2,12]
[null,"2008-05-04",5,5.8999999999999997E-2,4.9000000000000002E-2,12]
[null,"2008-05-05",3,9.6000000000000002E-2,8.4000000000000005E-2,10]
[null,"2008-05-05",6,9.6000000000000002E-2,8.4000000000000005E-2,10]
[null,"2008-05-07",1,7.5999999999999998E-2,6.9000000000000006E-2,13]
[null,"2008-05-07",4,7.5999999999999998E-2,6.9000000000000006E-2,13]
[null,"2008-05-07",2,5.6000000000000001E-2,3.1E-2,9]
[null,"2008-05-07",5,5.6000000000000001E-2,3.1E-2,9]
[null,"2008-05-10",1,8.3000000000000004E-2,7.5999999999999998E-2,11]
[null,"2008-05-10",4,8.3000000000000004E-2,7.5999999999999998E-2,11]
[null,"2008-05-11",2,6.2E-2,5.8000000000000003E-2,13]
[null,"2008-05-11",5,6.2E-2,5.8000000000000003E-2,13]
[null,"2008-05-12",3,0.14599999999999999,6.6000000000000003E-2,14]
[null,"2008-05-12",6,0.14599999999999999,6.6000000000000003E-2,14]
[null,"2008-05-14",1,0.14899999999999999,8.7999999999999995E-2,12]
[null,"2008-05-14",4,0.14899999999999999,8.7999999999999995E-2,12]
[null,"2008-05-15",3,0.23599999999999999,7.0000000000000007E-2,13]
[null,"2008-05-15",6,0.23599999999999999,7.0000000000000007E-2,13]
[null,"2008-05-15",2,0.12,7.3999999999999996E-2,12]
[null,"2008-05-15",5,0.12,7.3999999999999996E-2,12]
[null,"2008-05-17",1,0.184,0.08,17]
[null,"2008-05-17",4,0.184,0.08,17]
[null,"2008-05-18",3,0.22800000000000001,6.3E-2,20]
[null,"2008-05-18",6,0.22800000000000001,6.3E-2,20]
[null,"2008-05-18",2,0.11600000000000001,6.6000000000000003E-2,15]
[null,"2008-05-18",5,0.11600000000000001,6.6000000000000003E-2,15]
[null,"2008-05-19",3,0.129,6.3E-2,20]
[null,"2008-05-19",6,0.129,6.3E-2,20]
[null,"2008-05-19",1,0.32500000000000001,8.5999999999999993E-2,12]
[null,"2008-05-19",2,6.7000000000000004E-2,5.8999999999999997E-2,12]
[null,"2008-05-19",4,0.32500000000000001,8.5999999999999993E-2,12]
[null,"2008-05-19",5,6.7000000000000004E-2,5.8999999999999997E-2,12]
[null,"2008-05-21",1,0.14799999999999999,9.8000000000000004E-2,11]
[null,"2008-05-21",4,0.14799999999999999,9.8000000000000004E-2,11]
[null,"2008-05-22",2,9.9000000000000005E-2,5.8000000000000003E-2,20]
[null,"2008-05-22",5,9.9000000000000005E-2,5.8000000000000003E-2,20]
[null,"2008-05-23",3,0.16400000000000001,9.4E-2,21]
[null,"2008-05-23",6,0.16400000000000001,9.4E-2,21]
[null,"2008-05-24",1,0.112,8.6999999999999994E-2,11]
[null,"2008-05-24",4,0.112,8.6999999999999994E-2,11]
[null,"2008-05-25",2,0.09,8.1000000000000003E-2,11]
[null,"2008-05-25",5,0.09,8.1000000000000003E-2,11]
[null,"2008-05-27",1,0.11799999999999999,9.5000000000000001E-2,12]
[null,"2008-05-27",4,0.11799999999999999,9.5000000000000001E-2,12]
[null,"2008-05-28",2,9.7000000000000003E-2,7.4999999999999997E-2,12]
[null,"2008-05-28",5,9.7000000000000003E-2,7.4999999999999997E-2,12]
[null,"2008-05-29",1,0.105,8.3000000000000004E-2,11]
[null,"2008-05-29",4,0.105,8.3000000000000004E-2,11]
[null,"2008-05-31",3,0.156,8.8999999999999996E-2,30]
[null,"2008-05-31",6,0.156,8.8999999999999996E-2,30]
[null,"2008-05-31",2,0.124,7.5999999999999998E-2,13]
[null,"2008-05-31",5,0.124,7.5999999999999998E-2,13]
[null,"2008-06-01",1,0.125,9.6000000000000002E-2,13]
[null,"2008-06-01",4,0.125,9.6000000000000002E-2,13]
[null,"2008-06-03",1,0.154,9.8000000000000004E-2,19]
[null,"2008-06-03",4,0.154,9.8000000000000004E-2,19]
[null,"2008-06-03",2,0.125,8.8999999999999996E-2,17]
[null,"2008-06-03",5,0.125,8.8999999999999996E-2,17]
[null,"2008-06-04",1,0.20200000000000001,9.1999999999999998E-2,20]
[null,"2008-06-04",2,0.26100000000000001,9.0999999999999998E-2,20]
[null,"2008-06-04",4,0.20200000000000001,9.1999999999999998E-2,20]
[null,"2008-06-04",5,0.26100000000000001,9.0999999999999998E-2,20]
[null,"2008-06-05",3,0.108,0.14499999999999999,20]
[null,"2008-06-05",6,0.108,0.14499999999999999,20]
[null,"2008-06-06",2,0.13900000000000001,0.109,30]
[null,"2008-06-06",5,0.13900000000000001,0.109,30]
[null,"2008-06-06",1,0.13700000000000001,9.9000000000000005E-2,17]
[null,"2008-06-06",4,0.13700000000000001,9.9000000000000005E-2,17]
[null,"2008-06-07",3,0.20100000000000001,9.5000000000000001E-2,25]
[null,"2008-06-07",6,0.20100000000000001,9.5000000000000001E-2,25]
[null,"2008-06-07",2,0.124,9.9000000000000005E-2,21]
[null,"2008-06-07",5,0.124,9.9000000000000005E-2,21]
[null,"2008-06-07",1,0.151,9.5000000000000001E-2,16]
[null,"2008-06-07",4,0.151,9.5000000000000001E-2,16]
[null,"2008-06-29",2,0.11799999999999999,9.6000000000000002E-2,17]
[null,"2008-06-29",5,0.11799999999999999,9.6000000000000002E-2,17]
[null,"2008-06-29",1,0.113,8.6999999999999994E-2,13]
[null,"2008-06-29",4,0.113,8.6999999999999994E-2,13]
[null,"2008-06-30",3,0.185,9.2999999999999999E-2,25]
[null,"2008-06-30",6,0.185,9.2999999999999999E-2,25]
[null,"2008-06-30",1,0.111,9.1999999999999998E-2,12]
[null,"2008-06-30",4,0.111,9.1999999999999998E-2,12]
[null,"2008-06-30",2,9.5000000000000001E-2,8.7999999999999995E-2,10]
[null,"2008-06-30",5,9.5000000000000001E-2,8.7999999999999995E-2,10]
[null,"2008-07-02",1,0.13100000000000001,0.11700000000000001,30]
[null,"2008-07-02",4,0.13100000000000001,0.11700000000000001,30]
[null,"2008-07-03",3,0.154,8.5000000000000006E-2,23]
[null,"2008-07-03",6,0.154,8.5000000000000006E-2,23]
[null,"2008-07-03",2,7.1999999999999995E-2,6.6000000000000003E-2,22]
[null,"2008-07-03",5,7.1999999999999995E-2,6.6000000000000003E-2,22]
[null,"2008-07-05",1,0.126,9.1999999999999998E-2,15]
[null,"2008-07-05",4,0.126,9.1999999999999998E-2,15]
[null,"2008-07-06",3,0.20799999999999999,9.5000000000000001E-2,25]
[null,"2008-07-06",6,0.20799999999999999,9.5000000000000001E-2,25]
[null,"2008-07-06",2,0.104,8.5000000000000006E-2,10]
[null,"2008-07-06",5,0.104,8.5000000000000006E-2,10]
[null,"2008-07-07",1,0.14199999999999999,7.0000000000000007E-2,20]
[null,"2008-07-07",4,0.14199999999999999,7.0000000000000007E-2,20]
[null,"2008-07-08",1,0.12,7.2999999999999995E-2,16]
[null,"2008-07-08",4,0.12,7.2999999999999995E-2,16]
[null,"2008-07-09",3,0.17,9.4E-2,22]
[null,"2008-07-09",6,0.17,9.4E-2,22]
[null,"2008-07-10",2,0.13100000000000001,0.10299999999999999,25]
[null,"2008-07-10",5,0.13100000000000001,0.10299999999999999,25]
[null,"2008-07-10",1,0.106,7.2999999999999995E-2,16]
[null,"2008-07-10",4,0.106,7.2999999999999995E-2,16]
[null,"2008-07-11",3,0.23699999999999999,0.09,21]
[null,"2008-07-11",6,0.23699999999999999,0.09,21]
[null,"2008-07-11",1,0.13500000000000001,8.4000000000000005E-2,14]
[null,"2008-07-11",4,0.13500000000000001,8.4000000000000005E-2,14]
[null,"2008-07-13",3,0.16700000000000001,9.1999999999999998E-2,18]
[null,"2008-07-13",6,0.16700000000000001,9.1999999999999998E-2,18]
[null,"2008-07-13",2,0.112,5.5E-2,15]
[null,"2008-07-13",5,0.112,5.5E-2,15]
[null,"2008-07-13",1,0.127,8.6999999999999994E-2,11]
[null,"2008-07-13",4,0.127,8.6999999999999994E-2,11]
[null,"2008-07-14",1,0.126,8.5999999999999993E-2,12]
[null,"2008-07-14",4,0.126,8.5999999999999993E-2,12]
[null,"2008-07-15",3,0.16,8.7999999999999995E-2,18]
[null,"2008-07-15",6,0.16,8.7999999999999995E-2,18]
[null,"2008-07-15",1,0.13500000000000001,9.5000000000000001E-2,13]
[null,"2008-07-15",4,0.13500000000000001,9.5000000000000001E-2,13]
[null,"2008-07-15",2,0.14799999999999999,8.7999999999999995E-2,11]
[null,"2008-07-15",5,0.14799999999999999,8.7999999999999995E-2,11]
[null,"2008-07-16",2,0.70099999999999996,0.17,92]
[null,"2008-07-16",5,0.70099999999999996,0.17,92]
[null,"2008-07-16",1,0.63700000000000001,0.115,52]
[null,"2008-07-16",4,0.63700000000000001,0.115,52]
[null,"2008-07-17",3,0.16600000000000001,9.4E-2,22]
[null,"2008-07-17",6,0.16600000000000001,9.4E-2,22]
[null,"2008-07-18",1,0.18,9.2999999999999999E-2,19]
[null,"2008-07-18",4,0.18,9.2999999999999999E-2,19]
[null,"2008-07-19",2,0.21099999999999999,8.7999999999999995E-2,16]
[null,"2008-07-19",5,0.21099999999999999,8.7999999999999995E-2,16]
[null,"2008-07-20",1,0.21,9.8000000000000004E-2,25]
[null,"2008-07-20",4,0.21,9.8000000000000004E-2,25]
[null,"2008-07-20",3,0.19800000000000001,7.6999999999999999E-2,22]
[null,"2008-07-20",6,0.19800000000000001,7.6999999999999999E-2,22]
[null,"2008-07-21",1,0.187,9.4E-2,17]
[null,"2008-07-21",2,0.15,6.3E-2,17]
[null,"2008-07-21",4,0.187,9.4E-2,17]
[null,"2008-07-21",5,0.15,6.3E-2,17]
[null,"2008-07-23",3,0.23599999999999999,8.5999999999999993E-2,30]
[null,"2008-07-23",6,0.23599999999999999,8.5999999999999993E-2,30]
[null,"2008-07-23",1,0.19900000000000001,9.1999999999999998E-2,19]
[null,"2008-07-23",4,0.19900000000000001,9.1999999999999998E-2,19]
[null,"2008-07-24",1,0.20100000000000001,9.9000000000000005E-2,27]
[null,"2008-07-24",4,0.20100000000000001,9.9000000000000005E-2,27]
[null,"2008-07-24",2,0.152,6.8000000000000005E-2,15]
[null,"2008-07-24",5,0.152,6.8000000000000005E-2,15]
[null,"2008-07-25",1,0.23599999999999999,9.8000000000000004E-2,26]
[null,"2008-07-25",4,0.23599999999999999,9.8000000000000004E-2,26]
[null,"2008-07-25",3,0.21299999999999999,0.09,20]
[null,"2008-07-25",6,0.21299999999999999,0.09,20]
[null,"2008-07-25",2,0.16900000000000001,7.8E-2,15]
[null,"2008-07-25",5,0.16900000000000001,7.8E-2,15]
[null,"2008-07-27",1,0.22700000000000001,0.108,35]
[null,"2008-07-27",4,0.22700000000000001,0.108,35]
[null,"2008-07-27",2,0.156,0.09,15]
[null,"2008-07-27",5,0.156,0.09,15]
[null,"2008-07-28",1,0.185,0.106,36]
[null,"2008-07-28",4,0.185,0.106,36]
[null,"2008-07-28",3,0.185,8.7999999999999995E-2,21]
[null,"2008-07-28",6,0.185,8.7999999999999995E-2,21]
[null,"2008-07-29",1,0.20200000000000001,0.11700000000000001,45]
[null,"2008-07-29",4,0.20200000000000001,0.11700000000000001,45]
[null,"2008-07-29",2,0.184,9.8000000000000004E-2,26]
[null,"2008-07-29",5,0.184,9.8000000000000004E-2,26]
[null,"2008-07-31",1,0.22700000000000001,0.108,35]
[null,"2008-07-31",4,0.22700000000000001,0.108,35]
[null,"2008-07-31",2,0.156,0.09,15]
[null,"2008-07-31",5,0.156,0.09,15]
[null,"2008-08-01",2,0.20499999999999999,8.5000000000000006E-2,20]
[null,"2008-08-01",5,0.20499999999999999,8.5000000000000006E-2,20]
[null,"2008-08-03",3,0.35599999999999998,0.09,33]
[null,"2008-08-03",6,0.35599999999999998,0.09,33]
[null,"2008-08-03",1,0.24199999999999999,0.09,27]
[null,"2008-08-03",4,0.24199999999999999,0.09,27]
[null,"2008-08-03",2,0.23,9.1999999999999998E-2,19]
[null,"2008-08-03",5,0.23,9.1999999999999998E-2,19]
[null,"2008-08-05",3,0.251,0.09,25]
[null,"2008-08-05",6,0.251,0.09,25]
[null,"2008-08-06",1,0.23400000000000001,0.10299999999999999,45]
[null,"2008-08-06",4,0.23400000000000001,0.10299999999999999,45]
[null,"2008-08-07",2,0.189,8.7999999999999995E-2,20]
[null,"2008-08-07",5,0.189,8.7999999999999995E-2,20]
[null,"2008-08-07",3,0.22900000000000001,8.3000000000000004E-2,19]
[null,"2008-08-07",6,0.22900000000000001,8.3000000000000004E-2,19]
[null,"2008-08-08",1,0.24299999999999999,0.104,30]
[null,"2008-08-08",4,0.24299999999999999,0.104,30]
[null,"2008-08-08",3,0.189,8.8999999999999996E-2,20]
[null,"2008-08-08",6,0.189,8.8999999999999996E-2,20]
[null,"2008-08-10",3,0.187,8.5999999999999993E-2,25]
[null,"2008-08-10",6,0.187,8.5999999999999993E-2,25]
[null,"2008-08-10",1,0.21299999999999999,9.8000000000000004E-2,23]
[null,"2008-08-10",4,0.21299999999999999,9.8000000000000004E-2,23]
[null,"2008-08-10",2,0.20899999999999999,9.4E-2,16]
[null,"2008-08-10",5,0.20899999999999999,9.4E-2,16]
[null,"2008-08-13",3,0.18,9.0999999999999998E-2,27]
[null,"2008-08-13",6,0.18,9.0999999999999998E-2,27]
[null,"2008-08-13",1,0.159,9.6000000000000002E-2,17]
[null,"2008-08-13",4,0.159,9.6000000000000002E-2,17]
[null,"2008-08-13",2,0.15,8.7999999999999995E-2,14]
[null,"2008-08-13",5,0.15,8.7999999999999995E-2,14]
[null,"2008-08-15",3,0.23799999999999999,0.09,25]
[null,"2008-08-15",6,0.23799999999999999,0.09,25]
[null,"2008-08-15",1,0.20200000000000001,9.0999999999999998E-2,20]
[null,"2008-08-15",4,0.20200000000000001,9.0999999999999998E-2,20]
[null,"2008-08-16",2,0.16,8.5999999999999993E-2,17]
[null,"2008-08-16",5,0.16,8.5999999999999993E-2,17]
[null,"2008-08-17",3,0.19800000000000001,9.0999999999999998E-2,25]
[null,"2008-08-17",6,0.19800000000000001,9.0999999999999998E-2,25]
[null,"2008-08-18",1,0.20100000000000001,9.7000000000000003E-2,30]
[null,"2008-08-18",4,0.20100000000000001,9.7000000000000003E-2,30]
[null,"2008-08-19",3,0.223,8.5000000000000006E-2,30]
[null,"2008-08-19",6,0.223,8.5000000000000006E-2,30]
[null,"2008-08-20",1,0.182,9.7000000000000003E-2,25]
[null,"2008-08-20",4,0.182,9.7000000000000003E-2,25]
[null,"2008-08-20",2,0.14499999999999999,8.5999999999999993E-2,15]
[null,"2008-08-20",5,0.14499999999999999,8.5999999999999993E-2,15]
[null,"2008-08-23",1,0.21199999999999999,9.8000000000000004E-2,23]
[null,"2008-08-23",4,0.21199999999999999,9.8000000000000004E-2,23]
[null,"2008-08-23",2,0.183,9.1999999999999998E-2,20]
[null,"2008-08-23",5,0.183,9.1999999999999998E-2,20]
[null,"2008-08-24",1,0.184,8.7999999999999995E-2,20]
[null,"2008-08-24",4,0.184,8.7999999999999995E-2,20]
[null,"2008-08-25",3,0.17499999999999999,6.8000000000000005E-2,26]
[null,"2008-08-25",6,0.17499999999999999,6.8000000000000005E-2,26]
[null,"2008-08-25",2,0.16300000000000001,7.8E-2,14]
[null,"2008-08-25",5,0.16300000000000001,7.8E-2,14]
[null,"2008-08-26",1,0.18099999999999999,7.0000000000000007E-2,30]
[null,"2008-08-26",4,0.18099999999999999,7.0000000000000007E-2,30]
[null,"2008-08-27",3,0.17,9.6000000000000002E-2,20]
[null,"2008-08-27",6,0.17,9.6000000000000002E-2,20]
[null,"2008-08-28",2,0.14499999999999999,5.8000000000000003E-2,20]
[null,"2008-08-28",5,0.14499999999999999,5.8000000000000003E-2,20]
[null,"2008-08-29",1,0.184,9.7000000000000003E-2,21]
[null,"2008-08-29",4,0.184,9.7000000000000003E-2,21]
[null,"2008-08-30",2,0.189,8.5000000000000006E-2,18]
[null,"2008-08-30",5,0.189,8.5000000000000006E-2,18]
[null,"2008-08-31",3,0.23799999999999999,0.09,35]
[null,"2008-08-31",6,0.23799999999999999,0.09,35]
[null,"2008-09-03",3,0.37,0.112,45]
[null,"2008-09-03",6,0.37,0.112,45]
[null,"2008-09-05",2,0.22,9.9000000000000005E-2,37]
[null,"2008-09-05",5,0.22,9.9000000000000005E-2,37]
[null,"2008-09-06",1,0.23,9.7000000000000003E-2,27]
[null,"2008-09-06",4,0.23,9.7000000000000003E-2,27]
[null,"2008-09-07",1,0.23599999999999999,9.9000000000000005E-2,61]
[null,"2008-09-07",4,0.23599999999999999,9.9000000000000005E-2,61]
[null,"2008-09-07",3,0.254,8.7999999999999995E-2,35]
[null,"2008-09-07",6,0.254,8.7999999999999995E-2,35]
[null,"2008-09-08",1,0.441,0.13700000000000001,159]
[null,"2008-09-08",4,0.441,0.13700000000000001,159]
[null,"2008-09-08",2,0.193,0.13700000000000001,40]
[null,"2008-09-08",5,0.193,0.13700000000000001,40]
[null,"2008-09-09",3,0.32400000000000001,0.11899999999999999,45]
[null,"2008-09-09",6,0.32400000000000001,0.11899999999999999,45]
[null,"2008-09-12",1,0.184,9.7000000000000003E-2,37]
[null,"2008-09-12",4,0.184,9.7000000000000003E-2,37]
[null,"2008-09-12",2,0.126,8.1000000000000003E-2,24]
[null,"2008-09-12",5,0.126,8.1000000000000003E-2,24]
[null,"2008-09-13",3,0.21099999999999999,0.124,30]
[null,"2008-09-13",6,0.21099999999999999,0.124,30]
[null,"2008-09-16",3,0.32300000000000001,0.13,40]
[null,"2008-09-16",6,0.32300000000000001,0.13,40]
[null,"2008-09-17",1,0.23599999999999999,9.9000000000000005E-2,35]
[null,"2008-09-17",4,0.23599999999999999,9.9000000000000005E-2,35]
[null,"2008-09-17",2,0.14599999999999999,9.8000000000000004E-2,23]
[null,"2008-09-17",5,0.14599999999999999,9.8000000000000004E-2,23]
[null,"2008-09-20",3,0.26800000000000002,9.7000000000000003E-2,35]
[null,"2008-09-20",6,0.26800000000000002,9.7000000000000003E-2,35]
[null,"2008-09-21",2,0.157,0.112,38]
[null,"2008-09-21",5,0.157,0.112,38]
[null,"2008-09-21",1,0.27100000000000002,0.13900000000000001,30]
[null,"2008-09-21",4,0.27100000000000002,0.13900000000000001,30]
[null,"2008-09-21",3,3.7999999999999999E-2,3.7999999999999999E-2,20]
[null,"2008-09-21",6,3.7999999999999999E-2,3.7999999999999999E-2,20]
[null,"2008-09-24",3,0.26400000000000001,9.8000000000000004E-2,43]
[null,"2008-09-24",6,0.26400000000000001,9.8000000000000004E-2,43]
[null,"2008-09-24",1,0.35499999999999998,0.152,35]
[null,"2008-09-24",4,0.35499999999999998,0.152,35]
[null,"2008-09-24",2,0.16700000000000001,0.14699999999999999,30]
[null,"2008-09-24",5,0.16700000000000001,0.14699999999999999,30]
[null,"2008-09-27",1,0.26400000000000001,0.17199999999999999,30]
[null,"2008-09-27",3,0.20699999999999999,0.11700000000000001,30]
[null,"2008-09-27",4,0.26400000000000001,0.17199999999999999,30]
[null,"2008-09-27",6,0.20699999999999999,0.11700000000000001,30]
[null,"2008-09-28",2,0.16900000000000001,0.115,30]
[null,"2008-09-28",5,0.16900000000000001,0.115,30]
[null,"2008-10-01",3,0.193,0.11,30]
[null,"2008-10-01",6,0.193,0.11,30]
[null,"2008-10-02",1,0.24399999999999999,0.14499999999999999,30]
[null,"2008-10-02",2,0.14899999999999999,9.9000000000000005E-2,30]
[null,"2008-10-02",4,0.24399999999999999,0.14499999999999999,30]
[null,"2008-10-02",5,0.14899999999999999,9.9000000000000005E-2,30]
[null,"2008-10-04",3,0.183,9.1999999999999998E-2,29]
[null,"2008-10-04",6,0.183,9.1999999999999998E-2,29]
[null,"2008-10-05",1,0.254,0.13800000000000001,32]
[null,"2008-10-05",4,0.254,0.13800000000000001,32]
[null,"2008-10-05",2,0.14899999999999999,0.109,28]
[null,"2008-10-05",5,0.14899999999999999,0.109,28]
[null,"2008-10-06",2,0.115,0.11899999999999999,28]
[null,"2008-10-06",5,0.115,0.11899999999999999,28]
[null,"2008-10-07",3,0.20699999999999999,9.7000000000000003E-2,30]
[null,"2008-10-07",6,0.20699999999999999,9.7000000000000003E-2,30]
[null,"2008-10-10",3,0.24399999999999999,0.1,30]
[null,"2008-10-10",6,0.24399999999999999,0.1,30]
[null,"2008-10-10",1,0.17899999999999999,0.126,25]
[null,"2008-10-10",4,0.17899999999999999,0.126,25]
[null,"2008-10-12",2,0.17199999999999999,0.109,30]
[null,"2008-10-12",5,0.17199999999999999,0.109,30]
[null,"2008-10-12",3,0.19500000000000001,0.10199999999999999,25]
[null,"2008-10-12",6,0.19500000000000001,0.10199999999999999,25]
[null,"2008-10-13",3,0.19800000000000001,8.1000000000000003E-2,30]
[null,"2008-10-13",6,0.19800000000000001,8.1000000000000003E-2,30]
[null,"2008-10-15",3,0.187,9.5000000000000001E-2,30]
[null,"2008-10-15",6,0.187,9.5000000000000001E-2,30]
[null,"2008-10-17",3,0.221,8.7999999999999995E-2,30]
[null,"2008-10-17",6,0.221,8.7999999999999995E-2,30]
[null,"2008-10-18",3,0.17699999999999999,8.5000000000000006E-2,29]
[null,"2008-10-18",6,0.17699999999999999,8.5000000000000006E-2,29]
[null,"2008-10-19",1,0.247,0.13900000000000001,32]
[null,"2008-10-19",4,0.247,0.13900000000000001,32]
[null,"2008-10-20",2,0.27300000000000002,0.223,38]
[null,"2008-10-20",5,0.27300000000000002,0.223,38]
[null,"2008-10-20",3,0.249,0.10199999999999999,23]
[null,"2008-10-20",6,0.249,0.10199999999999999,23]
[null,"2008-10-22",1,0.245,0.192,30]
[null,"2008-10-22",2,0.20699999999999999,0.19900000000000001,30]
[null,"2008-10-22",3,0.17,9.7000000000000003E-2,30]
[null,"2008-10-22",4,0.245,0.192,30]
[null,"2008-10-22",5,0.20699999999999999,0.19900000000000001,30]
[null,"2008-10-22",6,0.17,9.7000000000000003E-2,30]
[null,"2008-10-25",1,0.161,0.14399999999999999,31]
[null,"2008-10-25",4,0.161,0.14399999999999999,31]
[null,"2008-10-25",2,0.13,9.9000000000000005E-2,29]
[null,"2008-10-25",5,0.13,9.9000000000000005E-2,29]
[null,"2008-10-25",3,0.16400000000000001,9.0999999999999998E-2,24]
[null,"2008-10-25",6,0.16400000000000001,9.0999999999999998E-2,24]
[null,"2008-10-27",3,0.441,0.13800000000000001,28]
[null,"2008-10-27",6,0.441,0.13800000000000001,28]
[null,"2008-10-29",2,7.8E-2,7.5999999999999998E-2,15]
[null,"2008-10-29",5,7.8E-2,7.5999999999999998E-2,15]
[null,"2008-10-30",3,0.151,9.2999999999999999E-2,32]
[null,"2008-10-30",6,0.151,9.2999999999999999E-2,32]
[null,"2008-10-30",1,0.15,6.4000000000000001E-2,12]
[null,"2008-10-30",4,0.15,6.4000000000000001E-2,12]
[null,"2008-11-01",2,0.127,8.5999999999999993E-2,12]
[null,"2008-11-01",5,0.127,8.5999999999999993E-2,12]
[null,"2008-11-02",1,0.22600000000000001,0.16400000000000001,30]
[null,"2008-11-02",4,0.22600000000000001,0.16400000000000001,30]
[null,"2008-11-02",3,0.127,9.6000000000000002E-2,25]
[null,"2008-11-02",6,0.127,9.6000000000000002E-2,25]
[null,"2008-11-03",2,0.24099999999999999,0.13,30]
[null,"2008-11-03",5,0.24099999999999999,0.13,30]
[null,"2008-11-04",1,0.17799999999999999,0.13100000000000001,12]
[null,"2008-11-04",4,0.17799999999999999,0.13100000000000001,12]
[null,"2008-11-05",3,0.127,0.109,20]
[null,"2008-11-05",6,0.127,0.109,20]
[null,"2008-11-06",2,0.161,0.11700000000000001,21]
[null,"2008-11-06",5,0.161,0.11700000000000001,21]
[null,"2008-11-07",1,0.155,0.09,18]
[null,"2008-11-07",4,0.155,0.09,18]
[null,"2008-11-08",3,0.11600000000000001,9.8000000000000004E-2,20]
[null,"2008-11-08",6,0.11600000000000001,9.8000000000000004E-2,20]
[null,"2008-11-09",2,0.14399999999999999,8.5000000000000006E-2,20]
[null,"2008-11-09",5,0.14399999999999999,8.5000000000000006E-2,20]
[null,"2008-11-10",1,0.16600000000000001,8.5999999999999993E-2,22]
[null,"2008-11-10",4,0.16600000000000001,8.5999999999999993E-2,22]
[null,"2008-11-11",3,0.16400000000000001,9.8000000000000004E-2,30]
[null,"2008-11-11",6,0.16400000000000001,9.8000000000000004E-2,30]
[null,"2008-11-12",2,0.111,8.5000000000000006E-2,15]
[null,"2008-11-12",5,0.111,8.5000000000000006E-2,15]
[null,"2008-11-13",1,0.11700000000000001,8.7999999999999995E-2,17]
[null,"2008-11-13",4,0.11700000000000001,8.7999999999999995E-2,17]
[null,"2008-11-14",3,0.13100000000000001,0.113,28]
[null,"2008-11-14",6,0.13100000000000001,0.113,28]
[null,"2008-11-15",2,0.156,9.7000000000000003E-2,26]
[null,"2008-11-15",5,0.156,9.7000000000000003E-2,26]
[null,"2008-11-16",1,0.13600000000000001,9.8000000000000004E-2,25]
[null,"2008-11-16",4,0.13600000000000001,9.8000000000000004E-2,25]
[null,"2008-11-17",3,0.20200000000000001,0.127,30]
[null,"2008-11-17",6,0.20200000000000001,0.127,30]
[null,"2008-11-17",2,0.157,9.6000000000000002E-2,21]
[null,"2008-11-17",5,0.157,9.6000000000000002E-2,21]
[null,"2008-11-19",3,3,1.4610000000000001,32]
[null,"2008-11-19",6,3,1.4610000000000001,32]
[null,"2008-11-19",2,0.193,9.5000000000000001E-2,20]
[null,"2008-11-19",5,0.193,9.5000000000000001E-2,20]
[null,"2008-11-19",1,0.129,9.9000000000000005E-2,18]
[null,"2008-11-19",4,0.129,9.9000000000000005E-2,18]
[null,"2008-11-21",3,0.222,0.186,30]
[null,"2008-11-21",6,0.222,0.186,30]
[null,"2008-11-21",1,0.151,9.9000000000000005E-2,26]
[null,"2008-11-21",4,0.151,9.9000000000000005E-2,26]
[null,"2008-11-22",2,0.183,9.9000000000000005E-2,19]
[null,"2008-11-22",5,0.183,9.9000000000000005E-2,19]
[null,"2008-11-23",1,0.14199999999999999,0.121,38]
[null,"2008-11-23",4,0.14199999999999999,0.121,38]
[null,"2008-11-24",3,0.25600000000000001,0.214,34]
[null,"2008-11-24",6,0.25600000000000001,0.214,34]
[null,"2008-11-25",1,0.36899999999999999,0.36099999999999999,30]
[null,"2008-11-25",2,0.26900000000000002,0.19700000000000001,30]
[null,"2008-11-25",4,0.36899999999999999,0.36099999999999999,30]
[null,"2008-11-25",5,0.26900000000000002,0.19700000000000001,30]
[null,"2008-11-28",3,0.153,0.09,20]
[null,"2008-11-28",6,0.153,0.09,20]
[null,"2008-11-28",2,0.122,9.4E-2,13]
[null,"2008-11-28",5,0.122,9.4E-2,13]
[null,"2008-11-29",1,0.12,9.1999999999999998E-2,17]
[null,"2008-11-29",4,0.12,9.1999999999999998E-2,17]
[null,"2008-12-01",2,0.11799999999999999,9.0999999999999998E-2,12]
[null,"2008-12-01",5,0.11799999999999999,9.0999999999999998E-2,12]
[null,"2008-12-02",1,0.22,0.188,30]
[null,"2008-12-02",3,0.22900000000000001,0.161,30]
[null,"2008-12-02",4,0.22,0.188,30]
[null,"2008-12-02",6,0.22900000000000001,0.161,30]
[null,"2008-12-04",2,0.28899999999999998,0.28899999999999998,32]
[null,"2008-12-04",5,0.28899999999999998,0.28899999999999998,32]
[null,"2008-12-06",3,0.15,0.15,30]
[null,"2008-12-06",6,0.15,0.15,30]
[null,"2008-12-07",1,9.9000000000000005E-2,9.1999999999999998E-2,12]
[null,"2008-12-07",2,8.5000000000000006E-2,7.1999999999999995E-2,12]
[null,"2008-12-07",4,9.9000000000000005E-2,9.1999999999999998E-2,12]
[null,"2008-12-07",5,8.5000000000000006E-2,7.1999999999999995E-2,12]
[null,"2008-12-09",3,0.13,0.10299999999999999,25]
[null,"2008-12-09",6,0.13,0.10299999999999999,25]
[null,"2008-12-10",1,0.114,0.106,13]
[null,"2008-12-10",4,0.114,0.106,13]
[null,"2008-12-12",3,0.14499999999999999,0.12,30]
[null,"2008-12-12",6,0.14499999999999999,0.12,30]
[null,"2008-12-13",1,8.5999999999999993E-2,7.9000000000000001E-2,12]
[null,"2008-12-13",4,8.5999999999999993E-2,7.9000000000000001E-2,12]
[null,"2008-12-14",3,0.14199999999999999,0.11,30]
[null,"2008-12-14",6,0.14199999999999999,0.11,30]
[null,"2008-12-14",2,7.9000000000000001E-2,6.3E-2,11]
[null,"2008-12-14",5,7.9000000000000001E-2,6.3E-2,11]
[null,"2008-12-16",3,0.11600000000000001,0.105,25]
[null,"2008-12-16",6,0.11600000000000001,0.105,25]
[null,"2008-12-16",2,8.6999999999999994E-2,6.9000000000000006E-2,17]
[null,"2008-12-16",5,8.6999999999999994E-2,6.9000000000000006E-2,17]
[null,"2008-12-17",2,8.7999999999999995E-2,7.4999999999999997E-2,12]
[null,"2008-12-17",5,8.7999999999999995E-2,7.4999999999999997E-2,12]
[null,"2008-12-19",3,0.33200000000000002,0.105,21]
[null,"2008-12-19",6,0.33200000000000002,0.105,21]
[null,"2008-12-20",1,0.12,0.1,21]
[null,"2008-12-20",4,0.12,0.1,21]
[null,"2008-12-20",2,0.107,9.6000000000000002E-2,12]
[null,"2008-12-20",5,0.107,9.6000000000000002E-2,12]
[null,"2008-12-23",2,9.6000000000000002E-2,8.1000000000000003E-2,12]
[null,"2008-12-23",5,9.6000000000000002E-2,8.1000000000000003E-2,12]
[null,"2008-12-24",3,0.16900000000000001,6.4000000000000001E-2,12]
[null,"2008-12-24",6,0.16900000000000001,6.4000000000000001E-2,12]

{"sheet":"BW Data PT","index":16,"n_rows":110,"n_cols":4,"rows_kept":110,"cut":false,"hidden":false,"merged":[]}
["Filter",1,null,"Pivot table for creating chart. Do not ener data here."]
[]
["Row Labels","Max of RTS Turbidity","Max of Peak Turbidity","Average of FTW Time (min)"]
["2008-01-02",9.8000000000000004E-2,0.109,15]
["2008-01-09",8.5999999999999993E-2,9.0999999999999998E-2,15]
["2008-01-11",0.11899999999999999,0.125,20]
["2008-01-15",9.0999999999999998E-2,9.9000000000000005E-2,15]
["2008-01-17",9.8000000000000004E-2,0.11899999999999999,22]
["2008-01-19",9.9000000000000005E-2,0.107,22]
["2008-01-22",9.9000000000000005E-2,0.13100000000000001,30]
["2008-01-24",0.16800000000000001,0.17899999999999999,25]
["2008-01-27",7.0999999999999994E-2,7.8E-2,14]
["2008-01-30",6.6000000000000003E-2,7.4999999999999997E-2,17]
["2008-02-02",7.0000000000000007E-2,7.0999999999999994E-2,14]
["2008-02-07",0.111,0.115,50]
["2008-02-08",0.105,0.74199999999999999,30]
["2008-02-13",9.0999999999999998E-2,0.1,22]
["2008-02-15",0.1,0.125,30]
["2008-02-17",9.6000000000000002E-2,0.127,35]
["2008-02-19",0.14899999999999999,null,150]
["2008-02-21",0.108,0.12,25]
["2008-02-23",0.124,0.153,30]
["2008-02-25",0.109,0.13400000000000001,30]
["2008-02-27",0.12,0.127,25]
["2008-04-03",7.4999999999999997E-2,8.1000000000000003E-2,16]
["2008-04-06",8.6999999999999994E-2,9.5000000000000001E-2,12]
["2008-04-10",9.9000000000000005E-2,0.14399999999999999,16]
["2008-04-26",9.1999999999999998E-2,0.16500000000000001,11]
["2008-04-30",7.3999999999999996E-2,0.122,13]
["2008-05-03",7.1999999999999995E-2,7.9000000000000001E-2,13]
["2008-05-07",6.9000000000000006E-2,7.5999999999999998E-2,13]
["2008-05-10",7.5999999999999998E-2,8.3000000000000004E-2,11]
["2008-05-14",8.7999999999999995E-2,0.14899999999999999,12]
["2008-05-17",0.08,0.184,17]
["2008-05-19",8.5999999999999993E-2,0.32500000000000001,12]
["2008-05-21",9.8000000000000004E-2,0.14799999999999999,11]
["2008-05-24",8.6999999999999994E-2,0.112,11]
["2008-05-27",9.5000000000000001E-2,0.11799999999999999,12]
["2008-05-29",8.3000000000000004E-2,0.105,11]
["2008-06-01",9.6000000000000002E-2,0.125,13]
["2008-06-03",9.8000000000000004E-2,0.154,19]
["2008-06-04",9.1999999999999998E-2,0.20200000000000001,20]
["2008-06-06",9.9000000000000005E-2,0.13700000000000001,17]
["2008-06-07",9.5000000000000001E-2,0.151,16]
["2008-06-29",8.6999999999999994E-2,0.113,13]
["2008-06-30",9.1999999999999998E-2,0.111,12]
["2008-07-02",0.11700000000000001,0.13100000000000001,30]
["2008-07-05",9.1999999999999998E-2,0.126,15]
["2008-07-07",7.0000000000000007E-2,0.14199999999999999,20]
["2008-07-08",7.2999999999999995E-2,0.12,16]
["2008-07-10",7.2999999999999995E-2,0.106,16]
["2008-07-11",8.4000000000000005E-2,0.13500000000000001,14]
["2008-07-13",8.6999999999999994E-2,0.127,11]
["2008-07-14",8.5999999999999993E-2,0.126,12]
["2008-07-15",9.5000000000000001E-2,0.13500000000000001,13]
["2008-07-16",0.115,0.63700000000000001,52]
["2008-07-18",9.2999999999999999E-2,0.18,19]
["2008-07-20",9.8000000000000004E-2,0.21,25]
["2008-07-21",9.4E-2,0.187,17]
["2008-07-23",9.1999999999999998E-2,0.19900000000000001,19]
["2008-07-24",9.9000000000000005E-2,0.20100000000000001,27]
["2008-07-25",9.8000000000000004E-2,0.23599999999999999,26]
["2008-07-27",0.108,0.22700000000000001,35]
["2008-07-28",0.106,0.185,36]
["2008-07-29",0.11700000000000001,0.20200000000000001,45]
["2008-07-31",0.108,0.22700000000000001,35]
["2008-08-03",0.09,0.24199999999999999,27]
["2008-08-06",0.10299999999999999,0.23400000000000001,45]
["2008-08-08",0.104,0.24299999999999999,30]
["2008-08-10",9.8000000000000004E-2,0.21299999999999999,23]
["2008-08-13",9.6000000000000002E-2,0.159,17]
["2008-08-15",9.0999999999999998E-2,0.20200000000000001,20]
["2008-08-18",9.7000000000000003E-2,0.20100000000000001,30]
["2008-08-20",9.7000000000000003E-2,0.182,25]
["2008-08-23",9.8000000000000004E-2,0.21199999999999999,23]
["2008-08-24",8.7999999999999995E-2,0.184,20]
["2008-08-26",7.0000000000000007E-2,0.18099999999999999,30]
["2008-08-29",9.7000000000000003E-2,0.184,21]
["2008-09-06",9.7000000000000003E-2,0.23,27]
["2008-09-07",9.9000000000000005E-2,0.23599999999999999,61]
["2008-09-08",0.13700000000000001,0.441,159]
["2008-09-12",9.7000000000000003E-2,0.184,37]
["2008-09-17",9.9000000000000005E-2,0.23599999999999999,35]
["2008-09-21",0.13900000000000001,0.27100000000000002,30]
["2008-09-24",0.152,0.35499999999999998,35]
["2008-09-27",0.17199999999999999,0.26400000000000001,30]
["2008-10-02",0.14499999999999999,0.24399999999999999,30]
["2008-10-05",0.13800000000000001,0.254,32]
["2008-10-10",0.126,0.17899999999999999,25]
["2008-10-19",0.13900000000000001,0.247,32]
["2008-10-22",0.192,0.245,30]
["2008-10-25",0.14399999999999999,0.161,31]
["2008-10-30",6.4000000000000001E-2,0.15,12]
["2008-11-02",0.16400000000000001,0.22600000000000001,30]
["2008-11-04",0.13100000000000001,0.17799999999999999,12]
["2008-11-07",0.09,0.155,18]
["2008-11-10",8.5999999999999993E-2,0.16600000000000001,22]
["2008-11-13",8.7999999999999995E-2,0.11700000000000001,17]
["2008-11-16",9.8000000000000004E-2,0.13600000000000001,25]
["2008-11-19",9.9000000000000005E-2,0.129,18]
["2008-11-21",9.9000000000000005E-2,0.151,26]
["2008-11-23",0.121,0.14199999999999999,38]
["2008-11-25",0.36099999999999999,0.36899999999999999,30]
["2008-11-29",9.1999999999999998E-2,0.12,17]
["2008-12-02",0.188,0.22,30]
["2008-12-07",9.1999999999999998E-2,9.9000000000000005E-2,12]
["2008-12-10",0.106,0.114,13]
["2008-12-13",7.9000000000000001E-2,8.5999999999999993E-2,12]
["2008-12-20",0.1,0.12,21]
["Grand Total",0.36099999999999999,0.74199999999999999,25.264150943396228]

{"sheet":"LT-Trend","index":17,"n_rows":61,"n_cols":10,"rows_kept":61,"cut":false,"hidden":false,"merged":[]}
[]
[]
[null,null,"Settled Water (All Sed)",null,null,null,"Filtered Water (All Filters)"]
[null,null,"Turbidity","% Values Meeting Goal",null,null,"Turbidity","% Values Meeting Goal"]
[null,"Month/Yr","95th %","3 NTU","2 NTU","1 NTU","95th %","0.3 NTU","0.2 NTU","0.1 NTU"]
[null,"2016-01-01"]
[null,"2016-02-01"]
[null,"2016-03-01"]
[null,"2016-04-01"]
[null,"2016-05-01"]
[null,"2016-06-01"]
[null,"2016-07-01"]
[null,"2016-08-01"]
[null,"2016-09-01"]
[null,"2016-10-01"]
[null,"2016-11-01"]
[null,"2016-12-01"]
[]
[null,"The area in blue can be copied to the long-term trend table below to develop up to three year trend charts."]
[null,"Delete example data in table below."]
[null,"Manually copy and paste the data into the table below."]
[]
[null,null,"Settled Water (All Sed)",null,null,null,"Filtered Water (All Filters)"]
[null,null,"Turbidity","% Values Meeting Goal",null,null,"Turbidity","% Values Meeting Goal"]
[null,"Month/Yr","95th %","3 NTU","2 NTU","1 NTU","95th %","0.3 NTU","0.2 NTU","0.1 NTU"]
[null,"1998-01-01",5.15,22.580645161290324,3.225806451612903,null,0.42499999999999999,70.967741935483872,35.483870967741936,3.225806451612903]
[null,"1998-02-01",6.54,53.571428571428569,14.285714285714286,null,0.40404999999999996,75,57.142857142857146,14.285714285714286]
[null,"1998-03-01",4.9000000000000004,70.967741935483872,19.35483870967742,null,0.28249999999999997,96.774193548387103,70.967741935483872,29.032258064516128]
[null,"1998-04-01",4.78,80,60,null,0.24994999999999987,100,83.333333333333329,43.333333333333336]
[null,"1998-05-01",5.8,80.645161290322577,61.29032258064516,null,0.20050000000000001,100,93.548387096774192,77.41935483870968]
["Year 1","1998-06-01",2.5099999999999998,96.666666666666671,90,20,0.14279999999999995,96.666666666666671,96.666666666666671,76.666666666666671]
[null,"1998-07-01",2.2000000000000002,96.774193548387103,93.548387096774192,58.064516129032256,0.17549999999999999,100,96.774193548387103,41.935483870967744]
[null,"1998-08-01",1.2,100,100,90.322580645161295,0.193,100,96.774193548387103,74.193548387096769]
[null,"1998-09-01",1.8,100,100,36.666666666666664,0.14259999999999998,100,100,60]
[null,"1998-10-01",1.4,100,100,64.516129032258064,0.13200000000000001,100,100,80.645161290322577]
[null,"1998-11-01",1.5,100,100,50,9.6000000000000002E-2,100,100,100]
[null,"1998-12-01",4.25,87.096774193548384,54.838709677419352,6.4516129032258061,0.17899999999999999,100,96.774193548387103,70.967741935483872]
[null,"1999-01-01",3.85,77.41935483870968,32.258064516129032,null,0.432,87.096774193548384,64.516129032258064,32.258064516129032]
[null,"1999-02-01",2.5950000000000002,96.428571428571431,75,3.5714285714285716,0.37309999999999977,92.857142857142861,82.142857142857139,46.428571428571431]
[null,"1999-03-01",2.8,96.774193548387103,74.193548387096769,null,0.33250000000000002,93.548387096774192,80.645161290322577,48.387096774193552]
[null,"1999-04-01",2.0550000000000002,100,93.333333333333329,33.333333333333336,0.32454999999999967,93.333333333333329,83.333333333333329,56.666666666666664]
[null,"1999-05-01",2.2000000000000002,100,90.322580645161295,9.67741935483871,0.20050000000000001,100,93.548387096774192,54.838709677419352]
["Year 2","1999-06-01",1.71,100,100,33.333333333333336,0.19955000000000001,100,96.666666666666671,46.666666666666664]
[null,"1999-07-01",1.125,100,100,87.096774193548384,5.6500000000000002E-2,100,100,100]
[null,"1999-08-01",1.375,100,100,83.870967741935488,5.6500000000000002E-2,100,100,100]
[null,"1999-09-01",1.61,100,96.666666666666671,40,0.11119999999999983,100,100,93.333333333333329]
[null,"1999-10-01",1.4,100,100,16.129032258064516,7.5999999999999998E-2,96.774193548387103,96.774193548387103,96.774193548387103]
[null,"1999-11-01",1.5,100,100,23.333333333333332,9.6549999999999941E-2,100,100,93.333333333333329]
[null,"1999-12-01",1.55,96.774193548387103,96.774193548387103,6.4516129032258061,0.33699999999999997,93.548387096774192,90.322580645161295,83.870967741935488]
[null,"2000-01-01",2.95,93.548387096774192,90.322580645161295,29.032258064516128,0.24349999999999999,100,84.615384615384613,23.076923076923077]
[null,"2000-02-01",1.7,100,100,50,0.13,95.238095238095241,95.238095238095241,76.19047619047619]
[null,"2000-03-01",1.78,100,96.551724137931032,41.379310344827587,8.5999999999999993E-2,100,100,100]
[null,"2000-04-01",2.02,100,93.333333333333329,46.666666666666664,8.2299999999999984E-2,100,100,100]
[null,"2000-05-01",1.4,100,100,90.322580645161295,9.6500000000000002E-2,100,100,96.774193548387103]
["Year 3","2000-06-01",0.71849999999999981,100,100,100,5.1499999999999969E-2,100,100,100]
[null,"2000-07-01",0.77500000000000002,100,100,100,7.1500000000000008E-2,100,100,100]
[null,"2000-08-01",0.75,100,100,100,0.05,100,100,100]
[null,"2000-09-01",0.84399999999999975,100,100,100,8.7999999999999995E-2,100,100,96.666666666666671]
[null,"2000-10-01",0.92500000000000004,100,100,100,7.1500000000000008E-2,100,100,100]
[null,"2000-11-01",0.96,100,100,96.551724137931032,9.7999999999999934E-2,100,100,93.103448275862064]
[null,"2000-12-01",null,{"$error":"#N/A"},{"$error":"#N/A"},{"$error":"#N/A"},null,{"$error":"#N/A"},{"$error":"#N/A"},{"$error":"#N/A"}]

{"sheet":"AllDataSort","index":20,"n_rows":371,"n_cols":51,"rows_kept":371,"cut":false,"hidden":true,"merged":[]}
[]
[null,null,null,null,null,{"$f":"DataEntryValues!G3","v":"Long's Peak WTP"},null,null,null,"2016-02-01"]
[null,null,null,null,null,"Cell to identify if year is a leap year or not.",null,null,null,{"$f":"IF(MOD(YEAR(J2)/4,1)=0,1,2)","v":1}]
[null,null,null,null,"Data Entry Area"]
["FebValue","FebFind",null,null,null,"Raw","Sed 1","Sed 2","Sed 3","Sed 4","Sed 5","Sed 6","Sed 7","Sed 8","Filter 1","Filter 2","Filter 3","Filter 4","Filter 5","Filter 6","Filter 7","Filter 8","Filter 9","Filter 10","Filter 11","Filter 12","Filter 13","Filter 14","Filter 15","Filter 16","Filter 17","Filter 18","Filter 19","Filter 20","Filter 21","Filter 22","Filter 23","Filter 24","Filter 25","Filter 26","Filter 27","Filter 28","Filter 29","Filter 30","Filter 31","Filter 32","Filter 33","Filter 34","Filter 35","Filter 36","Combined"]
[0,{"$f":"IF(MONTH(E6)=2,\"feb\",)","v":0},{"$f":"MONTH(E6)","v":1},1,"2016-01-01"]
[0,0,{"$f":"MONTH(E7)","v":1},1,"2016-01-02"]
[0,0,1,1,"2016-01-03"]
[0,0,1,1,"2016-01-04"]
[0,0,1,1,"2016-01-05"]
[0,0,1,1,"2016-01-06"]
[0,0,1,1,"2016-01-07"]
[0,0,1,1,"2016-01-08"]
[0,0,1,1,"2016-01-09"]
[0,0,1,1,"2016-01-10"]
[0,0,1,1,"2016-01-11"]
[0,0,1,1,"2016-01-12"]
[0,0,1,1,"2016-01-13"]
[0,0,1,1,"2016-01-14"]
[0,0,1,1,"2016-01-15"]
[0,0,1,1,"2016-01-16"]
[0,0,1,1,"2016-01-17"]
[0,0,1,1,"2016-01-18"]
[0,0,1,1,"2016-01-19"]
[0,0,1,1,"2016-01-20"]
[0,0,1,1,"2016-01-21"]
[0,0,1,1,"2016-01-22"]
[0,0,1,1,"2016-01-23"]
[0,0,1,1,"2016-01-24"]
[0,0,1,1,"2016-01-25"]
[0,0,1,1,"2016-01-26"]
[0,0,1,1,"2016-01-27"]
[0,0,1,1,"2016-01-28"]
[0,0,1,1,"2016-01-29"]
[0,0,1,1,"2016-01-30"]
[0,0,1,1,"2016-01-31"]
["feb","feb",2,2,"2016-02-01"]
["feb","feb",2,2,"2016-02-02"]
["feb","feb",2,2,"2016-02-03"]
["feb","feb",2,2,"2016-02-04"]
["feb","feb",2,2,"2016-02-05"]
["feb","feb",2,2,"2016-02-06"]
["feb","feb",2,2,"2016-02-07"]
["feb","feb",2,2,"2016-02-08"]
["feb","feb",2,2,"2016-02-09"]
["feb","feb",2,2,"2016-02-10"]
["feb","feb",2,2,"2016-02-11"]
["feb","feb",2,2,"2016-02-12"]
["feb","feb",2,2,"2016-02-13"]
["feb","feb",2,2,"2016-02-14"]
["feb","feb",2,2,"2016-02-15"]
["feb","feb",2,2,"2016-02-16"]
["feb","feb",2,2,"2016-02-17"]
["feb","feb",2,2,"2016-02-18"]
["feb","feb",2,2,"2016-02-19"]
["feb","feb",2,2,"2016-02-20"]
["feb","feb",2,2,"2016-02-21"]
["feb","feb",2,2,"2016-02-22"]
["feb","feb",2,2,"2016-02-23"]
["feb","feb",2,2,"2016-02-24"]
["feb","feb",2,2,"2016-02-25"]
["feb","feb",2,2,"2016-02-26"]
["feb","feb",2,2,"2016-02-27"]
["feb","feb",2,2,"2016-02-28"]
["feb","feb",2,2,"2016-02-29"]
[0,0,3,3,"2016-03-01"]
[0,0,3,3,"2016-03-02"]
[0,0,3,3,"2016-03-03"]
[0,0,3,3,"2016-03-04"]
[0,0,3,3,"2016-03-05"]
[0,{"$f":"IF(MONTH(E71)=2,\"feb\",)","v":0},{"$f":"MONTH(E71)","v":3},3,"2016-03-06"]
[0,0,3,3,"2016-03-07"]
[0,0,3,3,"2016-03-08"]
[0,0,3,3,"2016-03-09"]
[0,0,3,3,"2016-03-10"]
[0,0,3,3,"2016-03-11"]
[0,0,3,3,"2016-03-12"]
[0,0,3,3,"2016-03-13"]
[0,0,3,3,"2016-03-14"]
[0,0,3,3,"2016-03-15"]
[0,0,3,3,"2016-03-16"]
[0,0,3,3,"2016-03-17"]
[0,0,3,3,"2016-03-18"]
[0,0,3,3,"2016-03-19"]
[0,0,3,3,"2016-03-20"]
[0,0,3,3,"2016-03-21"]
[0,0,3,3,"2016-03-22"]
[0,0,3,3,"2016-03-23"]
[0,0,3,3,"2016-03-24"]
[0,0,3,3,"2016-03-25"]
[0,0,3,3,"2016-03-26"]
[0,0,3,3,"2016-03-27"]
[0,0,3,3,"2016-03-28"]
[0,0,3,3,"2016-03-29"]
[0,0,3,3,"2016-03-30"]
[0,0,3,3,"2016-03-31"]
[0,0,4,4,"2016-04-01"]
[0,0,4,4,"2016-04-02"]
[0,0,4,4,"2016-04-03"]
[0,0,4,4,"2016-04-04"]
[0,0,4,4,"2016-04-05"]
[0,0,4,4,"2016-04-06"]
[0,0,4,4,"2016-04-07"]
[0,0,4,4,"2016-04-08"]
[0,0,4,4,"2016-04-09"]
[0,0,4,4,"2016-04-10"]
[0,0,4,4,"2016-04-11"]
[0,0,4,4,"2016-04-12"]
[0,0,4,4,"2016-04-13"]
[0,0,4,4,"2016-04-14"]
[0,0,4,4,"2016-04-15"]
[0,0,4,4,"2016-04-16"]
[0,0,4,4,"2016-04-17"]
[0,0,4,4,"2016-04-18"]
[0,0,4,4,"2016-04-19"]
[0,0,4,4,"2016-04-20"]
[0,0,4,4,"2016-04-21"]
[0,0,4,4,"2016-04-22"]
[0,0,4,4,"2016-04-23"]
[0,0,4,4,"2016-04-24"]
[0,0,4,4,"2016-04-25"]
[0,0,4,4,"2016-04-26"]
[0,0,4,4,"2016-04-27"]
[0,0,4,4,"2016-04-28"]
[0,0,4,4,"2016-04-29"]
[0,0,4,4,"2016-04-30"]
[0,0,5,5,"2016-05-01"]
[0,0,5,5,"2016-05-02"]
[0,0,5,5,"2016-05-03"]
[0,0,5,5,"2016-05-04"]
[0,0,5,5,"2016-05-05"]
[0,0,5,5,"2016-05-06"]
[0,0,5,5,"2016-05-07"]
[0,0,5,5,"2016-05-08"]
[0,{"$f":"IF(MONTH(E135)=2,\"feb\",)","v":0},{"$f":"MONTH(E135)","v":5},5,"2016-05-09"]
[0,0,5,5,"2016-05-10"]
[0,0,5,5,"2016-05-11"]
[0,0,5,5,"2016-05-12"]
[0,0,5,5,"2016-05-13"]
[0,0,5,5,"2016-05-14"]
[0,0,5,5,"2016-05-15"]
[0,0,5,5,"2016-05-16"]
[0,0,5,5,"2016-05-17"]
[0,0,5,5,"2016-05-18"]
[0,0,5,5,"2016-05-19"]
[0,0,5,5,"2016-05-20"]
[0,0,5,5,"2016-05-21"]
[0,0,5,5,"2016-05-22"]
[0,0,5,5,"2016-05-23"]
[0,0,5,5,"2016-05-24"]
[0,0,5,5,"2016-05-25"]
[0,0,5,5,"2016-05-26"]
[0,0,5,5,"2016-05-27"]
[0,0,5,5,"2016-05-28"]
[0,0,5,5,"2016-05-29"]
[0,0,5,5,"2016-05-30"]
[0,0,5,5,"2016-05-31"]
[0,0,6,6,"2016-06-01"]
[0,0,6,6,"2016-06-02"]
[0,0,6,6,"2016-06-03"]
[0,0,6,6,"2016-06-04"]
[0,0,6,6,"2016-06-05"]
[0,0,6,6,"2016-06-06"]
[0,0,6,6,"2016-06-07"]
[0,0,6,6,"2016-06-08"]
[0,0,6,6,"2016-06-09"]
[0,0,6,6,"2016-06-10"]
[0,0,6,6,"2016-06-11"]
[0,0,6,6,"2016-06-12"]
[0,0,6,6,"2016-06-13"]
[0,0,6,6,"2016-06-14"]
[0,0,6,6,"2016-06-15"]
[0,0,6,6,"2016-06-16"]
[0,0,6,6,"2016-06-17"]
[0,0,6,6,"2016-06-18"]
[0,0,6,6,"2016-06-19"]
[0,0,6,6,"2016-06-20"]
[0,0,6,6,"2016-06-21"]
[0,0,6,6,"2016-06-22"]
[0,0,6,6,"2016-06-23"]
[0,0,6,6,"2016-06-24"]
[0,0,6,6,"2016-06-25"]
[0,0,6,6,"2016-06-26"]
[0,0,6,6,"2016-06-27"]
[0,0,6,6,"2016-06-28"]
[0,0,6,6,"2016-06-29"]
[0,0,6,6,"2016-06-30"]
[0,0,7,7,"2016-07-01"]
[0,0,7,7,"2016-07-02"]
[0,0,7,7,"2016-07-03"]
[0,0,7,7,"2016-07-04"]
[0,0,7,7,"2016-07-05"]
[0,0,7,7,"2016-07-06"]
[0,0,7,7,"2016-07-07"]
[0,0,7,7,"2016-07-08"]
[0,0,7,7,"2016-07-09"]
[0,0,7,7,"2016-07-10"]
[0,0,7,7,"2016-07-11"]
[0,{"$f":"IF(MONTH(E199)=2,\"feb\",)","v":0},{"$f":"MONTH(E199)","v":7},7,"2016-07-12"]
[0,0,7,7,"2016-07-13"]
[0,0,7,7,"2016-07-14"]
[0,0,7,7,"2016-07-15"]
[0,0,7,7,"2016-07-16"]
[0,0,7,7,"2016-07-17"]
[0,0,7,7,"2016-07-18"]
[0,0,7,7,"2016-07-19"]
[0,0,7,7,"2016-07-20"]
[0,0,7,7,"2016-07-21"]
[0,0,7,7,"2016-07-22"]
[0,0,7,7,"2016-07-23"]
[0,0,7,7,"2016-07-24"]
[0,0,7,7,"2016-07-25"]
[0,0,7,7,"2016-07-26"]
[0,0,7,7,"2016-07-27"]
[0,0,7,7,"2016-07-28"]
[0,0,7,7,"2016-07-29"]
[0,0,7,7,"2016-07-30"]
[0,0,7,7,"2016-07-31"]
[0,0,8,8,"2016-08-01"]
[0,0,8,8,"2016-08-02"]
[0,0,8,8,"2016-08-03"]
[0,0,8,8,"2016-08-04"]
[0,0,8,8,"2016-08-05"]
[0,0,8,8,"2016-08-06"]
[0,0,8,8,"2016-08-07"]
[0,0,8,8,"2016-08-08"]
[0,0,8,8,"2016-08-09"]
[0,0,8,8,"2016-08-10"]
[0,0,8,8,"2016-08-11"]
[0,0,8,8,"2016-08-12"]
[0,0,8,8,"2016-08-13"]
[0,0,8,8,"2016-08-14"]
[0,0,8,8,"2016-08-15"]
[0,0,8,8,"2016-08-16"]
[0,0,8,8,"2016-08-17"]
[0,0,8,8,"2016-08-18"]
[0,0,8,8,"2016-08-19"]
[0,0,8,8,"2016-08-20"]
[0,0,8,8,"2016-08-21"]
[0,0,8,8,"2016-08-22"]
[0,0,8,8,"2016-08-23"]
[0,0,8,8,"2016-08-24"]
[0,0,8,8,"2016-08-25"]
[0,0,8,8,"2016-08-26"]
[0,0,8,8,"2016-08-27"]
[0,0,8,8,"2016-08-28"]
[0,0,8,8,"2016-08-29"]
[0,0,8,8,"2016-08-30"]
[0,0,8,8,"2016-08-31"]
[0,0,9,9,"2016-09-01"]
[0,0,9,9,"2016-09-02"]
[0,0,9,9,"2016-09-03"]
[0,0,9,9,"2016-09-04"]
[0,0,9,9,"2016-09-05"]
[0,0,9,9,"2016-09-06"]
[0,0,9,9,"2016-09-07"]
[0,0,9,9,"2016-09-08"]
[0,0,9,9,"2016-09-09"]
[0,0,9,9,"2016-09-10"]
[0,0,9,9,"2016-09-11"]
[0,0,9,9,"2016-09-12"]
[0,0,9,9,"2016-09-13"]
[0,{"$f":"IF(MONTH(E263)=2,\"feb\",)","v":0},{"$f":"MONTH(E263)","v":9},9,"2016-09-14"]
[0,0,9,9,"2016-09-15"]
[0,0,9,9,"2016-09-16"]
[0,0,9,9,"2016-09-17"]
[0,0,9,9,"2016-09-18"]
[0,0,9,9,"2016-09-19"]
[0,0,9,9,"2016-09-20"]
[0,0,9,9,"2016-09-21"]
[0,0,9,9,"2016-09-22"]
[0,0,9,9,"2016-09-23"]
[0,0,9,9,"2016-09-24"]
[0,0,9,9,"2016-09-25"]
[0,0,9,9,"2016-09-26"]
[0,0,9,9,"2016-09-27"]
[0,0,9,9,"2016-09-28"]
[0,0,9,9,"2016-09-29"]
[0,0,9,9,"2016-09-30"]
[0,0,10,10,"2016-10-01"]
[0,0,10,10,"2016-10-02"]
[0,0,10,10,"2016-10-03"]
[0,0,10,10,"2016-10-04"]
[0,0,10,10,"2016-10-05"]
[0,0,10,10,"2016-10-06"]
[0,0,10,10,"2016-10-07"]
[0,0,10,10,"2016-10-08"]
[0,0,10,10,"2016-10-09"]
[0,0,10,10,"2016-10-10"]
[0,0,10,10,"2016-10-11"]
[0,0,10,10,"2016-10-12"]
[0,0,10,10,"2016-10-13"]
[0,0,10,10,"2016-10-14"]
[0,0,10,10,"2016-10-15"]
[0,0,10,10,"2016-10-16"]
[0,0,10,10,"2016-10-17"]
[0,0,10,10,"2016-10-18"]
[0,0,10,10,"2016-10-19"]
[0,0,10,10,"2016-10-20"]
[0,0,10,10,"2016-10-21"]
[0,0,10,10,"2016-10-22"]
[0,0,10,10,"2016-10-23"]
[0,0,10,10,"2016-10-24"]
[0,0,10,10,"2016-10-25"]
[0,0,10,10,"2016-10-26"]
[0,0,10,10,"2016-10-27"]
[0,0,10,10,"2016-10-28"]
[0,0,10,10,"2016-10-29"]
[0,0,10,10,"2016-10-30"]
[0,0,10,10,"2016-10-31"]
[0,0,11,11,"2016-11-01"]
[0,0,11,11,"2016-11-02"]
[0,0,11,11,"2016-11-03"]
[0,0,11,11,"2016-11-04"]
[0,0,11,11,"2016-11-05"]
[0,0,11,11,"2016-11-06"]
[0,0,11,11,"2016-11-07"]
[0,0,11,11,"2016-11-08"]
[0,0,11,11,"2016-11-09"]
[0,0,11,11,"2016-11-10"]
[0,0,11,11,"2016-11-11"]
[0,0,11,11,"2016-11-12"]
[0,0,11,11,"2016-11-13"]
[0,0,11,11,"2016-11-14"]
[0,0,11,11,"2016-11-15"]
[0,0,11,11,"2016-11-16"]
[0,{"$f":"IF(MONTH(E327)=2,\"feb\",)","v":0},{"$f":"MONTH(E327)","v":11},11,"2016-11-17"]
[0,0,11,11,"2016-11-18"]
[0,0,11,11,"2016-11-19"]
[0,0,11,11,"2016-11-20"]
[0,0,11,11,"2016-11-21"]
[0,0,11,11,"2016-11-22"]
[0,0,11,11,"2016-11-23"]
[0,0,11,11,"2016-11-24"]
[0,0,11,11,"2016-11-25"]
[0,0,11,11,"2016-11-26"]
[0,0,11,11,"2016-11-27"]
[0,0,11,11,"2016-11-28"]
[0,0,11,11,"2016-11-29"]
[0,0,11,11,"2016-11-30"]
[0,0,12,12,"2016-12-01"]
[0,0,12,12,"2016-12-02"]
[0,0,12,12,"2016-12-03"]
[0,0,12,12,"2016-12-04"]
[0,0,12,12,"2016-12-05"]
[0,0,12,12,"2016-12-06"]
[0,0,12,12,"2016-12-07"]
[0,0,12,12,"2016-12-08"]
[0,0,12,12,"2016-12-09"]
[0,0,12,12,"2016-12-10"]
[0,0,12,12,"2016-12-11"]
[0,0,12,12,"2016-12-12"]
[0,0,12,12,"2016-12-13"]
[0,0,12,12,"2016-12-14"]
[0,0,12,12,"2016-12-15"]
[0,0,12,12,"2016-12-16"]
[0,0,12,12,"2016-12-17"]
[0,0,12,12,"2016-12-18"]
[0,0,12,12,"2016-12-19"]
[0,0,12,12,"2016-12-20"]
[0,0,12,12,"2016-12-21"]
[0,0,12,12,"2016-12-22"]
[0,0,12,12,"2016-12-23"]
[0,0,12,12,"2016-12-24"]
[0,0,12,12,"2016-12-25"]
[0,0,12,12,"2016-12-26"]
[0,0,12,12,"2016-12-27"]
[0,0,12,12,"2016-12-28"]
[0,0,12,12,"2016-12-29"]
[0,0,12,12,"2016-12-30"]
[0,0,{"$f":"IF(J3=1,MONTH(E371),13)","v":12},12,"2016-12-31"]

{"sheet":"MonthDist","index":21,"n_rows":43,"n_cols":64,"rows_kept":43,"cut":false,"hidden":true,"merged":[]}
[null,"Settled Turbidity",null,null,null,null,null,null,null,null,null,null,null,"Filtered Turbidity"]
["MONTH","Sed1 95%","Sed2 95%","Sed3 95%","Sed4 95%","Sed5 95%","Sed6 95%","Sed7 95%","Sed8 95%","All sed 95%","Goal 3","Goal 2","Goal 1","95% #1","95% #2","95% #3","95% #4","95% #5","95% #6","95% #7","95% #8","95% #9","95% #10","95% #11","95% #12","95% #13","95% #14","95% #15","95% #16",null,null,null,null,"95% #17","95% #18","95% #19","95% #20","95% #21","95% #22","95% #23","95% #24","95% #25","95% #26","95% #27","95% #28","95% #29","95% #30","95% #31","95% #32","95% #33","95% #34","95% #35","95% #36","95% Com","95$ All Fil","Goal .3","Goal .2","Goal .1"]
[{"$f":"MonthStart","v":"2016-12-01"},{"$f":"IF(SUM(_Sed1)=0,,PERCENTILE(_Sed1,0.95))","v":0},{"$f":"IF(SUM(_Sed2)=0,,PERCENTILE(_Sed2,0.95))","v":0},{"$f":"IF(SUM(_Sed3)=0,,PERCENTILE(_Sed3,0.95))","v":0},{"$f":"IF(SUM(_Sed4)=0,,PERCENTILE(_Sed4,0.95))","v":0},{"$f":"IF(SUM(_Sed5)=0,,PERCENTILE(_Sed5,0.95))","v":0},{"$f":"IF(SUM(_Sed6)=0,,PERCENTILE(_Sed6,0.95))","v":0},{"$f":"IF(SUM(_Sed7)=0,,PERCENTILE(_Sed7,0.95))","v":0},{"$f":"IF(SUM(_Sed8)=0,,PERCENTILE(_Sed8,0.95))","v":0},{"$f":"IF(SUM(SedGoalPercent)=0,,PERCENTILE(SedGoalPercent,0.95))","v":0},{"$f":"IF(SUM(SedGoalPercent)=0,,100*FREQUENCY(SedGoalPercent,3)/COUNT(SedGoalPercent))","v":0},{"$f":"IF(SUM(SedGoalPercent)=0,,100*FREQUENCY(SedGoalPercent,2)/COUNT(SedGoalPercent))","v":0},{"$f":"IF(SUM(SedGoalPercent)=0,,100*FREQUENCY(SedGoalPercent,1)/COUNT(SedGoalPercent))","v":0},{"$f":"IF(SUM(Filter1)=0,,PERCENTILE(Filter1,0.95))","v":0},{"$f":"IF(SUM(Filter2)=0,,PERCENTILE(Filter2,0.95))","v":0},{"$f":"IF(SUM(Filter3)=0,,PERCENTILE(Filter3,0.95))","v":0},{"$f":"IF(SUM(Filter4)=0,,PERCENTILE(Filter4,0.95))","v":0},{"$f":"IF(SUM(Filter5)=0,,PERCENTILE(Filter5,0.95))","v":0},{"$f":"IF(SUM(Filter6)=0,,PERCENTILE(Filter6,0.95))","v":0},{"$f":"IF(SUM(Filter7)=0,,PERCENTILE(Filter7,0.95))","v":0},{"$f":"IF(SUM(Filter8)=0,,PERCENTILE(Filter8,0.95))","v":0},{"$f":"IF(SUM(Filter9)=0,,PERCENTILE(Filter9,0.95))","v":0},{"$f":"IF(SUM(Filter10)=0,,PERCENTILE(Filter10,0.95))","v":0},{"$f":"IF(SUM(Filter11)=0,,PERCENTILE(Filter11,0.95))","v":0},{"$f":"IF(SUM(Filter12)=0,,PERCENTILE(Filter12,0.95))","v":0},{"$f":"IF(SUM(Filter13)=0,,PERCENTILE(Filter13,0.95))","v":0},{"$f":"IF(SUM(Filter14)=0,,PERCENTILE(Filter14,0.95))","v":0},{"$f":"IF(SUM(Filter15)=0,,PERCENTILE(Filter15,0.95))","v":0},{"$f":"IF(SUM(Filter16)=0,,PERCENTILE(Filter16,0.95))","v":0},null,null,null,null,{"$f":"IF(SUM(Filter17)=0,,PERCENTILE(Filter17,0.95))","v":0},{"$f":"IF(SUM(Filter18)=0,,PERCENTILE(Filter18,0.95))","v":0},{"$f":"IF(SUM(Filter19)=0,,PERCENTILE(Filter19,0.95))","v":0},{"$f":"IF(SUM(Filter20)=0,,PERCENTILE(Filter20,0.95))","v":0},{"$f":"IF(SUM(Filter21)=0,,PERCENTILE(Filter21,0.95))","v":0},{"$f":"IF(SUM(Filter22)=0,,PERCENTILE(Filter22,0.95))","v":0},{"$f":"IF(SUM(Filter23)=0,,PERCENTILE(Filter23,0.95))","v":0},{"$f":"IF(SUM(Filter24)=0,,PERCENTILE(Filter24,0.95))","v":0},{"$f":"IF(SUM(Filter25)=0,,PERCENTILE(Filter25,0.95))","v":0},{"$f":"IF(SUM(Filter26)=0,,PERCENTILE(Filter26,0.95))","v":0},{"$f":"IF(SUM(Filter27)=0,,PERCENTILE(Filter27,0.95))","v":0},{"$f":"IF(SUM(Filter28)=0,,PERCENTILE(Filter28,0.95))","v":0},{"$f":"IF(SUM(Filter29)=0,,PERCENTILE(Filter29,0.95))","v":0},{"$f":"IF(SUM(Filter30)=0,,PERCENTILE(Filter30,0.95))","v":0},{"$f":"IF(SUM(Filter31)=0,,PERCENTILE(Filter31,0.95))","v":0},{"$f":"IF(SUM(Filter32)=0,,PERCENTILE(Filter32,0.95))","v":0},{"$f":"IF(SUM(Filter33)=0,,PERCENTILE(Filter33,0.95))","v":0},{"$f":"IF(SUM(Filter34)=0,,PERCENTILE(Filter34,0.95))","v":0},{"$f":"IF(SUM(Filter35)=0,,PERCENTILE(Filter35,0.95))","v":0},{"$f":"IF(SUM(Filter36)=0,,PERCENTILE(Filter36,0.95))","v":0},{"$f":"IF(SUM(Combined)=0,,PERCENTILE(Combined,0.95))","v":0},{"$f":"IF(SUM(AllFilters)=0,,PERCENTILE(AllFilters,0.95))","v":0},{"$f":"IF(SUM(AllFilters)=0,,100*FREQUENCY(AllFilters,0.3)/COUNT(AllFilters))","v":0},{"$f":"IF(SUM(AllFilters)=0,,100*FREQUENCY(AllFilters,0.2)/COUNT(AllFilters))","v":0},{"$f":"IF(SUM(AllFilters)=0,,100*FREQUENCY(AllFilters,0.1)/COUNT(AllFilters))","v":0}]
[null,null,null,null,null,null,null,null,null,null,null,null,null,null,null,null,null,null,null,null,null,null,null,null,null,null,null,null,null,"Leave this space blank to allow for four"]
[null,null,null,null,null,null,null,null,null,null,null,null,null,null,null,null,null,null,null,null,null,null,null,null,null,null,null,null,null,"columns between report pages."]
["Monthly Data",null,null,null,null,null,null,null,null,null,null,null,null,null,null,null,null,null,null,null,null,null,null,null,null,null,null,null,null,null,null,null,null,null,null,null,null,null,null,null,null,null,null,null,null,null,null,null,null,null,null,null,null,null,null,"Currently not used in summary table"]
[null,"Raw","Sed 1","Sed 2","Sed 3","Sed 4","Sed 5","Sed 6","Sed 7","Sed 8","Filter 1","Filter 2","Filter 3","Filter 4","Filter 5","Filter 6","Filter 7","Filter 8","Filter 9","Filter 10","Filter 11","Filter 12","Filter 13","Filter 14","Filter 15","Filter 16","Filter 17","Filter 18","Filter 19","Filter 20","Filter 21","Filter 22","Filter 23","Filter 24","Filter 25","Filter 26","Filter 27","Filter 28","Filter 29","Filter 30","Filter 31","Filter 32","Filter 33","Filter 34","Filter 35","Filter 36","Combined"]
[null,null,null,null,null,null,null,null,null,null,null,null,null,null,null,null,null,null,null,null,null,null,null,null,null,null,null,null,null,null,null,null,null,null,null,null,null,null,null,null,null,null,null,null,null,null,null,null,null,null,null,null,null,null,null,"MaxSettle",null,null,null,"CombinedFilter",null,null,null,"MaxFilterValues"]
[null,null,null,null,null,null,null,null,null,null,null,null,null,null,null,null,null,null,null,null,null,null,null,null,null,null,null,null,null,null,null,null,null,null,null,null,null,null,null,null,null,null,null,null,null,null,null,null,null,null,null,null,"MaxSettle","MaxFilter",null,"MSC1",null,"MS%",null,"CFC1",null,"CF%"]
["2016-12-01",null,null,null,null,null,null,null,null,null,null,null,null,null,null,null,null,null,null,null,null,null,null,null,null,null,null,null,null,null,null,null,null,null,null,null,null,null,null,null,null,null,null,null,null,null,null,null,null,null,null,null,{"$f":"MAX(C10:J10)","v":0},{"$f":"MAX(K10:V10)","v":0},null,null,31,{"$f":"100*COUNT(BD10:$BD$10)/$BD$43","v":{"$error":"#DIV/0!"}},null,null,23,{"$f":"100*COUNT(BH10:$BH$10)/$BH$43","v":{"$error":"#DIV/0!"}}]
["2016-12-02",null,null,null,null,null,null,null,null,null,null,null,null,null,null,null,null,null,null,null,null,null,null,null,null,null,null,null,null,null,null,null,null,null,null,null,null,null,null,null,null,null,null,null,null,null,null,null,null,null,null,null,0,0,null,null,3,{"$f":"100*COUNT(BD$10:$BD11)/$BD$43","v":{"$error":"#DIV/0!"}},null,null,9,{"$f":"100*COUNT(BH$10:$BH11)/$BH$43","v":{"$error":"#DIV/0!"}}]
["2016-12-03",null,null,null,null,null,null,null,null,null,null,null,null,null,null,null,null,null,null,null,null,null,null,null,null,null,null,null,null,null,null,null,null,null,null,null,null,null,null,null,null,null,null,null,null,null,null,null,null,null,null,null,0,0,null,null,25,{"$f":"100*COUNT(BD$10:$BD12)/$BD$43","v":{"$error":"#DIV/0!"}},null,null,6,{"$f":"100*COUNT(BH$10:$BH12)/$BH$43","v":{"$error":"#DIV/0!"}}]
["2016-12-04",null,null,null,null,null,null,null,null,null,null,null,null,null,null,null,null,null,null,null,null,null,null,null,null,null,null,null,null,null,null,null,null,null,null,null,null,null,null,null,null,null,null,null,null,null,null,null,null,null,null,null,0,0,null,null,19,{"$f":"100*COUNT(BD$10:$BD13)/$BD$43","v":{"$error":"#DIV/0!"}},null,null,21,{"$f":"100*COUNT(BH$10:$BH13)/$BH$43","v":{"$error":"#DIV/0!"}}]
["2016-12-05",null,null,null,null,null,null,null,null,null,null,null,null,null,null,null,null,null,null,null,null,null,null,null,null,null,null,null,null,null,null,null,null,null,null,null,null,null,null,null,null,null,null,null,null,null,null,null,null,null,null,null,0,0,null,null,10,{"$f":"100*COUNT(BD$10:$BD14)/$BD$43","v":{"$error":"#DIV/0!"}},null,null,26,{"$f":"100*COUNT(BH$10:$BH14)/$BH$43","v":{"$error":"#DIV/0!"}}]
["2016-12-06",null,null,null,null,null,null,null,null,null,null,null,null,null,null,null,null,null,null,null,null,null,null,null,null,null,null,null,null,null,null,null,null,null,null,null,null,null,null,null,null,null,null,null,null,null,null,null,null,null,null,null,0,0,null,null,13,{"$f":"100*COUNT(BD$10:$BD15)/$BD$43","v":{"$error":"#DIV/0!"}},null,null,16,{"$f":"100*COUNT(BH$10:$BH15)/$BH$43","v":{"$error":"#DIV/0!"}}]
["2016-12-07",null,null,null,null,null,null,null,null,null,null,null,null,null,null,null,null,null,null,null,null,null,null,null,null,null,null,null,null,null,null,null,null,null,null,null,null,null,null,null,null,null,null,null,null,null,null,null,null,null,null,null,0,0,null,null,14,{"$f":"100*COUNT(BD$10:$BD16)/$BD$43","v":{"$error":"#DIV/0!"}},null,null,3,{"$f":"100*COUNT(BH$10:$BH16)/$BH$43","v":{"$error":"#DIV/0!"}}]
["2016-12-08",null,null,null,null,null,null,null,null,null,null,null,null,null,null,null,null,null,null,null,null,null,null,null,null,null,null,null,null,null,null,null,null,null,null,null,null,null,null,null,null,null,null,null,null,null,null,null,null,null,null,null,0,0,null,null,30,{"$f":"100*COUNT(BD$10:$BD17)/$BD$43","v":{"$error":"#DIV/0!"}},null,null,20,{"$f":"100*COUNT(BH$10:$BH17)/$BH$43","v":{"$error":"#DIV/0!"}}]
["2016-12-09",null,null,null,null,null,null,null,null,null,null,null,null,null,null,null,null,null,null,null,null,null,null,null,null,null,null,null,null,null,null,null,null,null,null,null,null,null,null,null,null,null,null,null,null,null,null,null,null,null,null,null,0,0,null,null,17,{"$f":"100*COUNT(BD$10:$BD18)/$BD$43","v":{"$error":"#DIV/0!"}},null,null,22,{"$f":"100*COUNT(BH$10:$BH18)/$BH$43","v":{"$error":"#DIV/0!"}}]
["2016-12-10",null,null,null,null,null,null,null,null,null,null,null,null,null,null,null,null,null,null,null,null,null,null,null,null,null,null,null,null,null,null,null,null,null,null,null,null,null,null,null,null,null,null,null,null,null,null,null,null,null,null,null,0,0,null,null,29,{"$f":"100*COUNT(BD$10:$BD19)/$BD$43","v":{"$error":"#DIV/0!"}},null,null,25,{"$f":"100*COUNT(BH$10:$BH19)/$BH$43","v":{"$error":"#DIV/0!"}}]
["2016-12-11",null,null,null,null,null,null,null,null,null,null,null,null,null,null,null,null,null,null,null,null,null,null,null,null,null,null,null,null,null,null,null,null,null,null,null,null,null,null,null,null,null,null,null,null,null,null,null,null,null,null,null,0,0,null,null,7,{"$f":"100*COUNT(BD$10:$BD20)/$BD$43","v":{"$error":"#DIV/0!"}},null,null,7,{"$f":"100*COUNT(BH$10:$BH20)/$BH$43","v":{"$error":"#DIV/0!"}}]
["2016-12-12",null,null,null,null,null,null,null,null,null,null,null,null,null,null,null,null,null,null,null,null,null,null,null,null,null,null,null,null,null,null,null,null,null,null,null,null,null,null,null,null,null,null,null,null,null,null,null,null,null,null,null,0,0,null,null,1,{"$f":"100*COUNT(BD$10:$BD21)/$BD$43","v":{"$error":"#DIV/0!"}},null,null,24,{"$f":"100*COUNT(BH$10:$BH21)/$BH$43","v":{"$error":"#DIV/0!"}}]
["2016-12-13",null,null,null,null,null,null,null,null,null,null,null,null,null,null,null,null,null,null,null,null,null,null,null,null,null,null,null,null,null,null,null,null,null,null,null,null,null,null,null,null,null,null,null,null,null,null,null,null,null,null,null,0,0,null,null,20,{"$f":"100*COUNT(BD$10:$BD22)/$BD$43","v":{"$error":"#DIV/0!"}},null,null,1,{"$f":"100*COUNT(BH$10:$BH22)/$BH$43","v":{"$error":"#DIV/0!"}}]
["2016-12-14",null,null,null,null,null,null,null,null,null,null,null,null,null,null,null,null,null,null,null,null,null,null,null,null,null,null,null,null,null,null,null,null,null,null,null,null,null,null,null,null,null,null,null,null,null,null,null,null,null,null,null,0,0,null,null,12,{"$f":"100*COUNT(BD$10:$BD23)/$BD$43","v":{"$error":"#DIV/0!"}},null,null,2,{"$f":"100*COUNT(BH$10:$BH23)/$BH$43","v":{"$error":"#DIV/0!"}}]
["2016-12-15",null,null,null,null,null,null,null,null,null,null,null,null,null,null,null,null,null,null,null,null,null,null,null,null,null,null,null,null,null,null,null,null,null,null,null,null,null,null,null,null,null,null,null,null,null,null,null,null,null,null,null,0,0,null,null,6,{"$f":"100*COUNT(BD$10:$BD24)/$BD$43","v":{"$error":"#DIV/0!"}},null,null,10,{"$f":"100*COUNT(BH$10:$BH24)/$BH$43","v":{"$error":"#DIV/0!"}}]
["2016-12-16",null,null,null,null,null,null,null,null,null,null,null,null,null,null,null,null,null,null,null,null,null,null,null,null,null,null,null,null,null,null,null,null,null,null,null,null,null,null,null,null,null,null,null,null,null,null,null,null,null,null,null,0,0,null,null,26,{"$f":"100*COUNT(BD$10:$BD25)/$BD$43","v":{"$error":"#DIV/0!"}},null,null,19,{"$f":"100*COUNT(BH$10:$BH25)/$BH$43","v":{"$error":"#DIV/0!"}}]
["2016-12-17",null,null,null,null,null,null,null,null,null,null,null,null,null,null,null,null,null,null,null,null,null,null,null,null,null,null,null,null,null,null,null,null,null,null,null,null,null,null,null,null,null,null,null,null,null,null,null,null,null,null,null,0,0,null,null,11,{"$f":"100*COUNT(BD$10:$BD26)/$BD$43","v":{"$error":"#DIV/0!"}},null,null,4,{"$f":"100*COUNT(BH$10:$BH26)/$BH$43","v":{"$error":"#DIV/0!"}}]
["2016-12-18",null,null,null,null,null,null,null,null,null,null,null,null,null,null,null,null,null,null,null,null,null,null,null,null,null,null,null,null,null,null,null,null,null,null,null,null,null,null,null,null,null,null,null,null,null,null,null,null,null,null,null,0,0,null,null,5,{"$f":"100*COUNT(BD$10:$BD27)/$BD$43","v":{"$error":"#DIV/0!"}},null,null,13,{"$f":"100*COUNT(BH$10:$BH27)/$BH$43","v":{"$error":"#DIV/0!"}}]
["2016-12-19",null,null,null,null,null,null,null,null,null,null,null,null,null,null,null,null,null,null,null,null,null,null,null,null,null,null,null,null,null,null,null,null,null,null,null,null,null,null,null,null,null,null,null,null,null,null,null,null,null,null,null,0,0,null,null,4,{"$f":"100*COUNT(BD$10:$BD28)/$BD$43","v":{"$error":"#DIV/0!"}},null,null,11,{"$f":"100*COUNT(BH$10:$BH28)/$BH$43","v":{"$error":"#DIV/0!"}}]
["2016-12-20",null,null,null,null,null,null,null,null,null,null,null,null,null,null,null,null,null,null,null,null,null,null,null,null,null,null,null,null,null,null,null,null,null,null,null,null,null,null,null,null,null,null,null,null,null,null,null,null,null,null,null,0,0,null,null,16,{"$f":"100*COUNT(BD$10:$BD29)/$BD$43","v":{"$error":"#DIV/0!"}},null,null,27,{"$f":"100*COUNT(BH$10:$BH29)/$BH$43","v":{"$error":"#DIV/0!"}}]
["2016-12-21",null,null,null,null,null,null,null,null,null,null,null,null,null,null,null,null,null,null,null,null,null,null,null,null,null,null,null,null,null,null,null,null,null,null,null,null,null,null,null,null,null,null,null,null,null,null,null,null,null,null,null,0,0,null,null,23,{"$f":"100*COUNT(BD$10:$BD30)/$BD$43","v":{"$error":"#DIV/0!"}},null,null,28,{"$f":"100*COUNT(BH$10:$BH30)/$BH$43","v":{"$error":"#DIV/0!"}}]
["2016-12-22",null,null,null,null,null,null,null,null,null,null,null,null,null,null,null,null,null,null,null,null,null,null,null,null,null,null,null,null,null,null,null,null,null,null,null,null,null,null,null,null,null,null,null,null,null,null,null,null,null,null,null,0,0,null,null,27,{"$f":"100*COUNT(BD$10:$BD31)/$BD$43","v":{"$error":"#DIV/0!"}},null,null,18,{"$f":"100*COUNT(BH$10:$BH31)/$BH$43","v":{"$error":"#DIV/0!"}}]
["2016-12-23",null,null,null,null,null,null,null,null,null,null,null,null,null,null,null,null,null,null,null,null,null,null,null,null,null,null,null,null,null,null,null,null,null,null,null,null,null,null,null,null,null,null,null,null,null,null,null,null,null,null,null,0,0,null,null,22,{"$f":"100*COUNT(BD$10:$BD32)/$BD$43","v":{"$error":"#DIV/0!"}},null,null,29,{"$f":"100*COUNT(BH$10:$BH32)/$BH$43","v":{"$error":"#DIV/0!"}}]
["2016-12-24",null,null,null,null,null,null,null,null,null,null,null,null,null,null,null,null,null,null,null,null,null,null,null,null,null,null,null,null,null,null,null,null,null,null,null,null,null,null,null,null,null,null,null,null,null,null,null,null,null,null,null,0,0,null,null,9,{"$f":"100*COUNT(BD$10:$BD33)/$BD$43","v":{"$error":"#DIV/0!"}},null,null,31,{"$f":"100*COUNT(BH$10:$BH33)/$BH$43","v":{"$error":"#DIV/0!"}}]
["2016-12-25",null,null,null,null,null,null,null,null,null,null,null,null,null,null,null,null,null,null,null,null,null,null,null,null,null,null,null,null,null,null,null,null,null,null,null,null,null,null,null,null,null,null,null,null,null,null,null,null,null,null,null,0,0,null,null,18,{"$f":"100*COUNT(BD$10:$BD34)/$BD$43","v":{"$error":"#DIV/0!"}},null,null,30,{"$f":"100*COUNT(BH$10:$BH34)/$BH$43","v":{"$error":"#DIV/0!"}}]
["2016-12-26",null,null,null,null,null,null,null,null,null,null,null,null,null,null,null,null,null,null,null,null,null,null,null,null,null,null,null,null,null,null,null,null,null,null,null,null,null,null,null,null,null,null,null,null,null,null,null,null,null,null,null,0,0,null,null,28,{"$f":"100*COUNT(BD$10:$BD35)/$BD$43","v":{"$error":"#DIV/0!"}},null,null,5,{"$f":"100*COUNT(BH$10:$BH35)/$BH$43","v":{"$error":"#DIV/0!"}}]
["2016-12-27",null,null,null,null,null,null,null,null,null,null,null,null,null,null,null,null,null,null,null,null,null,null,null,null,null,null,null,null,null,null,null,null,null,null,null,null,null,null,null,null,null,null,null,null,null,null,null,null,null,null,null,0,0,null,null,24,{"$f":"100*COUNT(BD$10:$BD36)/$BD$43","v":{"$error":"#DIV/0!"}},null,null,15,{"$f":"100*COUNT(BH$10:$BH36)/$BH$43","v":{"$error":"#DIV/0!"}}]
["2016-12-28",null,null,null,null,null,null,null,null,null,null,null,null,null,null,null,null,null,null,null,null,null,null,null,null,null,null,null,null,null,null,null,null,null,null,null,null,null,null,null,null,null,null,null,null,null,null,null,null,null,null,null,0,0,null,null,8,{"$f":"100*COUNT(BD$10:$BD37)/$BD$43","v":{"$error":"#DIV/0!"}},null,null,17,{"$f":"100*COUNT(BH$10:$BH37)/$BH$43","v":{"$error":"#DIV/0!"}}]
["2016-12-29",null,null,null,null,null,null,null,null,null,null,null,null,null,null,null,null,null,null,null,null,null,null,null,null,null,null,null,null,null,null,null,null,null,null,null,null,null,null,null,null,null,null,null,null,null,null,null,null,null,null,null,0,0,null,null,15,{"$f":"100*COUNT(BD$10:$BD38)/$BD$43","v":{"$error":"#DIV/0!"}},null,null,14,{"$f":"100*COUNT(BH$10:$BH38)/$BH$43","v":{"$error":"#DIV/0!"}}]
["2016-12-30",null,null,null,null,null,null,null,null,null,null,null,null,null,null,null,null,null,null,null,null,null,null,null,null,null,null,null,null,null,null,null,null,null,null,null,null,null,null,null,null,null,null,null,null,null,null,null,null,null,null,null,0,0,null,null,21,{"$f":"100*COUNT(BD$10:$BD39)/$BD$43","v":{"$error":"#DIV/0!"}},null,null,12,{"$f":"100*COUNT(BH$10:$BH39)/$BH$43","v":{"$error":"#DIV/0!"}}]
["2016-12-31",null,null,null,null,null,null,null,null,null,null,null,null,null,null,null,null,null,null,null,null,null,null,null,null,null,null,null,null,null,null,null,null,null,null,null,null,null,null,null,null,null,null,null,null,null,null,null,null,null,null,null,0,0,null,null,2,{"$f":"100*COUNT(BD$10:$BD40)/$BD$43","v":{"$error":"#DIV/0!"}},null,null,8,{"$f":"100*COUNT(BH$10:$BH40)/$BH$43","v":{"$error":"#DIV/0!"}}]
[]
[]
[null,null,null,null,null,null,null,null,null,null,null,null,null,null,null,null,null,null,null,null,null,null,null,null,null,null,null,null,null,null,null,null,null,null,null,null,null,null,null,null,null,null,null,null,null,null,null,null,null,null,null,null,null,null,null,{"$f":"COUNT(_MSC1)","v":0},null,null,null,{"$f":"COUNT(_CFC1)","v":0}]