{"text_format":"1","workbook":"xlsx","n_sheets":17,"sheets":["Instructions","Control Data","Summary","<---Dynamic Model Tabs","Outcomes Formula Tabs--->","Dynamic - 2021-22 CC","Dynamic - 2021-22 Univ","Dynamic 21-22 Point Calculation","CC Data","Univ Data","2020-21 CC","2020-21 Univ","20-21 Point Calculation","Dynamic - 21-22 Recommendation","Institutions","Tabs Flow Chart","Scales"],"not_rendered":{"charts":0,"images":10,"macros":1,"external_links":2,"defined_names":359,"comments":8,"pivot_tables":0},"unopened":[],"bounds":{"document_bytes":16777216,"sheet_cells":100000,"rows_first":2000,"rows_last":500,"rows_between":2000,"halvings":0,"cell_chars":16384,"cell_head_chars":4096},"cells_cut":0,"cells_raw":0,"read":"whole","date_system":"1900"}

{"sheet":"Instructions","index":0,"n_rows":40,"n_cols":11,"rows_kept":40,"cut":false,"hidden":false,"merged":[[64,8,64,9],[0,1,0,13],[1,1,1,13],[60,2,60,11],[61,2,61,11],[63,8,63,9]]}
[null,"Tennessee Higher Education Commission"]
[null,"Outcomes-Based Funding Dynamic Simulation Instructions"]
[]
[]
[]
[]
[]
[]
[]
[]
[null,null,102,null,null,null,101,null,null,null,100]
[]
[null,null,0.01,0.01,0.01,0.01,0.01,0.01,0.01,0.01,0.01]
[null,null,0.01,0.01,0.01,0.01,0.01,0.01,0.01,0.01,0.01]
[null,null,0.01,0.01,0.01,0.01,0.01,0.01,0.01,0.01,0.01]
[null,null,0.01,0.01,0.01,0.01,0.01,0.01,0.01,0.01,0.01]
[null,null,0.01,0.01,0.01,0.01,0.01,0.01,0.01,0.01,0.01]
[null,null,0.01,0.01,0.01,0.01,0.01,0.01,0.01,0.01,0.01]
[null,null,0.01,0.01,0.01,0.01,0.01,0.01,0.01,0.01,0.01]
[null,null,0.01,0.01,0.01,0.01,0.01,0.01,0.01,0.01,0.01]
[null,null,0.01,0.01,0.01,0.01,0.01,0.01,0.01,0.01,0.01]
[null,null,0.01,0.01,0.01,0.01,0.01,0.01,0.01,0.01,0.01]
[null,null,0.01,0.01,0.01,0.01,0.01,0.01,0.01,0.01,0.01]
[null,null,0.01,0.01,0.01,0.01,0.01,0.01,0.01,0.01,0.01]
[]
[null,null,113,null,null,null,100,null,null,null,100]
[]
[]
[]
[]
[null,null,100,null,null,null,100,null,null,null,100]
[]
[]
[]
[]
[]
[]
[]
[]
[null,null,100]

{"sheet":"Control Data","index":1,"n_rows":52,"n_cols":15,"rows_kept":52,"cut":false,"hidden":false,"merged":[[29,12,29,16],[3,8,3,10],[4,8,4,10],[5,8,5,10],[0,1,0,14],[1,1,1,14]]}
[null,"Tennessee Higher Education Commission"]
[null,"Estimated Changes to FY 2021-22 Formula"]
[]
[null,null,"All CC","All 4yr","Total",null,null,null,"20-21 Appropriations",null,null,{"$f":"'Dynamic - 21-22 Recommendation'!L9","v":1078850800}]
[null,"Percent Change in Est. Funding ",{"$f":"'Dynamic - 21-22 Recommendation'!$I$32","v":1.0114525133026443E-2},{"$f":"SUM('Dynamic - 21-22 Recommendation'!$H$16,'Dynamic - 21-22 Recommendation'!$H$38)/SUM('Dynamic - 21-22 Recommendation'!$C$16,'Dynamic - 21-22 Recommendation'!$C$38)","v":-3.7985266174179124E-3},{"$f":"'Dynamic - 21-22 Recommendation'!$I$40","v":0},null,null,null,"Estimated 21-22 Appropriations",null,null,{"$f":"L4+L6","v":1078850800}]
[null,"Change in Est. Funding",{"$f":"'Dynamic - 21-22 Recommendation'!$H$32","v":2979200},{"$f":"SUM('Dynamic - 21-22 Recommendation'!$H$16,'Dynamic - 21-22 Recommendation'!$H$38)","v":-2979200},{"$f":"'Dynamic - 21-22 Recommendation'!$H$40","v":0},null,null,null,"Change",null,null,{"$f":"M6*L4","v":0},{"$f":"N6/1000","v":0},0]
[]
[]
[null,"Changes to 2019-20 Outcomes - CCs","Chattanooga","Cleveland","Columbia","Dyersburg","Jackson","Motlow","Nashville","Northeast","Pellissippi","Roane","Southwest","Volunteer","Walters"]
[null,"Students Accumulating 12 hrs",0,0,0,0,0,0,0,0,0,0,0,0,0]
[null,"Students Accumulating 24 hrs",0,0,0,0,0,0,0,0,0,0,0,0,0]
[null,"Students Accumulating 36 hrs",0,0,0,0,0,0,0,0,0,0,0,0,0]
[null,"Dual Enrollment",0,0,0,0,0,0,0,0,0,0,0,0,0]
[null,"Associates",{"$f":"SUM('CC Data'!$AN8,0.5*'CC Data'!$AN9)/SUM('CC Data'!$AM8,0.5*'CC Data'!$AM9)-1","v":0},{"$f":"SUM('CC Data'!$AN31,0.5*'CC Data'!$AN32)/SUM('CC Data'!$AM31,0.5*'CC Data'!$AM32)-1","v":0},{"$f":"SUM('CC Data'!$AN54,0.5*'CC Data'!$AN55)/SUM('CC Data'!$AM54,0.5*'CC Data'!$AM55)-1","v":0},{"$f":"SUM('CC Data'!$AN77,0.5*'CC Data'!$AN78)/SUM('CC Data'!$AM77,0.5*'CC Data'!$AM78)-1","v":0},{"$f":"SUM('CC Data'!$AN100,0.5*'CC Data'!$AN101)/SUM('CC Data'!$AM100,0.5*'CC Data'!$AM101)-1","v":0},{"$f":"SUM('CC Data'!$AN123,0.5*'CC Data'!$AN124)/SUM('CC Data'!$AM123,0.5*'CC Data'!$AM124)-1","v":0},{"$f":"SUM('CC Data'!$AN146,0.5*'CC Data'!$AN147)/SUM('CC Data'!$AM146,0.5*'CC Data'!$AM147)-1","v":0},{"$f":"SUM('CC Data'!$AN169,0.5*'CC Data'!$AN170)/SUM('CC Data'!$AM169,0.5*'CC Data'!$AM170)-1","v":0},{"$f":"SUM('CC Data'!$AN192,0.5*'CC Data'!$AN193)/SUM('CC Data'!$AM192,0.5*'CC Data'!$AM193)-1","v":0},{"$f":"SUM('CC Data'!$AN215,0.5*'CC Data'!$AN216)/SUM('CC Data'!$AM215,0.5*'CC Data'!$AM216)-1","v":0},{"$f":"SUM('CC Data'!$AN238,0.5*'CC Data'!$AN239)/SUM('CC Data'!$AM238,0.5*'CC Data'!$AM239)-1","v":0},{"$f":"SUM('CC Data'!$AN261,0.5*'CC Data'!$AN262)/SUM('CC Data'!$AM261,0.5*'CC Data'!$AM262)-1","v":0},{"$f":"SUM('CC Data'!$AN284,0.5*'CC Data'!$AN285)/SUM('CC Data'!$AM284,0.5*'CC Data'!$AM285)-1","v":0}]
[null,"Associates",0,0,0,0,0,0,0,0,0,0,0,0,0]
[null,"Reverse Associates",0,0,0,0,0,0,0,0,0,0,0,0,0]
[null,"1-2 Year Certificates",0,0,0,0,0,0,0,0,0,0,0,0,0]
[null,"<1yr Certificates",0,0,0,0,0,0,0,0,0,0,0,0,0]
[null,"Job Placements",0,0,0,0,0,0,0,0,0,0,0,0,0]
[null,"Transfers Out with 12 hrs",0,0,0,0,0,0,0,0,0,0,0,0,0]
[null,"Workforce Training (Contact Hours)",0,0,0,0,0,0,0,0,0,0,0,0,0]
[null,"Awards per 100 FTE",0,0,0,0,0,0,0,0,0,0,0,0,0]
[null,"Focus Population: 1",0,0,0,0,0,0,0,0,0,0,0,0,0]
[null,"Focus Population: 2",0,0,0,0,0,0,0,0,0,0,0,0,0]
[null,"Focus Population: 3",0,0,0,0,0,0,0,0,0,0,0,0,0]
[null,"Enrollment ",0,0,0,0,0,0,0,0,0,0,0,0,0]
[null,"Percent Change in Est. Funding",{"$f":"'Dynamic - 21-22 Recommendation'!$I$19","v":-5.8145186769387805E-3},{"$f":"'Dynamic - 21-22 Recommendation'!$I$20","v":1.2799784424683373E-2},{"$f":"'Dynamic - 21-22 Recommendation'!$I$21","v":3.3946743941952268E-2},{"$f":"'Dynamic - 21-22 Recommendation'!$I$22","v":1.419910657306956E-2},{"$f":"'Dynamic - 21-22 Recommendation'!$I$23","v":7.6424677731336819E-4},{"$f":"'Dynamic - 21-22 Recommendation'!$I$24","v":5.816383828300474E-2},{"$f":"'Dynamic - 21-22 Recommendation'!$I$25","v":-1.5100567211461033E-2},{"$f":"'Dynamic - 21-22 Recommendation'!$I$26","v":3.4383165400983996E-2},{"$f":"'Dynamic - 21-22 Recommendation'!$I$27","v":8.3738940875318548E-3},{"$f":"'Dynamic - 21-22 Recommendation'!$I$28","v":5.6227075691897303E-3},{"$f":"'Dynamic - 21-22 Recommendation'!$I$29","v":-2.1820928085927668E-2},{"$f":"'Dynamic - 21-22 Recommendation'!$I$30","v":2.4764087014033705E-2},{"$f":"'Dynamic - 21-22 Recommendation'!$I$31","v":9.1273005771675356E-3}]
[null,"Change in Est. Funding ($1K)",{"$f":"'Dynamic - 21-22 Recommendation'!$H$19/1000","v":-191.4},{"$f":"'Dynamic - 21-22 Recommendation'!$H$20/1000","v":152},{"$f":"'Dynamic - 21-22 Recommendation'!$H$21/1000","v":595.1},{"$f":"'Dynamic - 21-22 Recommendation'!$H$22/1000","v":151.30000000000001},{"$f":"'Dynamic - 21-22 Recommendation'!$H$23/1000","v":11.3},{"$f":"'Dynamic - 21-22 Recommendation'!$H$24/1000","v":1118.7},{"$f":"'Dynamic - 21-22 Recommendation'!$H$25/1000","v":-341.3},{"$f":"'Dynamic - 21-22 Recommendation'!$H$26/1000","v":786.9},{"$f":"'Dynamic - 21-22 Recommendation'!$H$27/1000","v":295.39999999999998},{"$f":"'Dynamic - 21-22 Recommendation'!$H$28/1000","v":134.9},{"$f":"'Dynamic - 21-22 Recommendation'!$H$29/1000","v":-650.1},{"$f":"'Dynamic - 21-22 Recommendation'!$H$30/1000","v":685.2},{"$f":"'Dynamic - 21-22 Recommendation'!$H$31/1000","v":231.2}]
[]
[null,"Changes to 2019-20 Outcomes - Univs","UTM","APSU","TTU","UTC","MTSU","ETSU","TSU","UM","UTK",null,"Table Controls"]
[null,"Students Accumulating 30 hrs",0,0,0,0,0,0,0,0,0]
[null,"Students Accumulating 60 hrs",0,0,0,0,0,0,0,0,0,null,null,"Value",0]
[null,"Students Accumulating 90 hrs",0,0,0,0,0,0,0,0,0]
[null,"Bachelors and Associates",{"$f":"'Univ Data'!$AN$7/'Univ Data'!$AM$7-1","v":0},{"$f":"'Univ Data'!$AN$23/'Univ Data'!$AM$23-1","v":0},{"$f":"'Univ Data'!$AN$39/'Univ Data'!$AM$39-1","v":0},{"$f":"'Univ Data'!$AN$55/'Univ Data'!$AM$55-1","v":0},{"$f":"'Univ Data'!$AN$71/'Univ Data'!$AM$71-1","v":0},{"$f":"'Univ Data'!$AN$87/'Univ Data'!$AM$87-1","v":0},{"$f":"'Univ Data'!$AN$103/'Univ Data'!$AM$103-1","v":0},{"$f":"'Univ Data'!$AN$119/'Univ Data'!$AM$119-1","v":0},{"$f":"'Univ Data'!$AN$135/'Univ Data'!$AM$135-1","v":0},null,null,null,"Update Institutions"]
[null,"Associate",0,0,0,0,0,0,0,0,0]
[null,"Reverse Articulated Associates",0,0,0,0,0,0,0,0,0]
[null,"Bachelors",0,0,0,0,0,0,0,0,0]
[null,"Masters/Ed Specialist Degrees",{"$f":"'Univ Data'!$AN$8/'Univ Data'!$AM$8-1","v":0},{"$f":"'Univ Data'!$AN$24/'Univ Data'!$AM$24-1","v":0},{"$f":"'Univ Data'!$AN$40/'Univ Data'!$AM$40-1","v":0},{"$f":"'Univ Data'!$AN$56/'Univ Data'!$AM$56-1","v":0},{"$f":"'Univ Data'!$AN$72/'Univ Data'!$AM$72-1","v":0},{"$f":"'Univ Data'!$AN$88/'Univ Data'!$AM$88-1","v":0},{"$f":"'Univ Data'!$AN$104/'Univ Data'!$AM$104-1","v":0},{"$f":"'Univ Data'!$AN$120/'Univ Data'!$AM$120-1","v":0},{"$f":"'Univ Data'!$AN$136/'Univ Data'!$AM$136-1","v":0},null,null,null,"Update Outcomes"]
[null,"Masters",0,0,0,0,0,0,0,0,0,null,null,null,"Community College Formula Components"]
[null,"Education Specialist",0,0,0,0,0,0,0,0,0]
[null,"Doctoral / Law Degrees",{"$f":"IFERROR('Univ Data'!$AN$9/'Univ Data'!$AM$9-1,0)","v":0},{"$f":"IFERROR('Univ Data'!$AN$25/'Univ Data'!$AM$25-1,0)","v":0},{"$f":"'Univ Data'!$AN$41/'Univ Data'!$AM$41-1","v":0},{"$f":"'Univ Data'!$AN$57/'Univ Data'!$AM$57-1","v":0},{"$f":"'Univ Data'!$AN$73/'Univ Data'!$AM$73-1","v":0},{"$f":"'Univ Data'!$AN$89/'Univ Data'!$AM$89-1","v":0},{"$f":"'Univ Data'!$AN$105/'Univ Data'!$AM$105-1","v":0},{"$f":"'Univ Data'!$AN$121/'Univ Data'!$AM$121-1","v":0},{"$f":"'Univ Data'!$AN$137/'Univ Data'!$AM$137-1","v":0}]
[null,"Law Degrees",0,0,0,0,0,0,0,0,0]
[null,"Degrees of Veterinary Medicine",0,0,0,0,0,0,0,0,0,null,null,null,"University Formula Components"]
[null,"Doctoral",0,0,0,0,0,0,0,0,0]
[null,"Research, Service and Sponsored Programs",0,0,0,0,0,0,0,0,0]
[null,"Degrees per 100 FTE",0,0,0,0,0,0,0,0,0]
[null,"Six-Year Graduation Rate",0,0,0,0,0,0,0,0,0,null,null,null,"Reset Table Values to Zero"]
[null,"Focus Population: 1",0,0,0,0,0,0,0,0,0]
[null,"Focus Population: 2",0,0,0,0,0,0,0,0,0]
[null,"Enrollment ",0,0,0,0,0,0,0,0,0]
[null,"Percent Change in Est. Funding",{"$f":"'Dynamic - 21-22 Recommendation'!$I$37","v":-1.8852069924255602E-2},{"$f":"'Dynamic - 21-22 Recommendation'!$I$10","v":2.0288850193433505E-3},{"$f":"'Dynamic - 21-22 Recommendation'!$I$14","v":-6.3524421201472938E-3},{"$f":"'Dynamic - 21-22 Recommendation'!$I$35","v":-2.6552895941079312E-3},{"$f":"'Dynamic - 21-22 Recommendation'!$I$12","v":-1.5584054633526563E-2},{"$f":"'Dynamic - 21-22 Recommendation'!$I$11","v":-1.634178158245535E-3},{"$f":"'Dynamic - 21-22 Recommendation'!$I$13","v":-2.0307434701764975E-2},{"$f":"'Dynamic - 21-22 Recommendation'!$I$15","v":-6.1562451777433052E-4},{"$f":"'Dynamic - 21-22 Recommendation'!$I$36","v":3.0780364805236358E-3}]
[null,"Change in Est. Funding ($1K)",{"$f":"'Dynamic - 21-22 Recommendation'!$H$37/1000","v":-639.4},{"$f":"'Dynamic - 21-22 Recommendation'!$H$10/1000","v":103},{"$f":"'Dynamic - 21-22 Recommendation'!$H$14/1000","v":-362.1},{"$f":"'Dynamic - 21-22 Recommendation'!$H$35/1000","v":-156.9},{"$f":"'Dynamic - 21-22 Recommendation'!$H$12/1000","v":-1648.5},{"$f":"'Dynamic - 21-22 Recommendation'!$H$11/1000","v":-114.5},{"$f":"'Dynamic - 21-22 Recommendation'!$H$13/1000","v":-834.4},{"$f":"'Dynamic - 21-22 Recommendation'!$H$15/1000","v":-75.8},{"$f":"'Dynamic - 21-22 Recommendation'!$H$36/1000","v":749.4}]

{"sheet":"Summary","index":2,"n_rows":39,"n_cols":8,"rows_kept":39,"cut":false,"hidden":false,"merged":[[37,5,37,7],[0,1,0,7],[1,1,1,7],[4,1,4,3],[34,5,35,7],[36,5,36,7]]}
[null,"Tennessee Higher Education Commission"]
[null,"Summary of Changes in FY 2021-22 Formula and Estimated State Appropriations"]
[]
[null,null,null,null,null,null,"Est. Change Due to","Percent Change Due to "]
[null,"Assumptions",null,null,null,null,"Outcomes and Funding*","Outcomes and Funding*"]
[null,"2020-21 State Appropriations",{"$f":"'Control Data'!$L$4","v":1078850800},null,null,"APSU",{"$f":"'Dynamic - 21-22 Recommendation'!$H$10","v":103000},{"$f":"'Dynamic - 21-22 Recommendation'!$I$10","v":2.0288850193433505E-3}]
[null,"Est 2021-22 State Appropriations",{"$f":"'Control Data'!$L$5","v":1078850800},null,null,"ETSU",{"$f":"'Dynamic - 21-22 Recommendation'!$H$11","v":-114500},{"$f":"'Dynamic - 21-22 Recommendation'!$I$11","v":-1.634178158245535E-3}]
[null,"Percentage Change from 2020-21",{"$f":"'Control Data'!$M$6","v":0},null,null,"MTSU",{"$f":"'Dynamic - 21-22 Recommendation'!$H$12","v":-1648500},{"$f":"'Dynamic - 21-22 Recommendation'!$I$12","v":-1.5584054633526563E-2}]
[null,"Dollar Change from 2020-21",{"$f":"'Control Data'!$L$6","v":0},null,null,"TSU",{"$f":"'Dynamic - 21-22 Recommendation'!$H$13","v":-834400},{"$f":"'Dynamic - 21-22 Recommendation'!$I$13","v":-2.0307434701764975E-2}]
[null,null,null,null,null,"TTU",{"$f":"'Dynamic - 21-22 Recommendation'!$H$14","v":-362100},{"$f":"'Dynamic - 21-22 Recommendation'!$I$14","v":-6.3524421201472938E-3}]
[null,null,null,null,null,"UM",{"$f":"'Dynamic - 21-22 Recommendation'!$H$15","v":-75800},{"$f":"'Dynamic - 21-22 Recommendation'!$I$15","v":-6.1562451777433052E-4}]
[null,"University Outcomes**",null,"Avg Univ Change",null,"TBR Univ. Subtotal ",{"$f":"'Dynamic - 21-22 Recommendation'!$H$16","v":-2932300},{"$f":"'Dynamic - 21-22 Recommendation'!$I$16","v":-6.5477839961467594E-3}]
[null,"Students Accumulating 30 hrs",null,{"$f":"AVERAGE('Control Data'!C31:K31)","v":0}]
[null,"Students Accumulating 60 hrs",null,{"$f":"AVERAGE('Control Data'!C32:K32)","v":0},null,"Chattanooga",{"$f":"'Dynamic - 21-22 Recommendation'!$H$19","v":-191400},{"$f":"'Dynamic - 21-22 Recommendation'!$I$19","v":-5.8145186769387805E-3}]
[null,"Students Accumulating 90 hrs",null,{"$f":"AVERAGE('Control Data'!C33:K33)","v":0},null,"Cleveland",{"$f":"'Dynamic - 21-22 Recommendation'!$H$20","v":152000},{"$f":"'Dynamic - 21-22 Recommendation'!$I$20","v":1.2799784424683373E-2}]
[null,"Bachelors and Associates",null,{"$f":"AVERAGE('Control Data'!C34:K34)","v":0},null,"Columbia",{"$f":"'Dynamic - 21-22 Recommendation'!$H$21","v":595100},{"$f":"'Dynamic - 21-22 Recommendation'!$I$21","v":3.3946743941952268E-2}]
[null,"Masters/Ed Specialist Degrees",null,{"$f":"AVERAGE('Control Data'!C38:K38)","v":0},null,"Dyersburg",{"$f":"'Dynamic - 21-22 Recommendation'!$H$22","v":151300},{"$f":"'Dynamic - 21-22 Recommendation'!$I$22","v":1.419910657306956E-2}]
[null,"Doctoral / Law Degrees",null,{"$f":"AVERAGE('Control Data'!C41:K41)","v":0},null,"Jackson",{"$f":"'Dynamic - 21-22 Recommendation'!$H$23","v":11300},{"$f":"'Dynamic - 21-22 Recommendation'!$I$23","v":7.6424677731336819E-4}]
[null,"Research and Service",null,{"$f":"AVERAGE('Control Data'!C45:K45)","v":0},null,"Motlow",{"$f":"'Dynamic - 21-22 Recommendation'!$H$24","v":1118700},{"$f":"'Dynamic - 21-22 Recommendation'!$I$24","v":5.816383828300474E-2}]
[null,"Degrees per 100 FTE",null,{"$f":"AVERAGE('Control Data'!C46:K46)","v":0},null,"Nashville",{"$f":"'Dynamic - 21-22 Recommendation'!$H$25","v":-341300},{"$f":"'Dynamic - 21-22 Recommendation'!$I$25","v":-1.5100567211461033E-2}]
[null,"Six-Year Graduation Rate",null,{"$f":"AVERAGE('Control Data'!C47:K47)","v":0},null,"Northeast",{"$f":"'Dynamic - 21-22 Recommendation'!$H$26","v":786900},{"$f":"'Dynamic - 21-22 Recommendation'!$I$26","v":3.4383165400983996E-2}]
[null,"Focus Population: Adult",null,{"$f":"AVERAGE('Control Data'!C48:K48)","v":0},null,"Pellissippi",{"$f":"'Dynamic - 21-22 Recommendation'!$H$27","v":295400},{"$f":"'Dynamic - 21-22 Recommendation'!$I$27","v":8.3738940875318548E-3}]
[null,"Focus Population: Low-Income",null,{"$f":"AVERAGE('Control Data'!C49:K49)","v":0},null,"Roane",{"$f":"'Dynamic - 21-22 Recommendation'!$H$28","v":134900},{"$f":"'Dynamic - 21-22 Recommendation'!$I$28","v":5.6227075691897303E-3}]
[null,null,null,null,null,"Southwest",{"$f":"'Dynamic - 21-22 Recommendation'!$H$29","v":-650100},{"$f":"'Dynamic - 21-22 Recommendation'!$I$29","v":-2.1820928085927668E-2}]
[null,"Community College Outcomes**",null,"Avg CC Change",null,"Volunteer",{"$f":"'Dynamic - 21-22 Recommendation'!$H$30","v":685200},{"$f":"'Dynamic - 21-22 Recommendation'!$I$30","v":2.4764087014033705E-2}]
[null,"Students Accumulating 12 hrs",null,{"$f":"AVERAGE('Control Data'!C10:O10)","v":0},null,"Walters",{"$f":"'Dynamic - 21-22 Recommendation'!$H$31","v":231200},{"$f":"'Dynamic - 21-22 Recommendation'!$I$31","v":9.1273005771675356E-3}]
[null,"Students Accumulating 24 hrs",null,{"$f":"AVERAGE('Control Data'!C11:O11)","v":0},null,"CC Sector Subtotal",{"$f":"'Dynamic - 21-22 Recommendation'!$H$32","v":2979200},{"$f":"'Dynamic - 21-22 Recommendation'!$I$32","v":1.0114525133026443E-2}]
[null,"Students Accumulating 36 hrs",null,{"$f":"AVERAGE('Control Data'!C12:O12)","v":0}]
[null,"Dual Enrollment",null,{"$f":"AVERAGE('Control Data'!C13:O13)","v":0},null,"UTC",{"$f":"'Dynamic - 21-22 Recommendation'!$H$35","v":-156900},{"$f":"'Dynamic - 21-22 Recommendation'!$I$35","v":-2.6552895941079312E-3}]
[null,"Associates",null,{"$f":"AVERAGE('Control Data'!C14:O14)","v":0},null,"UTK",{"$f":"'Dynamic - 21-22 Recommendation'!$H$36","v":749400},{"$f":"'Dynamic - 21-22 Recommendation'!$I$36","v":3.0780364805236358E-3}]
[null,"Certificates 1-2 Years",null,{"$f":"AVERAGE('Control Data'!C17:O17)","v":0},null,"UTM",{"$f":"'Dynamic - 21-22 Recommendation'!$H$37","v":-639400},{"$f":"'Dynamic - 21-22 Recommendation'!$I$37","v":-1.8852069924255602E-2}]
[null,"Certificates Less Than 1 Year",null,{"$f":"AVERAGE('Control Data'!C18:O18)","v":0},null,"UT Subtotal ",{"$f":"'Dynamic - 21-22 Recommendation'!$H$38","v":-46900},{"$f":"'Dynamic - 21-22 Recommendation'!$I$38","v":-1.3938702993284457E-4}]
[null,"Job Placements",null,{"$f":"AVERAGE('Control Data'!C19:O19)","v":0}]
[null,"Transfers Out with 12 hrs",null,{"$f":"AVERAGE('Control Data'!C20:O20)","v":0},null,"Total",{"$f":"'Dynamic - 21-22 Recommendation'!$H$40","v":0},{"$f":"'Dynamic - 21-22 Recommendation'!$I$40","v":0}]
[null,"Workforce Training",null,{"$f":"AVERAGE('Control Data'!C21:O21)","v":0},null,"*The estimated change in state appropriations due to changes in both formula outcomes and higher education state appropriations. "]
[null,"Awards per 100 FTE",null,{"$f":"AVERAGE('Control Data'!C22:O22)","v":0}," "]
[null,"Focus Population: Adult",null,{"$f":"AVERAGE('Control Data'!C23:O23)","v":0},null,"**Bolded outcome changes indicate above-average increases."]
[null,"Focus Population: Low-Income",null,{"$f":"AVERAGE('Control Data'!C24:O24)","v":0}]
[null,"Focus Population: Academically Underprepared",null,{"$f":"AVERAGE('Control Data'!C25:O25)","v":0}]

{"sheet":"<---Dynamic Model Tabs","index":3,"n_rows":0,"n_cols":0,"rows_kept":0,"cut":false,"hidden":false,"merged":[]}

{"sheet":"Outcomes Formula Tabs--->","index":4,"n_rows":0,"n_cols":0,"rows_kept":0,"cut":false,"hidden":false,"merged":[]}

{"sheet":"Dynamic - 2021-22 CC","index":5,"n_rows":86,"n_cols":29,"rows_kept":86,"cut":false,"hidden":false,"merged":[[1,1,1,14]]}
[]
[null,"2021-22 Formula Weighted Outcomes Calculation"]
[]
[]
[null,"Combined Outcomes (17-18 to 19-20 Data)","Chattanooga","Cleveland","Columbia","Dyersburg","Jackson","Motlow","Nashville","Northeast","Pellissippi","Roane","Southwest","Volunteer","Walters","All CC","Avg All CC"]
[null,"Students Accumulating 12 hrs",{"$f":"AVERAGE('CC Data'!$P$4:$R$4)","v":3309.3333333333335},{"$f":"AVERAGE('CC Data'!$P$27:$R$27)","v":1739.1999999999998},{"$f":"AVERAGE('CC Data'!$P$50:$R$50)","v":2990},{"$f":"AVERAGE('CC Data'!$P$73:$R$73)","v":1455.3333333333333},{"$f":"AVERAGE('CC Data'!$P$96:$R$96)","v":2452.2666666666669},{"$f":"AVERAGE('CC Data'!$P$119:$R$119)","v":3892.2000000000003},{"$f":"AVERAGE('CC Data'!$P$142:$R$142)","v":3417},{"$f":"AVERAGE('CC Data'!$P$165:$R$165)","v":2729.5333333333333},{"$f":"AVERAGE('CC Data'!$P$188:$R$188)","v":4898.4666666666662},{"$f":"AVERAGE('CC Data'!$P$211:$R$211)","v":2781.2666666666664},{"$f":"AVERAGE('CC Data'!$P$234:$R$234)","v":4772.8666666666659},{"$f":"AVERAGE('CC Data'!$P$257:$R$257)","v":4392.9333333333334},{"$f":"AVERAGE('CC Data'!$P$280:$R$280)","v":3129.7999999999997},{"$f":"SUM(C6:O6)","v":41960.200000000004},{"$f":"AVERAGE(C6:O6)","v":3227.7076923076925}]
[null,"Students Accumulating 24 hrs",{"$f":"AVERAGE('CC Data'!$P$5:$R$5)","v":2683.7333333333331},{"$f":"AVERAGE('CC Data'!$P$28:$R$28)","v":1157.1333333333334},{"$f":"AVERAGE('CC Data'!$P$51:$R$51)","v":2490.3999999999996},{"$f":"AVERAGE('CC Data'!$P$74:$R$74)","v":995.6},{"$f":"AVERAGE('CC Data'!$P$97:$R$97)","v":1662},{"$f":"AVERAGE('CC Data'!$P$120:$R$120)","v":2838.0666666666671},{"$f":"AVERAGE('CC Data'!$P$143:$R$143)","v":2746.3333333333335},{"$f":"AVERAGE('CC Data'!$P$166:$R$166)","v":2366.3333333333335},{"$f":"AVERAGE('CC Data'!$P$189:$R$189)","v":4613.2666666666664},{"$f":"AVERAGE('CC Data'!$P$212:$R$212)","v":2250.9333333333334},{"$f":"AVERAGE('CC Data'!$P$235:$R$235)","v":3839.9333333333329},{"$f":"AVERAGE('CC Data'!$P$258:$R$258)","v":3225.7333333333336},{"$f":"AVERAGE('CC Data'!$P$281:$R$281)","v":2274.4666666666667},{"$f":"SUM(C7:O7)","v":33143.933333333334},{"$f":"AVERAGE(C7:O7)","v":2549.5333333333333}]
[null,"Students Accumulating 36 hrs",{"$f":"AVERAGE('CC Data'!$P$6:$R$6)","v":2362.7999999999997},{"$f":"AVERAGE('CC Data'!$P$29:$R$29)","v":998},{"$f":"AVERAGE('CC Data'!$P$52:$R$52)","v":2019.6000000000001},{"$f":"AVERAGE('CC Data'!$P$75:$R$75)","v":830},{"$f":"AVERAGE('CC Data'!$P$98:$R$98)","v":1423.6000000000001},{"$f":"AVERAGE('CC Data'!$P$121:$R$121)","v":2419.3333333333335},{"$f":"AVERAGE('CC Data'!$P$144:$R$144)","v":2491.1333333333332},{"$f":"AVERAGE('CC Data'!$P$167:$R$167)","v":2184.2666666666669},{"$f":"AVERAGE('CC Data'!$P$190:$R$190)","v":3770.0666666666671},{"$f":"AVERAGE('CC Data'!$P$213:$R$213)","v":2005.5999999999997},{"$f":"AVERAGE('CC Data'!$P$236:$R$236)","v":3047.8666666666668},{"$f":"AVERAGE('CC Data'!$P$259:$R$259)","v":2750.8666666666668},{"$f":"AVERAGE('CC Data'!$P$282:$R$282)","v":2005.8666666666668},28309,2177.6153846153848]
[null,"Dual Enrollment",{"$f":"AVERAGE('CC Data'!$P$7:$R$7)","v":1436.6666666666667},{"$f":"AVERAGE('CC Data'!$P$30:$R$30)","v":1220},{"$f":"AVERAGE('CC Data'!$P$53:$R$53)","v":1421.6666666666667},{"$f":"AVERAGE('CC Data'!$P$76:$R$76)","v":1030},{"$f":"AVERAGE('CC Data'!$P$99:$R$99)","v":1826.6666666666667},{"$f":"AVERAGE('CC Data'!$P$122:$R$122)","v":1888.3333333333333},{"$f":"AVERAGE('CC Data'!$P$145:$R$145)","v":1285.3333333333333},{"$f":"AVERAGE('CC Data'!$P$168:$R$168)","v":1095.6666666666667},{"$f":"AVERAGE('CC Data'!$P$191:$R$191)","v":1831.6666666666667},{"$f":"AVERAGE('CC Data'!$P$214:$R$214)","v":1765.3333333333333},{"$f":"AVERAGE('CC Data'!$P$237:$R$237)","v":936.66666666666663},{"$f":"AVERAGE('CC Data'!$P$260:$R$260)","v":2077},{"$f":"AVERAGE('CC Data'!$P$283:$R$283)","v":1811},19626,1509.6923076923076]
[null,"Associates",{"$f":"AVERAGE('CC Data'!$P$8:$R$8)","v":2012.4333333333334},{"$f":"AVERAGE('CC Data'!$P$31:$R$31)","v":775.66666666666663},{"$f":"AVERAGE('CC Data'!$P$54:$R$54)","v":1325.9666666666665},{"$f":"AVERAGE('CC Data'!$P$77:$R$77)","v":669.69999999999993},{"$f":"AVERAGE('CC Data'!$P$100:$R$100)","v":922.9},{"$f":"AVERAGE('CC Data'!$P$123:$R$123)","v":1786},{"$f":"AVERAGE('CC Data'!$P$146:$R$146)","v":1652.2},{"$f":"AVERAGE('CC Data'!$P$169:$R$169)","v":1695.6333333333332},{"$f":"AVERAGE('CC Data'!$P$192:$R$192)","v":2518},{"$f":"AVERAGE('CC Data'!$P$215:$R$215)","v":1714.9333333333334},{"$f":"AVERAGE('CC Data'!$P$238:$R$238)","v":1703.6333333333332},{"$f":"AVERAGE('CC Data'!$P$261:$R$261)","v":2035.9333333333334},{"$f":"AVERAGE('CC Data'!$P$284:$R$284)","v":1601.9333333333334},20414.933333333334,1570.3794871794873]
[null,"1-2 Year Certificates",{"$f":"AVERAGE('CC Data'!$P$9:$R$9)","v":94.666666666666671},{"$f":"AVERAGE('CC Data'!$P$32:$R$32)","v":62.066666666666663},{"$f":"AVERAGE('CC Data'!$P$55:$R$55)","v":88.399999999999991},{"$f":"AVERAGE('CC Data'!$P$78:$R$78)","v":64.733333333333334},{"$f":"AVERAGE('CC Data'!$P$101:$R$101)","v":50.666666666666664},{"$f":"AVERAGE('CC Data'!$P$124:$R$124)","v":15.066666666666665},{"$f":"AVERAGE('CC Data'!$P$147:$R$147)","v":309.60000000000008},{"$f":"AVERAGE('CC Data'!$P$170:$R$170)","v":357.93333333333339},{"$f":"AVERAGE('CC Data'!$P$193:$R$193)","v":37.466666666666661},{"$f":"AVERAGE('CC Data'!$P$216:$R$216)","v":150.20000000000002},{"$f":"AVERAGE('CC Data'!$P$239:$R$239)","v":74.866666666666674},{"$f":"AVERAGE('CC Data'!$P$262:$R$262)","v":232.66666666666666},{"$f":"AVERAGE('CC Data'!$P$285:$R$285)","v":109.26666666666665},1647.6000000000004,126.73846153846156]
[null,"<1yr Certificates",{"$f":"AVERAGE('CC Data'!$P$10:$R$10)","v":576.93333333333328},{"$f":"AVERAGE('CC Data'!$P$33:$R$33)","v":424.5333333333333},{"$f":"AVERAGE('CC Data'!$P$56:$R$56)","v":209.4},{"$f":"AVERAGE('CC Data'!$P$79:$R$79)","v":158.06666666666669},{"$f":"AVERAGE('CC Data'!$P$102:$R$102)","v":129.53333333333333},{"$f":"AVERAGE('CC Data'!$P$125:$R$125)","v":213.06666666666669},{"$f":"AVERAGE('CC Data'!$P$148:$R$148)","v":124.53333333333332},{"$f":"AVERAGE('CC Data'!$P$171:$R$171)","v":469.13333333333338},{"$f":"AVERAGE('CC Data'!$P$194:$R$194)","v":1139.2666666666667},{"$f":"AVERAGE('CC Data'!$P$217:$R$217)","v":195.66666666666671},{"$f":"AVERAGE('CC Data'!$P$240:$R$240)","v":434.73333333333329},{"$f":"AVERAGE('CC Data'!$P$263:$R$263)","v":436.40000000000003},{"$f":"AVERAGE('CC Data'!$P$286:$R$286)","v":444.86666666666662},4956.1333333333323,381.24102564102554]
[null,"Job Placements",{"$f":"AVERAGE('CC Data'!$P$11:$R$11)","v":440.33333333333331},{"$f":"AVERAGE('CC Data'!$P$34:$R$34)","v":227},{"$f":"AVERAGE('CC Data'!$P$57:$R$57)","v":247.33333333333334},{"$f":"AVERAGE('CC Data'!$P$80:$R$80)","v":120},{"$f":"AVERAGE('CC Data'!$P$103:$R$103)","v":181},{"$f":"AVERAGE('CC Data'!$P$126:$R$126)","v":126},{"$f":"AVERAGE('CC Data'!$P$149:$R$149)","v":307.33333333333331},{"$f":"AVERAGE('CC Data'!$P$172:$R$172)","v":498.33333333333331},{"$f":"AVERAGE('CC Data'!$P$195:$R$195)","v":370},{"$f":"AVERAGE('CC Data'!$P$218:$R$218)","v":308},{"$f":"AVERAGE('CC Data'!$P$241:$R$241)","v":319.66666666666669},{"$f":"AVERAGE('CC Data'!$P$264:$R$264)","v":377.33333333333331},{"$f":"AVERAGE('CC Data'!$P$287:$R$287)","v":462.33333333333331},3984.6666666666665,306.5128205128205]
[null,"Transfers Out with 12 hrs",{"$f":"AVERAGE('CC Data'!$P$12:$R$12)","v":563.66666666666663},{"$f":"AVERAGE('CC Data'!$P$35:$R$35)","v":261.33333333333331},{"$f":"AVERAGE('CC Data'!$P$58:$R$58)","v":507},{"$f":"AVERAGE('CC Data'!$P$81:$R$81)","v":161.66666666666666},{"$f":"AVERAGE('CC Data'!$P$104:$R$104)","v":317.33333333333331},{"$f":"AVERAGE('CC Data'!$P$127:$R$127)","v":651.33333333333337},{"$f":"AVERAGE('CC Data'!$P$150:$R$150)","v":610},{"$f":"AVERAGE('CC Data'!$P$173:$R$173)","v":472.66666666666669},{"$f":"AVERAGE('CC Data'!$P$196:$R$196)","v":937.33333333333337},{"$f":"AVERAGE('CC Data'!$P$219:$R$219)","v":403},{"$f":"AVERAGE('CC Data'!$P$242:$R$242)","v":644.33333333333337},{"$f":"AVERAGE('CC Data'!$P$265:$R$265)","v":636.33333333333337},{"$f":"AVERAGE('CC Data'!$P$288:$R$288)","v":433.33333333333331},6599.3333333333321,507.64102564102552]
[null,"Workforce Training (Contact Hours)",{"$f":"AVERAGE('CC Data'!$P$13:$R$13)","v":61327.566666666673},{"$f":"AVERAGE('CC Data'!$P$36:$R$36)","v":17593.899999999998},{"$f":"AVERAGE('CC Data'!$P$59:$R$59)","v":67989.710000000006},{"$f":"AVERAGE('CC Data'!$P$82:$R$82)","v":9223.9},{"$f":"AVERAGE('CC Data'!$P$105:$R$105)","v":23347.279333333328},{"$f":"AVERAGE('CC Data'!$P$128:$R$128)","v":23704},{"$f":"AVERAGE('CC Data'!$P$151:$R$151)","v":30528.319999999996},{"$f":"AVERAGE('CC Data'!$P$174:$R$174)","v":70440.293333333335},{"$f":"AVERAGE('CC Data'!$P$197:$R$197)","v":49607.253333333334},{"$f":"AVERAGE('CC Data'!$P$220:$R$220)","v":117970.72333420004},{"$f":"AVERAGE('CC Data'!$P$243:$R$243)","v":47392.5},{"$f":"AVERAGE('CC Data'!$P$266:$R$266)","v":255436.6},{"$f":"AVERAGE('CC Data'!$P$289:$R$289)","v":75185.066666666695},849747.11266753345,65365.162512887189]
[null,"Awards per 100 FTE",{"$f":"AVERAGE('CC Data'!$P$14:$R$14)","v":23.57030126536819},{"$f":"AVERAGE('CC Data'!$P$37:$R$37)","v":24.946732152662424},{"$f":"AVERAGE('CC Data'!$P$60:$R$60)","v":21.01378259746345},{"$f":"AVERAGE('CC Data'!$P$83:$R$83)","v":27.338405308625738},{"$f":"AVERAGE('CC Data'!$P$106:$R$106)","v":21.111470478398438},{"$f":"AVERAGE('CC Data'!$P$129:$R$129)","v":26.391579246635832},{"$f":"AVERAGE('CC Data'!$P$152:$R$152)","v":21.437132998156489},{"$f":"AVERAGE('CC Data'!$P$175:$R$175)","v":29.292161839272936},{"$f":"AVERAGE('CC Data'!$P$198:$R$198)","v":22.233530155056972},{"$f":"AVERAGE('CC Data'!$P$221:$R$221)","v":30.454146997825131},{"$f":"AVERAGE('CC Data'!$P$244:$R$244)","v":15.487947058693209},{"$f":"AVERAGE('CC Data'!$P$267:$R$267)","v":23.415784858677814},{"$f":"AVERAGE('CC Data'!$P$290:$R$290)","v":26.226601536140624},312.91957649297723,24.070736653305939]
[]
["Scales","Scaled Outcomes (17-18 to 19-20 Data)","Chattanooga","Cleveland","Columbia","Dyersburg","Jackson","Motlow","Nashville","Northeast","Pellissippi","Roane","Southwest","Volunteer","Walters","All CC"]
[6.1,"Students Accumulating 12 hrs",{"$f":"C6/$A19","v":542.51366120218586},285.11475409836066,490.16393442622956,238.5792349726776,402.01092896174868,638.06557377049194,560.1639344262295,447.46448087431696,803.0273224043716,455.94535519125679,782.4371584699453,720.15300546448088,513.08196721311469,{"$f":"SUM(C19:O19)","v":6878.7213114754095}]
[3.3,"Students Accumulating 24 hrs",{"$f":"C7/$A20","v":813.25252525252529},350.64646464646472,754.66666666666663,{"$f":"F7/$A20","v":301.69696969696975},503.63636363636368,860.02020202020219,832.22222222222229,717.07070707070716,1397.9595959595961,682.10101010101016,1163.6161616161617,977.49494949494965,{"$f":"O7/$A20","v":689.23232323232332},10043.616161616164]
[2.2999999999999998,"Students Accumulating 36 hrs",{"$f":"C8/$A21","v":1027.304347826087},433.91304347826093,878.08695652173924,360.86956521739131,618.95652173913049,1051.8840579710147,1083.1014492753623,949.68115942028999,1639.1594202898555,871.99999999999989,1325.1594202898552,1196.0289855072465,872.11594202898561,12308.26086956522]
[2.5,"Dual Enrollment",{"$f":"C9/$A22","v":574.66666666666674},488,568.66666666666674,412,730.66666666666674,755.33333333333326,514.13333333333333,438.26666666666671,732.66666666666674,706.13333333333333,374.66666666666663,830.8,724.4,7850.4]
[1.5,"Associates",{"$f":"C10/$A23","v":1341.6222222222223},517.11111111111109,883.97777777777765,446.46666666666664,615.26666666666665,1190.6666666666667,1101.4666666666667,1130.4222222222222,1678.6666666666667,1143.288888888889,1135.7555555555555,1357.288888888889,1067.9555555555555,13609.955555555556]
[2.5,"1-2 Year Certificates",{"$f":"C11/$A24","v":37.866666666666667},24.826666666666664,35.36,25.893333333333334,20.266666666666666,6.0266666666666655,123.84000000000003,143.17333333333335,14.986666666666665,60.080000000000005,29.946666666666669,93.066666666666663,43.706666666666663,659.04000000000019]
[3,"<1yr Certificates",192.3111111111111,141.51111111111109,69.8,52.688888888888897,43.177777777777777,71.022222222222226,41.511111111111106,156.37777777777779,379.75555555555553,65.222222222222243,144.9111111111111,145.46666666666667,148.28888888888886,{"$f":"SUM(C25:O25)","v":1652.0444444444443}]
[0.4,"Job Placements",1100.8333333333333,567.5,618.33333333333337,300,452.5,315,768.33333333333326,1245.8333333333333,925,770,799.16666666666663,943.33333333333326,1155.8333333333333,9961.6666666666679]
[1.5,"Transfers Out with 12 hrs",375.77777777777777,174.2222222222222,338,107.77777777777777,211.55555555555554,434.22222222222223,406.66666666666669,315.11111111111114,624.88888888888891,268.66666666666669,429.5555555555556,424.22222222222223,288.88888888888886,4399.5555555555557,null,null,null,null,null,null,null,null,null,null,null,null," "]
[157,"Workforce Training (Contact Hours)",390.62144373673038,112.06305732484076,433.05547770700639,58.750955414012736,148.70878556263267,150.98089171974522,194.44789808917196,448.66428874734606,315.96976645435245,751.40588110955434,301.86305732484078,1626.9847133757962,478.88577494692163,5412.4019915129511,null,null,null,null,null,null,null,null,null,null,null,null," "]
[0.05,"Awards per 100 FTE",471.40602530736379,498.93464305324846,420.27565194926899,546.76810617251476,422.22940956796873,527.83158493271662,428.74265996312977,585.84323678545866,444.67060310113942,609.08293995650263,309.75894117386417,468.31569717355626,524.53203072281246,6258.3915298595439,null,null,null,null,null,null,null,null,null,null,null,null," "]
[null,null,null,null," ",null,null,null,null,null,null,null,null,null,null,null,null,null,null,null,null,null,null,null,null,null,null,null," "]
[null,"Weights Based on Institutional Mission","Chattanooga","Cleveland","Columbia","Dyersburg","Jackson","Motlow","Nashville","Northeast","Pellissippi","Roane","Southwest","Volunteer","Walters","Average",null," ",null,null,null,null,null,null,null,null,null,null," "]
[null,"Students Accumulating 12 hrs",0.03,0.03,0.03,0.03,0.03,0.03,0.03,0.03,0.03,0.03,0.03,0.03,0.03,{"$f":"AVERAGE(C32:O32)","v":3.0000000000000009E-2},null,null,null,null,null,null,null,null,null,null,null,null," "]
[null,"Students Accumulating 24 hrs",0.05,0.05,0.05,0.05,0.05,0.05,0.05,0.05,0.05,0.05,0.05,0.05,0.05,0.05,null,null,null,null,null,null,null,null,null,null,null,null," "]
[null,"Students Accumulating 36 hrs",7.0000000000000007E-2,7.0000000000000007E-2,7.0000000000000007E-2,7.0000000000000007E-2,7.0000000000000007E-2,7.0000000000000007E-2,7.0000000000000007E-2,7.0000000000000007E-2,7.0000000000000007E-2,7.0000000000000007E-2,7.0000000000000007E-2,7.0000000000000007E-2,7.0000000000000007E-2,7.0000000000000034E-2,null,null,null,null,null,null,null,null,null,null,null,null," "]
[null,"Dual Enrollment",0.05,0.05,7.4999999999999997E-2,0.1,7.4999999999999997E-2,7.4999999999999997E-2,0.15,0.1,0.1,0.15,7.4999999999999997E-2,0.05,0.1,8.8461538461538466E-2,null,null,null,null,null,null,null,null,null,null,null,null," "]
[null,"Associates",0.22500000000000001,0.22500000000000001,0.22500000000000001,0.22500000000000001,0.22500000000000001,0.22500000000000001,0.22500000000000001,0.22500000000000001,0.22500000000000001,0.22500000000000001,0.22500000000000001,0.22500000000000001,0.22500000000000001,0.22500000000000006,null,null,null,null,null,null,null,null,null,null,null,null," "]
[null,"1-2 Year Certificates",0.1,2.5000000000000001E-2,0.17499999999999999,0.1,0.1,0,0.1,0.125,0,0.1,2.5000000000000001E-2,0.05,2.5000000000000001E-2,8.3094732132025298E-2,null,null,null,null,null,null,null,null,null,null,null,null," "]
[null,"<1yr Certificates",0.1,0.17499999999999999,2.5000000000000001E-2,0.1,0.1,0.2,0.1,7.4999999999999997E-2,0.2,0.1,0.17499999999999999,0.15,0.17499999999999999,5.1520652483359318E-2,null,null,null,null,null,null,null,null,null,null,null,null," "]
[null,"Job Placements",0.15,0.15,0.05,0.125,0.15,7.4999999999999997E-2,7.4999999999999997E-2,0.15,7.4999999999999997E-2,0.05,0.05,7.4999999999999997E-2,7.4999999999999997E-2,9.6153846153846131E-2,null,null,null,null,null,null,null,null,null,null,null,null," "]
[null,"Transfers Out with 12 hrs",0.1,0.05,0.15,0.1,0.05,0.125,0.1,0.05,0.15,0.1,0.125,0.15,0.15,0.10769230769230768,null,null,null,null,null,null,null,null,null,null,null,null," "]
[null,"Workforce Training (Contact Hours)",7.4999999999999997E-2,0.125,0.1,0.05,0.1,0.1,0.05,7.4999999999999997E-2,0.05,7.4999999999999997E-2,0.125,0.1,0.05,8.2692307692307704E-2,null,null,null,null,null,null,null,null,null,null,null,null," "]
[null,"Awards per 100 FTE",0.05,0.05,0.05,0.05,0.05,0.05,0.05,0.05,0.05,0.05,0.05,0.05,0.05,0.05]
[null,null,{"$f":"SUM(C32:C42)","v":1},1,1,1,1,1,1,1,1,1,1.0000000000000002,1,1,{"$f":"(SUM(P32:P42))","v":0.93461538461538485}]
[]
[null,"Weighted Outcomes","Chattanooga","Cleveland","Columbia","Dyersburg","Jackson","Motlow","Nashville","Northeast","Pellissippi","Roane","Southwest","Volunteer","Walters","All CC"]
[null,"Students Accumulating 12 hrs",{"$f":"C19*C32","v":16.275409836065574},{"$f":"D19*D32","v":8.5534426229508203},{"$f":"E19*E32","v":14.704918032786885},7.1573770491803277,12.060327868852459,19.141967213114757,16.804918032786883,13.423934426229508,24.090819672131147,13.678360655737704,23.473114754098358,21.604590163934425,15.39245901639344,{"$f":"SUM(C46:O46)","v":206.3616393442623}]
[null,"Students Accumulating 24 hrs",{"$f":"C20*C33","v":40.662626262626269},17.532323232323236,37.733333333333334,15.084848484848488,25.181818181818187,43.00101010101011,41.611111111111114,35.853535353535356,69.897979797979801,34.105050505050507,58.180808080808085,48.874747474747487,34.46161616161617,{"$f":"SUM(C47:O47)","v":502.18080808080816}]
[null,"Students Accumulating 36 hrs",71.911304347826103,30.373913043478268,61.46608695652175,25.260869565217394,43.326956521739142,73.631884057971035,75.81710144927537,66.4776811594203,114.74115942028989,61.04,92.761159420289871,83.722028985507265,61.048115942029,{"$f":"SUM(C48:O48)","v":861.57826086956538}]
[null,"Dual Enrollment",28.733333333333338,24.400000000000002,42.650000000000006,41.2,54.800000000000004,56.649999999999991,77.11999999999999,43.826666666666675,73.26666666666668,105.92,28.099999999999998,41.54,72.44,{"$f":"SUM(C49:O49)","v":690.64666666666653}]
[null,"Associates",301.86500000000001,116.35,198.89499999999998,100.455,138.435,267.90000000000003,247.83,254.345,377.70000000000005,257.24,255.54499999999999,305.39000000000004,240.29,{"$f":"SUM(C50:O50)","v":3062.2400000000002}]
[null,"1-2 Year Certificates",3.7866666666666671,0.6206666666666667,6.1879999999999997,2.5893333333333337,2.0266666666666668,0,12.384000000000004,17.896666666666668,0,6.0080000000000009,0.74866666666666681,4.6533333333333333,1.0926666666666667,{"$f":"SUM(C51:O51)","v":57.994666666666674}]
[null,"<1yr Certificates",19.231111111111112,24.76444444444444,1.7450000000000001,5.2688888888888901,4.3177777777777777,14.204444444444446,4.1511111111111108,11.728333333333333,75.951111111111103,6.5222222222222248,25.359444444444442,21.82,25.95055555555555,241.01444444444442]
[null,"Job Placements",165.12499999999997,85.125,30.916666666666671,37.5,67.875,23.625,57.624999999999993,186.87499999999997,69.375,38.5,39.958333333333336,70.749999999999986,86.687499999999986,959.9375]
[null,"Transfers Out with 12 hrs",37.577777777777776,8.7111111111111104,50.699999999999996,10.777777777777779,10.577777777777778,54.277777777777779,40.666666666666671,15.755555555555558,93.733333333333334,26.866666666666671,53.69444444444445,63.633333333333333,43.333333333333329,510.30555555555554]
[null,"Workforce Training (Contact Hours)",29.296608280254777,14.007882165605094,43.305547770700642,2.937547770700637,14.870878556263268,15.098089171974522,9.7223949044585982,33.649821656050953,15.798488322717624,56.355441083216576,37.732882165605098,162.69847133757963,23.944288747346082,459.41834193247348]
[null,"Awards per 100 FTE",23.57030126536819,24.946732152662424,21.01378259746345,27.338405308625738,21.111470478398438,26.391579246635832,21.437132998156489,29.292161839272936,22.233530155056972,30.454146997825134,15.487947058693209,23.415784858677814,26.226601536140624,312.91957649297723]
[null,"Total",{"$f":"SUM(C46:C56)","v":738.03513888102987},{"$f":"SUM(D46:D56)","v":355.38551543924211},509.31833535747268,275.57004817857262,394.58367382929367,593.92175201292855,605.16943627356613,709.12435665673127,936.78808847928667,636.68988813071883,{"$f":"SUM(M46:M56)","v":631.04180036838352},848.10228948711347,{"$f":"SUM(O46:O56)","v":630.86713695908077},7864.5974600534191]
[]
[null,"Weighted Outcomes Breakdown","Chattanooga","Cleveland","Columbia","Dyersburg","Jackson","Motlow","Nashville","Northeast","Pellissippi","Roane","Southwest","Volunteer","Walters","All CC"]
[null,"Students Accumulating 12 hrs",{"$f":"C46/$C$57","v":2.2052350868742503E-2},{"$f":"D46/$D$57","v":2.4068067637419355E-2},{"$f":"E46/$E$57","v":2.8871762534262622E-2},{"$f":"F46/$F$57","v":2.5972986166269651E-2},{"$f":"G46/$G$57","v":3.056469050483332E-2},{"$f":"H46/$H$57","v":3.222977967760654E-2},{"$f":"I46/$I$57","v":2.776894705103752E-2},{"$f":"J46/$J$57","v":1.8930296640096492E-2},{"$f":"K46/$K$57","v":2.5716402640471682E-2},{"$f":"L46/$L$57","v":2.1483552528054912E-2},{"$f":"M46/$M$57","v":3.7197400775028609E-2},{"$f":"N46/$N$57","v":2.5474038251918546E-2},{"$f":"O46/$O$57","v":2.4398891802461766E-2},{"$f":"P46/$P$57","v":2.6239313632062309E-2}]
[null,"Students Accumulating 24 hrs",5.5095786257923718E-2,4.9333252118207445E-2,7.4085951189739971E-2,5.4740522725725722E-2,6.3818702728974136E-2,7.2401810432553518E-2,6.8759439285861187E-2,5.0560293151644099E-2,7.4614505305513723E-2,5.3566188407955989E-2,9.2198025624996391E-2,5.76283640317777E-2,5.4625790666048619E-2,6.3853339046471322E-2]
[null,"Students Accumulating 36 hrs",9.7436152507391779E-2,8.5467504228295132E-2,0.12068304376550838,9.1667689330474894E-2,0.10980423011744632,0.12397573217080658,0.12528243646297157,9.3746154021332573E-2,0.12248358068530985,9.5870848803975159E-2,0.14699685403746415,9.8716900099559732E-2,9.6768578303657454E-2,0.10955147612395577]
[null,"Dual Enrollment",3.89322023025859E-2,6.8657834773717744E-2,8.3739376808544444E-2,0.14950826576516008,0.13888055597482168,9.5382935223370685E-2,0.12743538483185721,6.1803922337816453E-2,7.8210501999019258E-2,0.16636042439903423,4.4529538270834119E-2,4.8979940880859017E-2,0.11482607946449205,8.7817166762146709E-2]
[null,"Associates",0.40901169076810068,0.32739094573451061,0.39051215358348046,0.36453526304463968,0.35083813442289125,0.45106952067680517,0.4095216730145122,0.35867474810644789,0.40318616840349736,0.40402714853103816,0.40495732588684358,0.36008628179117808,0.38088844056491988,0.38937021450290482]
[null,"1-2 Year Certificates",5.130740349853548E-3,1.746460223342383E-3,1.2149572419490572E-2,9.3962800037521322E-3,5.1362152088011911E-3,0,2.0463690427356334E-2,2.5237698435635572E-2,0,9.4363050395524714E-3,1.1863978998374076E-3,5.4867595465959871E-3,1.7320075855172324E-3,7.374143045621658E-3]
[null,"<1yr Certificates",2.6057175462225704E-2,6.9683325202031909E-2,3.4261480077587346E-3,1.9119962142890756E-2,1.0942616393312187E-2,2.3916356651869593E-2,6.8594196307604103E-3,1.6539177117858773E-2,8.1076085451091282E-2,1.0243954464819688E-2,4.0186631740782228E-2,2.5728028647576884E-2,4.1134739844974288E-2,3.0645490207048355E-2]
[null,"Job Placements",0.2237359595782307,0.23952861414396404,6.0702049230109391E-2,0.1360815525775122,0.17201674702173397,3.9777967248934384E-2,9.5221266220640199E-2,0.26352923608638834,7.4056236253620927E-2,6.0468998672232037E-2,6.3321214711936427E-2,8.3421541100644564E-2,0.13741007404166419,0.12205805889949259]
[null,"Transfers Out with 12 hrs",5.0915973777009085E-2,2.4511722432875548E-2,9.9544816042044598E-2,3.9110846222277583E-2,2.680743902839218E-2,9.1388768964629968E-2,6.7198811157877694E-2,2.2218325188881383E-2,0.10005820364933672,4.2197413792051108E-2,8.5088570064771024E-2,7.5030257696645702E-2,6.8688525356083038E-2,6.4886417664419077E-2]
[null,"Workforce Training (Contact Hours)",3.9695411148949838E-2,3.9416018821959921E-2,8.5026484939533936E-2,1.0659894970868066E-2,3.7687516089925113E-2,2.5421007263673794E-2,1.6065574898041612E-2,4.7452638370366909E-2,1.6864527332284652E-2,8.8513171221664258E-2,5.9794584358084928E-2,0.19183826450459282,3.7954566571279734E-2,5.8416002124201907E-2]
[null,"Awards per 100 FTE",3.1936556978986452E-2,7.0196254683675768E-2,4.1258641479526972E-2,9.9206737050429122E-2,5.3503152508868793E-2,4.443612168974969E-2,3.5423357019084251E-2,4.1307510543531524E-2,2.3733788279854475E-2,4.7831994139622004E-2,2.4543456629421069E-2,2.7609623448650773E-2,4.1572305798901886E-2,3.9788377991675596E-2]
[null,"Total",{"$f":"SUM(C60:C70)","v":0.99999999999999989},0.99999999999999978,1,1,1.0000000000000002,0.99999999999999989,1.0000000000000002,1,0.99999999999999978,1,0.99999999999999989,0.99999999999999989,1.0000000000000002,1]
[]
[]
[null,"W.O. % Change from 19-20","Chattanooga","Cleveland","Columbia","Dyersburg","Jackson","Motlow","Nashville","Northeast","Pellissippi","Roane","Southwest","Volunteer","Walters","All CC"]
[null,"Students Accumulating 12 hrs",{"$f":"C46/'2020-21 CC'!C46-1","v":-1.8817204301075585E-2},{"$f":"D46/'2020-21 CC'!D46-1","v":1.5887850467289688E-2},{"$f":"E46/'2020-21 CC'!E46-1","v":4.9834975773039192E-2},{"$f":"F46/'2020-21 CC'!F46-1","v":6.918819188191927E-3},{"$f":"G46/'2020-21 CC'!G46-1","v":-2.9544900116552641E-3},{"$f":"H46/'2020-21 CC'!H46-1","v":6.4043448942025849E-2},{"$f":"I46/'2020-21 CC'!I46-1","v":-3.9268978444236158E-2},{"$f":"J46/'2020-21 CC'!J46-1","v":-2.8935322439105571E-2},{"$f":"K46/'2020-21 CC'!K46-1","v":2.2772511518492244E-2},{"$f":"L46/'2020-21 CC'!L46-1","v":2.6095725318510343E-2},{"$f":"M46/'2020-21 CC'!M46-1","v":1.5215541690300594E-2},{"$f":"N46/'2020-21 CC'!N46-1","v":7.9233969652470204E-3},{"$f":"O46/'2020-21 CC'!O46-1","v":1.0373399332831212E-2},{"$f":"P46/'2020-21 CC'!P46-1","v":1.0589138225584938E-2}]
[null,"Students Accumulating 24 hrs",{"$f":"C47/'2020-21 CC'!C47-1","v":-1.1758929667362139E-2},{"$f":"D47/'2020-21 CC'!D47-1","v":-1.1841730714489018E-2},{"$f":"E47/'2020-21 CC'!E47-1","v":5.5791080210276345E-2},{"$f":"F47/'2020-21 CC'!F47-1","v":4.6384529147982301E-2},{"$f":"G47/'2020-21 CC'!G47-1","v":-6.4138539244751325E-4},{"$f":"H47/'2020-21 CC'!H47-1","v":1.4996900481617725E-2},{"$f":"I47/'2020-21 CC'!I47-1","v":-4.6765087004813188E-2},{"$f":"J47/'2020-21 CC'!J47-1","v":-1.8363339694128844E-2},{"$f":"K47/'2020-21 CC'!K47-1","v":5.0858010630220107E-2},{"$f":"L47/'2020-21 CC'!L47-1","v":4.8809523809520972E-3},{"$f":"M47/'2020-21 CC'!M47-1","v":1.7075151857607107E-2},{"$f":"N47/'2020-21 CC'!N47-1","v":5.5905397260846978E-3},{"$f":"O47/'2020-21 CC'!O47-1","v":-1.4926246780612162E-3},{"$f":"P47/'2020-21 CC'!P47-1","v":9.287755996946645E-3}]
[null,"Students Accumulating 36 hrs",{"$f":"C48/'2020-21 CC'!C48-1","v":-1.5089620675281301E-2},{"$f":"D48/'2020-21 CC'!D48-1","v":1.4047762392135343E-3},{"$f":"E48/'2020-21 CC'!E48-1","v":4.591907195138778E-2},{"$f":"F48/'2020-21 CC'!F48-1","v":7.4294589697126545E-2},{"$f":"G48/'2020-21 CC'!G48-1","v":7.0741369552915767E-3},{"$f":"H48/'2020-21 CC'!H48-1","v":5.123944052070728E-3},{"$f":"I48/'2020-21 CC'!I48-1","v":-3.179250660724442E-2},{"$f":"J48/'2020-21 CC'!J48-1","v":4.5376502330145563E-3},{"$f":"K48/'2020-21 CC'!K48-1","v":5.334624769497287E-2},{"$f":"L48/'2020-21 CC'!L48-1","v":4.5412047549082679E-3},{"$f":"M48/'2020-21 CC'!M48-1","v":-7.4035476237001019E-3},{"$f":"N48/'2020-21 CC'!N48-1","v":-1.600133543186899E-2},{"$f":"O48/'2020-21 CC'!O48-1","v":3.0340387644681943E-2},{"$f":"P48/'2020-21 CC'!P48-1","v":9.0272695301734096E-3}]
[null,"Dual Enrollment",{"$f":"C49/'2020-21 CC'!C49-1","v":-2.9934728786855658E-2},{"$f":"D49/'2020-21 CC'!D49-1","v":7.8055964653902743E-2},{"$f":"E49/'2020-21 CC'!E49-1","v":3.2437666424594891E-2},{"$f":"F49/'2020-21 CC'!F49-1","v":-1.6236867239732611E-2},{"$f":"G49/'2020-21 CC'!G49-1","v":1.4439096630877613E-2},{"$f":"H49/'2020-21 CC'!H49-1","v":0.1716649431230608},{"$f":"I49/'2020-21 CC'!I49-1","v":-2.1816336884830201E-2},{"$f":"J49/'2020-21 CC'!J49-1","v":3.0432136336000504E-4},{"$f":"K49/'2020-21 CC'!K49-1","v":1.1225616488774515E-2},{"$f":"L49/'2020-21 CC'!L49-1","v":1.4948256036795726E-2},{"$f":"M49/'2020-21 CC'!M49-1","v":2.3679417122040025E-2},{"$f":"N49/'2020-21 CC'!N49-1","v":0},{"$f":"O49/'2020-21 CC'!O49-1","v":2.8977272727272574E-2},{"$f":"P49/'2020-21 CC'!P49-1","v":2.0655070664676423E-2}]
[null,"Associates",{"$f":"C50/'2020-21 CC'!C50-1","v":3.0403721548430962E-3},{"$f":"D50/'2020-21 CC'!D50-1","v":-1.7853374414384171E-2},{"$f":"E50/'2020-21 CC'!E50-1","v":4.3657352748261546E-2},{"$f":"F50/'2020-21 CC'!F50-1","v":6.3184632481346314E-2},{"$f":"G50/'2020-21 CC'!G50-1","v":8.9279207054879794E-3},{"$f":"H50/'2020-21 CC'!H50-1","v":8.5846303501945664E-2},{"$f":"I50/'2020-21 CC'!I50-1","v":3.7314526086683619E-2},{"$f":"J50/'2020-21 CC'!J50-1","v":1.6973210715713893E-2},{"$f":"K50/'2020-21 CC'!K50-1","v":-3.338039132901427E-3},{"$f":"L50/'2020-21 CC'!L50-1","v":1.5715075416568025E-2},{"$f":"M50/'2020-21 CC'!M50-1","v":-4.0404799008655568E-2},{"$f":"N50/'2020-21 CC'!N50-1","v":2.383666353761571E-2},{"$f":"O50/'2020-21 CC'!O50-1","v":3.3616517905151078E-2},{"$f":"P50/'2020-21 CC'!P50-1","v":1.8470385355397578E-2}]
[null,"1-2 Year Certificates",{"$f":"C51/'2020-21 CC'!C51-1","v":-0.48382406397673572},{"$f":"D51/'2020-21 CC'!D51-1","v":2.1953896816685026E-2},{"$f":"E51/'2020-21 CC'!E51-1","v":-0.13951979234263456},{"$f":"F51/'2020-21 CC'!F51-1","v":-0.17220801364023852},{"$f":"G51/'2020-21 CC'!G51-1","v":0.70403587443946192},{"$f":"H51/'2020-21 CC'!H51-1","v":{"$error":"#DIV/0!"}},{"$f":"I51/'2020-21 CC'!I51-1","v":9.6317280453257936E-2},{"$f":"J51/'2020-21 CC'!J51-1","v":0.23085740486015593},{"$f":"K51/'2020-21 CC'!K51-1","v":{"$error":"#DIV/0!"}},{"$f":"L51/'2020-21 CC'!L51-1","v":9.7953216374269347E-2},{"$f":"M51/'2020-21 CC'!M51-1","v":0.17101147028154329},{"$f":"N51/'2020-21 CC'!N51-1","v":4.6790641871625738E-2},{"$f":"O51/'2020-21 CC'!O51-1","v":0.43898156277436384},{"$f":"P51/'2020-21 CC'!P51-1","v":2.4568346171059963E-2}]
[null,"<1yr Certificates",{"$f":"C52/'2020-21 CC'!C52-1","v":0.21973220577871744},{"$f":"D52/'2020-21 CC'!D52-1","v":-5.4491462509279942E-2},{"$f":"E52/'2020-21 CC'!E52-1","v":5.7636887608067955E-3},{"$f":"F52/'2020-21 CC'!F52-1","v":0.25516146109052418},{"$f":"G52/'2020-21 CC'!G52-1","v":0.10649202733485197},{"$f":"H52/'2020-21 CC'!H52-1","v":-6.1931317874963199E-2},{"$f":"I52/'2020-21 CC'!I52-1","v":-0.20679405520169869},{"$f":"J52/'2020-21 CC'!J52-1","v":-0.17026294069095627},{"$f":"K52/'2020-21 CC'!K52-1","v":8.8263389161306494E-2},{"$f":"L52/'2020-21 CC'!L52-1","v":7.6669112252384597E-2},{"$f":"M52/'2020-21 CC'!M52-1","v":-0.14073000395309021},{"$f":"N52/'2020-21 CC'!N52-1","v":-9.9091659785301212E-2},{"$f":"O52/'2020-21 CC'!O52-1","v":-0.18012040791252015},{"$f":"P52/'2020-21 CC'!P52-1","v":-2.6350694732778956E-2}]
[null,"Job Placements",{"$f":"C53/'2020-21 CC'!C53-1","v":2.1655065738592327E-2},{"$f":"D53/'2020-21 CC'!D53-1","v":9.8387096774193772E-2},{"$f":"E53/'2020-21 CC'!E53-1","v":-2.6881720430106393E-3},{"$f":"F53/'2020-21 CC'!F53-1","v":-1.6393442622950838E-2},{"$f":"G53/'2020-21 CC'!G53-1","v":0},{"$f":"H53/'2020-21 CC'!H53-1","v":8.3094555873925779E-2},{"$f":"I53/'2020-21 CC'!I53-1","v":-2.1231422505307962E-2},{"$f":"J53/'2020-21 CC'!J53-1","v":0.10169491525423724},{"$f":"K53/'2020-21 CC'!K53-1","v":2.8730305838739589E-2},{"$f":"L53/'2020-21 CC'!L53-1","v":-2.0148462354188656E-2},{"$f":"M53/'2020-21 CC'!M53-1","v":9.7254004576659225E-2},{"$f":"N53/'2020-21 CC'!N53-1","v":4.3317972350230161E-2},{"$f":"O53/'2020-21 CC'!O53-1","v":8.8697017268445588E-2},{"$f":"P53/'2020-21 CC'!P53-1","v":4.6800099961378683E-2}]
[null,"Transfers Out with 12 hrs",{"$f":"C54/'2020-21 CC'!C54-1","v":0},{"$f":"D54/'2020-21 CC'!D54-1","v":4.5333333333333226E-2},{"$f":"E54/'2020-21 CC'!E54-1","v":0.11346998535871156},{"$f":"F54/'2020-21 CC'!F54-1","v":-5.6420233463035152E-2},{"$f":"G54/'2020-21 CC'!G54-1","v":3.0303030303030276E-2},{"$f":"H54/'2020-21 CC'!H54-1","v":7.4216602528861975E-2},{"$f":"I54/'2020-21 CC'!I54-1","v":-0.17567567567567566},{"$f":"J54/'2020-21 CC'!J54-1","v":7.4242424242424443E-2},{"$f":"K54/'2020-21 CC'!K54-1","v":2.4034959941733325E-2},{"$f":"L54/'2020-21 CC'!L54-1","v":1.0025062656641603E-2},{"$f":"M54/'2020-21 CC'!M54-1","v":-2.5214321734745249E-2},{"$f":"N54/'2020-21 CC'!N54-1","v":4.1462084015275513E-2},{"$f":"O54/'2020-21 CC'!O54-1","v":2.6856240126382325E-2},{"$f":"P54/'2020-21 CC'!P54-1","v":1.2154002115655871E-2}]
[null,"Workforce Training (Contact Hours)",{"$f":"C55/'2020-21 CC'!C55-1","v":5.6192121041813481E-2},{"$f":"D55/'2020-21 CC'!D55-1","v":0.1971163986963238},{"$f":"E55/'2020-21 CC'!E55-1","v":0.15106972853160028},{"$f":"F55/'2020-21 CC'!F55-1","v":-8.9713561252336982E-3},{"$f":"G55/'2020-21 CC'!G55-1","v":-1.0078182691439563E-2},{"$f":"H55/'2020-21 CC'!H55-1","v":0.3965024596683131},{"$f":"I55/'2020-21 CC'!I55-1","v":0.21694278486220031},{"$f":"J55/'2020-21 CC'!J55-1","v":0.47850981775546297},{"$f":"K55/'2020-21 CC'!K55-1","v":-2.1297606449231954E-2},{"$f":"L55/'2020-21 CC'!L55-1","v":5.4194470689120422E-2},{"$f":"M55/'2020-21 CC'!M55-1","v":-1.344925866881308E-2},{"$f":"N55/'2020-21 CC'!N55-1","v":0.15759538955728769},{"$f":"O55/'2020-21 CC'!O55-1","v":-8.5985117562985547E-2},{"$f":"P55/'2020-21 CC'!P55-1","v":0.11726006726610394}]
[null,"Awards per 100 FTE",{"$f":"C56/'2020-21 CC'!C56-1","v":-2.4011120764264815E-2},{"$f":"D56/'2020-21 CC'!D56-1","v":1.7815299521382277E-2},{"$f":"E56/'2020-21 CC'!E56-1","v":-4.9683573717520524E-3},{"$f":"F56/'2020-21 CC'!F56-1","v":1.7864159657963841E-2},{"$f":"G56/'2020-21 CC'!G56-1","v":3.4336014658739256E-2},{"$f":"H56/'2020-21 CC'!H56-1","v":8.188726845390959E-2},{"$f":"I56/'2020-21 CC'!I56-1","v":7.4756256691931977E-2},{"$f":"J56/'2020-21 CC'!J56-1","v":5.5388411659201386E-2},{"$f":"K56/'2020-21 CC'!K56-1","v":-2.6878455256777345E-2},{"$f":"L56/'2020-21 CC'!L56-1","v":3.4823202263676967E-2},{"$f":"M56/'2020-21 CC'!M56-1","v":-5.9620538980560078E-2},{"$f":"N56/'2020-21 CC'!N56-1","v":1.9203501953979352E-2},{"$f":"O56/'2020-21 CC'!O56-1","v":4.7355363720211985E-2},{"$f":"P56/'2020-21 CC'!P56-1","v":2.2929347109467813E-2}]
[null,"Total",{"$f":"C57/'2020-21 CC'!C57-1","v":3.4323331617496233E-3},{"$f":"D57/'2020-21 CC'!D57-1","v":2.583458336872213E-2},{"$f":"E57/'2020-21 CC'!E57-1","v":5.1009460330053269E-2},{"$f":"F57/'2020-21 CC'!F57-1","v":2.7866711063531335E-2},{"$f":"G57/'2020-21 CC'!G57-1","v":1.120125127001903E-2},{"$f":"H57/'2020-21 CC'!H57-1","v":7.7174796400212964E-2},{"$f":"I57/'2020-21 CC'!I57-1","v":-7.7219650912103699E-3},{"$f":"J57/'2020-21 CC'!J57-1","v":5.2238630087321436E-2},{"$f":"K57/'2020-21 CC'!K57-1","v":2.0277475833244685E-2},{"$f":"L57/'2020-21 CC'!L57-1","v":1.7136602547531909E-2},{"$f":"M57/'2020-21 CC'!M57-1","v":-1.9973323780379082E-2},{"$f":"N57/'2020-21 CC'!N57-1","v":3.9287115241747106E-2},{"$f":"O57/'2020-21 CC'!O57-1","v":2.1901040083179613E-2},{"$f":"P57/'2020-21 CC'!P57-1","v":2.384279973017045E-2}]

{"sheet":"Dynamic - 2021-22 Univ","index":6,"n_rows":74,"n_cols":16,"rows_kept":74,"cut":false,"hidden":false,"merged":[[1,1,1,10]]}
[]
[null,"2021-22 Formula Weighted Outcomes Calculation"]
[]
[" ","Combined Outcomes (17-18 to 19-20 Data)","UTM","APSU","TTU","UTC","MTSU","ETSU","TSU","UM","UTK","All Univ","Avg All Univ"]
[null,"Students Accumulating 30 hrs",{"$f":"AVERAGE('Univ Data'!$P$4:$R$4)","v":1340.7333333333333},{"$f":"AVERAGE('Univ Data'!$P$20:$R$20)","v":2433.3333333333335},{"$f":"AVERAGE('Univ Data'!$P$36:$R$36)","v":1972.6000000000001},{"$f":"AVERAGE('Univ Data'!$P$52:$R$52)","v":2310.2666666666664},{"$f":"AVERAGE('Univ Data'!$P$68:$R$68)","v":3816.2000000000003},{"$f":"AVERAGE('Univ Data'!$P$84:$R$84)","v":2334.5333333333333},{"$f":"AVERAGE('Univ Data'!$P$100:$R$100)","v":1329.8666666666666},{"$f":"AVERAGE('Univ Data'!$P$116:$R$116)","v":3474},{"$f":"AVERAGE('Univ Data'!$P$132:$R$132)","v":5478.0666666666666},{"$f":"SUM(C5:K5)","v":24489.599999999999},{"$f":"AVERAGE(C5:K5)","v":2721.0666666666666}]
[null,"Students Accumulating 60 hrs",{"$f":"AVERAGE('Univ Data'!$P$5:$R$5)","v":1344.3999999999999},{"$f":"AVERAGE('Univ Data'!$P$21:$R$21)","v":2195.1333333333332},{"$f":"AVERAGE('Univ Data'!$P$37:$R$37)","v":2112.1999999999998},{"$f":"AVERAGE('Univ Data'!$P$53:$R$53)","v":2253.4666666666667},{"$f":"AVERAGE('Univ Data'!$P$69:$R$69)","v":4299.5999999999995},{"$f":"AVERAGE('Univ Data'!$P$85:$R$85)","v":2398.9333333333334},{"$f":"AVERAGE('Univ Data'!$P$101:$R$101)","v":1313.5333333333335},{"$f":"AVERAGE('Univ Data'!$P$117:$R$117)","v":3778.3333333333335},{"$f":"AVERAGE('Univ Data'!$P$133:$R$133)","v":5758.8666666666659},{"$f":"SUM(C6:K6)","v":25454.466666666664},{"$f":"AVERAGE(C6:K6)","v":2828.2740740740737}]
[null,"Students Accumulating 90 hrs",{"$f":"AVERAGE('Univ Data'!$P$6:$R$6)","v":1573},{"$f":"AVERAGE('Univ Data'!$P$22:$R$22)","v":2326.7333333333331},{"$f":"AVERAGE('Univ Data'!$P$38:$R$38)","v":2660.7333333333331},{"$f":"AVERAGE('Univ Data'!$P$54:$R$54)","v":2692.6},{"$f":"AVERAGE('Univ Data'!$P$70:$R$70)","v":5698.6000000000013},{"$f":"AVERAGE('Univ Data'!$P$86:$R$86)","v":3245.2666666666664},{"$f":"AVERAGE('Univ Data'!$P$102:$R$102)","v":1486.6666666666667},{"$f":"AVERAGE('Univ Data'!$P$118:$R$118)","v":4297.666666666667},{"$f":"AVERAGE('Univ Data'!$P$134:$R$134)","v":6169.2},30150.466666666671,3350.0518518518525]
[null,"Bachelors and Associates",{"$f":"AVERAGE('Univ Data'!$P$7:$R$7)","v":1782.1000000000001},{"$f":"AVERAGE('Univ Data'!$P$23:$R$23)","v":3273.3666666666668},{"$f":"AVERAGE('Univ Data'!$P$39:$R$39)","v":3108.6333333333332},{"$f":"AVERAGE('Univ Data'!$P$55:$R$55)","v":3045},{"$f":"AVERAGE('Univ Data'!$P$71:$R$71)","v":6477.9000000000005},{"$f":"AVERAGE('Univ Data'!$P$87:$R$87)","v":3792.5666666666671},{"$f":"AVERAGE('Univ Data'!$P$103:$R$103)","v":1864.0333333333335},{"$f":"AVERAGE('Univ Data'!$P$119:$R$119)","v":4917.6333333333332},{"$f":"AVERAGE('Univ Data'!$P$135:$R$135)","v":6515.5333333333328},34776.766666666663,3864.0851851851849]
[null,"Masters/Ed Specialist Degrees",{"$f":"AVERAGE('Univ Data'!$P$8:$R$8)","v":109.33333333333333},{"$f":"AVERAGE('Univ Data'!$P$24:$R$24)","v":378.33333333333331},{"$f":"AVERAGE('Univ Data'!$P$40:$R$40)","v":384},{"$f":"AVERAGE('Univ Data'!$P$56:$R$56)","v":399.66666666666669},{"$f":"AVERAGE('Univ Data'!$P$72:$R$72)","v":796.33333333333337},{"$f":"AVERAGE('Univ Data'!$P$88:$R$88)","v":689},{"$f":"AVERAGE('Univ Data'!$P$104:$R$104)","v":344},{"$f":"AVERAGE('Univ Data'!$P$120:$R$120)","v":956.33333333333337},{"$f":"AVERAGE('Univ Data'!$P$136:$R$136)","v":1515},5572,619.11111111111109]
[null,"Doctoral / Law Degrees",{"$f":"AVERAGE('Univ Data'!$P$9:$R$9)","v":0},{"$f":"AVERAGE('Univ Data'!$P$25:$R$25)","v":0},{"$f":"AVERAGE('Univ Data'!$P$41:$R$41)","v":23},{"$f":"AVERAGE('Univ Data'!$P$57:$R$57)","v":74},{"$f":"AVERAGE('Univ Data'!$P$73:$R$73)","v":49},{"$f":"AVERAGE('Univ Data'!$P$89:$R$89)","v":134.33333333333334},{"$f":"AVERAGE('Univ Data'!$P$105:$R$105)","v":75},{"$f":"AVERAGE('Univ Data'!$P$121:$R$121)","v":246},{"$f":"AVERAGE('Univ Data'!$P$137:$R$137)","v":584.66666666666663},1186,131.77777777777777]
[null,"Research, Service and Sponsored Programs",{"$f":"AVERAGE('Univ Data'!$O$10:$Q$10)","v":4933452.7733333325},{"$f":"AVERAGE('Univ Data'!$O$26:$Q$26)","v":3559766},{"$f":"AVERAGE('Univ Data'!$O$42:$Q$42)","v":16096777.505333334},{"$f":"AVERAGE('Univ Data'!$O$58:$Q$58)","v":9369336.3466666657},{"$f":"AVERAGE('Univ Data'!$O$74:$Q$74)","v":9077988.3466666639},{"$f":"AVERAGE('Univ Data'!$O$90:$Q$90)","v":22205125.276666667},{"$f":"AVERAGE('Univ Data'!$O$106:$Q$106)","v":34085769.096666656},{"$f":"AVERAGE('Univ Data'!$O$122:$Q$122)","v":52235584.205957264},{"$f":"AVERAGE('Univ Data'!$O$138:$Q$138)","v":213216665.47333333},364780465.02462387,40531162.780513763," "]
[null,"Degrees per 100 FTE",{"$f":"AVERAGE('Univ Data'!$P$11:$R$11)","v":22.50302227229318},{"$f":"AVERAGE('Univ Data'!$P$27:$R$27)","v":24.404042446993575},{"$f":"AVERAGE('Univ Data'!$P$43:$R$43)","v":25.182100222039079},{"$f":"AVERAGE('Univ Data'!$P$59:$R$59)","v":22.281103446601264},{"$f":"AVERAGE('Univ Data'!$P$75:$R$75)","v":24.963152528927949},{"$f":"AVERAGE('Univ Data'!$P$91:$R$91)","v":24.202383922419148},{"$f":"AVERAGE('Univ Data'!$P$107:$R$107)","v":20.599163917816398},{"$f":"AVERAGE('Univ Data'!$P$123:$R$123)","v":23.00532230910521},{"$f":"AVERAGE('Univ Data'!$P$139:$R$139)","v":23.18927331194045},210.32956437813624,23.369951597570694]
[null,"Six-Year Graduation Rate",{"$f":"AVERAGE('Univ Data'!$P$12:$R$12)*100","v":55.661146277917361},{"$f":"AVERAGE('Univ Data'!$P$28:$R$28)*100","v":50.342179454470468},{"$f":"AVERAGE('Univ Data'!$P$44:$R$44)*100","v":63.776767013028255},{"$f":"AVERAGE('Univ Data'!$P$60:$R$60)*100","v":64.172786309515985},{"$f":"AVERAGE('Univ Data'!$P$76:$R$76)*100","v":52.735300514914918},{"$f":"AVERAGE('Univ Data'!$P$92:$R$92)*100","v":56.563857113261584},{"$f":"AVERAGE('Univ Data'!$P$108:$R$108)*100","v":38.159188478050133},{"$f":"AVERAGE('Univ Data'!$P$124:$R$124)*100","v":56.652888910048851},{"$f":"AVERAGE('Univ Data'!$P$140:$R$140)*100","v":82.522325397261795},520.58643946846928,57.842937718718808]
[null,null,null,null," "]
["Scales","Scaled Outcomes (17-18 to 19-20 Data)","UTM","APSU","TTU","UTC","MTSU","ETSU","TSU","UM","UTK","All Univ","Avg All Univ"]
[2.5,"Students Accumulating 30 hrs",{"$f":"C5/$A16","v":536.29333333333329},{"$f":"D5/$A16","v":973.33333333333337},{"$f":"E5/$A16","v":789.04000000000008},{"$f":"F5/$A16","v":924.10666666666657},{"$f":"G5/$A16","v":1526.48},{"$f":"H5/$A16","v":933.81333333333328},531.9466666666666,1389.6,2191.2266666666665,{"$f":"SUM(C16:K16)","v":9795.84},{"$f":"AVERAGE(C16:K16)","v":1088.4266666666667}]
[2,"Students Accumulating 60 hrs",{"$f":"C6/$A17","v":672.19999999999993},1097.5666666666666,1056.0999999999999,1126.7333333333333,2149.7999999999997,1199.4666666666667,656.76666666666677,1889.1666666666667,2879.4333333333329,12727.233333333332,{"$f":"AVERAGE(C17:K17)","v":1414.1370370370369}]
[1.5,"Students Accumulating 90 hrs",1048.6666666666667,1551.1555555555553,1773.8222222222221,1795.0666666666666,3799.0666666666675,2163.5111111111109,991.1111111111112,2865.1111111111113,4112.8,20100.31111111111,2233.3679012345679]
[1,"Bachelors and Associates",1782.1000000000001,3273.3666666666668,3108.6333333333332,3045,6477.9000000000005,3792.5666666666671,1864.0333333333335,4917.6333333333332,6515.5333333333328,34776.766666666663,3864.0851851851849]
[0.3,"Masters/Ed Specialist Degrees",364.44444444444446,1261.1111111111111,1280,1332.2222222222224,2654.4444444444448,2296.666666666667,1146.6666666666667,3187.7777777777778,5050,18573.333333333336,2063.7037037037039]
[0.05,"Doctoral / Law Degrees",0,0,460,1480,980,2686.6666666666665,1500,4920,11693.333333333332,23720,2635.5555555555557]
[15000,"Research, Service and Sponsored Programs",328.89685155555549,237.31773333333334,1073.1185003555556,624.62242311111106,605.19922311111088,1480.3416851111112,2272.3846064444438,3482.3722803971509,14214.444364888888,24318.697668308261,2702.0775187009181]
[0.02,"Degrees per 100 FTE",1125.1511136146589,1220.2021223496788,1259.105011101954,1114.0551723300632,1248.1576264463974,1210.1191961209574,1029.95819589082,1150.2661154552604,1159.4636655970226,10516.478218906814,1168.4975798785349]
[0.01,"Six-Year Graduation Rate",5566.114627791736,5034.217945447047,6377.6767013028257,6417.2786309515986,5273.5300514914916,5656.3857113261583,3815.9188478050132,5665.288891004885,8252.2325397261793,52058.64394684694,5784.2937718718822]
[]
[null,"Weights Based on Institutional Mission","UTM","APSU","TTU","UTC","MTSU","ETSU","TSU","UM","UTK","Average"," "]
[null,"Students Accumulating 30 hrs",4.0000000000000008E-2,0.03,4.0000000000000008E-2,4.0000000000000008E-2,0.03,0.06,0.04,0.03,0.02,{"$f":"AVERAGE(C27:K27)","v":3.6666666666666674E-2}," "]
[null,"Students Accumulating 60 hrs",0.06,4.4999999999999998E-2,0.06,0.06,4.4999999999999998E-2,7.4999999999999997E-2,0.06,4.4999999999999998E-2,0.04,{"$f":"AVERAGE(C28:K28)","v":5.4444444444444434E-2}]
[null,"Students Accumulating 90 hrs",0.1,7.4999999999999997E-2,0.1,0.1,7.4999999999999997E-2,0.09,0.1,7.4999999999999997E-2,6.5000000000000002E-2,8.666666666666667E-2]
[null,"Bachelors and Associates",0.3,0.27500000000000002,0.25,0.25,0.22500000000000001,0.2,0.22500000000000001,0.22500000000000001,0.2,0.23888888888888893]
[null,"Masters/Ed Specialist Degrees",0.15,0.2,0.15,0.1,0.2,0.15,0.125,0.1,0.1,0.14166666666666672]
[null,"Doctoral / Law Degrees",0,0,0.05,0.05,7.4999999999999997E-2,0.15,7.4999999999999997E-2,0.15,0.125,7.4999999999999997E-2]
[null,"Research, Service and Sponsored Programs",0.05,0.1,0.1,0.1,0.1,0.1,0.15,0.1,0.125,0.10277777777777777]
[null,"Degrees per 100 FTE",0.1,0.17499999999999999,0.1,0.15,0.1,7.4999999999999997E-2,0.125,0.1,0.17499999999999999,0.1222222222222222,null," "]
[null,"Six-Year Graduation Rate",0.2,0.1,0.15,0.15,0.15,0.1,0.1,0.17499999999999999,0.15,0.14166666666666666]
[null,null,{"$f":"SUM(C27:C35)","v":1},0.99999999999999989,1,1,0.99999999999999989,1,1,1,1,1]
[null,null,null,null,null,null,null,null,null,null,null,null,null,null,null," "]
[null,"Weighted Outcomes","UTM","APSU","TTU","UTC","MTSU","ETSU","TSU","UM","UTK","All Univ","Avg All Univ",null,null," "]
[null,"Students Accumulating 30 hrs",{"$f":"C16*C27","v":21.451733333333337},{"$f":"D16*D27","v":29.2},31.561600000000009,36.964266666666667,45.794399999999996,56.028799999999997,21.277866666666664,41.687999999999995,43.824533333333328,{"$f":"SUM(C39:K39)","v":327.79119999999995},{"$f":"AVERAGE(C39:K39)","v":36.42124444444444}]
[null,"Students Accumulating 60 hrs",{"$f":"C17*C28","v":40.331999999999994},49.390499999999996,63.365999999999993,67.603999999999999,96.740999999999985,89.96,39.406000000000006,85.012500000000003,115.17733333333332,646.98933333333332,{"$f":"AVERAGE(C40:K40)","v":71.887703703703707}]
[null,"Students Accumulating 90 hrs",104.86666666666667,116.33666666666664,177.38222222222223,179.50666666666666,284.93000000000006,194.71599999999998,99.111111111111128,214.88333333333335,267.33199999999999,1639.0646666666667,182.11829629629631]
[null,"Bachelors and Associates",534.63,900.17583333333346,777.1583333333333,761.25,1457.5275000000001,758.51333333333343,419.40750000000003,1106.4675,1303.1066666666666,{"$f":"SUM(C42:K42)","v":8018.2366666666667},890.91518518518524]
[null,"Masters/Ed Specialist Degrees",54.666666666666664,252.22222222222223,192,133.22222222222226,530.88888888888903,344.50000000000006,143.33333333333334,318.77777777777783,505,2474.6111111111113,274.95679012345681]
[null,"Doctoral / Law Degrees",0,0,23,74,73.5,402.99999999999994,112.5,738,1461.6666666666665,2885.6666666666665,320.62962962962962]
[null,"Research, Service and Sponsored Programs",16.444842577777774,23.731773333333336,107.31185003555557,62.462242311111112,60.519922311111088,148.03416851111112,340.85769096666655,348.23722803971509,1776.805545611111,2884.405263697493,320.48947374416588]
[null,"Degrees per 100 FTE",112.5151113614659,213.53537141119378,125.91050111019541,167.10827584950948,124.81576264463975,90.758939709071811,128.7447744863525,115.02661154552605,202.90614147947895,1281.3214895974336,142.36905439971486]
[null,"Six-Year Graduation Rate",1113.2229255583472,503.42179454470471,956.65150519542385,962.59179464273973,791.02950772372367,565.63857113261588,381.59188478050135,991.42555592585484,1237.8348809589268,7503.408420462838,833.71204671809312]
[null,"Total",{"$f":"SUM(C39:C47)","v":1998.1299461642575},2088.0141615114544,2454.3420118967306,2444.7094683589157,3465.7469815683639,2651.1498126861325,1686.2301613446316,3959.518506622207,6913.6537680495167,27661.494818202209,3073.4994242446901]
[]
[null,"Weighted Outcomes Breakdown","UTM","APSU","TTU","UTC","MTSU","ETSU","TSU","UM","UTK","All Univs"]
[null,"Students Accumulating 24 hrs",{"$f":"C39/$C$48","v":1.0735905026854486E-2},{"$f":"D39/$D$48","v":1.3984579481426E-2},{"$f":"E39/$E$48","v":1.2859495476593749E-2},{"$f":"F39/$F$48","v":1.5120106149660407E-2},{"$f":"G39/$G$48","v":1.3213428517299475E-2},{"$f":"H39/$H$48","v":2.1133773629801737E-2},{"$f":"I39/$I$48","v":1.2618601632471865E-2},{"$f":"J39/$J$48","v":1.0528552885982914E-2},{"$f":"K39/$K$48","v":6.3388383051321247E-3},{"$f":"L39/$L$48","v":1.1850089886838007E-2}]
[null,"Students Accumulating 48 hrs",{"$f":"C40/$C$48","v":2.0184873399962784E-2},2.365429359169078E-2,2.5817917671152261E-2,2.7653183691140691E-2,2.7913462960363459E-2,3.3932446808372908E-2,2.3369289023140779E-2,2.147041360150697E-2,1.6659401410236835E-2,2.3389528931299555E-2]
[null,"Students Accumulating 72 hrs",5.2482405795466744E-2,5.5716416493293237E-2,7.2272821539301341E-2,7.3426584626911054E-2,8.2213156792842371E-2,7.3445868305237208E-2,5.8776739607170864E-2,5.4270066669456336E-2,3.8667253086267846E-2,5.9254377879394506E-2]
[null,"Bachelors and Associates",0.26756518064618928,0.43111577015441394,0.31664630665419796,0.31138669435064276,0.42055219488077611,0.28610730698949499,0.24872494254613298,0.27944496234818894,0.18848306704174161,0.28986996976715779]
[null,"Masters / Ed Specialists",2.7358914654979482E-2,0.12079526416604651,7.8228706133592688E-2,5.449409181192056E-2,0.15318166378338571,0.12994361855807549,8.500223553054978E-2,8.0509227888347801E-2,7.3043866086234574E-2,8.9460498334411512E-2]
[null,"Doctoral / Law Degree",0,0,9.371147088919958E-3,3.0269445493527176E-2,2.1207549307808628E-2,0.15200951604906937,6.6716870910605935E-2,0.18638629893147649,0.21141739457962944,0.10432070593552302]
[null,"Research and Service",8.2301166695121011E-3,1.13657147402461E-2,4.3723266568143987E-2,2.5549965392427904E-2,1.7462302537654909E-2,5.5837722863772678E-2,0.20214185392986936,8.7949387648345631E-2,0.25699949769286529,0.10427510453265366]
[null,"Degrees per 100 FTE",5.6310207240253492E-2,0.10226720457519387,5.13011228670983E-2,6.8355065504649065E-2,3.6014101233713409E-2,3.4233802735242368E-2,7.6350653331742679E-2,2.905065637479572E-2,2.9348611933270551E-2,4.632148399855384E-2]
[null,"Six-Year Graduation Rate",0.55713239656678171,0.2411007567976895,0.38977921600099968,0.39374486297912048,0.22824213998615586,0.21335594406093314,0.22629881348831574,0.25039043365189922,0.17904206986462171,0.2712582407341681]
[null,"Total",{"$f":"SUM(C51:C59)","v":1},0.99999999999999989,1,1,0.99999999999999989,0.99999999999999978,1,1,1,1]
[]
[]
[]
[null,"W.O. % Change from 19-20","UTM","APSU","TTU","UTC","MTSU","ETSU","TSU","UM","UTK","All Univs"]
[null,"Students Accumulating 30 hrs",{"$f":"C39/'2020-21 Univ'!C39-1","v":9.954706087302867E-4},{"$f":"D39/'2020-21 Univ'!D39-1","v":3.2911678976710101E-2},{"$f":"E39/'2020-21 Univ'!E39-1","v":1.5722083004359844E-2},{"$f":"F39/'2020-21 Univ'!F39-1","v":2.4235975645799934E-2},{"$f":"G39/'2020-21 Univ'!G39-1","v":-1.2643162688009135E-2},{"$f":"H39/'2020-21 Univ'!H39-1","v":-1.7204120007858537E-2},{"$f":"I39/'2020-21 Univ'!I39-1","v":-5.6207418622256089E-2},{"$f":"J39/'2020-21 Univ'!J39-1","v":2.0763956904994885E-2},{"$f":"K39/'2020-21 Univ'!K39-1","v":1.3093491474435615E-2},{"$f":"L39/'2020-21 Univ'!L39-1","v":2.7376676474737405E-3}]
[null,"Students Accumulating 60 hrs",{"$f":"C40/'2020-21 Univ'!C40-1","v":-1.54281808417146E-2},{"$f":"D40/'2020-21 Univ'!D40-1","v":1.8056457347803034E-2},{"$f":"E40/'2020-21 Univ'!E40-1","v":-4.3012051831938902E-2},{"$f":"F40/'2020-21 Univ'!F40-1","v":-8.826202973345465E-3},{"$f":"G40/'2020-21 Univ'!G40-1","v":-3.2173834748942309E-2},{"$f":"H40/'2020-21 Univ'!H40-1","v":-2.7643418812657083E-2},{"$f":"I40/'2020-21 Univ'!I40-1","v":-6.9208238851095838E-2},{"$f":"J40/'2020-21 Univ'!J40-1","v":1.5608200129023198E-2},{"$f":"K40/'2020-21 Univ'!K40-1","v":1.5071939526740685E-3},{"$f":"L40/'2020-21 Univ'!L40-1","v":-1.586456531780589E-2}]
[null,"Students Accumulating 90 hrs",{"$f":"C41/'2020-21 Univ'!C41-1","v":-3.4653465346534462E-2},{"$f":"D41/'2020-21 Univ'!D41-1","v":-2.9152410359120084E-2},{"$f":"E41/'2020-21 Univ'!E41-1","v":-4.3566824031249118E-2},{"$f":"F41/'2020-21 Univ'!F41-1","v":-1.4157045571041582E-2},{"$f":"G41/'2020-21 Univ'!G41-1","v":2.3452432603572326E-3},{"$f":"H41/'2020-21 Univ'!H41-1","v":-1.3130090474530176E-3},{"$f":"I41/'2020-21 Univ'!I41-1","v":-4.6967819137569755E-2},{"$f":"J41/'2020-21 Univ'!J41-1","v":-1.1620700340874146E-3},{"$f":"K41/'2020-21 Univ'!K41-1","v":1.2705604254900082E-2},{"$f":"L41/'2020-21 Univ'!L41-1","v":-1.1629229856986445E-2}]
[null,"Bachelors and Associates",{"$f":"C42/'2020-21 Univ'!C42-1","v":-2.9145783395075342E-2},{"$f":"D42/'2020-21 Univ'!D42-1","v":5.5293310533375273E-3},{"$f":"E42/'2020-21 Univ'!E42-1","v":-2.2339867910682432E-2},{"$f":"F42/'2020-21 Univ'!F42-1","v":1.0788381742738551E-2},{"$f":"G42/'2020-21 Univ'!G42-1","v":-1.686143572621035E-2},{"$f":"H42/'2020-21 Univ'!H42-1","v":1.0479852926809752E-2},{"$f":"I42/'2020-21 Univ'!I42-1","v":-2.3572139477222365E-2},{"$f":"J42/'2020-21 Univ'!J42-1","v":-2.536847042657342E-2},{"$f":"K42/'2020-21 Univ'!K42-1","v":7.3282348333363334E-3},{"$f":"L42/'2020-21 Univ'!L42-1","v":-8.324628671224521E-3}]
[null,"Masters/Ed Specialist Degrees",{"$f":"C43/'2020-21 Univ'!C43-1","v":4.7923322683706138E-2},{"$f":"D43/'2020-21 Univ'!D43-1","v":2.436823104693131E-2},{"$f":"E43/'2020-21 Univ'!E43-1","v":-3.4602076124566894E-3},{"$f":"F43/'2020-21 Univ'!F43-1","v":3.8095238095238182E-2},{"$f":"G43/'2020-21 Univ'!G43-1","v":-1.2809917355371514E-2},{"$f":"H43/'2020-21 Univ'!H43-1","v":9.6852300242145084E-4},{"$f":"I43/'2020-21 Univ'!I43-1","v":-0.10026155187445496},{"$f":"J43/'2020-21 Univ'!J43-1","v":-2.0869565217391806E-3},{"$f":"K43/'2020-21 Univ'!K43-1","v":-1.0666086199390579E-2},{"$f":"L43/'2020-21 Univ'!L43-1","v":-6.3908810046955367E-3}]
[null,"Doctoral / Law Degrees",{"$f":"C44/'2020-21 Univ'!C44-1","v":{"$error":"#DIV/0!"}},{"$f":"D44/'2020-21 Univ'!D44-1","v":{"$error":"#DIV/0!"}},{"$f":"E44/'2020-21 Univ'!E44-1","v":2.9850746268656803E-2},{"$f":"F44/'2020-21 Univ'!F44-1","v":-4.7210300429184615E-2},{"$f":"G44/'2020-21 Univ'!G44-1","v":-0.16000000000000003},{"$f":"H44/'2020-21 Univ'!H44-1","v":-4.502369668246442E-2},{"$f":"I44/'2020-21 Univ'!I44-1","v":8.9686098654708779E-3},{"$f":"J44/'2020-21 Univ'!J44-1","v":-3.4031413612565342E-2},{"$f":"K44/'2020-21 Univ'!K44-1","v":1.0368663594469973E-2},{"$f":"L44/'2020-21 Univ'!L44-1","v":-1.5690733371233612E-2}]
[null,"Research and Service",{"$f":"C45/'2020-21 Univ'!C45-1","v":4.3165048524255401E-2},{"$f":"D45/'2020-21 Univ'!D45-1","v":0.14756520194553024},{"$f":"E45/'2020-21 Univ'!E45-1","v":9.2807121889961541E-2},{"$f":"F45/'2020-21 Univ'!F45-1","v":-2.8122335649770624E-3},{"$f":"G45/'2020-21 Univ'!G45-1","v":-8.2877846533339072E-3},{"$f":"H45/'2020-21 Univ'!H45-1","v":6.2207214952379131E-2},{"$f":"I45/'2020-21 Univ'!I45-1","v":-4.4663208267064269E-2},{"$f":"J45/'2020-21 Univ'!J45-1","v":9.8883496901929879E-2},{"$f":"K45/'2020-21 Univ'!K45-1","v":3.5406517599460452E-2},{"$f":"L45/'2020-21 Univ'!L45-1","v":3.4796855592017062E-2}]
[null,"Degrees per 100 FTE",{"$f":"C46/'2020-21 Univ'!C46-1","v":-3.5204599001398273E-3},{"$f":"D46/'2020-21 Univ'!D46-1","v":3.0964070146011213E-3},{"$f":"E46/'2020-21 Univ'!E46-1","v":-6.4918750190979813E-3},{"$f":"F46/'2020-21 Univ'!F46-1","v":9.7692170583176807E-3},{"$f":"G46/'2020-21 Univ'!G46-1","v":3.4567399776568308E-3},{"$f":"H46/'2020-21 Univ'!H46-1","v":1.2089690796638131E-2},{"$f":"I46/'2020-21 Univ'!I46-1","v":3.2221234279403044E-2},{"$f":"J46/'2020-21 Univ'!J46-1","v":-1.293985309730683E-3},{"$f":"K46/'2020-21 Univ'!K46-1","v":7.2314179038073245E-3},{"$f":"L46/'2020-21 Univ'!L46-1","v":6.2008327892733028E-3}]
[null,"Six-Year Graduation Rate",{"$f":"C47/'2020-21 Univ'!C47-1","v":-5.430790393599616E-3},{"$f":"D47/'2020-21 Univ'!D47-1","v":2.632355765758887E-2},{"$f":"E47/'2020-21 Univ'!E47-1","v":2.8311407975831093E-2},{"$f":"F47/'2020-21 Univ'!F47-1","v":8.9557938610953514E-3},{"$f":"G47/'2020-21 Univ'!G47-1","v":2.3668296440785941E-2},{"$f":"H47/'2020-21 Univ'!H47-1","v":4.8794026915564226E-2},{"$f":"I47/'2020-21 Univ'!I47-1","v":5.5193930590177631E-2},{"$f":"J47/'2020-21 Univ'!J47-1","v":6.3047207759570956E-2},{"$f":"K47/'2020-21 Univ'!K47-1","v":1.2090159215859098E-2},{"$f":"L47/'2020-21 Univ'!L47-1","v":2.4560165154621005E-2}]
[null,"Total",{"$f":"C48/'2020-21 Univ'!C48-1","v":-1.173223968662862E-2},{"$f":"D48/'2020-21 Univ'!D48-1","v":1.2552975560470747E-2},{"$f":"E48/'2020-21 Univ'!E48-1","v":2.6273186948075899E-3},{"$f":"F48/'2020-21 Univ'!F48-1","v":7.0136572978900524E-3},{"$f":"G48/'2020-21 Univ'!G48-1","v":-8.8110942398857972E-3},{"$f":"H48/'2020-21 Univ'!H48-1","v":8.1664328512323081E-3},{"$f":"I48/'2020-21 Univ'!I48-1","v":-1.5262907448581386E-2},{"$f":"J48/'2020-21 Univ'!J48-1","v":9.2846470414793547E-3},{"$f":"K48/'2020-21 Univ'!K48-1","v":1.4696089407968183E-2},{"$f":"L48/'2020-21 Univ'!L48-1","v":4.6018501806179835E-3}]

{"sheet":"Dynamic 21-22 Point Calculation","index":7,"n_rows":38,"n_cols":21,"rows_kept":38,"cut":false,"hidden":false,"merged":[[12,14,12,20],[1,1,1,11],[3,1,5,1],[3,4,3,7],[3,8,3,9],[3,10,3,11],[4,2,5,2],[4,3,5,3],[4,4,5,4],[4,5,5,5],[4,6,5,6],[4,7,5,7],[4,8,5,8],[4,9,5,9],[4,10,5,10],[4,11,5,11]]}
[" "]
[null,"2021-22 Total Point Calculation"]
[]
[null,"Academic Formula Units","2020-21","2021-22","2021-22 Fixed Costs",null,null,null,"2021-22 Quality Assurance",null,"2021-22"]
[null,null,"Total Points","Weighted Outcomes","Fixed Costs","Fixed Cost Share","Fixed Cost Points","Point Subtotal","QA Score","QA Points","Point Total","Percent Change"]
[null,null,null,null,null,null,null,null,null,null,null,null,null,"Fixed  Cost Constant"]
[null,"LGI Universities",null,null,null,null,null,null,null,null,null,null,null,{"$f":"U17","v":0.21828599692538883}]
[null,"Austin Peay",{"$f":"'20-21 Point Calculation'!J8","v":2476.9250808647125},{"$f":"'Dynamic - 2021-22 Univ'!D48","v":2088.0141615114544},19221413.225842841,{"$f":"E8/$E$38","v":3.8903043582409431E-2},{"$f":"$D$38*F8*$N$7","v":301.68720799648145},{"$f":"D8+G8","v":2389.7013695079359},90,{"$f":"H8*$N$9*I8/100","v":117.21485217436425},{"$f":"H8+J8","v":2506.9162216823001},{"$f":"K8/C8-1","v":1.2108214757596825E-2},null,"Quality Assurance Constant"]
[null,"East Tennessee",{"$f":"'20-21 Point Calculation'!J9","v":3271.5895595913817},{"$f":"'Dynamic - 2021-22 Univ'!H48","v":2651.1498126861325},31350461.220548183,{"$f":"E9/$E$38","v":6.3451544632100954E-2},{"$f":"$D$38*F9*$N$7","v":492.0571137981151},{"$f":"D9+G9","v":3143.2069264842476},91,{"$f":"H9*$N$9*I9/100","v":155.88734751898627},{"$f":"H9+J9","v":3299.0942740032337},{"$f":"K9/C9-1","v":8.4071409053181334E-3},null,5.45E-2]
[null,"Middle Tennessee",{"$f":"'20-21 Point Calculation'!J10","v":4482.2687016013069},{"$f":"'Dynamic - 2021-22 Univ'!G48","v":3465.7469815683639},50006640.704548426,0.10121058737363638,784.87276862426916,4250.6197501926326,89,206.17631098309366,4456.7960611757262,-5.6829793395654082E-3]
[null,"Tennessee State",{"$f":"'20-21 Point Calculation'!J11","v":2224.670380166714},{"$f":"'Dynamic - 2021-22 Univ'!I48","v":1686.2301613446316},27034488.142933346,5.4716261395319425E-2,424.31631595589465,2110.546477300526,79,90.869578580174149,2201.4160558807002,-1.0452930237814018E-2]
[null,"Tennessee Tech",{"$f":"'20-21 Point Calculation'!J12","v":3058.6258714593673},{"$f":"'Dynamic - 2021-22 Univ'!E48","v":2454.3420118967306},29390095.069584426,5.9483875402354239E-2,461.28844014305241,2915.630452039783,97,154.13480384708313,3069.7652558868663,3.6419571715007315E-3]
[null,"University of Memphis",{"$f":"'20-21 Point Calculation'!J13","v":5096.0242448413373},{"$f":"'Dynamic - 2021-22 Univ'!J48","v":3959.518506622207},59663543.55133044,0.12075560770618693,936.44143964279635,4895.9599462650031,93,248.15172987644166,5144.1116761414451,9.4362642306473621E-3,null,null,"Fixed Cost Constant Rationalization"]
[null,"Subtotal",{"$f":"SUM(C8:C13)","v":20610.103838524821},16305.00163562952,{"$f":"SUM(E8:E13)","v":216666641.91478768},0.43852092009200733,{"$f":"SUM(G8:G13)","v":3400.6632861606095},{"$f":"SUM(H8:H13)","v":19705.664921790129},"NA",{"$f":"SUM(J8:J13)","v":972.4346229801431},{"$f":"SUM(K8:K13)","v":20678.099544770273},3.2991442827354778E-3,null,null,null,"2011-12","2012-13","2013-14","2014-15","2015-16","Average"]
[null,null,null,null,null,null,null,null,null,null,null,null,null,null,"Fixed Costs",366690869.55848902,387809994.31726682,377226237.08081514,399315726.19111466,415758477.64899808,{"$f":"AVERAGE(P15:T15)","v":389360260.9593367}]
[null,"Community Colleges",null,null," ",null,null,null,null,null,null,null,null,null,"Monetized Outcomes",1660440473.6720634,1758941535.9990635,1789558365.309818,1834925392.4408126,1874715049.5699492,{"$f":"AVERAGE(P16:T16)","v":1783716163.3983414}]
[null,"Chattanooga",{"$f":"'20-21 Point Calculation'!J17","v":950.00513536835308},{"$f":"'Dynamic - 2021-22 CC'!C57","v":738.03513888102987},10826539.314662557,{"$f":"E17/$E$38","v":2.1912297803301506E-2},{"$f":"$D$38*F17*$N$7","v":169.92654909022517},{"$f":"D17+G17","v":907.96168797125506},93,{"$f":"H17*$N$9*I17/100","v":46.020038154823062},{"$f":"H17+J17","v":953.98172612607812},{"$f":"K17/C17-1","v":4.1858623808208595E-3},null,null,"Ratio",{"$f":"P15/P16","v":0.22083951540132743},0.2204791838615569,0.21079292209366285,0.21761959796084462,0.22177155815993002,{"$f":"U15/U16","v":0.21828599692538883}]
[null,"Cleveland",{"$f":"'20-21 Point Calculation'!J18","v":436.03248743785923},{"$f":"'Dynamic - 2021-22 CC'!D57","v":355.38551543924211},4433718.4070501616,8.973593064931366E-3,69.5888544483918,{"$f":"D18+G18","v":424.97436988763388},91,21.076603874577199,{"$f":"H18+J18","v":446.05097376221107},2.2976467609605811E-2]
[null,"Columbia",{"$f":"'20-21 Point Calculation'!J19","v":602.08968966844134},{"$f":"'Dynamic - 2021-22 CC'!E57","v":509.31833535747268},5798323.5585517837,1.1735476026287876E-2,91.006838305095854,600.32517366256855,87,28.464418109210687,628.78959177177921,4.4345390000019691E-2]
[null,"Dyersburg",{"$f":"'20-21 Point Calculation'!J20","v":348.20887227037582},{"$f":"'Dynamic - 2021-22 CC'!F57","v":275.57004817857262},3994933.1291507934,8.0855166998445183E-3,62.701956807512637,338.27200498608528,100,18.435824271741648,356.70782925782692,2.4407640540680564E-2]
[null,"Jackson",{"$f":"'20-21 Point Calculation'!J21","v":501.50960124987165},{"$f":"'Dynamic - 2021-22 CC'!G57","v":394.58367382929367},5632445.3792846054,1.1399748056570977E-2,88.403318772860189,482.98699260215386,91,23.953739898103823,506.9407325002577,1.0829565848491152E-2]
[null,"Motlow",{"$f":"'20-21 Point Calculation'!J22","v":660.68237483580151},{"$f":"'Dynamic - 2021-22 CC'!H57","v":593.92175201292855},4957721.2122282647,1.003414484266126E-2,77.813272779087882,671.73502479201647,94,34.412985320095004,706.14801011211148,6.8816177043635296E-2]
[null,"Nashville",{"$f":"'20-21 Point Calculation'!J23","v":750.27945748363231},{"$f":"'Dynamic - 2021-22 CC'!I57","v":605.16943627356613},7058001.3640454942,1.4284992026548926E-2,110.77794855850796,715.94738483207414,78,30.434923329211468,746.38230816128555,-5.1942636619926041E-3]
[null,"Northeast ",{"$f":"'20-21 Point Calculation'!J24","v":842.04715216841942},{"$f":"'Dynamic - 2021-22 CC'!J57","v":709.12435665673127},8140136.1040224489,1.6475170992930145E-2,127.76245456458652,836.88681122131777,94,42.873711338868112,879.7605225601859,4.4787717997321064E-2]
[null,"Pellissippi",{"$f":"'20-21 Point Calculation'!J25","v":1143.9213326533634},{"$f":"'Dynamic - 2021-22 CC'!K57","v":936.78808847928667},10965665.713919817,2.219388169675279E-2,172.11018951548249,1108.8982779947692,93,56.204509220164873,1165.1027872149341,1.851653077615012E-2]
[null,"Roane",{"$f":"'20-21 Point Calculation'!J26","v":824.19092063049652},{"$f":"'Dynamic - 2021-22 CC'!L57","v":636.68988813071883},10225987.456312919,2.0696815109892602E-2,160.50066498514755,797.19055311586635,92,39.971134333229536,837.16168744909589,1.5737575474232157E-2]
[null,"Southwest",{"$f":"'20-21 Point Calculation'!J27","v":934.00554194817244},{"$f":"'Dynamic - 2021-22 CC'!M57","v":631.04180036838352},15782531.344930789,3.1942942880343939E-2,247.71268171725916,878.75448208564262,92,44.060749731774123,922.8152318174167,-1.1980989007211562E-2]
[null,"Volunteer",{"$f":"'20-21 Point Calculation'!J28","v":996.24978018820957},{"$f":"'Dynamic - 2021-22 CC'!N57","v":848.10228948711347},8462966.2065165192,1.7128560699476544E-2,132.82939273059557,980.93168221770907,94,50.253130080013236,1031.1848122977224,3.5066539340076863E-2]
[null,"Walters",{"$f":"'20-21 Point Calculation'!J29","v":830.13088820669907},{"$f":"'Dynamic - 2021-22 CC'!O57","v":630.86713695908077},11141352.48135593,2.2549461689239009E-2,174.86765847611369,805.73479543519443,92,40.399542643120647,846.13433807831507,1.9278224794390786E-2]
[null,"Community College Subtotal",{"$f":"SUM(C17:C29)","v":9819.3532341096943},7864.5974600534209,{"$f":"SUM(E17:E29)","v":107420321.67203209},0.21741260158878148,{"$f":"SUM(G17:G29)","v":1686.0017807508666},{"$f":"SUM(H17:H29)","v":9550.5992408042875},"NA",{"$f":"SUM(J17:J29)","v":476.56131030493344},{"$f":"SUM(K17:K29)","v":10027.160551109218},2.1163035084394322E-2]
[null,null,null,null,null,null,null,null,null,null,null,null,null," "]
[null,"UT Universities",null,null," "]
[null,"UT Chattanooga",{"$f":"'20-21 Point Calculation'!J33","v":2983.8223497924828},{"$f":"'Dynamic - 2021-22 Univ'!F48","v":2444.7094683589157},26796433.169490498,5.4234451712647132E-2,{"$f":"$D$38*F33*$N$7","v":420.57995487547782},{"$f":"D33+G33","v":2865.2894232343933},90,{"$f":"H33*$N$9*I33/100","v":140.54244620964698},{"$f":"H33+J33","v":3005.8318694440404},{"$f":"K33/C33-1","v":7.3762835287725093E-3}]
[null,"UT Knoxville",{"$f":"'20-21 Point Calculation'!J34","v":9182.4416888276501},{"$f":"'Dynamic - 2021-22 Univ'!K48","v":6913.6537680495167},123660838.98048505,0.25028248192630886,{"$f":"$D$38*F34*$N$7","v":1940.9027219895859},{"$f":"D34+G34","v":8854.5564900391018},93,{"$f":"H34*$N$9*I34/100","v":448.79319569763192},{"$f":"H34+J34","v":9303.3496857367336},{"$f":"K34/C34-1","v":1.3167303534983965E-2}]
[null,"UT Martin",{"$f":"'20-21 Point Calculation'!J35","v":2430.9166601050651},{"$f":"'Dynamic - 2021-22 Univ'!C48","v":1998.1299461642575},19540839.769586898,3.9549544680255143E-2,{"$f":"$D$38*F35*$N$7","v":306.7007260458488},2304.8306722101061,83,{"$f":"H35*$N$9*I35/100","v":104.25901545742416},2409.0896876675301,{"$f":"K35/C35-1","v":-8.9789061039187157E-3},null," "]
[null,"Subtotal",{"$f":"SUM(C33:C35)","v":14597.180698725198},{"$f":"SUM(D33:D35)","v":11356.493182572691},{"$f":"SUM(E33:E35)","v":169998111.91956243},0.34406647831921111,{"$f":"SUM(G33:G35)","v":2668.1834029109123},{"$f":"SUM(H33:H35)","v":14024.676585483601},"NA",{"$f":"SUM(J33:J35)","v":693.59465736470304},{"$f":"SUM(K33:K35)","v":14718.271242848305},{"$f":"K36/C36-1","v":8.2954747647729921E-3}]
[]
[null,"Colleges and Universities Total",{"$f":"SUM(C14,C30,C36)","v":45026.637771359718},{"$f":"SUM(D14,D30,D36)","v":35526.09227825563},{"$f":"SUM(E14,E30,E36)","v":494085075.50638223},{"$f":"SUM(F14,F30,F36)","v":0.99999999999999989},{"$f":"SUM(G14,G30,G36)","v":7754.8484698223883},{"$f":"SUM(H36,H30,H14)","v":43280.940748078021},"NA",{"$f":"SUM(J36,J30,J14)","v":2142.5905906497796},{"$f":"SUM(K36,K30,K14)","v":45423.5313387278},{"$f":"K38/C38-1","v":8.8146392227521631E-3}]

{"sheet":"CC Data","index":8,"n_rows":365,"n_cols":101,"rows_kept":365,"cut":false,"hidden":false,"merged":[[1,1,1,15],[330,23,330,37],[339,23,339,37],[300,20,301,20],[300,21,301,21],[320,23,320,39],[321,23,321,39],[348,23,348,37],[357,23,357,37],[1,84,1,95],[1,43,1,55],[1,23,1,34],[95,64,101,64],[72,64,78,64],[79,64,85,64],[86,64,92,64],[187,64,193,64],[194,64,200,64],[201,64,207,64],[210,64,216,64],[217,64,223,64],[316,64,322,64],[309,64,315,64],[302,64,308,64],[132,64,138,64],[118,64,124,64],[125,64,131,64],[102,64,108,64],[109,64,115,64],[279,64,285,64],[286,64,292,64],[293,64,299,64],[256,64,262,64],[263,64,269,64],[270,64,276,64],[240,64,246,64],[247,64,253,64],[141,64,147,64],[148,64,154,64],[1,64,1,76],[49,64,55,64],[56,64,62,64],[63,64,69,64],[26,64,32,64],[33,64,39,64],[40,64,46,64],[3,64,9,64],[10,64,16,64],[17,64,23,64],[26,43,32,43],[33,43,39,43],[40,43,46,43],[49,43,55,43],[109,43,115,43],[118,43,124,43],[125,43,131,43],[132,43,138,43],[141,43,147,43],[187,43,193,43],[194,43,200,43],[201,43,207,43],[210,43,216,43],[217,43,223,43],[155,64,161,64],[164,64,170,64],[171,64,177,64],[178,64,184,64],[178,43,184,43],[224,64,230,64],[233,64,239,64],[17,43,23,43],[10,43,16,43],[3,43,9,43],[95,43,101,43],[102,43,108,43],[56,43,62,43],[63,43,69,43],[72,43,78,43],[79,43,85,43],[86,43,92,43],[148,43,154,43],[155,43,161,43],[164,43,170,43],[171,43,177,43],[224,43,230,43],[233,43,239,43],[240,43,246,43],[247,43,253,43],[256,43,262,43],[263,43,269,43],[309,43,315,43],[316,43,322,43],[270,43,276,43],[279,43,285,43],[286,43,292,43],[293,43,299,43],[302,43,308,43]]}
[]
[null,"Combined Outcomes",null,null,null,null,null,null,null,null,null,null,null,null,null,null,null,null,null,"Scale Calculation",null,null,null,"General Count",null,null,null,null,null,null,null,null,null,null,null,null,null,null,null,null,null,null,null,"Focus Population Overlap",null,null,null,null,null,null,null,null,null,null,null,null,null,null,null,null,null,null,null,null,"For Reference",null,null,null,null,null,null,null,null,null,null,null,null,null,null,null,null,null,null,null,"Full-time Enrollment for Formula"]
[null,"Chattanooga","2004-05","2005-06","2006-07","2007-08","2008-09","2009-10","2010-11","2011-12","2012-13","2013-14","2014-15","2015-16","2016-17","2017-18","2018-19","2019-20",null,"Standard Dev.",null,null,null,"Chattanooga","2004-05","2005-06","2006-07","2007-08","2008-09","2009-10","2010-11","2011-12","2012-13","2013-14","2014-15","2015-16","2016-17","2017-18","2018-19","2019-20",null,null,null,null,"Chattanooga","2004-05","2005-06","2006-07","2007-08","2008-09","2009-10","2010-11","2011-12","2012-13","2013-14","2014-15","2015-16","2016-17","2017-18","2018-19","2019-20",null,null,null,null,"Chattanooga","2004-05","2005-06","2006-07","2007-08","2008-09","2009-10","2010-11","2011-12","2012-13","2013-14","2014-15","2015-16","2016-17","2017-18","2018-19","2019-20",null,null,null,"2004-05","2005-06","2006-07","2007-08","2008-09","2009-10","2010-11","2011-12","2012-13","2013-14","2014-15","2015-16","2016-17","2017-18","2018-19","2019-20"]
[null,"Students Accumulating 12 hrs",{"$f":"Y4+AT4*$V$6+AT11*$V$8+AT18*$V$10","v":4900.3999999999996},5071,5363.8,5669.8,6077,6583.2,5084.7999999999993,4334.2,4186.3999999999996,4181.6000000000004,3798.4,3950.8,{"$f":"AK4+BF4*$V$6+BF11*$V$8+BF18*$V$10","v":3443.6000000000004},3421.6000000000004,3253.2,3253.2,null,814.23004011287924,null,"Focus Premium",null,"Students Accumulating 12 hrs",2603,2744,2912,3067,3263,3482,2716,2351,2318,2339,2159,2280,1972,1995,1926,{"$f":"AM4*(1+'Control Data'!$C10)","v":1926},null,null,null,"One Focus Pop Only","Students Accumulating 12 hrs",839,864,921,969,1020,946,753,717,740,778,778,885,826,786,694,{"$f":"BH4*(1+'Control Data'!$C$23)","v":694},null,null,null,"Adults","Students Accumulating 12 hrs",747,632,658,746,819,1055,877,723,644,552,463,379,296,330,336,null,null,null,"Chattanooga",4833.7,4686.3,4682.8999999999996,4650.3666666666668,5032.2666666666664,5828.6,6633.166666666667,6484.7333333333336,6260.9,5749.5,5306.6333333333332,5412.2,5020.3,4831.2666666666664,4940.0666666666666,{"$f":"CV4*(1+'Control Data'!$C$26)","v":4940.0666666666666}]
[null,"Students Accumulating 24 hrs",3975.3999999999996,3718.4,3850.2000000000003,3598.8,4001,4684.2,3801.7999999999997,3570.7999999999997,3350.3999999999996,3118.6,2932.6,3017.6,{"$f":"AK5+BF5*$V$6+BF12*$V$8+BF19*$V$10","v":2774.2000000000003},2694.3999999999996,2678.4,2678.4,null,429.89576204264444," ","One Focus Pop Only",null,"Students Accumulating 24 hrs",2106,1973,2045,1908,2118,2454,1969,1872,1801,1708,1611,1687,1563,1533,1536,{"$f":"AM5*(1+'Control Data'!$C11)","v":1536},null,null,null,null,"Students Accumulating 24 hrs",599,596,638,568,665,661,502,507,527,532,512,619,583,604,548,{"$f":"BH5*(1+'Control Data'!$C$23)","v":548},null,null,null,null,"Students Accumulating 24 hrs",704,614,596,563,701,842,837,765,679,566,473,416,294,318,368,null,null,null,"Cleveland",1967.3333333333333,1945.4,1868.9666666666667,1910.2333333333333,2085.0333333333333,2396.5,2504.4333333333334,2448.1999999999998,2324.8000000000002,2187.9666666666667,2039.6,2044.2333333333333,1984.8666666666666,1748.1333333333334,1827.3333333333333,{"$f":"CV5*(1+'Control Data'!$D$26)","v":1827.3333333333333}]
[null,"Students Accumulating 36 hrs",3725.2,2891.2000000000003,3032.6,2510.8000000000002,3055.6,3724.2000000000003,3159.2,3166.6,2992.2,2666.8,2491.4,2508.8000000000002,{"$f":"AK6+BF6*$V$6+BF13*$V$8+BF20*$V$10","v":2474.1999999999998},2357.2000000000003,2365.6,2365.6,null,396.24655904569914,null,0.8,null,"Students Accumulating 36 hrs",1996,1527,1599,1320,1609,1959,1647,1646,1591,1446,1364,1387,1380,1330,1338,{"$f":"AM6*(1+'Control Data'!$C12)","v":1338},null,null,null,null,"Students Accumulating 36 hrs",627,448,474,395,464,576,448,413,453,436,426,465,507,513,478,{"$f":"BH6*(1+'Control Data'!$C$23)","v":478},null,null,null,null,"Students Accumulating 36 hrs",724,604,594,479,633,803,724,783,702,558,497,434,358,305,361,null,null,null,"Columbia",2930.6333333333332,2876.2,2771.1666666666665,2817.4333333333334,2926.8,3445.9,3618.3333333333335,3342.6333333333332,3173.4333333333334,3120.2666666666669,3022.2333333333331,3277.8,3379.7666666666669,3637.6666666666665,3891.3,{"$f":"CV6*(1+'Control Data'!$E$26)","v":3891.3}]
[null,"Dual Enrollment",{"$f":"Y7","v":612},661,865,{"$f":"AB7","v":974},1060,1003,1095,1155,1253,1373,1432,1477,{"$f":"AK7","v":1499},{"$f":"AL7","v":1578},{"$f":"AM7","v":1366},{"$f":"AN7","v":1366},null,241.27045681834602,null,"Two Focus Pops Only",null,"Dual Enrollment",612,661,865,974,1060,1003,1095,1155,1253,1373,1432,1477,1499,1578,1366,{"$f":"AM7*(1+'Control Data'!$C13)","v":1366},null,null,null,null,"Associates",203,199,209,201,169,217,245,261,285,311,266,317,346,352,381,{"$f":"BH7*(1+'Control Data'!$C$23)","v":381},null,null,null,null,"Associates",398,393,420,391,355,445,512,552,652,674,553,621,500,486,489,null,null,null,"Dyersburg",1679.3,1621.2666666666667,1549.9333333333334,1492.6,1599.0666666666666,2070.0333333333333,2158.3333333333335,2069.9,1936.7333333333333,1601.9666666666667,1386.4,1387.2666666666667,1381.5,1304.8333333333333,1447.2,{"$f":"CV7*(1+'Control Data'!$F$26)","v":1447.2}]
[null,"Associates",{"$f":"Y8+$V$13*Y9+$V$6*(AT7+$V$13*AT8)+$V$8*(AT14+$V$13*AT15)+$V$10*(AT21+$V$13*AT22)","v":1200.8000000000002},1209.8,1300.4000000000001,1246.5999999999999,1174.8,1424.8,1613.4,1731.6,1946,2019,1755.1999999999998,2081.4,{"$f":"AK8+$V$13*AK9+$V$6*(BF7+$V$13*BF8)+$V$8*(BF14+$V$13*BF15)+$V$10*(BF21+$V$13*BF22)","v":1979},2042.6999999999998,1997.3000000000002,1997.3000000000002,null,318.23651930949438,null,1,null,"Associates",635,636,692,652,617,745,842,896,1002,1046,935,1069,1055,1089,1078,{"$f":"AM8*(1+'Control Data'!$C15)","v":1078},null,null,null,null,"Reverse Articulated Associates",0,0,0,0,0,0,0,0,0,0,0,20,3,18,19,{"$f":"BH8*(1+'Control Data'!$C$23)","v":19},null,null,null,null,"Reverse Articulated Associates",0,0,0,0,0,0,0,0,0,0,0,25,10,9,15,null," ",null,"Jackson",2713.5666666666666,2617.8333333333335,2781.6666666666665,2843.8666666666668,2837.6666666666665,3278.4,3312.4333333333334,3087.2,2685.8666666666668,2393.8000000000002,2319.2333333333331,2409.9666666666667,2496.1999999999998,2414.4,2472.1,{"$f":"CV8*(1+'Control Data'!$G$26)","v":2472.1}]
[null,"1-2 Year Certificates",{"$f":"Y10+AT9*$V$6+AT16*$V$8+AT23*$V$10","v":104.6},137.80000000000001,105,158,187.2,181.2,229.2,271.60000000000002,430.6,335,303.60000000000002,224.4,{"$f":"AK10+BF9*$V$6+BF16*$V$8+BF23*$V$10","v":297.8},220.8,31.599999999999998,31.599999999999998,null,104.89026858791263,null,"All Three Focus Pops",null,"Reverse Articulated Associates",0,0,0,0,0,0,0,0,0,0,0,60,22,43,49,{"$f":"AM9*(1+'Control Data'!$C16)","v":49},null,null,null,null,"1-2 Year Certificates",32,45,34,38,40,42,49,63,86,64,51,51,43,36,3,{"$f":"BH9*(1+'Control Data'!$C$23)","v":3},null,null,null,null,"1-2 Year Certificates",36,53,45,59,62,51,72,94,149,104,93,61,86,62,11,null,null,null,"Motlow",2299.3666666666668,2263.8333333333335,2439.3666666666668,2639.2666666666669,2850.6,3258.3333333333335,3202.5666666666666,3025.0333333333333,2758.7666666666669,2703.9333333333334,2748.1,3372.2666666666669,3756.7666666666669,3760.1666666666665,3817.2553333333335,{"$f":"CV9*(1+'Control Data'!$H$26)","v":3817.2553333333335}]
[null,"<1yr Certificates",30.599999999999998,71.8,37.800000000000004,39.4,34.6,159.79999999999998,384.6,513.20000000000005,439,489.4,305.2,310.2,{"$f":"AK11+BF10*$V$6+BF17*$V$8+BF24*$V$10","v":328.40000000000003},450.4,640.19999999999993,640.19999999999993,null,209.30464346922113,null,1.2,null,"1-2 Year Certificates",62,78,60,86,101,99,123,146,229,179,162,123,158,118,16,{"$f":"AM10*(1+'Control Data'!$C17)","v":16},null,null,null,null,"<1yr Certificates",4,10,9,8,5,34,61,102,75,80,46,54,46,70,141,{"$f":"BH10*(1+'Control Data'!$C$23)","v":141},null,null,null,null,"<1yr Certificates",10,28,10,12,10,42,100,174,155,157,90,81,85,108,168,null,null,null,"Nashville",3316.8666666666668,3731.46,3796.2666666666669,3974.2,4212.1833333333334,5178.2833333333338,5589.583333333333,5837.166666666667,5695.7666666666664,5701.65,5729.4833333333336,5846.333333333333,5112.95,4635.7833333333338,4753.3833333333332,{"$f":"CV10*(1+'Control Data'!$I$26)","v":4753.3833333333332}]
[null,"Job Placements",{"$f":"Y12","v":0},0,0,424,407,381,429,429,369,462,425,453,{"$f":"AK12","v":409},{"$f":"AL12","v":447},{"$f":"AM12","v":437},{"$f":"AN12","v":437},null,85.665740221042,null,null,null,"<1yr Certificates",16,37,21,20,18,86,203,268,232,262,167,172,176,248,350,{"$f":"AM11*(1+'Control Data'!$C18)","v":350},null,null,null,"Two Focus Pops Only","Students Accumulating 12 hrs",1127,1169,1211,1308,1386,1436,1032,866,782,811,699,754,650,649,628,{"$f":"BH11*(1+'Control Data'!$C$24)","v":628},null,null,null,"Low-Income","Students Accumulating 12 hrs",1568,1678,1803,1935,2114,2322,1787,1478,1345,1388,1205,1208,1077,1053,942,null,null,null,"Northeast",3405.5333333333333,3203.6666666666665,3370.2333333333331,3387.1,3666.3666666666668,4318.833333333333,4750.666666666667,4433.2,4182.5666666666666,3724.3333333333335,3616.1333333333332,3874.9666666666667,3808.6333333333332,3759.8666666666668,3801.4666666666667,{"$f":"CV11*(1+'Control Data'!$J$26)","v":3801.4666666666667}]
[null,"Transfers Out with 12 hrs",437,399,418,405,345,360,440,531,568,499,536,606,535,621,535,535,null,72.241570057996768,null,"R.A. Assoc. Credit",null,"Job Placements",null,null,null,424,407,381,429,429,369,462,425,453,409,447,437,{"$f":"AM12*(1+'Control Data'!$C19)","v":437},null,null,null,null,"Students Accumulating 24 hrs",909,845,858,826,841,1027,710,686,649,577,582,569,572,497,512,{"$f":"BH12*(1+'Control Data'!$C$24)","v":512},null,null,null,null,"Students Accumulating 24 hrs",1300,1220,1305,1241,1377,1645,1381,1247,1115,1025,980,979,897,857,826,null," ",null,"Pellissippi",4855.5666666666666,4709.2666666666664,4897.2666666666664,5202.2666666666664,5456.7666666666664,6377.4,7063.5666666666666,7145.7666666666664,6734.4666666666662,6478.333333333333,6143.2,6117.7666666666664,5841.9666666666662,6334.2333333333336,6371.4333333333334,{"$f":"CV12*(1+'Control Data'!$K$26)","v":6371.4333333333334}]
[null,"Workforce Training (Contact Hours)",0,0,0,71596,41149,97351,163769.5,241977,149621,116198,66340,50083.5,51974.5,60457,61762.850000000006,61762.850000000006,null,66371.550225748433,null,0.5,null,"Transfers Out with 12 hrs",437,399,418,405,345,360,440,531,568,499,536,606,535,621,535,{"$f":"AM13*(1+'Control Data'!$C20)","v":535},null,null,null,null,"Students Accumulating 36 hrs",762,605,656,546,629,750,591,595,548,494,465,457,457,450,416,{"$f":"BH13*(1+'Control Data'!$C$24)","v":416},null,null,null,null,"Students Accumulating 36 hrs",1138,920,994,842,1045,1280,1123,1116,1022,902,789,849,835,739,757,null,null,null,"Roane",3650.9666666666667,3450.9333333333334,3533.7,3577.0666666666666,3602.4333333333334,4089.6666666666665,4344.6333333333332,4083.5333333333333,3856.0333333333333,3627.3333333333335,3413.4666666666667,3410.7333333333331,3447.1666666666665,3219.1333333333332,3391.2,{"$f":"CV13*(1+'Control Data'!$L$26)","v":3391.2}]
[null,"Awards per 100 FTE",14.41959575480481,15.235900390499967,16.058425334728483,15.869716366451392,14.267924328334484,14.480321174896202,14.548104223724215,16.068509627741054,19.661709977798719,21.306200539177318,20.672240403520124,22.57861867632386,24.381013086867316,25.428114090162691,22.641394852970944,22.641394852970944,null,2.3972377665355369,null,null,null,"Workforce Training (Contact Hours)",null,null,null,71596,41149,97351,163769.5,241977,149621,116198,66340,50083.5,51974.5,60457,61762.850000000006,{"$f":"AM14*(1+'Control Data'!$C21)","v":61762.850000000006},null,null," ",null,"Associates",251,213,254,225,233,283,297,304,344,345,305,356,334,357,331,{"$f":"BH14*(1+'Control Data'!$C$24)","v":331},null,null,null,null,"Associates",274,337,340,345,365,429,519,570,638,658,557,656,645,667,608,null,null,null,"Southwest",7459.5,7381.6,7285.5333333333338,6942.3,7517.9666666666662,8765.7999999999993,9083.9333333333325,9108,7692.2666666666664,6825.2333333333336,6336.3,5754.1,5388.7666666666664,5731.4333333333334,5863.4333333333334,{"$f":"CV14*(1+'Control Data'!$M$26)","v":5863.4333333333334}]
[null,null,null,null,null,null,null,null,null,null,null,null,null,null,null,null,null,null,null,null,null,null," ","Awards per 100 FTE",14.41959575480481,15.235900390499967,16.058425334728483,15.869716366451392,14.267924328334484,14.480321174896202,14.548104223724215,16.068509627741054,19.661709977798719,21.306200539177318,20.672240403520124,22.57861867632386,24.381013086867316,25.428114090162691,22.641394852970944,{"$f":"AM15*(1+'Control Data'!$C22)","v":22.641394852970944},null,null,null,null,"Reverse Articulated Associates",0,0,0,0,0,0,0,0,0,0,0,30,14,10,12,{"$f":"BH15*(1+'Control Data'!$C$24)","v":12},null,null,null,null,"Reverse Articulated Associates",0,0,0,0,0,0,0,0,0,0,0,44,16,29,31,null,null,null,"Volunteer",4312.9666666666662,4266.1000000000004,4289.8,4131.166666666667,4385.0666666666666,5362.3,5577.1333333333332,5265.3666666666668,4762.6000000000004,4539.5666666666666,4355.666666666667,4805.0666666666666,5196.7666666666664,5198.8,5440.9333333333334,{"$f":"CV15*(1+'Control Data'!$N$26)","v":5440.9333333333334}]
[null,null,null,null,null,null,null,null,null,null,null,null,null,null,null,null,null,null,null,null,null,null," ",null,null,null,null,null,null,null,null,null,null,null,null,null,null,null,null,null,null,null,null,null,"1-2 Year Certificates",11,13,13,26,35,27,37,32,86,58,54,33,61,44,6,{"$f":"BH16*(1+'Control Data'!$C$24)","v":6},null,null,null,null,"1-2 Year Certificates",13,19,14,34,40,43,60,64,128,96,99,68,103,68,10,null,null,null,"Walters",3600.8,3602.8,3640.0666666666666,3637.1666666666665,3951.4333333333334,4533.5666666666666,4604.8,4270.7333333333336,3965.7,3631.3666666666668,3442.6,3481.5333333333333,3490.5333333333333,3572.1,3617.3,{"$f":"CV16*(1+'Control Data'!$O$26)","v":3617.3}]
[null,null,null,null,null,null,null,null,null,null,null,null,null,null,null,null,null,null,null,null," ",null,null,null,null,null,null,null,null,null,null,null,null,null,null,null,null,null,null,null,null,null,null,null,"<1yr Certificates",9,16,6,7,9,25,68,106,93,77,51,53,76,90,109,{"$f":"BH17*(1+'Control Data'!$C$24)","v":109},null,null,null,null,"<1yr Certificates",9,18,8,7,11,50,136,146,137,156,103,96,114,157,185,null,null,null,"Total",{"$f":"SUM(CH4:CH16)","v":47026.100000000006},46356.66,46906.866666666669,47205.033333333326,50123.649999999994,58903.616666666669,62443.583333333336,60601.466666666674,56029.9,52285.25,{"$f":"SUM(CR4:CR16)","v":49859.049999999996},51194.23333333333,50306.183333333327,{"$f":"SUM(CU4:CU16)","v":50147.816666666673},51634.405333333336,51634.405333333336]
[null,null,null,null,null,null,null,null,null,null,null,null,null,null,null,null,null,null,null,null,null,null,null,null,null,null,null,null,null,null,null,null,null,null," ",null,null,null,null,null,null,null,null,"All Three Focus Pops","Students Accumulating 12 hrs",416,389,420,433,510,757,612,453,412,341,265,174,134,124,120,{"$f":"BH18*(1+'Control Data'!$C$25)","v":120},null,null,null,"Academically Underprepared","Students Accumulating 12 hrs",2026,2059,2142,2203,2389,2712,1989,1607,1551,1483,1303,1328,1155,1073,1032]
[null,null,null,null,null,null,null,null,null,null,null,null,null,null,null,null,null,null,null,null,null,null,null,null,null,null,null,null,null,null,null,null,null,null,null,null,null,null,null,null,null,null,null,null,"Students Accumulating 24 hrs",401,353,364,342,425,562,601,506,399,340,275,222,144,151,160,{"$f":"BH19*(1+'Control Data'!$C$25)","v":160},null,null,null,null,"Students Accumulating 24 hrs",1616,1511,1545,1442,1544,1914,1507,1385,1228,1115,1048,1028,968,876,858]
[null,null,null,null,null,null,null,null,null,null,null,null,null,null,null,null,null,null,null,null,null,null,null,null,null,null,null,null,null,null,null,null,null,null,null,null,null,null,null,null,null,null,null,null,"Students Accumulating 36 hrs",388,334,332,274,372,462,469,496,409,315,268,244,193,139,191,{"$f":"BH20*(1+'Control Data'!$C$25)","v":191},null,null,null,null,"Students Accumulating 36 hrs",1453,1136,1194,988,1160,1379,1190,1192,1052,909,874,828,807,786,765]
[null,null,null,null,null,null,null,null,null,null,null,null,null,null,null,null,null,null,null,null,null,null,null,null,null,null,null,null,null,null,null,null,null,null,null,null,null,null,null,null,null,null,null,null,"Associates",127,168,156,174,158,186,232,269,310,316,252,288,243,231,199,{"$f":"BH21*(1+'Control Data'!$C$25)","v":199},null,null,null,null,"Associates",414,399,425,437,389,467,504,554,613,617,522,616,598,606,543]
[null," ",null,null,null,null,null," ",null,null,null,null,null,null,null,null,null,null,null,null,null,null,null,null,null,null,null,null,null,null,null,null,null,null,null,null,null,null,null,null,null,null,null,null,"Reverse Articulated Associates",0,0,0,0,0,0,0,0,0,0,0,7,4,7,11,{"$f":"BH22*(1+'Control Data'!$C$25)","v":11},null,null,null,null,"Reverse Articulated Associates",0,0,0,0,0,0,0,0,0,0,0,32,17,21,30]
[null,null,null,null,null,null,null,null,null," ",null,null,null,null,null,null,null,null,null,null,null,null,null,null,null," ",null,null,null,null,null,null,null,null,null,null,null,null,null,null,null,null,null,null,"1-2 Year Certificates",5,9,4,13,16,18,25,36,39,39,39,23,37,25,6,{"$f":"BH23*(1+'Control Data'!$C$25)","v":6},null," ",null,null,"1-2 Year Certificates",20,26,13,36,56,56,66,77,98,97,84,57,87,69,12]
[null,null,null,null,null,null,null,null,null,null,null,null,null,null,null,null,null,null,null,null,null,null,null,null,null,null,null,null,null,null,null,null,null,null,null,null,null,null,null,null,null,null,null,null,"<1yr Certificates",2,9,3,5,3,18,54,48,45,72,42,35,33,47,57,{"$f":"BH24*(1+'Control Data'!$C$25)","v":57},null,null,null,null,"<1yr Certificates",9,23,12,18,11,46,123,138,104,137,81,88,98,126,177,null," "]
[null,null,null,null,null,null,null,null,null,null,null,null,null,null,null,null,null,null,null,null,null,null,null,null,null,null,null,null,null,null,null,null,null,null,null,null,null,null,null,null,null,null,null,null," "]
[null,"Cleveland","2004-05","2005-06","2006-07","2007-08","2008-09","2009-10","2010-11","2011-12","2012-13","2013-14","2014-15","2015-16","2016-17","2017-18",{"$f":"Q3","v":"2018-19"},"2019-20",null,"Standard Dev.",null,null,null,"Cleveland","2004-05","2005-06","2006-07","2007-08","2008-09","2009-10","2010-11","2011-12","2012-13","2013-14","2014-15","2015-16","2016-17","2017-18","2018-19","2019-20",null,null,null,null,"Cleveland","2004-05","2005-06","2006-07","2007-08","2008-09","2009-10","2010-11","2011-12","2012-13","2013-14","2014-15","2015-16","2016-17","2017-18","2018-19","2019-20",null,null,null,null,"Cleveland","2004-05","2005-06","2006-07","2007-08","2008-09","2009-10","2010-11","2011-12","2012-13","2013-14","2014-15","2015-16","2016-17","2017-18","2018-19","2019-20"]
[null,"Students Accumulating 12 hrs",{"$f":"Y27+AT27*$V$6+AT34*$V$8+AT41*$V$10","v":2019.6},2304.4,2286.2000000000003,2297.4,2707,3235.2000000000003,2175,2178,1941.8000000000002,1799.4,1730.4,1813,{"$f":"AK27+BF27*$V$6+BF34*$V$8+BF41*$V$10","v":1730.8},1592.8,1812.3999999999999,1812.3999999999999,null,416.15780340314603,null,null,null,"Students Accumulating 12 hrs",1080,1233,1220,1226,1448,1707,1141,1164,1060,987,979,1054,981,919,1062,{"$f":"AM27*(1+'Control Data'!$D10)","v":1062},null,null,null,"One Focus Pop Only","Students Accumulating 12 hrs",380,440,426,420,491,491,336,351,343,358,368,408,377,380,372,{"$f":"BH27*(1+'Control Data'!$D$23)","v":372},null,null,null,"Adults","Students Accumulating 12 hrs",325,380,382,373,467,571,438,371,277,228,200,164,156,131,231]
[null,"Students Accumulating 24 hrs",1468.3999999999999,1643.2,1574.8,1675,1706.4,2041.8,1742.8000000000002,1575.6,1365.8,1403.8,1179.2,1247.2,{"$f":"AK28+BF28*$V$6+BF35*$V$8+BF42*$V$10","v":1222},1110.5999999999999,1180.4000000000001,1180.4000000000001,null,196.72504105420464,null,null,null,"Students Accumulating 24 hrs",770,869,826,879,894,1056,897,817,716,752,645,683,669,622,658,{"$f":"AM28*(1+'Control Data'!$D11)","v":658},null,null,null,null,"Students Accumulating 24 hrs",252,284,267,245,274,275,233,201,206,224,218,269,245,255,223,{"$f":"BH28*(1+'Control Data'!$D$23)","v":223},null,null,null,null,"Students Accumulating 24 hrs",293,291,286,332,330,420,386,328,245,211,139,165,133,103,158]
[null,"Students Accumulating 36 hrs",1645.6000000000001,1237.4000000000001,1184.8,1278.3999999999999,1316.1999999999998,1495.1999999999998,1452.8,1285,1162.2,1175.4000000000001,964.2,1071,{"$f":"AK29+BF29*$V$6+BF36*$V$8+BF43*$V$10","v":1024},937.6,1028.2,1028.2,null,160.7720484274414,null,null,null,"Students Accumulating 36 hrs",882,646,620,669,688,769,744,659,605,627,520,578,550,511,559,{"$f":"AM29*(1+'Control Data'!$D12)","v":559},null,null,null,null,"Students Accumulating 36 hrs",323,198,190,196,187,192,192,177,168,182,162,179,202,194,194,{"$f":"BH29*(1+'Control Data'!$D$23)","v":194},null,null,null,null,"Students Accumulating 36 hrs",284,261,226,274,277,334,342,315,240,192,148,155,135,103,173]
[null,"Dual Enrollment",{"$f":"Y30","v":134},215,269,382,527,582,626,627,615,945,1061,1085,{"$f":"AK30","v":1057},{"$f":"AL30","v":1016},{"$f":"AM30","v":1322},{"$f":"AN30","v":1322},null,243.25697432048185,null,null,null,"Dual Enrollment",134,215,269,382,527,582,626,627,615,945,1061,1085,1057,1016,1322,{"$f":"AM30*(1+'Control Data'!$D13)","v":1322},null,null,null,null,"Associates",85,83,69,72,76,78,90,92,84,111,103,102,112,157,140,{"$f":"BH30*(1+'Control Data'!$D$23)","v":140},null,null,null,null,"Associates",165,166,123,167,176,190,202,214,210,249,169,187,141,172,119]
[null,"Associates",{"$f":"Y31+$V$13*Y32+$V$6*(AT30+$V$13*AT31)+$V$8*(AT37+$V$13*AT38)+$V$10*(AT44+$V$13*AT45)","v":554.20000000000005},547.6,481.79999999999995,541.20000000000005,571.6,636.59999999999991,689,729,727.6,872.4,696.19999999999993,750.4,{"$f":"AK31+$V$13*AK32+$V$6*(BF30+$V$13*BF31)+$V$8*(BF37+$V$13*BF38)+$V$10*(BF44+$V$13*BF45)","v":736.80000000000007},938,694.5,694.5,null,117.66573370734918,null,null,null,"Associates",291,291,252,277,291,327,354,370,372,447,365,384,382,491,366,{"$f":"AM31*(1+'Control Data'!$D15)","v":366},null,null,null,null,"Reverse Articulated Associates",0,0,0,0,0,0,0,0,0,0,0,6,4,7,10,{"$f":"BH31*(1+'Control Data'!$D$23)","v":10},null,null,null,null,"Reverse Articulated Associates",0,0,0,0,0,0,0,0,0,0,0,1,2,6,2]
[null,"1-2 Year Certificates",{"$f":"Y33+AT32*$V$6+AT39*$V$8+AT46*$V$10","v":16.399999999999999},35.4,67.2,20.399999999999999,14.2,42.400000000000006,72.800000000000011,97.4,60.599999999999994,54.6,14.8,30.4,{"$f":"AK33+BF32*$V$6+BF39*$V$8+BF46*$V$10","v":57},64.2,61,61,null,27.323258305781245,null,null,null,"Reverse Articulated Associates",0,0,0,0,0,0,0,0,0,0,0,12,10,17,20,{"$f":"AM32*(1+'Control Data'!$D16)","v":20},null,null,null,null,"1-2 Year Certificates",4,7,25,3,2,9,13,10,5,5,1,5,3,7,7,{"$f":"BH32*(1+'Control Data'!$D$23)","v":7},null,null,null,null,"1-2 Year Certificates",6,14,26,7,6,15,29,34,25,19,5,11,22,14,22]
[null,"<1yr Certificates",121.80000000000001,109.2,79,62.2,108.39999999999999,288,353,649.20000000000005,376,641.80000000000007,492.79999999999995,460,{"$f":"AK34+BF33*$V$6+BF40*$V$8+BF47*$V$10","v":501.2},418,427.8,427.8,null,223.83913271216306,null,null,null,"1-2 Year Certificates",9,18,36,11,7,22,39,49,29,27,7,15,28,32,30,{"$f":"AM33*(1+'Control Data'!$D17)","v":30},null,null,null,null,"<1yr Certificates",33,24,9,12,37,63,63,84,62,94,78,67,70,53,64,{"$f":"BH33*(1+'Control Data'!$D$23)","v":64},null,null,null,null,"<1yr Certificates",56,42,30,26,51,93,112,216,119,208,141,131,131,121,131]
[null,"Job Placements",{"$f":"Y35","v":0},0,0,125,135,124,200,216,215,218,196,306,{"$f":"AK35","v":168},{"$f":"AL35","v":223},{"$f":"AM35","v":229},{"$f":"AN35","v":229},null,37.959878568725451,null,null,null,"<1yr Certificates",64,57,41,34,57,154,186,331,196,330,258,241,257,218,229,{"$f":"AM34*(1+'Control Data'!$D18)","v":229},null,null,null,"Two Focus Pops Only","Students Accumulating 12 hrs",446,525,507,529,613,743,458,468,419,388,319,339,351,293,340,{"$f":"BH34*(1+'Control Data'!$D$24)","v":340},null,null,null,"Low-Income","Students Accumulating 12 hrs",663,755,755,775,920,1195,799,812,698,644,594,594,593,532,584]
[null,"Transfers Out with 12 hrs",183,199,200,187,148,183,201,236,209,195,209,272,230,256,264,264,null,22.377816396303491,null,null,null,"Job Placements",null,null,null,125,135,124,200,216,215,218,196,306,168,223,229,{"$f":"AM35*(1+'Control Data'!$D19)","v":229},null,null,null,null,"Students Accumulating 24 hrs",312,355,354,378,376,449,369,329,293,289,259,223,255,209,242,{"$f":"BH35*(1+'Control Data'!$D$24)","v":242},null,null,null,null,"Students Accumulating 24 hrs",474,553,528,594,610,772,660,590,499,521,423,443,414,369,411]
[null,"Workforce Training (Contact Hours)",0,0,0,231,379,3582,7276,4014,7596,10131.5,3882,7760,10000.5,15398.7,18691.5,18691.5,null,3761.0641652013737,null,null,null,"Transfers Out with 12 hrs",183,199,200,187,148,183,201,236,209,195,209,272,230,256,264,{"$f":"AM36*(1+'Control Data'!$D20)","v":264},null,null,null,null,"Students Accumulating 36 hrs",342,271,258,281,283,311,302,242,232,248,185,225,208,191,200,{"$f":"BH36*(1+'Control Data'!$D$24)","v":200},null,null,null,null,"Students Accumulating 36 hrs",506,416,411,427,469,559,559,472,430,443,357,401,356,320,358]
[null,"Awards per 100 FTE",15.249068112504235,15.8836229053151,15.40958461895165,15.076692201650758,14.292337452638648,14.562904235343208,15.692172547349367,17.114614819050733,17.248795595320026,21.663949785950425,18.238870366738578,19.811828395323431,20.908205421019048,30.403859354740291,22.218168551623496,22.218168551623496,null,2.1410168038303992,null,null,null,"Workforce Training (Contact Hours)",null,null,null,231,379,3582,7276,4014,7596,10131.5,3882,7760,10000.5,15398.7,18691.5,{"$f":"AM37*(1+'Control Data'!$D21)","v":18691.5},null,null,null,null,"Associates",128,117,105,119,107,132,131,139,124,165,124,145,158,187,124,{"$f":"BH37*(1+'Control Data'!$D$24)","v":124},null,null,null,null,"Associates",138,139,149,168,187,217,235,269,277,329,261,274,287,320,233]
[null,null,null,null,null,null,null,null,null,null,null,null,null,null,null,null,null,null,null,null,null,null,null,"Awards per 100 FTE",15.249068112504235,15.8836229053151,15.40958461895165,15.076692201650758,14.292337452638648,14.562904235343208,15.692172547349367,17.114614819050733,17.248795595320026,21.663949785950425,18.238870366738578,19.811828395323431,20.908205421019048,30.403859354740291,22.218168551623496,{"$f":"AM38*(1+'Control Data'!$D22)","v":22.218168551623496},null,null,null,null,"Reverse Articulated Associates",0,0,0,0,0,0,0,0,0,0,0,6,2,5,7,{"$f":"BH38*(1+'Control Data'!$D$24)","v":7},null,null,null,null,"Reverse Articulated Associates",0,0,0,0,0,0,0,0,0,0,0,8,6,9,12]
[null,null,null,null,null,null,null,null,null,null,null,null,null,null,null,null,null,null,null,null,null,null,null,null,null,null,null,null,null,null,null,null,null,null,null,null,null,null,null,null,null,null,null,null,"1-2 Year Certificates",3,7,10,7,2,6,15,32,6,14,1,3,17,17,11,{"$f":"BH39*(1+'Control Data'!$D$24)","v":11},null,null,null,null,"1-2 Year Certificates",2,9,8,3,5,11,23,34,24,22,6,11,25,25,22]
[null,null,null,null,null,null,null,null,null,null,null,null,null,null,null,null,null,null,null,null,null,null,null,null,null,null,null,null,null,null,null,null,null,null,null,null,null,null,null,null,null,null,null,null,"<1yr Certificates",17,21,14,9,11,44,71,131,80,143,110,97,139,88,102,{"$f":"BH40*(1+'Control Data'!$D$24)","v":102},null,null,null,null,"<1yr Certificates",22,26,26,14,19,82,120,230,134,224,173,172,196,147,143]
[null,null,null,null,null,null,null,null,null,null,null,null,null,null,null,null,null,null,null,null,null,null,null,null,null,null,null,null,null,null,null,null,null,null,null,null,null,null,null,null,null,null,null,"All Three Focus Pops","Students Accumulating 12 hrs",158,162,182,172,211,327,256,221,157,115,115,78,81,64,94,{"$f":"BH41*(1+'Control Data'!$D$25)","v":94},null,null,null,"Academically Underprepared","Students Accumulating 12 hrs",758,841,849,846,963,1192,783,767,677,607,557,562,573,495,519]
[null,null,null,null,null,null,null,null,null,null,null,null,null,null,null,null,null,null,null,null,null,null,null,null,null,null,null,null,null,null,null,null,null,null,null,null,null,null,null,null,null,null,null,null,"Students Accumulating 24 hrs",154,160,151,185,181,264,242,224,160,153,84,105,85,63,85,{"$f":"BH42*(1+'Control Data'!$D$25)","v":85},null,null,null,null,"Students Accumulating 24 hrs",571,630,614,630,629,773,651,613,528,529,426,422,463,390,393]
[null,null,null,null,null,null,null,null,null,null,null,null,null,null,null,null,null,null,null,null,null,null,null,null,null,null,null,null,null,null,null,null,null,null,null,null,null,null,null,null,null,null,null,null,"Students Accumulating 36 hrs",136,135,129,143,163,218,211,202,159,129,108,104,87,67,95,{"$f":"BH43*(1+'Control Data'!$D$25)","v":95},null,null,null,null,"Students Accumulating 36 hrs",625,468,456,486,496,575,528,480,439,430,351,385,388,354,348]
[null,null,null,null,null,null,null,null,null,null,null,null,null,null,null,null,null,null,null,null,null,null,null,null,null,null,null,null,null,null,null,null,null,null,null,null,null,null,null,null,null,null,null,null,"Associates",56,61,58,73,94,96,110,122,137,143,104,107,82,99,62,{"$f":"BH44*(1+'Control Data'!$D$25)","v":62},null,null,null,null,"Associates",206,195,181,194,209,223,245,253,256,292,233,252,246,336,222]
[null,null,null,null,null,null,null,null,null,null,null,null,null,null,null,null,null,null,null,null,null,null,null,null,null,null,null,null,null,null,null,null,null,null,null,null,null,null,null,null,null,null,null,null,"Reverse Articulated Associates",0,0,0,0,0,0,0,0,0,0,0,0,2,3,1,{"$f":"BH45*(1+'Control Data'!$D$25)","v":1},null,null,null,null,"Reverse Articulated Associates",0,0,0,0,0,0,0,0,0,0,0,9,6,11,13]
[null,null,null,null,null,null,null,null,null,null,null,null,null,null,null,null,null,null,null,null,null,null,null,null,null,null,null,null,null,null,null,null,null,null,null,null,null,null,null,null,null,null,null,null,"1-2 Year Certificates",1,4,1,0,3,6,7,7,18,8,5,7,8,8,12,{"$f":"BH46*(1+'Control Data'!$D$25)","v":12},null,null,null,null,"1-2 Year Certificates",5,10,14,7,4,13,12,27,22,16,7,10,14,26,21]
[null,null,null,null,null,null,null,null,null,null,null,null,null,null,null,null,null,null,null,null,null,null,null,null,null,null,null,null,null,null,null,null,null,null,null,null,null,null,null,null,null,null,null,null,"<1yr Certificates",12,10,14,8,9,33,38,100,42,78,52,57,41,58,38,{"$f":"BH47*(1+'Control Data'!$D$25)","v":38},null,null,null,null,"<1yr Certificates",25,28,23,14,16,75,87,200,95,182,140,129,144,135,108]
[]
[null,"Columbia","2004-05","2005-06","2006-07","2007-08","2008-09","2009-10","2010-11","2011-12","2012-13","2013-14","2014-15","2015-16","2016-17","2017-18",{"$f":"Q26","v":"2018-19"},"2019-20",null,"Standard Dev.",null,null,null,"Columbia","2004-05","2005-06","2006-07","2007-08","2008-09","2009-10","2010-11","2011-12","2012-13","2013-14","2014-15","2015-16","2016-17","2017-18","2018-19","2019-20",null,null,null,null,"Columbia","2004-05","2005-06","2006-07","2007-08","2008-09","2009-10","2010-11","2011-12","2012-13","2013-14","2014-15","2015-16","2016-17","2017-18","2018-19","2019-20",null,null,null,null,"Columbia","2004-05","2005-06","2006-07","2007-08","2008-09","2009-10","2010-11","2011-12","2012-13","2013-14","2014-15","2015-16","2016-17","2017-18","2018-19","2019-20"]
[null,"Students Accumulating 12 hrs",{"$f":"Y50+AT50*$V$6+AT57*$V$8+AT64*$V$10","v":3066.8},3256.6,3263.8,3492.2000000000003,3192,3887.4,2949.8,2787.2000000000003,2718.4,2565,2285.2000000000003,2498,{"$f":"AK50+BF50*$V$6+BF57*$V$8+BF64*$V$10","v":2643.6},2831.2,3069.4,3069.4,null,398.45519474869656,null,null,null,"Students Accumulating 12 hrs",1673,1779,1804,1920,1789,2144,1620,1558,1538,1489,1330,1466,1581,1699,1851,{"$f":"AM50*(1+'Control Data'!$E10)","v":1851},null,null,null,"One Focus Pop Only","Students Accumulating 12 hrs",623,688,686,721,652,693,561,476,556,553,523,553,612,642,718,{"$f":"BH50*(1+'Control Data'!$E$23)","v":718},null,null,null,"Adults","Students Accumulating 12 hrs",333,375,345,389,328,459,386,350,289,229,191,162,139,172,217]
[null,"Students Accumulating 24 hrs",2234.6,2490,2482.4,2512.2000000000003,2571.8000000000002,2937.6,2620.2000000000003,2387.7999999999997,2347.6,2163.6,1953.2,2121.8000000000002,{"$f":"AK51+BF51*$V$6+BF58*$V$8+BF65*$V$10","v":2188.6},2304.4,2583.3999999999996,2583.3999999999996,null,220.43865863823035,null,null,null,"Students Accumulating 24 hrs",1188,1342,1349,1357,1401,1599,1412,1304,1284,1202,1104,1210,1265,1356,1521,{"$f":"AM51*(1+'Control Data'!$E11)","v":1521},null,null,null,null,"Students Accumulating 24 hrs",377,492,457,501,491,545,476,409,425,428,428,491,494,518,604,{"$f":"BH51*(1+'Control Data'!$E$23)","v":604},null,null,null,null,"Students Accumulating 24 hrs",366,350,329,295,363,428,422,380,351,303,232,189,166,172,219]
[null,"Students Accumulating 36 hrs",2451.1999999999998,1848.8,1871,1769.6,2038.3999999999999,2312.1999999999998,2107.6,1947,1862,1885,1712.2,1600.2,{"$f":"AK52+BF52*$V$6+BF59*$V$8+BF66*$V$10","v":1757},2012.8,2023,2023,null,222.7626779033364,null,null,null,"Students Accumulating 36 hrs",1344,998,999,957,1097,1239,1140,1050,1012,1037,955,901,1006,1169,1187,{"$f":"AM52*(1+'Control Data'!$E12)","v":1187},null,null,null,null,"Students Accumulating 36 hrs",450,335,343,326,361,397,375,376,318,357,348,324,385,444,437,{"$f":"BH52*(1+'Control Data'!$E$23)","v":437},null,null,null,null,"Students Accumulating 36 hrs",346,288,321,284,342,421,390,355,329,322,251,196,165,190,221]
[null,"Dual Enrollment",{"$f":"Y53","v":273},340,379,556,649,735,674,791,843,959,1118,1075,{"$f":"AK53","v":1341},{"$f":"AL53","v":1315},{"$f":"AM53","v":1475},{"$f":"AN53","v":1475},null,228.97328810729573,null,null,null,"Dual Enrollment",273,340,379,556,649,735,674,791,843,959,1118,1075,1341,1315,1475,{"$f":"AM53*(1+'Control Data'!$E13)","v":1475},null,null,null,null,"Associates",182,161,172,126,170,157,156,205,195,212,206,181,214,249,271,{"$f":"BH53*(1+'Control Data'!$E$23)","v":271},null,null,null,null,"Associates",279,255,267,248,215,267,269,286,288,285,303,241,217,212,210]
[null,"Associates",{"$f":"Y54+$V$13*Y55+$V$6*(AT53+$V$13*AT54)+$V$8*(AT60+$V$13*AT61)+$V$10*(AT67+$V$13*AT68)","v":992.2},948.19999999999993,987.6,899.19999999999993,908.6,1027.2,1022.5999999999999,1152.4000000000001,1132,1190.2,1288.2,1153,{"$f":"AK54+$V$13*AK55+$V$6*(BF53+$V$13*BF54)+$V$8*(BF60+$V$13*BF61)+$V$10*(BF67+$V$13*BF68)","v":1157.3},1330.5,1323.7,1323.7,null,100.01315691225608,null,null,null,"Associates",534,517,526,472,483,543,540,611,599,626,687,595,611,709,727,{"$f":"AM54*(1+'Control Data'!$E15)","v":727},null,null,null,null,"Reverse Articulated Associates",0,0,0,0,0,0,0,0,0,0,0,17,15,24,18,{"$f":"BH54*(1+'Control Data'!$E$23)","v":18},null,null,null,null,"Reverse Articulated Associates",0,0,0,0,0,0,0,0,0,0,0,23,19,16,8]
[null,"1-2 Year Certificates",{"$f":"Y56+AT55*$V$6+AT62*$V$8+AT69*$V$10","v":100.80000000000001},83,21,27.2,127.2,121.4,93.8,90.6,98.199999999999989,94.8,105.60000000000001,127,{"$f":"AK56+BF55*$V$6+BF62*$V$8+BF69*$V$10","v":120},111.2,77,77,null,35.222145811343701,null,null,null,"Reverse Articulated Associates",0,0,0,0,0,0,0,0,0,0,0,65,50,70,52,{"$f":"AM55*(1+'Control Data'!$E16)","v":52},null,null,null,null,"1-2 Year Certificates",38,19,7,5,26,28,21,19,16,24,24,28,27,19,19,{"$f":"BH55*(1+'Control Data'!$E$23)","v":19},null,null,null,null,"1-2 Year Certificates",37,26,8,10,51,49,34,28,35,27,27,34,25,20,19]
[null,"<1yr Certificates",6.6,6.8,2,35,6,0,4.4000000000000004,0,0,142.79999999999998,170.2,214.2,{"$f":"AK57+BF56*$V$6+BF63*$V$8+BF70*$V$10","v":213.8},193.4,217.4,217.4,null,43.817343091013129,null,null,null,"1-2 Year Certificates",56,48,11,14,68,63,51,47,52,51,57,70,66,61,43,{"$f":"AM56*(1+'Control Data'!$E17)","v":43},null,null,null,null,"<1yr Certificates",2,1,0,2,0,0,0,0,0,29,39,50,48,35,50,{"$f":"BH56*(1+'Control Data'!$E$23)","v":50},null,null,null,null,"<1yr Certificates",3,3,1,12,3,0,2,0,0,34,46,40,47,29,46]
[null,"Job Placements",{"$f":"Y58","v":0},0,0,222,158,218,240,234,189,208,188,244,{"$f":"AK58","v":251},{"$f":"AL58","v":244},{"$f":"AM58","v":249},{"$f":"AN58","v":249},null,26.824828584194716,null,null,null,"<1yr Certificates",4,4,1,17,3,0,2,0,0,78,98,120,118,114,128,{"$f":"AM57*(1+'Control Data'!$E18)","v":128},null,null,null,"Two Focus Pops Only","Students Accumulating 12 hrs",677,680,659,747,657,817,575,576,534,486,394,472,471,507,530,{"$f":"BH57*(1+'Control Data'!$E$24)","v":530},null,null,null,"Low-Income","Students Accumulating 12 hrs",945,1008,1022,1112,1036,1338,995,957,880,814,733,795,772,831,838]
[null,"Transfers Out with 12 hrs",342,401,437,384,386,359,410,449,415,391,436,439,391,429,546,546,null,32.67074804435579,null,null,null,"Job Placements",null,null,null,222,158,218,240,234,189,208,188,244,251,244,249,{"$f":"AM58*(1+'Control Data'!$E19)","v":249},null,null,null,null,"Students Accumulating 24 hrs",505,524,517,554,532,599,555,483,468,420,334,399,406,414,452,{"$f":"BH58*(1+'Control Data'!$E$24)","v":452},null,null,null,null,"Students Accumulating 24 hrs",704,784,805,827,861,1004,893,809,811,720,649,713,688,698,748]
[null,"Workforce Training (Contact Hours)",0,0,0,84335,44440,71585,67122,54072,63095,60894,49671,41839,51592,47246.13,78361.5,78361.5,null,12725.010475133671,null,null,null,"Transfers Out with 12 hrs",342,401,437,384,386,359,410,449,415,391,436,439,391,429,546,{"$f":"AM59*(1+'Control Data'!$E20)","v":546},null,null,null,null,"Students Accumulating 36 hrs",506,392,384,355,439,476,424,373,358,356,306,308,323,359,340,{"$f":"BH59*(1+'Control Data'!$E$24)","v":340},null,null,null,null,"Students Accumulating 36 hrs",755,592,597,571,667,803,701,670,657,653,575,570,592,632,603]
[null,"Awards per 100 FTE",20.132167108361106,19.643974688825537,19.378119925422506,17.249742673591804,18.826021593549267,17.58611683449897,16.333486872409029,19.68507863062057,20.514059430900286,21.696863515938809,24.617556553100908,21.279516749038986,20.770664641543302,22.129570237331624,20.45588877752936,20.45588877752936,null,1.6319025888975476,null,null,null,"Workforce Training (Contact Hours)",null,null,null,84335,44440,71585,67122,54072,63095,60894,49671,41839,51592,47246.13,78361.5,{"$f":"AM60*(1+'Control Data'!$E21)","v":78361.5},null,null,null,null,"Associates",195,186,186,180,166,205,185,201,203,205,230,202,204,227,221,{"$f":"BH60*(1+'Control Data'!$E$24)","v":221},null,null,null,null,"Associates",250,235,278,267,270,314,330,393,388,421,457,378,402,421,404]
[null,null,null,null,null,null,null,null,null,null,null,null,null,null,null,null,null,null,null,null,null,null,null,"Awards per 100 FTE",20.132167108361106,19.643974688825537,19.378119925422506,17.249742673591804,18.826021593549267,17.58611683449897,16.333486872409029,19.68507863062057,20.514059430900286,21.696863515938809,24.617556553100908,21.279516749038986,20.770664641543302,22.129570237331624,20.45588877752936,{"$f":"AM61*(1+'Control Data'!$E22)","v":20.45588877752936},null,null,null,null,"Reverse Articulated Associates",0,0,0,0,0,0,0,0,0,0,0,27,15,23,21,{"$f":"BH61*(1+'Control Data'!$E$24)","v":21},null,null,null,null,"Reverse Articulated Associates",0,0,0,0,0,0,0,0,0,0,0,49,36,47,33]
[null,null,null,null,null,null,null,null,null,null,null,null,null,null,null,null,null,null,null,null,null,null,null,null,null,null,null,null,null,null,null,null,null,null,null,null,null,null,null,null,null,null,null,null,"1-2 Year Certificates",12,15,2,8,30,24,20,14,19,15,21,19,24,23,8,{"$f":"BH62*(1+'Control Data'!$E$24)","v":8},null,null,null,null,"1-2 Year Certificates",9,9,4,8,28,25,18,25,25,24,27,37,36,42,23]
[null,null,null,null,null,null,null,null,null,null,null,null,null,null,null,null,null,null,null,null,null,null,null,null,null,null,null,null,null,null,null,null,null,null,null,null,null,null,null,null,null,null,null,null,"<1yr Certificates",1,2,1,8,3,0,0,0,0,32,29,35,37,43,35,{"$f":"BH63*(1+'Control Data'!$E$24)","v":35},null,null,null,null,"<1yr Certificates",0,0,1,12,0,0,2,0,0,42,40,64,66,65,59]
[null,null,null,null,null,null,null,null,null,null,null,null,null,null,null,null,null,null,null,null,null,null,null,null,null,null,null,null,null,null,null,null,null,null,null,null,null,null,null,null,null,null,null,"All Three Focus Pops","Students Accumulating 12 hrs",182,206,210,207,187,310,255,227,168,123,119,98,85,93,95,{"$f":"BH64*(1+'Control Data'!$E$25)","v":95},null,null,null,"Academically Underprepared","Students Accumulating 12 hrs",1245,1283,1267,1335,1163,1460,1095,1002,959,851,744,834,898,932,1008]
[null,null,null,null,null,null,null,null,null,null,null,null,null,null,null,null,null,null,null,null,null,null,null,null,null,null,null,null,null,null,null,null,null,null,null,null,null,null,null,null,null,null,null,null,"Students Accumulating 24 hrs",200,192,209,167,205,253,227,228,213,166,144,100,102,100,106,{"$f":"BH65*(1+'Control Data'!$E$25)","v":106},null,null,null,null,"Students Accumulating 24 hrs",917,982,984,988,946,1070,952,870,838,743,647,687,758,776,859]
[null,null,null,null,null,null,null,null,null,null,null,null,null,null,null,null,null,null,null,null,null,null,null,null,null,null,null,null,null,null,null,null,null,null,null,null,null,null,null,null,null,null,null,null,"Students Accumulating 36 hrs",201,159,178,164,178,233,203,186,198,172,144,110,100,108,122,{"$f":"BH66*(1+'Control Data'!$E$25)","v":122},null,null,null,null,"Students Accumulating 36 hrs",964,716,727,673,764,824,741,655,642,610,566,504,574,664,659]
[null,null,null,null,null,null,null,null,null,null,null,null,null,null,null,null,null,null,null,null,null,null,null,null,null,null,null,null,null,null,null,null,null,null,null,null,null,null,null,null,null,null,null,null,"Associates",98,97,115,122,103,128,144,147,145,158,172,126,104,111,95,{"$f":"BH67*(1+'Control Data'!$E$25)","v":95},null,null,null,null,"Associates",337,334,344,337,326,370,359,369,360,390,422,344,315,403,384]
[null,null,null,null,null," ",null,null,null,null,null,null,null,null,null,null,null,null,null,null,null,null,null,null,null,null,null,null,null,null,null,null,null,null,null,null,null,null,null,null,null,null,null,null,"Reverse Articulated Associates",0,0,0,0,0,0,0,0,0,0,0,12,13,10,2,{"$f":"BH68*(1+'Control Data'!$E$25)","v":2},null,null,null,null,"Reverse Articulated Associates",0,0,0,0,0,0,0,0,0,0,0,35,29,37,25]
[null,null,null,null,null,null,null,null,null,null,null,null,null,null,null,null,null,null,null,null,null,null,null,null,null,null,null,null,null,null,null,null,null,null,null,null,null,null,null,null,null,null,null,null,"1-2 Year Certificates",2,4,2,1,7,10,5,12,12,8,7,13,7,10,9,{"$f":"BH69*(1+'Control Data'!$E$25)","v":9},null,null,null,null,"1-2 Year Certificates",22,26,5,6,28,32,24,30,30,27,33,34,35,33,20]
[null,null,null,null,null,null,null,null,null,null,null,null,null,null,null,null,null,null,null,null,null,null,null,null,null,null,null,null,null,null,null,null,null,null,null,null,null,null,null,null,null,null,null,null,"<1yr Certificates",0,0,0,7,0,0,2,0,0,8,10,16,17,7,12,{"$f":"BH70*(1+'Control Data'!$E$25)","v":12},null,null,null,null,"<1yr Certificates",1,2,0,15,3,0,2,0,0,41,41,64,60,48,51]
[]
[null,"Dyersburg","2004-05","2005-06","2006-07","2007-08","2008-09","2009-10","2010-11","2011-12","2012-13","2013-14","2014-15","2015-16","2016-17","2017-18",{"$f":"Q49","v":"2018-19"},"2019-20",null,"Standard Dev.",null,null,null,"Dyersburg","2004-05","2005-06","2006-07","2007-08","2008-09","2009-10","2010-11","2011-12","2012-13","2013-14","2014-15","2015-16","2016-17","2017-18","2018-19","2019-20",null,null,null,null,"Dyersburg","2004-05","2005-06","2006-07","2007-08","2008-09","2009-10","2010-11","2011-12","2012-13","2013-14","2014-15","2015-16","2016-17","2017-18","2018-19","2019-20",null,null,null,null,"Dyersburg","2004-05","2005-06","2006-07","2007-08","2008-09","2009-10","2010-11","2011-12","2012-13","2013-14","2014-15","2015-16","2016-17","2017-18","2018-19","2019-20"]
[null,"Students Accumulating 12 hrs",{"$f":"Y73+AT73*$V$6+AT80*$V$8+AT87*$V$10","v":1897.6},2023,1931.2,1952.6000000000001,2293,3134,2121,1954.8,1735.4,1495.2,1328,1335.4,{"$f":"AK73+BF73*$V$6+BF80*$V$8+BF87*$V$10","v":1357.2},1591.6,1387.2,1387.2,null,439.6637346376823,null,null,null,"Students Accumulating 12 hrs",970,1047,1008,1036,1208,1611,1122,1039,959,834,768,768,779,948,780,{"$f":"AM73*(1+'Control Data'!$F10)","v":780},null,null,null,"One Focus Pop Only","Students Accumulating 12 hrs",246,266,258,319,300,362,295,287,254,271,264,289,280,327,248,{"$f":"BH73*(1+'Control Data'!$F$23)","v":248},null,null,null,"Adults","Students Accumulating 12 hrs",298,316,279,251,336,525,331,327,253,152,93,99,101,110,197]
[null,"Students Accumulating 24 hrs",1408,1389,1438.4,1262.8,1404.8,2028,1379.8,1501.4,1208.5999999999999,1024.5999999999999,911.80000000000007,936.80000000000007,{"$f":"AK74+BF74*$V$6+BF81*$V$8+BF88*$V$10","v":887.8},946.4,1020.2,1020.2,null,260.4994561734573,null,null,null,"Students Accumulating 24 hrs",714,719,736,658,732,1028,707,780,625,539,489,514,479,523,569,{"$f":"AM74*(1+'Control Data'!$F11)","v":569},null,null,null,null,"Students Accumulating 24 hrs",173,181,188,176,192,217,161,184,128,151,157,169,161,183,174,{"$f":"BH74*(1+'Control Data'!$F$23)","v":174},null,null,null,null,"Students Accumulating 24 hrs",257,228,251,191,219,389,277,277,253,162,98,95,107,106,158]
[null,"Students Accumulating 36 hrs",1377.4,1036.8,1010.2,1000.5999999999999,977.4,1192.4000000000001,1043.4000000000001,1068.5999999999999,1059.2,885.4,825.80000000000007,728.6,{"$f":"AK75+BF75*$V$6+BF82*$V$8+BF89*$V$10","v":710.4},724.8,882.6,882.6,null,135.42670178202007,null,null,null,"Students Accumulating 36 hrs",712,533,522,511,502,609,530,542,542,459,440,392,387,386,481,{"$f":"AM75*(1+'Control Data'!$F12)","v":481},null,null,null,null,"Students Accumulating 36 hrs",205,146,132,131,122,133,123,117,119,106,124,127,137,115,150,{"$f":"BH75*(1+'Control Data'!$F$23)","v":150},null,null,null,null,"Students Accumulating 36 hrs",253,202,194,204,197,252,228,252,232,170,119,102,95,102,151]
[null,"Dual Enrollment",{"$f":"Y76","v":81},112,356,430,551,599,765,803,887,1025,981,1071,{"$f":"AK76","v":1048},{"$f":"AL76","v":1096},{"$f":"AM76","v":997},{"$f":"AN76","v":997},null,318.76199759555891,null,null,null,"Dual Enrollment",81,112,356,430,551,599,765,803,887,1025,981,1071,1048,1096,997,{"$f":"AM76*(1+'Control Data'!$F13)","v":997},null,null,null,null,"Associates",67,62,63,43,62,57,60,56,68,68,73,83,84,93,96,{"$f":"BH76*(1+'Control Data'!$F$23)","v":96},null,null,null,null,"Associates",138,140,118,112,127,128,164,173,176,193,183,132,133,149,162]
[null,"Associates",{"$f":"Y77+$V$13*Y78+$V$6*(AT76+$V$13*AT77)+$V$8*(AT83+$V$13*AT84)+$V$10*(AT90+$V$13*AT91)","v":453.6},438.20000000000005,420,365.59999999999997,416.20000000000005,424.40000000000003,511.8,556,587.4,648.4,605,540,{"$f":"AK77+$V$13*AK78+$V$6*(BF76+$V$13*BF77)+$V$8*(BF83+$V$13*BF84)+$V$10*(BF90+$V$13*BF91)","v":562.4},645.5,681.8,681.8,null,89.500055865903974,null,null,null,"Associates",235,227,215,187,213,215,260,280,300,326,308,270,292,320,352,{"$f":"AM77*(1+'Control Data'!$F15)","v":352},null,null,null,null,"Reverse Articulated Associates",0,0,0,0,0,0,0,0,0,0,0,6,2,7,4,{"$f":"BH77*(1+'Control Data'!$F$23)","v":4},null,null,null,null,"Reverse Articulated Associates",0,0,0,0,0,0,0,0,0,0,0,3,3,13,1]
[null,"1-2 Year Certificates",{"$f":"Y79+AT78*$V$6+AT85*$V$8+AT92*$V$10","v":21.799999999999997},16.600000000000001,23.799999999999997,0,0,0,30,62.599999999999994,50.599999999999994,67,42,42.8,{"$f":"AK79+BF78*$V$6+BF85*$V$8+BF92*$V$10","v":106.6},61.8,66.2,66.2,null,25.274748047980395,null,null,null,"Reverse Articulated Associates",0,0,0,0,0,0,0,0,0,0,0,14,7,39,8,{"$f":"AM78*(1+'Control Data'!$F16)","v":8},null,null,null,null,"1-2 Year Certificates",4,2,4,0,0,0,5,6,6,6,2,6,14,8,5,{"$f":"BH78*(1+'Control Data'!$F$23)","v":5},null,null,null,null,"1-2 Year Certificates",5,6,6,0,0,0,11,22,18,24,15,8,38,22,27]
[null,"<1yr Certificates",31.4,20,41.2,11.399999999999999,30,24.799999999999997,0,41.4,43,39.6,87.6,85.6,{"$f":"AK80+BF79*$V$6+BF86*$V$8+BF93*$V$10","v":67.8},145.80000000000001,164.20000000000002,164.20000000000002,null,14.366024734305128,null,null,null,"1-2 Year Certificates",11,8,12,0,0,0,15,32,26,33,20,23,55,31,32,{"$f":"AM79*(1+'Control Data'!$F17)","v":32},null,null,null,null,"<1yr Certificates",1,2,10,4,4,4,0,3,4,2,11,15,8,25,21,{"$f":"BH79*(1+'Control Data'!$F$23)","v":21},null,null,null,null,"<1yr Certificates",14,9,19,5,14,12,0,15,12,13,22,17,20,36,46]
[null,"Job Placements",{"$f":"Y81","v":0},0,0,92,77,72,98,101,92,113,102,123,{"$f":"AK81","v":125},{"$f":"AL81","v":122},{"$f":"AM81","v":119},{"$f":"AN81","v":119},null,22.010819850159848,null,null,null,"<1yr Certificates",15,10,21,6,15,12,0,20,21,19,46,45,34,78,85,{"$f":"AM80*(1+'Control Data'!$F18)","v":85},null,null,null,"Two Focus Pops Only","Students Accumulating 12 hrs",474,516,490,455,563,745,445,391,356,304,278,263,287,304,248,{"$f":"BH80*(1+'Control Data'!$F$24)","v":248},null,null,null,"Low-Income","Students Accumulating 12 hrs",738,762,743,739,876,1265,841,756,657,568,493,482,489,556,450]
[null,"Transfers Out with 12 hrs",201,207,188,191,170,180,190,218,243,209,183,173,183,177,154,154,null,20.891518746983319,null,null,null,"Job Placements",null,null,null,92,77,72,98,101,92,113,102,123,125,122,119,{"$f":"AM81*(1+'Control Data'!$F19)","v":119},null,null,null,null,"Students Accumulating 24 hrs",342,338,342,290,320,458,280,315,240,210,206,212,202,205,180,{"$f":"BH81*(1+'Control Data'!$F$24)","v":180},null,null,null,null,"Students Accumulating 24 hrs",521,507,554,499,544,828,565,598,483,415,365,357,346,353,349]
[null,"Workforce Training (Contact Hours)",0,0,0,6793,6373,5938,5909,6027,7114,18945,12239,14434,8528.5,11115.7,8278,8278,null,4778.8449163748674,null,null,null,"Transfers Out with 12 hrs",201,207,188,191,170,180,190,218,243,209,183,173,183,177,154,{"$f":"AM82*(1+'Control Data'!$F20)","v":154},null,null,null,null,"Students Accumulating 36 hrs",289,225,223,218,205,249,205,187,212,176,175,151,143,170,170,{"$f":"BH82*(1+'Control Data'!$F$24)","v":170},null,null,null,null,"Students Accumulating 36 hrs",511,378,376,390,377,483,422,429,430,371,338,282,279,285,321]
[null,"Awards per 100 FTE",14.648960876555709,14.494839425963239,14.645791216826529,12.52847380410023,13.32027015759193,10.386306178644467,12.741312741312742,15.07319194163969,16.83246704072149,22.409954431011879,23.658395845354875,21.62525830169638,25.370973579442634,28.394430961808663,26.810392482034274,26.810392482034274,null,3.2187065201758625,null,null,null,"Workforce Training (Contact Hours)",null,null,null,6793,6373,5938,5909,6027,7114,18945,12239,14434,8528.5,11115.7,8278,{"$f":"AM83*(1+'Control Data'!$F21)","v":8278},null,null,null,null,"Associates",87,74,73,71,78,69,85,104,101,106,91,93,97,114,151,{"$f":"BH83*(1+'Control Data'!$F$24)","v":151},null,null,null,null,"Associates",131,140,147,124,141,146,194,209,224,260,241,214,219,232,263]
[null,null,null,null,null,null,null,null,null,null,null,null,null,null,null,null,null,null,null,null,null,null,null,"Awards per 100 FTE",14.648960876555709,14.494839425963239,14.645791216826529,12.52847380410023,13.32027015759193,10.386306178644467,12.741312741312742,15.07319194163969,16.83246704072149,22.409954431011879,23.658395845354875,21.62525830169638,25.370973579442634,28.394430961808663,26.810392482034274,{"$f":"AM84*(1+'Control Data'!$F22)","v":26.810392482034274},null,null,null,null,"Reverse Articulated Associates",0,0,0,0,0,0,0,0,0,0,0,2,1,16,2,{"$f":"BH84*(1+'Control Data'!$F$24)","v":2},null,null,null,null,"Reverse Articulated Associates",0,0,0,0,0,0,0,0,0,0,0,11,6,27,7]
[null,null,null,null,null,null,null,null,null,null,null,null,null,null,null,null,null,null,null,null,null,null,null,null,null,null,null,null,null,null,null,null,null,null,null,null,null,null,null,null,null,null,null,null,"1-2 Year Certificates",4,1,5,0,0,0,5,15,3,10,6,9,20,10,11,{"$f":"BH85*(1+'Control Data'!$F$24)","v":11},null,null,null,null,"1-2 Year Certificates",8,7,7,0,0,0,11,22,18,24,17,16,39,23,27]
[null,null,null,null,null,null,null,null,null,null,null,null,null,null,null,null,null,null,null,null,null,null,null,null,null,null,null,null,null,null,null,null,null,null,null,null,null,null,null,null,null,null,null,null,"<1yr Certificates",6,6,5,1,7,0,0,7,8,7,16,19,13,25,30,{"$f":"BH86*(1+'Control Data'!$F$24)","v":30},null,null,null,null,"<1yr Certificates",14,7,10,2,10,8,0,16,19,17,32,29,28,52,64]
[null,null,null,null,null,null,null,null,null,null,null,null,null,null,null,null,null,null,null,null,null,null,null,null,null,null,null,null,null,null,null,null,null,null,null,null,null,null,null,null,null,null,null,"All Three Focus Pops","Students Accumulating 12 hrs",214,206,189,172,235,407,265,246,181,117,59,61,56,65,134,{"$f":"BH87*(1+'Control Data'!$F$25)","v":134},null,null,null,"Academically Underprepared","Students Accumulating 12 hrs",800,838,783,755,919,1283,808,724,599,510,411,417,432,464,499]
[null,null,null,null,null,null,null,null,null,null,null,null,null,null,null,null,null,null,null,null,null,null,null,null,null,null,null,null,null,null,null,null,null,null,null,null,null,null,null,null,null,null,null,null,"Students Accumulating 24 hrs",178,156,175,145,166,307,220,216,201,129,76,63,65,60,110,{"$f":"BH88*(1+'Control Data'!$F$25)","v":110},null,null,null,null,"Students Accumulating 24 hrs",613,590,592,501,567,837,539,587,475,381,334,330,307,314,357]
[null,null,null,null,null,null,null,null,null,null,null,null,null,null,null,null,null,null,null,null,null,null,null,null,null,null,null,null,null,null,null,null,null,null,null,null,null,null,null,null,null,null,null,null,"Students Accumulating 36 hrs",177,135,133,139,144,190,175,205,175,138,93,70,59,64,93,{"$f":"BH89*(1+'Control Data'!$F$25)","v":93},null,null,null,null,"Students Accumulating 36 hrs",550,421,407,390,390,466,408,425,406,331,296,255,226,260,297]
[null,null,null,null,null,null,null,null,null,null,null,null,null,null,null,null,null,null,null,null,null,null,null,null,null,null,null,null,null,null,null,null,null,null,null,null,null,null,null,null,null,null,null,null,"Associates",65,73,68,61,63,79,99,106,110,135,123,82,83,85,79,{"$f":"BH90*(1+'Control Data'!$F$25)","v":79},null,null,null,null,"Associates",167,149,148,132,139,158,169,200,200,232,200,169,175,195,210]
[null,null,null,null,null,null,null,null,null,null,null,null,null,null,null,null,null,null,null,null,null,null,null,null,null,null,null,null,null,null,null,null,null,null,null,null,null,null,null,null,null,null,null,null,"Reverse Articulated Associates",0,0,0,0,0,0,0,0,0,0,0,3,3,8,1,{"$f":"BH91*(1+'Control Data'!$F$25)","v":1},null,null,null,null,"Reverse Articulated Associates",0,0,0,0,0,0,0,0,0,0,0,5,4,23,3]
[null,null,null,null,null,null,null,null,null,null,null,null,null,null,null,null,null,null,null,null,null,null,null,null,null,null,null,null,null,null,null,null,null,null,null,null,null,null,null,null,null,null,null,null,"1-2 Year Certificates",3,5,3,0,0,0,5,9,14,16,12,5,17,12,16,{"$f":"BH92*(1+'Control Data'!$F$25)","v":16},null,null,null,null,"1-2 Year Certificates",8,6,10,0,0,0,8,19,18,26,18,15,28,19,21]
[null,null,null,null,null,null,null,null,null,null,null,null,null,null,null,null,null,null,null,null,null,null,null,null,null,null,null,null,null,null,null,null,null,null,null,null,null,null,null,null,null,null,null,null,"<1yr Certificates",8,2,6,1,4,8,0,10,9,10,14,8,12,19,27,{"$f":"BH93*(1+'Control Data'!$F$25)","v":27},null,null,null,null,"<1yr Certificates",9,4,9,2,6,8,0,16,16,16,31,31,22,44,52]
[]
[null,"Jackson","2004-05","2005-06","2006-07","2007-08","2008-09","2009-10","2010-11","2011-12","2012-13","2013-14","2014-15","2015-16","2016-17","2017-18",{"$f":"Q72","v":"2018-19"},"2019-20",null,"Standard Dev.",null,null,null,"Jackson","2004-05","2005-06","2006-07","2007-08","2008-09","2009-10","2010-11","2011-12","2012-13","2013-14","2014-15","2015-16","2016-17","2017-18","2018-19","2019-20",null,null,null,null,"Jackson","2004-05","2005-06","2006-07","2007-08","2008-09","2009-10","2010-11","2011-12","2012-13","2013-14","2014-15","2015-16","2016-17","2017-18","2018-19","2019-20",null,null,null,null,"Jackson","2004-05","2005-06","2006-07","2007-08","2008-09","2009-10","2010-11","2011-12","2012-13","2013-14","2014-15","2015-16","2016-17","2017-18","2018-19","2019-20"]
[null,"Students Accumulating 12 hrs",{"$f":"Y96+AT96*$V$6+AT103*$V$8+AT110*$V$10","v":2945.3999999999996},3244.2,3557,3606.3999999999996,3550.7999999999997,4577.3999999999996,2565.3999999999996,2259.4,2093.8000000000002,2131.4,2301.6,2577.4,{"$f":"AK96+BF96*$V$6+BF103*$V$8+BF110*$V$10","v":2501},2398.4,2479.1999999999998,2479.1999999999998,null,807.78627096253479,null,null,null,"Students Accumulating 12 hrs",1574,1748,1890,1915,1882,2375,1351,1194,1127,1179,1318,1464,1409,1363,1416,{"$f":"AM96*(1+'Control Data'!$G10)","v":1416},null,null,null,"One Focus Pop Only","Students Accumulating 12 hrs",489,537,576,539,524,545,294,305,331,373,427,533,450,480,427,{"$f":"BH96*(1+'Control Data'!$G$23)","v":427},null,null,null,"Adults","Students Accumulating 12 hrs",354,409,480,429,430,699,397,292,263,189,175,136,146,145,267]
[null,"Students Accumulating 24 hrs",1850.6,1801,2019.2,2079.4,2087.4,2573,1972.8,1793.8,1734.1999999999998,1443.6,1529,1762.2,{"$f":"AK97+BF97*$V$6+BF104*$V$8+BF111*$V$10","v":1685.4},1621.6000000000001,1682.2,1682.2,null,297.64706915704483,null,null,null,"Students Accumulating 24 hrs",955,947,1056,1086,1088,1314,1010,921,899,763,831,941,907,875,896,{"$f":"AM97*(1+'Control Data'!$G11)","v":896},null,null,null,null,"Students Accumulating 24 hrs",230,255,299,316,294,297,212,214,237,205,250,305,279,288,249,{"$f":"BH97*(1+'Control Data'!$G$23)","v":249},null,null,null,null,"Students Accumulating 24 hrs",309,282,326,302,298,471,383,313,274,212,177,171,169,166,248]
[null,"Students Accumulating 36 hrs",1922.6000000000001,1381.6,1529,1578.2,1662.3999999999999,1885.6,1654.3999999999999,1505.6,1340.1999999999998,1393.2,1335,1260.2,{"$f":"AK98+BF98*$V$6+BF105*$V$8+BF112*$V$10","v":1443.8},1323.2,1473.8,1473.8,null,201.94003620437007,null,null,null,"Students Accumulating 36 hrs",1033,731,804,824,863,976,847,782,691,721,704,684,779,705,786,{"$f":"AM98*(1+'Control Data'!$G12)","v":786},null,null,null,null,"Students Accumulating 36 hrs",349,205,226,241,226,246,201,187,172,175,194,209,256,224,234,{"$f":"BH98*(1+'Control Data'!$G$23)","v":234},null,null,null,null,"Students Accumulating 36 hrs",274,230,264,306,297,356,349,279,243,256,211,143,159,162,213]
[null,"Dual Enrollment",{"$f":"Y99","v":66},97,87,361,666,837,971,815,800,1324,2005,1983,{"$f":"AK99","v":1696},{"$f":"AL99","v":1932},{"$f":"AM99","v":1774},{"$f":"AN99","v":1774},null,430.36991840353647,null,null,null,"Dual Enrollment",66,97,87,361,666,837,971,815,800,1324,2005,1983,1696,1932,1774,{"$f":"AM99*(1+'Control Data'!$G13)","v":1774},null,null,null,null,"Associates",147,165,130,142,151,167,182,125,127,114,108,116,131,143,148,{"$f":"BH99*(1+'Control Data'!$G$23)","v":148},null,null,null,null,"Associates",227,213,232,263,258,297,312,322,282,236,209,182,170,158,165]
[null,"Associates",{"$f":"Y100+$V$13*Y101+$V$6*(AT99+$V$13*AT100)+$V$8*(AT106+$V$13*AT107)+$V$10*(AT113+$V$13*AT114)","v":833.80000000000007},817.4,784.2,902.4,877.4,1000.8,1112,1086.4000000000001,983.4,913.80000000000007,812,826.3,{"$f":"AK100+$V$13*AK101+$V$6*(BF99+$V$13*BF100)+$V$8*(BF106+$V$13*BF107)+$V$10*(BF113+$V$13*BF114)","v":876.1},967.5,900.59999999999991,900.59999999999991,null,111.45038956115552,null,null,null,"Associates",449,438,419,470,462,524,576,554,509,470,416,416,440,494,462,{"$f":"AM100*(1+'Control Data'!$G15)","v":462},null,null,null,null,"Reverse Articulated Associates",0,0,0,0,0,0,0,0,0,0,0,5,11,15,15,{"$f":"BH100*(1+'Control Data'!$G$23)","v":15},null,null,null,null,"Reverse Articulated Associates",0,0,0,0,0,0,0,0,0,0,0,14,19,14,12]
[null,"1-2 Year Certificates",{"$f":"Y102+AT101*$V$6+AT108*$V$8+AT115*$V$10","v":1.8},46.8,19.799999999999997,18.799999999999997,38.199999999999996,24.2,0,65.599999999999994,67.2,73.2,27.8,18.399999999999999,{"$f":"AK102+BF101*$V$6+BF108*$V$8+BF115*$V$10","v":0},26.4,62.8,62.8,null,26.876515977914831,null,null,null,"Reverse Articulated Associates",0,0,0,0,0,0,0,0,0,0,0,40,47,48,36,{"$f":"AM101*(1+'Control Data'!$G16)","v":36},null,null,null,null,"1-2 Year Certificates",1,8,3,3,8,5,0,8,7,9,0,2,0,4,2,{"$f":"BH101*(1+'Control Data'!$G$23)","v":2},null,null,null,null,"1-2 Year Certificates",1,19,8,5,13,7,0,16,17,20,10,7,0,9,17]
[null,"<1yr Certificates",15.6,55.599999999999994,22.4,29.6,43.8,63,53.8,32.4,53.6,70.8,164.2,119.2,{"$f":"AK103+BF102*$V$6+BF109*$V$8+BF116*$V$10","v":69.599999999999994},174.6,107,107,null,18.309208369318171,null,null,null,"1-2 Year Certificates",1,24,10,10,20,13,0,34,34,37,14,9,0,13,31,{"$f":"AM102*(1+'Control Data'!$G17)","v":31},null,null,null,null,"<1yr Certificates",4,16,5,7,10,11,10,7,7,6,23,14,11,29,7,{"$f":"BH102*(1+'Control Data'!$G$23)","v":7},null,null,null,null,"<1yr Certificates",8,24,6,9,19,23,16,7,8,12,37,30,19,38,28]
[null,"Job Placements",{"$f":"Y104","v":0},0,0,246,246,289,279,284,273,247,229,219,{"$f":"AK104","v":175},{"$f":"AL104","v":193},{"$f":"AM104","v":175},{"$f":"AN104","v":175},null,40.594393232375744,null,null,null,"<1yr Certificates",8,29,13,15,23,32,27,17,27,35,83,62,37,93,54,{"$f":"AM103*(1+'Control Data'!$G18)","v":54},null,null,null,"Two Focus Pops Only","Students Accumulating 12 hrs",757,793,845,947,904,1134,612,561,474,486,486,579,606,523,490,{"$f":"BH103*(1+'Control Data'!$G$24)","v":490},null,null,null,"Low-Income","Students Accumulating 12 hrs",1055,1155,1322,1382,1398,1855,1036,906,794,842,839,948,966,889,856]
[null,"Transfers Out with 12 hrs",254,284,233,213,241,252,288,280,299,341,266,277,286,324,314,314,null,37.295367600339382,null,null,null,"Job Placements",null,null,null,246,246,289,279,284,273,247,229,219,175,193,175,{"$f":"AM104*(1+'Control Data'!$G19)","v":175},null,null,null,null,"Students Accumulating 24 hrs",474,446,472,515,523,593,444,416,420,345,348,432,422,365,359,{"$f":"BH104*(1+'Control Data'!$G$24)","v":359},null,null,null,null,"Students Accumulating 24 hrs",686,644,733,782,828,1050,808,741,695,565,583,681,652,638,649]
[null,"Workforce Training (Contact Hours)",0,0,0,35506,2704,21008,17182,14019,17853,20571,28337,22283,25371.5,20725,24658.418999999998,24658.418999999998,null,9759.3597795239875,null,null,null,"Transfers Out with 12 hrs",254,284,233,213,241,252,288,280,299,341,266,277,286,324,314,{"$f":"AM105*(1+'Control Data'!$G20)","v":314},null,null,null,null,"Students Accumulating 36 hrs",410,315,351,349,399,432,349,340,304,339,303,289,334,301,323,{"$f":"BH105*(1+'Control Data'!$G$24)","v":323},null,null,null,null,"Students Accumulating 36 hrs",657,491,554,572,641,743,677,607,544,564,536,485,544,520,578]
[null,"Awards per 100 FTE",16.583340498974287,17.648182339084485,15.422408627920911,16.878428430774999,16.98578644426172,16.379941434846266,17.389029213166555,19.04638507385333,20.216938046068307,21.179714261843095,18.540609684234735,18.464985684449299,18.568223700024038,21.993041749502982,20.670684842846164,20.670684842846164,null,1.8154951256104588,null,null,null,"Workforce Training (Contact Hours)",null,null,null,35506,2704,21008,17182,14019,17853,20571,28337,22283,25371.5,20725,24658.418999999998,{"$f":"AM106*(1+'Control Data'!$G21)","v":24658.418999999998},null,null,null,null,"Associates",164,149,140,188,159,186,202,208,200,187,168,171,161,196,170,{"$f":"BH106*(1+'Control Data'!$G$24)","v":170},null,null,null,null,"Associates",230,223,228,284,288,329,393,411,374,364,311,302,324,344,334]
[null,null,null,null,null,null,null,null,null,null,null,null,null,null,null,null,null,null,null,null,null,null,null,"Awards per 100 FTE",16.583340498974287,17.648182339084485,15.422408627920911,16.878428430774999,16.98578644426172,16.379941434846266,17.389029213166555,19.04638507385333,20.216938046068307,21.179714261843095,18.540609684234735,18.464985684449299,18.568223700024038,21.993041749502982,20.670684842846164,{"$f":"AM107*(1+'Control Data'!$G22)","v":20.670684842846164},null,null,null,null,"Reverse Articulated Associates",0,0,0,0,0,0,0,0,0,0,0,21,22,19,10,{"$f":"BH107*(1+'Control Data'!$G$24)","v":10},null,null,null,null,"Reverse Articulated Associates",0,0,0,0,0,0,0,0,0,0,0,35,39,37,25]
[null,null,null,null,null,null,null,null,null,null,null,null,null,null,null,null,null,null,null,null,null,null,null,null,null,null,null,null,null,null,null,null,null,null,null,null,null,null,null,null,null,null,null,null,"1-2 Year Certificates",0,8,5,4,7,6,0,12,18,17,9,3,0,3,17,{"$f":"BH108*(1+'Control Data'!$G$24)","v":17},null,null,null,null,"1-2 Year Certificates",0,11,3,4,7,6,0,25,23,30,10,8,0,10,28]
[null,null,null,null,null,null,null,null,null,null,null,null,null,null,null,null,null,null,null,null,null,null,null,null,null,null,null,null,null,null,null,null,null,null,null,null,null,null,null,null,null,null,null,null,"<1yr Certificates",2,9,3,3,8,9,8,5,15,19,34,28,13,26,27,{"$f":"BH109*(1+'Control Data'!$G$24)","v":27},null,null,null,null,"<1yr Certificates",4,10,5,9,12,19,19,11,23,31,67,42,24,64,43]
[null,null,null,null,null,null,null,null,null,null,null,null,null,null,null,null,null,null,null,null,null,null,null,null,null,null,null,null,null,null,null,null,null,null,null,null,null,null,null,null,null,null,null,"All Three Focus Pops","Students Accumulating 12 hrs",186,228,301,261,288,527,306,217,190,140,130,90,105,107,193,{"$f":"BH110*(1+'Control Data'!$G$25)","v":193},null,null,null,"Academically Underprepared","Students Accumulating 12 hrs",1152,1243,1367,1405,1368,1840,1003,880,792,734,775,877,865,813,863]
[null,null,null,null,null,null,null,null,null,null,null,null,null,null,null,null,null,null,null,null,null,null,null,null,null,null,null,null,null,null,null,null,null,null,null,null,null,null,null,null,null,null,null,null,"Students Accumulating 24 hrs",198,170,210,188,201,357,291,238,188,143,125,121,111,126,190,{"$f":"BH111*(1+'Control Data'!$G$25)","v":190},null,null,null,null,"Students Accumulating 24 hrs",777,731,814,826,817,1033,782,706,672,547,561,680,635,592,640]
[null,null,null,null,null,null,null,null,null,null,null,null,null,null,null,null,null,null,null,null,null,null,null,null,null,null,null,null,null,null,null,null,null,null,null,null,null,null,null,null,null,null,null,null,"Students Accumulating 36 hrs",167,143,161,177,183,234,248,195,173,161,144,100,105,115,148,{"$f":"BH112*(1+'Control Data'!$G$25)","v":148},null,null,null,null,"Students Accumulating 36 hrs",739,543,593,592,635,713,617,566,512,516,485,459,536,489,533]
[null,null,null,null,null,null,null,null,null,null,null,null,null,null,null,null,null,null,null,null,null,null,null,null,null,null,null,null,null,null,null,null,null,null,null,null,null,null,null,null,null,null,null,null,"Associates",86,82,101,109,113,131,157,187,144,138,118,90,104,98,97,{"$f":"BH113*(1+'Control Data'!$G$25)","v":97},null,null,null,null,"Associates",276,273,253,298,262,306,352,369,303,302,278,244,271,327,280]
[null,null,null,null,null,null,null,null,null,null,null,null,null,null,null,null,null,null,null,null,null,null,null,null,null,null,null,null,null,null,null,null,null,null,null,null,null,null,null,null,null,null,null,null,"Reverse Articulated Associates",0,0,0,0,0,0,0,0,0,0,0,10,11,10,8,{"$f":"BH114*(1+'Control Data'!$G$25)","v":8},null,null,null,null,"Reverse Articulated Associates",0,0,0,0,0,0,0,0,0,0,0,28,30,32,22]
[null,null,null,null,null,null,null,null,null,null,null,null,null,null,null,null,null,null,null,null,null,null,null,null,null,null,null,null,null,null,null,null,null,null,null,null,null,null,null,null,null,null,null,null,"1-2 Year Certificates",0,7,2,2,4,1,0,11,8,10,4,4,0,6,11,{"$f":"BH115*(1+'Control Data'!$G$25)","v":11},null,null,null,null,"1-2 Year Certificates",0,15,8,8,14,7,0,24,27,23,10,5,0,9,24]
[null,null,null,null,null,null,null,null,null,null,null,null,null,null,null,null,null,null,null,null,null,null,null,null,null,null,null,null,null,null,null,null,null,null,null,null,null,null,null,null,null,null,null,null,"<1yr Certificates",2,4,2,5,4,11,9,4,5,10,24,15,9,27,17,{"$f":"BH116*(1+'Control Data'!$G$25)","v":17},null,null,null,null,"<1yr Certificates",2,12,6,10,7,20,18,11,21,31,59,43,21,60,41]
[]
[null,"Motlow","2004-05","2005-06","2006-07","2007-08","2008-09","2009-10","2010-11","2011-12","2012-13","2013-14","2014-15","2015-16","2016-17","2017-18",{"$f":"Q95","v":"2018-19"},"2019-20",null,"Standard Dev.",null,null,null,"Motlow","2004-05","2005-06","2006-07","2007-08","2008-09","2009-10","2010-11","2011-12","2012-13","2013-14","2014-15","2015-16","2016-17","2017-18","2018-19","2019-20",null,null,null,null,"Motlow","2004-05","2005-06","2006-07","2007-08","2008-09","2009-10","2010-11","2011-12","2012-13","2013-14","2014-15","2015-16","2016-17","2017-18","2018-19","2019-20",null,null,null,null,"Motlow","2004-05","2005-06","2006-07","2007-08","2008-09","2009-10","2010-11","2011-12","2012-13","2013-14","2014-15","2015-16","2016-17","2017-18","2018-19","2019-20"]
[null,"Students Accumulating 12 hrs",{"$f":"Y119+AT119*$V$6+AT126*$V$8+AT133*$V$10","v":2552.6},2815.2,3023.2000000000003,3378.2000000000003,3641.6,4114.6000000000004,2708.4,2567.8000000000002,2450.1999999999998,2631,2580.2000000000003,3528.4,{"$f":"AK119+BF119*$V$6+BF126*$V$8+BF133*$V$10","v":3351},3569,4053.8,4053.8,null,556.16580461425303,null,null,null,"Students Accumulating 12 hrs",1381,1519,1625,1830,1956,2202,1457,1410,1363,1495,1485,1992,1902,2053,2396,{"$f":"AM119*(1+'Control Data'!$H10)","v":2396},null,null,null,"One Focus Pop Only","Students Accumulating 12 hrs",470,554,523,641,654,721,468,453,512,565,586,815,766,825,815,{"$f":"BH119*(1+'Control Data'!$H$23)","v":815},null,null,null,"Adults","Students Accumulating 12 hrs",246,301,290,308,385,442,377,284,262,210,197,171,167,174,398]
[null,"Students Accumulating 24 hrs",1675.4,1946,2121,2359.7999999999997,2499.4,3025.4,2155.1999999999998,2135.4,1927.6,2034.1999999999998,2115,2691.7999999999997,{"$f":"AK120+BF120*$V$6+BF127*$V$8+BF134*$V$10","v":2797.4},2667.7999999999997,2923.2,2923.2,null,373.94756851730034,null,null,null,"Students Accumulating 24 hrs",882,1045,1133,1257,1330,1599,1139,1133,1044,1104,1184,1511,1563,1502,1648,{"$f":"AM120*(1+'Control Data'!$H11)","v":1648},null,null,null,null,"Students Accumulating 24 hrs",285,359,391,409,435,495,367,348,351,372,469,627,622,597,574,{"$f":"BH120*(1+'Control Data'!$H$23)","v":574},null,null,null,null,"Students Accumulating 24 hrs",212,247,268,279,321,370,323,338,242,232,194,151,159,162,336]
[null,"Students Accumulating 36 hrs",1882.8000000000002,1428.6000000000001,1474.2,1691.3999999999999,1820,2170.8000000000002,1871.1999999999998,1828.8,1677.3999999999999,1574.6,1706.8,1767,{"$f":"AK121+BF121*$V$6+BF128*$V$8+BF135*$V$10","v":2388.4},2407.1999999999998,2425.4,2425.4,null,222.30625622225588,null,null,null,"Students Accumulating 36 hrs",1020,769,797,909,970,1140,993,962,901,854,941,985,1331,1348,1345,{"$f":"AM121*(1+'Control Data'!$H12)","v":1345},null,null,null,null,"Students Accumulating 36 hrs",383,258,279,281,285,350,312,276,286,295,331,388,536,527,507,{"$f":"BH121*(1+'Control Data'!$H$23)","v":507},null,null,null,null,"Students Accumulating 36 hrs",206,208,231,249,270,340,285,331,267,224,205,179,168,150,286]
[null,"Dual Enrollment",{"$f":"Y122","v":244},266,436,563,585,686,787,854,859,1061,970,850,{"$f":"AK122","v":1112},{"$f":"AL122","v":1781},{"$f":"AM122","v":1942},{"$f":"AN122","v":1942},null,267.00746972489156,null,null,null,"Dual Enrollment",244,266,436,563,585,686,787,854,859,1061,970,850,1112,1781,1942,{"$f":"AM122*(1+'Control Data'!$H13)","v":1942},null,null,null,null,"Associates",153,142,131,129,139,154,167,197,155,175,175,225,278,344,387,{"$f":"BH122*(1+'Control Data'!$H$23)","v":387},null,null,null,null,"Associates",184,173,185,190,217,251,240,284,275,247,224,200,170,188,197]
[null,"Associates",{"$f":"Y123+$V$13*Y124+$V$6*(AT122+$V$13*AT123)+$V$8*(AT129+$V$13*AT130)+$V$10*(AT136+$V$13*AT137)","v":789.8},741.4,757.8,748.6,874.6,1022.4000000000001,1006,1194.5999999999999,1095.2,1138.5999999999999,1104.2,1241.8000000000002,{"$f":"AK123+$V$13*AK124+$V$6*(BF122+$V$13*BF123)+$V$8*(BF129+$V$13*BF130)+$V$10*(BF136+$V$13*BF137)","v":1414.3999999999999},1682,1838,1838,null,174.11916864288347,null,null,null,"Associates",426,395,409,404,460,537,526,627,568,602,597,640,739,887,980,{"$f":"AM123*(1+'Control Data'!$H15)","v":980},null,null,null,null,"Reverse Articulated Associates",0,0,0,0,0,0,0,0,0,0,0,21,33,30,37,{"$f":"BH123*(1+'Control Data'!$H$23)","v":37},null,null,null,null,"Reverse Articulated Associates",0,0,0,0,0,0,0,0,0,0,0,26,23,25,18]
[null,"1-2 Year Certificates",{"$f":"Y125+AT124*$V$6+AT131*$V$8+AT138*$V$10","v":0},0,0,0,0,0,0,0,2,0,0,20,{"$f":"AK125+BF124*$V$6+BF131*$V$8+BF138*$V$10","v":15},13.6,15.799999999999999,15.799999999999999,null,null,null,null,null,"Reverse Articulated Associates",0,0,0,0,0,0,0,0,0,0,0,74,89,94,90,{"$f":"AM124*(1+'Control Data'!$H16)","v":90},null,null,null,null,"1-2 Year Certificates",0,0,0,0,0,0,0,0,0,0,0,2,2,3,4,{"$f":"BH124*(1+'Control Data'!$H$23)","v":4},null,null,null,null,"1-2 Year Certificates",0,0,0,0,0,0,0,0,1,0,0,9,6,5,6]
[null,"<1yr Certificates",25.4,0,19.399999999999999,0,0,118.8,111.6,39,129.4,105,198,230.4,{"$f":"AK126+BF125*$V$6+BF132*$V$8+BF139*$V$10","v":234.79999999999998},254,192.6,192.6,null,54.349915669974436,null,null,null,"1-2 Year Certificates",0,0,0,0,0,0,0,0,1,0,0,10,8,8,8,{"$f":"AM125*(1+'Control Data'!$H17)","v":8},null,null,null,null,"<1yr Certificates",8,0,5,0,0,17,19,5,37,25,52,56,52,53,34,{"$f":"BH125*(1+'Control Data'!$H$23)","v":34},null,null,null,null,"<1yr Certificates",13,0,10,0,0,46,47,14,49,23,49,47,43,50,47]
[null,"Job Placements",{"$f":"Y127","v":0},0,0,74,74,72,70,105,86,75,97,102,{"$f":"AK127","v":100},{"$f":"AL127","v":120},{"$f":"AM127","v":129},{"$f":"AN127","v":129},null,12.151817422372122,null,null,null,"<1yr Certificates",14,0,10,0,0,60,58,20,69,59,111,126,134,144,104,{"$f":"AM126*(1+'Control Data'!$H18)","v":104},null,null,null,"Two Focus Pops Only","Students Accumulating 12 hrs",606,637,765,823,872,965,583,577,506,540,492,780,745,730,743,{"$f":"BH126*(1+'Control Data'!$H$24)","v":743},null,null,null,"Low-Income","Students Accumulating 12 hrs",841,885,1039,1139,1236,1445,935,886,785,876,797,1176,1063,1165,1221]
[null,"Transfers Out with 12 hrs",337,402,342,426,406,423,508,540,499,456,442,574,502,680,637,637,null,67.730593776618576,null,null,null,"Job Placements",null,null,null,74,74,72,70,105,86,75,97,102,100,120,129,{"$f":"AM127*(1+'Control Data'!$H19)","v":129},null,null,null,null,"Students Accumulating 24 hrs",401,441,482,562,591,734,461,466,430,461,413,564,636,573,582,{"$f":"BH127*(1+'Control Data'!$H$24)","v":582},null,null,null,null,"Students Accumulating 24 hrs",564,620,704,817,849,1081,751,758,654,722,697,890,910,893,951]
[null,"Workforce Training (Contact Hours)",0,0,0,1355,1990,12078,5513,8803,5493,3289,3273,5133,9848.5,11034,30039,30039,null,3842.1328324748156,null,null,null,"Transfers Out with 12 hrs",337,402,342,426,406,423,508,540,499,456,442,574,502,680,637,{"$f":"AM128*(1+'Control Data'!$H20)","v":637},null,null,null,null,"Students Accumulating 36 hrs",422,308,286,386,448,500,421,400,352,337,357,342,505,526,478,{"$f":"BH128*(1+'Control Data'!$H$24)","v":478},null,null,null,null,"Students Accumulating 36 hrs",575,447,468,569,647,788,652,662,591,546,565,614,821,786,821]
[null,"Awards per 100 FTE",18.526840724257404,17.448280939409557,16.766647080526365,15.307282325898608,16.136953623798501,16.480818414322247,16.424326321596219,20.727044330090028,20.625158585358189,22.263862521265317,21.724100287471344,20.372054404554799,21.06864945919807,25.052081024777273,27.061328357565113,27.061328357565113,null,2.3587704350634757,null,null,null,"Workforce Training (Contact Hours)",null,null,null,1355,1990,12078,5513,8803,5493,3289,3273,5133,9848.5,11034,30039,{"$f":"AM129*(1+'Control Data'!$H21)","v":30039},null,null,null,null,"Associates",149,150,142,149,175,217,194,218,222,237,228,230,258,326,337,{"$f":"BH129*(1+'Control Data'!$H$24)","v":337},null,null,null,null,"Associates",213,213,208,209,283,344,349,409,371,408,377,399,463,514,583]
[null,null,null,null,null,null,null,null,null,null,null,null,null,null,null,null,null,null,null,null,null,null,null,"Awards per 100 FTE",18.526840724257404,17.448280939409557,16.766647080526365,15.307282325898608,16.136953623798501,16.480818414322247,16.424326321596219,20.727044330090028,20.625158585358189,22.263862521265317,21.724100287471344,20.372054404554799,21.06864945919807,25.052081024777273,27.061328357565113,{"$f":"AM130*(1+'Control Data'!$H22)","v":27.061328357565113},null,null,null,null,"Reverse Articulated Associates",0,0,0,0,0,0,0,0,0,0,0,24,31,38,32,{"$f":"BH130*(1+'Control Data'!$H$24)","v":32},null,null,null,null,"Reverse Articulated Associates",0,0,0,0,0,0,0,0,0,0,0,55,61,62,62]
[null,null,null,null,null,null,null,null,null,null,null,null,null,null,null,null,null,null,null,null,null,null,null,null,null,null,null,null,null,null,null,null,null,null,null,null,null,null,null,null,null,null,null,null,"1-2 Year Certificates",0,0,0,0,0,0,0,0,1,0,0,6,3,2,1,{"$f":"BH131*(1+'Control Data'!$H$24)","v":1},null,null,null,null,"1-2 Year Certificates",0,0,0,0,0,0,0,0,0,0,0,7,5,3,4]
[null,null,null,null,null,null,null,null,null,null,null,null,null,null,null,null,null,null,null,null,null,null,null,null,null,null,null,null,null,null,null,null,null,null,null,null,null,null,null,null,null,null,null,null,"<1yr Certificates",5,0,3,0,0,20,24,9,20,20,25,38,46,58,47,{"$f":"BH132*(1+'Control Data'!$H$24)","v":47},null,null,null,null,"<1yr Certificates",3,0,2,0,0,36,25,13,29,29,59,69,66,85,64]
[null,null,null,null,null,null,null,null,null,null,null,null,null,null,null,null,null,null,null,null,null,null,null,null,null,null,null,null,null,null,null,null,null,null,null,null,null,null,null,null,null,null,null,"All Three Focus Pops","Students Accumulating 12 hrs",158,180,179,177,242,309,245,182,143,120,112,87,76,105,219,{"$f":"BH133*(1+'Control Data'!$H$25)","v":219},null,null,null,"Academically Underprepared","Students Accumulating 12 hrs",1069,1182,1261,1371,1503,1691,1057,983,906,919,912,1289,1254,1261,1339]
[null,null,null,null,null,null,null,null,null,null,null,null,null,null,null,null,null,null,null,null,null,null,null,null,null,null,null,null,null,null,null,null,null,null,null,null,null,null,null,null,null,null,null,null,"Students Accumulating 24 hrs",137,144,161,178,192,247,218,215,144,143,119,96,84,96,195,{"$f":"BH134*(1+'Control Data'!$H$25)","v":195},null,null,null,null,"Students Accumulating 24 hrs",722,806,866,971,1023,1253,869,829,747,769,761,1002,1077,976,1036]
[null,null,null,null,null,null,null,null,null,null,null,null,null,null,null,null,null,null,null,null,null,null,null,null,null,null,null,null,null,null,null,null,null,null,null,null,null,null,null,null,null,null,null,null,"Students Accumulating 36 hrs",112,121,140,143,145,209,173,205,163,123,120,108,103,93,164,{"$f":"BH135*(1+'Control Data'!$H$25)","v":164},null,null,null,null,"Students Accumulating 36 hrs",782,582,572,664,699,849,736,698,621,568,635,603,866,922,848]
[null,null,null,null,null,null,null,null,null,null,null,null,null,null,null,null,null,null,null,null,null,null,null,null,null,null,null,null,null,null,null,null,null,null,null,null,null,null,null,null,null,null,null,null,"Associates",77,69,85,77,107,121,127,160,151,133,116,102,94,90,108,{"$f":"BH136*(1+'Control Data'!$H$25)","v":108},null,null,null,null,"Associates",285,263,277,259,310,356,347,420,406,393,378,392,443,564,605]
[null,null,null,null,null,null,null,null,null,null,null,null,null,null,null,null,null,null,null,null,null,null,null,null,null,null,null,null,null,null,null,null,null,null,null,null,null,null,null,null,null,null,null,null,"Reverse Articulated Associates",0,0,0,0,0,0,0,0,0,0,0,20,15,13,10,{"$f":"BH137*(1+'Control Data'!$H$25)","v":10},null,null,null,null,"Reverse Articulated Associates",0,0,0,0,0,0,0,0,0,0,0,48,56,58,51]
[null,null,null,null,null,null,null,null,null,null,null,null,null,null,null,null,null,null,null,null,null,null,null,null,null,null,null,null,null,null,null,null,null,null,null,null,null,null,null,null,null,null,null,null,"1-2 Year Certificates",0,0,0,0,0,0,0,0,0,0,0,2,2,1,3,{"$f":"BH138*(1+'Control Data'!$H$25)","v":3},null,null,null,null,"1-2 Year Certificates",0,0,0,0,0,0,0,0,1,0,0,4,3,2,5]
[null,null,null,null,null,null,null,null,null,null,null,null,null,null,null,null,null,null,null,null,null,null,null,null,null,null,null,null,null,null,null,null,null,null,null,null,null,null,null,null,null,null,null,null,"<1yr Certificates",0,0,2,0,0,21,12,5,9,5,17,18,11,8,12,{"$f":"BH139*(1+'Control Data'!$H$25)","v":12},null,null,null,null,"<1yr Certificates",2,0,5,0,0,38,31,11,26,28,45,70,68,58,53]
[]
[null,"Nashville","2004-05","2005-06","2006-07","2007-08","2008-09","2009-10","2010-11","2011-12","2012-13","2013-14","2014-15","2015-16","2016-17","2017-18",{"$f":"Q118","v":"2018-19"},"2019-20",null,"Standard Dev.",null,null,null,"Nashville","2004-05","2005-06","2006-07","2007-08","2008-09","2009-10","2010-11","2011-12","2012-13","2013-14","2014-15","2015-16","2016-17","2017-18","2018-19","2019-20",null,null,null,null,"Nashville","2004-05","2005-06","2006-07","2007-08","2008-09","2009-10","2010-11","2011-12","2012-13","2013-14","2014-15","2015-16","2016-17","2017-18","2018-19","2019-20",null,null,null,null,"Nashville","2004-05","2005-06","2006-07","2007-08","2008-09","2009-10","2010-11","2011-12","2012-13","2013-14","2014-15","2015-16","2016-17","2017-18","2018-19","2019-20"]
[null,"Students Accumulating 12 hrs",{"$f":"Y142+AT142*$V$6+AT149*$V$8+AT156*$V$10","v":4324.6000000000004},4985.2,4754.3999999999996,4817.4000000000005,5456.2,6824.7999999999993,4646.8,4501.2,4447.8,4666.4000000000005,4637.2,4896.2,{"$f":"AK142+BF142*$V$6+BF149*$V$8+BF156*$V$10","v":3918.3999999999996},3252.2,3499.4,3499.4,null,737.50664509247463,null,null,null,"Students Accumulating 12 hrs",2278,2596,2460,2510,2837,3509,2375,2305,2338,2438,2477,2646,2106,1754,1896,{"$f":"AM142*(1+'Control Data'!$I10)","v":1896},null,null,null,"One Focus Pop Only","Students Accumulating 12 hrs",715,734,670,662,755,848,529,497,542,576,673,801,619,485,527,{"$f":"BH142*(1+'Control Data'!$I$23)","v":527},null,null,null,"Adults","Students Accumulating 12 hrs",945,1023,937,930,968,1375,1093,1028,969,1014,772,650,580,428,577]
[null,"Students Accumulating 24 hrs",3289.7999999999997,3671.2,3793.6000000000004,3508,3795,4974.6000000000004,3994.6,3782.7999999999997,3550,3596.3999999999996,3634.4,3688.4,{"$f":"AK143+BF143*$V$6+BF150*$V$8+BF157*$V$10","v":3170},2707.4,2765.8,2765.8,null,458.99131969521665,null,null,null,"Students Accumulating 24 hrs",1700,1896,1967,1812,1973,2554,2048,1937,1824,1853,1878,1948,1664,1419,1464,{"$f":"AM143*(1+'Control Data'!$I11)","v":1464},null,null,null,null,"Students Accumulating 24 hrs",497,490,536,463,515,620,479,404,376,394,431,552,443,346,365,{"$f":"BH143*(1+'Control Data'!$I$23)","v":365},null,null,null,null,"Students Accumulating 24 hrs",768,835,854,800,788,1102,979,925,881,877,775,602,507,442,503]
[null,"Students Accumulating 36 hrs",2729.4,2786.6,2987.8,2832.6,3071.4,3688.6000000000004,3262.6,3382.2,3146.8,2962.3999999999996,2986.8,3037.2,{"$f":"AK144+BF144*$V$6+BF151*$V$8+BF158*$V$10","v":2695.4},2573.3999999999996,2450,2450,null,297.33659265777129,null,null,null,"Students Accumulating 36 hrs",1417,1445,1547,1468,1586,1903,1671,1717,1611,1510,1540,1567,1408,1340,1279,{"$f":"AM144*(1+'Control Data'!$I12)","v":1279},null,null,null,null,"Students Accumulating 36 hrs",410,420,381,387,381,471,382,343,338,272,308,355,355,344,306,{"$f":"BH144*(1+'Control Data'!$I$23)","v":306},null,null,null,null,"Students Accumulating 36 hrs",659,697,736,691,736,916,860,905,845,798,778,659,524,470,500]
[null,"Dual Enrollment",{"$f":"Y145","v":240},291,321,322,790,926,1092,997,1119,1126,1375,1506,{"$f":"AK145","v":1384},{"$f":"AL145","v":1260},{"$f":"AM145","v":1298},{"$f":"AN145","v":1298},null,382.74946839356369,null,null,null,"Dual Enrollment",240,291,321,322,790,926,1092,997,1119,1126,1375,1506,1384,1260,1298,{"$f":"AM145*(1+'Control Data'!$I13)","v":1298},null,null,null,null,"Associates",156,162,137,103,123,91,113,158,126,116,110,154,156,199,210,{"$f":"BH145*(1+'Control Data'!$I$23)","v":210},null,null,null,null,"Associates",352,334,378,342,356,321,371,503,456,483,485,450,424,446,439]
[null,"Associates",{"$f":"Y146+$V$13*Y147+$V$6*(AT145+$V$13*AT146)+$V$8*(AT152+$V$13*AT153)+$V$10*(AT159+$V$13*AT160)","v":957},977,1039.8,986.4,1038.8,950.19999999999993,1051.2,1437.6000000000001,1255.5999999999999,1302.8,1350.2,1472,{"$f":"AK146+$V$13*AK147+$V$6*(BF145+$V$13*BF146)+$V$8*(BF152+$V$13*BF153)+$V$10*(BF159+$V$13*BF160)","v":1494.4},1611.2,1672.7,1672.7,null,169.0558145833636,null,null,null,"Associates",495,501,527,501,529,481,531,718,624,646,669,703,717,779,827,{"$f":"AM146*(1+'Control Data'!$I15)","v":827},null,null,null,null,"Reverse Articulated Associates",0,0,0,0,0,0,0,0,0,0,0,17,11,10,18,{"$f":"BH146*(1+'Control Data'!$I$23)","v":18},null,null,null,null,"Reverse Articulated Associates",0,0,0,0,0,0,0,0,0,0,0,42,49,47,27]
[null,"1-2 Year Certificates",{"$f":"Y148+AT147*$V$6+AT154*$V$8+AT161*$V$10","v":162},172.4,99.199999999999989,132.19999999999999,136.80000000000001,78.599999999999994,73.599999999999994,219.8,194.4,186.20000000000002,265.8,286.60000000000002,{"$f":"AK148+BF147*$V$6+BF154*$V$8+BF161*$V$10","v":245.8},274,327.40000000000003,327.40000000000003,null,50.010221177497506,null,null,null,"Reverse Articulated Associates",0,0,0,0,0,0,0,0,0,0,0,79,83,89,72,{"$f":"AM147*(1+'Control Data'!$I16)","v":72},null,null,null,null,"1-2 Year Certificates",50,35,22,25,31,16,11,38,28,26,40,37,33,34,56,{"$f":"BH147*(1+'Control Data'!$I$23)","v":56},null,null,null,null,"1-2 Year Certificates",66,67,40,45,52,27,26,82,85,73,96,100,87,80,93]
[null,"<1yr Certificates",134.80000000000001,107,102,103.8,93.2,221.6,289.2,116.19999999999999,107.2,99.399999999999991,169.4,269,{"$f":"AK149+BF148*$V$6+BF155*$V$8+BF162*$V$10","v":213.8},140.80000000000001,116.39999999999999,116.39999999999999,null,65.202661840687881,null,null,null,"1-2 Year Certificates",85,89,52,70,73,41,38,113,99,95,135,145,125,141,171,{"$f":"AM148*(1+'Control Data'!$I17)","v":171},null,null,null,null,"<1yr Certificates",38,32,20,22,21,49,60,21,13,12,21,55,53,26,26,{"$f":"BH148*(1+'Control Data'!$I$23)","v":26},null,null,null,null,"<1yr Certificates",64,45,48,46,41,102,127,52,42,42,75,117,94,57,45]
[null,"Job Placements",{"$f":"Y150","v":0},0,0,312,268,258,263,263,226,267,250,269,{"$f":"AK150","v":311},{"$f":"AL150","v":340},{"$f":"AM150","v":291},{"$f":"AN150","v":291},null,30.923869652514703,null,null,null,"<1yr Certificates",72,56,52,53,48,114,147,58,54,50,84,142,114,76,62,{"$f":"AM149*(1+'Control Data'!$I18)","v":62},null,null,null,"Two Focus Pops Only","Students Accumulating 12 hrs",943,1166,1138,1173,1300,1603,1047,1015,979,1056,1119,1199,980,833,799,{"$f":"BH149*(1+'Control Data'!$I$24)","v":799},null,null,null,"Low-Income","Students Accumulating 12 hrs",1321,1662,1641,1679,1958,2568,1747,1758,1678,1812,1749,1860,1435,1219,1238]
[null,"Transfers Out with 12 hrs",346,530,511,472,466,533,552,675,640,617,581,683,991,628,601,601,null,95.851505523445596,null,null,null,"Job Placements",null,null,null,312,268,258,263,263,226,267,250,269,311,340,291,{"$f":"AM150*(1+'Control Data'!$I19)","v":291},null,null,null,null,"Students Accumulating 24 hrs",699,830,847,788,852,1117,799,817,740,773,832,868,788,684,663,{"$f":"BH150*(1+'Control Data'!$I$24)","v":663},null,null,null,null,"Students Accumulating 24 hrs",1037,1225,1247,1218,1319,1837,1473,1452,1344,1412,1427,1433,1231,1060,1041]
[null,"Workforce Training (Contact Hours)",0,0,0,71959,48134,67613,32948,39563,35965,35107,23562,33706,23221,12489.5,39547.729999999996,39547.729999999996,null,16147.133234799941,null,null,null,"Transfers Out with 12 hrs",346,530,511,472,466,533,552,675,640,617,581,683,991,628,601,{"$f":"AM151*(1+'Control Data'!$I20)","v":601},null,null,null,null,"Students Accumulating 36 hrs",574,558,668,605,673,768,650,696,621,594,616,675,611,621,559,{"$f":"BH151*(1+'Control Data'!$I$24)","v":559},null,null,null,null,"Students Accumulating 36 hrs",842,883,969,946,1097,1307,1214,1302,1202,1163,1166,1222,1065,995,933]
[null,"Awards per 100 FTE",17.486382730689606,15.811505416110583,15.251826355717899,14.36767148105279,14.29187555147568,10.080560803612522,10.179649645918747,14.2363589641093,12.693637965038363,12.996237931125201,14.032678921019636,15.18045498603113,17.279652646710801,20.805545269228141,21.752926862620662,21.752926862620662,null,2.3398169698925586,null,null,null,"Workforce Training (Contact Hours)",null,null,null,71959,48134,67613,32948,39563,35965,35107,23562,33706,23221,12489.5,39547.729999999996,{"$f":"AM152*(1+'Control Data'!$I21)","v":39547.729999999996},null,null,null,null,"Associates",210,182,204,205,223,202,191,268,214,228,250,249,273,291,349,{"$f":"BH152*(1+'Control Data'!$I$24)","v":349},null,null,null,null,"Associates",212,252,285,290,293,305,343,507,456,485,511,535,534,545,577]
[null,null,null,null,null,null,null,null,null,null,null,null,null,null,null,null,null,null,null,null,null,null,null,"Awards per 100 FTE",17.486382730689606,15.811505416110583,15.251826355717899,14.36767148105279,14.29187555147568,10.080560803612522,10.179649645918747,14.2363589641093,12.693637965038363,12.996237931125201,14.032678921019636,15.18045498603113,17.279652646710801,20.805545269228141,21.752926862620662,{"$f":"AM153*(1+'Control Data'!$I22)","v":21.752926862620662},null,null,null,null,"Reverse Articulated Associates",0,0,0,0,0,0,0,0,0,0,0,29,41,37,31,{"$f":"BH153*(1+'Control Data'!$I$24)","v":31},null,null,null,null,"Reverse Articulated Associates",0,0,0,0,0,0,0,0,0,0,0,63,73,79,59]
[null,null,null,null,null,null,null,null,null,null,null,null,null,null,null,null,null,null,null,null,null,null,null,null,null,null,null,null,null,null,null,null,null,null,null,null,null,null,null,null,null,null,null,null,"1-2 Year Certificates",25,35,20,29,27,20,16,38,31,38,58,52,44,59,60,{"$f":"BH154*(1+'Control Data'!$I$24)","v":60},null,null,null,null,"1-2 Year Certificates",29,41,17,31,31,22,25,62,53,62,85,101,88,98,106]
[null,null,null,null,null,null,null,null,null,null,null,null,null,null,null,null,null,null,null,null,null,null,null,null,null,null,null,null,null,null,null,null,null,null,null,null,null,null,null,null,null,null,null,null,"<1yr Certificates",18,11,16,20,20,36,45,15,26,17,35,41,31,26,18,{"$f":"BH155*(1+'Control Data'!$I$24)","v":18},null,null,null,null,"<1yr Certificates",15,19,22,24,15,48,66,34,37,32,59,64,50,35,34]
[null,null,null,null,null,null,null,null,null,null,null,null,null,null,null,null,null,null,null,null,null,null,null,null,null,null,null,null,null,null,null,null,null,null,null,null,null,null,null,null,null,null,null,"All Three Focus Pops","Students Accumulating 12 hrs",443,530,517,504,596,862,668,653,581,593,419,342,281,231,319,{"$f":"BH156*(1+'Control Data'!$I$25)","v":319},null,null,null,"Academically Underprepared","Students Accumulating 12 hrs",1664,1971,1919,1911,2217,2697,1787,1700,1596,1641,1647,1715,1407,1197,1267]
[null,null,null,null,null,null,null,null,null,null,null,null,null,null,null,null,null,null,null,null,null,null,null,null,null,null,null,null,null,null,null,null,null,null,null,null,null,null,null,null,null,null,null,null,"Students Accumulating 24 hrs",411,461,459,448,465,673,637,588,571,546,483,359,303,273,289,{"$f":"BH157*(1+'Control Data'!$I$25)","v":289},null,null,null,null,"Students Accumulating 24 hrs",1323,1473,1506,1365,1507,1934,1536,1425,1344,1289,1342,1330,1190,1031,1014]
[null,null,null,null,null,null,null,null,null,null,null,null,null,null,null,null,null,null,null,null,null,null,null,null,null,null,null,null,null,null,null,null,null,null,null,null,null,null,null,null,null,null,null,null,"Students Accumulating 36 hrs",342,373,390,375,423,534,530,579,537,534,487,426,327,281,306,{"$f":"BH158*(1+'Control Data'!$I$25)","v":306},null,null,null,null,"Students Accumulating 36 hrs",1083,1075,1182,1085,1163,1386,1198,1265,1144,1101,1057,1102,969,964,909]
[null,null,null,null,null,null,null,null,null,null,null,null,null,null,null,null,null,null,null,null,null,null,null,null,null,null,null,null,null,null,null,null,null,null,null,null,null,null,null,null,null,null,null,null,"Associates",106,137,166,165,157,162,199,271,264,280,286,266,246,244,216,{"$f":"BH159*(1+'Control Data'!$I$25)","v":216},null,null,null,null,"Associates",330,351,380,376,391,355,378,497,434,444,472,465,482,522,540]
[null,null,null,null,null,null,null,null,null,null,null,null,null,null,null,null,null,null,null,null,null,null,null,null,null,null,null,null,null,null,null,null,null,null,null,null,null,null,null,null,null,null,null,null,"Reverse Articulated Associates",0,0,0,0,0,0,0,0,0,0,0,28,30,37,18,{"$f":"BH160*(1+'Control Data'!$I$25)","v":18},null,null,null,null,"Reverse Articulated Associates",0,0,0,0,0,0,0,0,0,0,0,54,61,69,48]
[null,null,null,null,null,null,null,null,null,null,null,null,null,null,null,null,null,null,null,null,null,null,null,null,null,null,null,null,null,null,null,null,null,null,null,null,null,null,null,null,null,null,null,null,"1-2 Year Certificates",10,17,8,11,10,4,9,32,35,27,34,50,42,39,43,{"$f":"BH161*(1+'Control Data'!$I$25)","v":43},null,null,null,null,"1-2 Year Certificates",35,48,29,40,32,19,19,66,57,48,77,90,72,91,106]
[null,null,null,null,null,null,null,null,null,null,null,null,null,null,null,null,null,null,null,null,null,null,null,null,null,null,null,null,null,null,null,null,null,null,null,null,null,null,null,null,null,null,null,null,"<1yr Certificates",12,12,15,11,7,27,41,22,14,19,28,35,22,15,13,{"$f":"BH162*(1+'Control Data'!$I$25)","v":13},null,null,null,null,"<1yr Certificates",31,26,27,25,26,52,80,31,28,29,41,61,37,31,22]
[]
[null,"Northeast","2004-05","2005-06","2006-07","2007-08","2008-09","2009-10","2010-11","2011-12","2012-13","2013-14","2014-15","2015-16","2016-17","2017-18",{"$f":"Q141","v":"2018-19"},"2019-20",null,"Standard Dev.",null,null,null,"Northeast","2004-05","2005-06","2006-07","2007-08","2008-09","2009-10","2010-11","2011-12","2012-13","2013-14","2014-15","2015-16","2016-17","2017-18","2018-19","2019-20",null,null,null,null,"Northeast","2004-05","2005-06","2006-07","2007-08","2008-09","2009-10","2010-11","2011-12","2012-13","2013-14","2014-15","2015-16","2016-17","2017-18","2018-19","2019-20",null,null,null,null,"Northeast","2004-05","2005-06","2006-07","2007-08","2008-09","2009-10","2010-11","2011-12","2012-13","2013-14","2014-15","2015-16","2016-17","2017-18","2018-19","2019-20"]
[null,"Students Accumulating 12 hrs",{"$f":"Y165+AT165*$V$6+AT172*$V$8+AT179*$V$10","v":3513.2},3252.8,3549.2,3600.2,3953.4,4713.3999999999996,3363.8,2816.6000000000004,3076.4,2678.2000000000003,2746.4,2894.3999999999996,{"$f":"AK165+BF165*$V$6+BF172*$V$8+BF179*$V$10","v":2907},2862.6,2663,2663,null,588.53599757740835,null,null,null,"Students Accumulating 12 hrs",1849,1714,1863,1890,2084,2427,1744,1485,1664,1475,1545,1595,1601,1582,1454,{"$f":"AM165*(1+'Control Data'!$J10)","v":1454},null,null,null,"One Focus Pop Only","Students Accumulating 12 hrs",540,536,582,580,603,577,401,436,521,466,483,564,596,564,466,{"$f":"BH165*(1+'Control Data'!$J$23)","v":466},null,null,null,"Adults","Students Accumulating 12 hrs",544,456,520,577,557,814,619,488,487,356,337,295,313,238,360]
[null,"Students Accumulating 24 hrs",2725.2,2544.1999999999998,2840.4,2776.6000000000004,3043.7999999999997,3595.6,2883.6,2562.6,2558.4,2280,2137.8000000000002,2610.4,{"$f":"AK166+BF166*$V$6+BF173*$V$8+BF180*$V$10","v":2441},2482.6,2308.2000000000003,2308.2000000000003,null,360.9261321778875,null,null,null,"Students Accumulating 24 hrs",1396,1339,1486,1458,1595,1864,1480,1326,1348,1200,1157,1419,1328,1363,1255,{"$f":"AM166*(1+'Control Data'!$J11)","v":1255},null,null,null,null,"Students Accumulating 24 hrs",382,415,458,431,479,507,350,335,380,333,353,482,435,462,408,{"$f":"BH166*(1+'Control Data'!$J$23)","v":408},null,null,null,null,"Students Accumulating 24 hrs",573,408,488,480,520,682,647,537,448,414,352,304,256,236,337]
[null,"Students Accumulating 36 hrs",2753.6,2092.6,2260.1999999999998,2112.1999999999998,2234.6,2698.6,2442.8000000000002,2378.8000000000002,2147.7999999999997,2146,1840.8,1945,{"$f":"AK167+BF167*$V$6+BF174*$V$8+BF181*$V$10","v":2175.6},2142.4,2205.1999999999998,2205.1999999999998,null,241.0110038981623,null,null,null,"Students Accumulating 36 hrs",1448,1095,1184,1106,1170,1400,1262,1217,1125,1126,993,1070,1178,1178,1205,{"$f":"AM167*(1+'Control Data'!$J12)","v":1205},null,null,null,null,"Students Accumulating 36 hrs",443,325,357,331,351,374,318,301,292,318,296,343,393,392,405,{"$f":"BH167*(1+'Control Data'!$J$23)","v":405},null,null,null,null,"Students Accumulating 36 hrs",521,429,461,398,460,575,554,561,453,425,301,281,277,241,316]
[null,"Dual Enrollment",{"$f":"Y168","v":184},185,299,364,402,487,566,585,723,791,923,901,{"$f":"AK168","v":1113},{"$f":"AL168","v":1059},{"$f":"AM168","v":1114},{"$f":"AN168","v":1114},null,209.92125507754884,null,null,null,"Dual Enrollment",184,185,299,364,402,487,566,585,723,791,923,901,1113,1059,1114,{"$f":"AM168*(1+'Control Data'!$J13)","v":1114},null,null,null,null,"Associates",135,149,158,176,167,188,202,185,154,197,206,192,243,272,298,{"$f":"BH168*(1+'Control Data'!$J$23)","v":298},null,null,null,null,"Associates",281,271,279,274,341,357,367,434,417,423,430,348,357,299,292]
[null,"Associates",{"$f":"Y169+$V$13*Y170+$V$6*(AT168+$V$13*AT169)+$V$8*(AT175+$V$13*AT176)+$V$10*(AT182+$V$13*AT183)","v":919.6},936.80000000000007,1017.5999999999999,1029,1227.4000000000001,1328.6000000000001,1350.8,1489.2,1409.4,1521.8,1508.6,1507.3,{"$f":"AK169+$V$13*AK170+$V$6*(BF168+$V$13*BF169)+$V$8*(BF175+$V$13*BF176)+$V$10*(BF182+$V$13*BF183)","v":1634.6},1647.8999999999999,1719.5,1719.5,null,228.10103901560794,null,null,null,"Associates",481,492,535,536,635,687,696,764,720,781,777,757,840,849,894,{"$f":"AM169*(1+'Control Data'!$J15)","v":894},null,null,null,null,"Reverse Articulated Associates",0,0,0,0,0,0,0,0,0,0,0,15,16,23,12,{"$f":"BH169*(1+'Control Data'!$J$23)","v":12},null,null,null,null,"Reverse Articulated Associates",0,0,0,0,0,0,0,0,0,0,0,34,25,29,31]
[null,"1-2 Year Certificates",{"$f":"Y171+AT170*$V$6+AT177*$V$8+AT184*$V$10","v":273},309.39999999999998,229.8,256.60000000000002,248.8,429.2,253.2,217.79999999999998,207,269.8,247.2,207.6,{"$f":"AK171+BF170*$V$6+BF177*$V$8+BF184*$V$10","v":185.2},300.60000000000002,386.6,386.6,null,63.354484187519397,null,null,null,"Reverse Articulated Associates",0,0,0,0,0,0,0,0,0,0,0,67,58,82,79,{"$f":"AM170*(1+'Control Data'!$J16)","v":79},null,null,null,null,"1-2 Year Certificates",53,68,51,42,45,55,43,22,27,33,28,27,33,41,57,{"$f":"BH170*(1+'Control Data'!$J$23)","v":57},null,null,null,null,"1-2 Year Certificates",90,105,54,81,72,147,79,68,62,77,79,52,43,68,72]
[null,"<1yr Certificates",101,95.8,65.599999999999994,7.6,85.2,30.6,61,163.19999999999999,682,337,299.60000000000002,471.20000000000005,{"$f":"AK172+BF171*$V$6+BF178*$V$8+BF185*$V$10","v":688.6},607.80000000000007,399.79999999999995,399.79999999999995,null,204.21698699613063,null,null,null,"1-2 Year Certificates",143,163,123,132,128,218,132,110,104,139,123,110,98,158,207,{"$f":"AM171*(1+'Control Data'!$J17)","v":207},null,null,null,null,"<1yr Certificates",17,26,15,2,8,4,11,21,229,80,66,112,183,137,88,{"$f":"BH171*(1+'Control Data'!$J$23)","v":88},null,null,null,null,"<1yr Certificates",40,40,21,2,33,11,22,56,353,147,121,185,293,193,125]
[null,"Job Placements",{"$f":"Y173","v":0},0,0,238,248,163,249,261,194,238,524,341,{"$f":"AK173","v":402},{"$f":"AL173","v":415},{"$f":"AM173","v":540},{"$f":"AN173","v":540},null,129.79526002057827,null,null,null,"<1yr Certificates",53,50,34,4,43,15,31,84,362,176,158,249,366,332,218,{"$f":"AM172*(1+'Control Data'!$J18)","v":218},null,null,null,"Two Focus Pops Only","Students Accumulating 12 hrs",823,780,821,825,955,1088,735,576,620,540,539,643,648,659,601,{"$f":"BH172*(1+'Control Data'!$J$24)","v":601},null,null,null,"Low-Income","Students Accumulating 12 hrs",1233,1148,1247,1273,1458,1841,1298,1054,1087,959,979,1002,986,1011,947]
[null,"Transfers Out with 12 hrs",410,431,432,388,257,340,366,404,380,397,352,347,380,462,478,478,null,51.700526539334632,null,null,null,"Job Placements",null,null,null,238,248,163,249,261,194,238,524,341,402,415,540,{"$f":"AM173*(1+'Control Data'!$J19)","v":540},null,null,null,null,"Students Accumulating 24 hrs",606,578,628,627,672,768,556,509,544,468,414,567,567,552,470,{"$f":"BH173*(1+'Control Data'!$J$24)","v":470},null,null,null,null,"Students Accumulating 24 hrs",949,905,1000,991,1109,1371,1114,980,943,861,784,929,881,891,835]
[null,"Workforce Training (Contact Hours)",0,0,0,4440,6011,4717,5556,6558,6434,9778,14143,18055.75,20979.600000000002,32576.5,89372.19,89372.19,null,1766.7070761326406,null,null,null,"Transfers Out with 12 hrs",410,431,432,388,257,340,366,404,380,397,352,347,380,462,478,{"$f":"AM174*(1+'Control Data'!$J20)","v":478},null,null,null,null,"Students Accumulating 36 hrs",560,440,469,439,449,559,474,459,410,438,365,375,472,478,453,{"$f":"BH174*(1+'Control Data'!$J$24)","v":453},null,null,null,null,"Students Accumulating 36 hrs",941,725,781,756,797,1026,935,908,829,810,689,697,774,761,780]
[null,"Awards per 100 FTE",18.323121194918073,20.4453230673187,19.52387075078877,19.721885979156212,20.810793610386302,20.954733145525413,17.429132753297782,19.714878642966706,19.700821664528164,24.70240758972523,24.888462814792966,23.238909582017911,25.389684838831077,27.873328841448274,30.001578338185265,30.001578338185265,null,1.9321805810823098,null,null,null,"Workforce Training (Contact Hours)",null,null,null,4440,6011,4717,5556,6558,6434,9778,14143,18055.75,20979.600000000002,32576.5,89372.19,{"$f":"AM175*(1+'Control Data'!$J21)","v":89372.19},null,null,null,null,"Associates",165,178,181,189,244,238,246,288,247,258,256,271,295,274,305,{"$f":"BH175*(1+'Control Data'!$J$24)","v":305},null,null,null,null,"Associates",257,269,310,325,409,460,472,549,525,574,548,566,592,551,576]
[null,null,null,null,null,null,null,null,null,null,null,null,null,null,null,null,null,null,null,null,null,null,null,"Awards per 100 FTE",18.323121194918073,20.4453230673187,19.52387075078877,19.721885979156212,20.810793610386302,20.954733145525413,17.429132753297782,19.714878642966706,19.700821664528164,24.70240758972523,24.888462814792966,23.238909582017911,25.389684838831077,27.873328841448274,30.001578338185265,{"$f":"AM176*(1+'Control Data'!$J22)","v":30.001578338185265},null,null,null,null,"Reverse Articulated Associates",0,0,0,0,0,0,0,0,0,0,0,24,20,27,28,{"$f":"BH176*(1+'Control Data'!$J$24)","v":28},null,null,null,null,"Reverse Articulated Associates",0,0,0,0,0,0,0,0,0,0,0,53,47,63,53,null,null," "]
[null,null,null,null,null,null,null,null,null,null,null,null,null,null,null,null,null,null,null,null,null,null,null,null,null,null,null,null,null,null,null,null,null,null,null,null,null,null,null,null,null,null,null,null,"1-2 Year Certificates",54,50,42,49,44,76,40,41,37,54,43,40,32,63,92,{"$f":"BH177*(1+'Control Data'!$J$24)","v":92},null,null,null,null,"1-2 Year Certificates",62,74,64,69,70,124,77,83,66,89,96,74,62,106,135]
[null,null,null,null,null,null,null,null,null,null,null,null,null,null,null,null,null,null,null,null,null,null,null,null,null,null,null,null,null,null,null,null,null,null,null,null,null,null,null,null,null,null,null,null,"<1yr Certificates",20,13,10,2,19,4,8,24,102,61,48,81,115,105,73,{"$f":"BH178*(1+'Control Data'!$J$24)","v":73},null,null,null,null,"<1yr Certificates",23,17,17,1,24,8,17,51,52,59,66,108,128,159,90]
[null,null,null,null,null,null,null,null,null,null,null,null,null,null,null,null,null,null,null,null,null,null,null,null,null,null,null,null,null,null,null,null,null,null,null,null,null,null,null,null,null,null,null,"All Three Focus Pops","Students Accumulating 12 hrs",341,275,333,351,360,614,470,339,313,242,230,171,151,142,196,{"$f":"BH179*(1+'Control Data'!$J$25)","v":196},null,null,null,"Academically Underprepared","Students Accumulating 12 hrs",1432,1317,1456,1433,1578,1940,1364,1063,1126,957,935,1066,1046,1059,949]
[null,null,null,null,null,null,null,null,null,null,null,null,null,null,null,null,null,null,null,null,null,null,null,null,null,null,null,null,null,null,null,null,null,null,null,null,null,null,null,null,null,null,null,null,"Students Accumulating 24 hrs",348,246,300,289,328,465,473,383,302,288,237,199,165,165,214,{"$f":"BH180*(1+'Control Data'!$J$25)","v":214},null,null,null,null,"Students Accumulating 24 hrs",1116,996,1126,1081,1178,1385,1120,985,983,858,756,980,927,934,818]
[null,null,null,null,null,null,null,null,null,null,null,null,null,null,null,null,null,null,null,null,null,null,null,null,null,null,null,null,null,null,null,null,null,null,null,null,null,null,null,null,null,null,null,null,"Students Accumulating 36 hrs",326,248,268,252,279,367,377,385,316,273,205,188,176,144,186,{"$f":"BH181*(1+'Control Data'!$J$25)","v":186},null,null,null,null,"Students Accumulating 36 hrs",1079,795,857,811,829,992,908,905,778,778,651,679,814,778,773]
[null,null,null,null,null,null,null,null,null,null,null,null,null,null,null,null,null,null,null,null,null,null,null,null,null,null,null,null,null,null,null,null,null,null,null,null,null,null,null,null,null,null,null,null,"Associates",138,123,146,136,179,211,206,241,266,271,259,217,209,192,175,{"$f":"BH182*(1+'Control Data'!$J$25)","v":175},null,null,null,null,"Associates",341,334,369,363,442,480,473,501,504,529,517,471,511,546,565]
[null,null,null,null,null,null,null,null,null,null,null,null,null,null,null,null,null,null,null,null,null,null,null,null,null,null,null,null,null,null,null,null,null,null,null,null,null,null,null,null,null,null,null,null,"Reverse Articulated Associates",0,0,0,0,0,0,0,0,0,0,0,23,15,22,23,{"$f":"BH183*(1+'Control Data'!$J$25)","v":23},null,null,null,null,"Reverse Articulated Associates",0,0,0,0,0,0,0,0,0,0,0,45,29,51,53]
[null,null,null,null,null,null,null,null,null,null,null,null,null,null,null,null,null,null,null,null,null,null,null,null,null,null,null,null,null,null,null,null,null,null,null,null,null,null,null,null,null,null,null,null,"1-2 Year Certificates",28,35,20,35,34,76,39,41,37,42,49,30,24,39,35,{"$f":"BH184*(1+'Control Data'!$J$25)","v":35},null,null,null,null,"1-2 Year Certificates",93,94,77,95,93,164,84,76,84,101,86,71,64,110,139]
[null,null,null,null,null,null,null,null,null,null,null,null,null,null,null,null,null,null,null,null,null,null,null,null,null,null,null,null,null,null,null,null,null,null,null,null,null,null,null,null,null,null,null,null,"<1yr Certificates",12,10,8,0,14,7,11,32,29,30,34,43,51,51,32,{"$f":"BH185*(1+'Control Data'!$J$25)","v":32},null,null,null,null,"<1yr Certificates",30,25,21,3,31,14,21,58,115,86,77,110,145,148,115]
[]
[null,"Pellissippi","2004-05","2005-06","2006-07","2007-08","2008-09","2009-10","2010-11","2011-12","2012-13","2013-14","2014-15","2015-16","2016-17","2017-18",{"$f":"Q164","v":"2018-19"},"2019-20",null,"Standard Dev.",null,null,null,"Pellissippi","2004-05","2005-06","2006-07","2007-08","2008-09","2009-10","2010-11","2011-12","2012-13","2013-14","2014-15","2015-16","2016-17","2017-18","2018-19","2019-20",null,null,null,null,"Pellissippi","2004-05","2005-06","2006-07","2007-08","2008-09","2009-10","2010-11","2011-12","2012-13","2013-14","2014-15","2015-16","2016-17","2017-18","2018-19","2019-20",null,null,null,null,"Pellissippi","2004-05","2005-06","2006-07","2007-08","2008-09","2009-10","2010-11","2011-12","2012-13","2013-14","2014-15","2015-16","2016-17","2017-18","2018-19","2019-20"]
[null,"Students Accumulating 12 hrs",{"$f":"Y188+AT188*$V$6+AT195*$V$8+AT202*$V$10","v":5014.7999999999993},5453.4,5681.8,6057.6,6624.2,7986.6,5282.2,5295.4000000000005,4868.2,4853.7999999999993,4405.5999999999995,4617,{"$f":"AK188+BF188*$V$6+BF195*$V$8+BF202*$V$10","v":4442.3999999999996},5156.2,4769.6000000000004,4769.6000000000004,null,977.71079318534191,null,null,null,"Students Accumulating 12 hrs",2806,3039,3195,3423,3689,4389,2943,3001,2823,2798,2549,2673,2590,2986,2812,{"$f":"AM188*(1+'Control Data'!$K10)","v":2812},null,null,null,"One Focus Pop Only","Students Accumulating 12 hrs",1023,1110,1182,1341,1394,1407,869,1002,978,1003,943,967,965,1055,991,{"$f":"BH188*(1+'Control Data'!$K$23)","v":991},null,null,null,"Adults","Students Accumulating 12 hrs",579,662,661,603,709,1049,791,697,596,506,378,358,303,612,506]
[null,"Students Accumulating 24 hrs",3623,3680.2,4004.4,4024,4546.3999999999996,5195.2,4557.4000000000005,4300.2,4170.6000000000004,4077.4,3969,4149.3999999999996,{"$f":"AK189+BF189*$V$6+BF196*$V$8+BF203*$V$10","v":3969.6},4561,4639.3999999999996,4639.3999999999996,null,465.28865353789212,null,null,null,"Students Accumulating 24 hrs",2016,2064,2228,2262,2513,2847,2490,2350,2346,2316,2297,2409,2315,2666,2724,{"$f":"AM189*(1+'Control Data'!$K11)","v":2724},null,null,null,null,"Students Accumulating 24 hrs",725,750,831,858,945,946,771,754,812,818,830,878,883,949,930,{"$f":"BH189*(1+'Control Data'!$K$23)","v":930},null,null,null,null,"Students Accumulating 24 hrs",511,462,541,534,592,775,819,700,610,541,473,402,350,535,623]
[null,"Students Accumulating 36 hrs",3622.2000000000003,2891.2,3134.6000000000004,3310.8,3367.8,3922.3999999999996,3880.6,3726.6,3563.8,3398.2000000000003,3361.2,3365.8,{"$f":"AK190+BF190*$V$6+BF197*$V$8+BF204*$V$10","v":3276.8},3611,3849.6,3849.6,null,327.57819829774991,null,null,null,"Students Accumulating 36 hrs",2024,1595,1724,1820,1842,2137,2092,2012,1947,1870,1915,1908,1884,2057,2199,{"$f":"AM190*(1+'Control Data'!$K12)","v":2199},null,null,null,null,"Students Accumulating 36 hrs",726,562,601,686,688,734,657,604,605,668,665,683,698,733,744,{"$f":"BH190*(1+'Control Data'!$K$23)","v":744},null,null,null,null,"Students Accumulating 36 hrs",502,456,504,515,522,671,787,727,640,545,478,426,356,500,613]
[null,"Dual Enrollment",{"$f":"Y191","v":169},249,582,675,829,1164,1245,1525,1213,1577,1619,1743,{"$f":"AK191","v":1777},{"$f":"AL191","v":1819},{"$f":"AM191","v":1838},{"$f":"AN191","v":1838},null,499.48836044719019,null,null,null,"Dual Enrollment",169,249,582,675,829,1164,1245,1525,1213,1577,1619,1743,1777,1819,1838,{"$f":"AM191*(1+'Control Data'!$K13)","v":1838},null,null,null,null,"Associates",231,202,218,230,217,260,320,322,352,383,384,442,424,452,447,{"$f":"BH191*(1+'Control Data'!$K$23)","v":447},null,null,null,null,"Associates",361,332,313,316,326,383,464,580,620,644,588,570,510,467,522]
[null,"Associates",{"$f":"Y192+$V$13*Y193+$V$6*(AT191+$V$13*AT192)+$V$8*(AT198+$V$13*AT199)+$V$10*(AT205+$V$13*AT206)","v":1244.3999999999999},1199.8,1174.5999999999999,1225.2,1245,1492.8,1757.2,2120,2370,2434,2425.1999999999998,2537.3000000000002,{"$f":"AK192+$V$13*AK193+$V$6*(BF191+$V$13*BF192)+$V$8*(BF198+$V$13*BF199)+$V$10*(BF205+$V$13*BF206)","v":2543.8000000000002},2517,2518.5,2518.5,null,501.77446062283104,null,null,null,"Associates",672,645,635,652,670,794,932,1101,1258,1286,1290,1296,1322,1312,1336,{"$f":"AM192*(1+'Control Data'!$K15)","v":1336},null,null,null,null,"Reverse Articulated Associates",0,0,0,0,0,0,0,0,0,0,0,42,49,50,44,{"$f":"BH192*(1+'Control Data'!$K$23)","v":44},null,null,null,null,"Reverse Articulated Associates",0,0,0,0,0,0,0,0,0,0,0,49,46,39,25]
[null,"1-2 Year Certificates",{"$f":"Y194+AT193*$V$6+AT200*$V$8+AT207*$V$10","v":0},0,0,0,0,0,0,0,0,0,6,40.799999999999997,{"$f":"AK194+BF193*$V$6+BF200*$V$8+BF207*$V$10","v":35.6},46,33.199999999999996,33.199999999999996,null,null,null,null,null,"Reverse Articulated Associates",0,0,0,0,0,0,0,0,0,0,0,135,131,145,125,{"$f":"AM193*(1+'Control Data'!$K16)","v":125},null,null,null,null,"1-2 Year Certificates",0,0,0,0,0,0,0,0,0,0,1,5,7,9,8,{"$f":"BH193*(1+'Control Data'!$K$23)","v":8},null,null,null,null,"1-2 Year Certificates",0,0,0,0,0,0,0,0,0,0,2,18,14,8,7]
[null,"<1yr Certificates",34.4,39.199999999999996,57,60.2,5.8,0,830,923,1006.8000000000001,798.4,1120.8,944.4,{"$f":"AK195+BF194*$V$6+BF201*$V$8+BF208*$V$10","v":797},1269.4000000000001,1074.2,1074.2,null,445.63918090261717,null,null,null,"1-2 Year Certificates",0,0,0,0,0,0,0,0,0,0,4,21,18,26,17,{"$f":"AM194*(1+'Control Data'!$K17)","v":17},null,null,null,null,"<1yr Certificates",7,11,12,7,1,0,162,153,159,138,193,163,145,225,188,{"$f":"BH194*(1+'Control Data'!$K$23)","v":188},null,null,null,null,"<1yr Certificates",10,12,18,23,3,0,290,313,304,233,351,254,206,368,337]
[null,"Job Placements",{"$f":"Y196","v":0},0,0,168,190,156,189,395,219,{"$f":"AH196","v":230},{"$f":"AI196","v":284},{"$f":"AJ196","v":309},{"$f":"AK196","v":338},{"$f":"AL196","v":372},{"$f":"AM196","v":369},{"$f":"AN196","v":369},null,100.73042761558716,null,null,null,"<1yr Certificates",18,21,30,30,3,0,435,493,524,421,583,501,424,676,569,{"$f":"AM195*(1+'Control Data'!$K18)","v":569},null,null,null,"Two Focus Pops Only","Students Accumulating 12 hrs",1046,1122,1144,1221,1364,1686,1002,978,832,885,831,898,874,905,806,{"$f":"BH195*(1+'Control Data'!$K$24)","v":806},null,null,null,"Low-Income","Students Accumulating 12 hrs",1604,1772,1823,1921,2218,2747,1786,1765,1567,1566,1383,1492,1397,1583,1433]
[null,"Transfers Out with 12 hrs",490,760,608,665,704,720,614,736,850,861,{"$f":"AI197","v":835},863,885,910,951,951,null,112.99537846989811,null,null,null,"Job Placements",null,null,null,168,190,156,189,395,219,230,284,309,338,372,369,{"$f":"AM196*(1+'Control Data'!$K19)","v":369},null,null,null,null,"Students Accumulating 24 hrs",739,709,790,736,897,1031,841,795,719,705,684,762,713,777,749,{"$f":"BH196*(1+'Control Data'!$K$24)","v":749},null,null,null,null,"Students Accumulating 24 hrs",1139,1208,1293,1301,1557,1806,1561,1524,1413,1382,1235,1313,1248,1427,1423]
[null,"Workforce Training (Contact Hours)",0,0,0,22230,19668,34325,62867,46118,45598,48273,49799,50016.149999999994,53090.499999999993,49117.8,49851.98,49851.98,null,15391.288630230014,null,null,null,"Transfers Out with 12 hrs",490,760,608,665,704,720,614,736,850,861,835,863,885,910,951,{"$f":"AM197*(1+'Control Data'!$K20)","v":951},null,null,null,null,"Students Accumulating 36 hrs",709,555,631,642,637,747,699,671,672,581,595,615,604,640,657,{"$f":"BH197*(1+'Control Data'!$K$24)","v":657},null,null,null,null,"Students Accumulating 36 hrs",1152,968,1036,1103,1162,1383,1387,1326,1254,1221,1095,1133,1064,1172,1209]
[null,"Awards per 100 FTE",13.839785263649281,13.696400005662596,12.966416640575016,12.532998436578927,12.278333323152294,12.450214821086963,13.194467384277065,15.407723920456402,18.680024154350257,19.850784666838177,21.063940617267875,22.630807538698765,24.058678869558769,22.26788824745957,22.216351108855672,22.216351108855672,null,2.6888839153098583,null,null,null,"Workforce Training (Contact Hours)",null,null,null,22230,19668,34325,62867,46118,45598,48273,49799,50016.149999999994,53090.499999999993,49117.8,49851.98,{"$f":"AM198*(1+'Control Data'!$K21)","v":49851.98},null,null,null,null,"Associates",210,236,208,232,255,282,298,393,432,430,456,422,456,442,454,{"$f":"BH198*(1+'Control Data'!$K$24)","v":454},null,null,null,null,"Associates",320,347,347,379,387,495,602,778,852,909,876,865,863,833,766]
[null,null,null,null,null,null,null,null,null,null,null,null,null,null,null,null,null,null,null,null,null,null,null,"Awards per 100 FTE",13.839785263649281,13.696400005662596,12.966416640575016,12.532998436578927,12.278333323152294,12.450214821086963,13.194467384277065,15.407723920456402,18.680024154350257,19.850784666838177,21.063940617267875,22.630807538698765,24.058678869558769,22.26788824745957,22.216351108855672,{"$f":"AM199*(1+'Control Data'!$K22)","v":22.216351108855672},null,null,null,null,"Reverse Articulated Associates",0,0,0,0,0,0,0,0,0,0,0,44,47,55,38,{"$f":"BH199*(1+'Control Data'!$K$24)","v":38},null,null,null,null,"Reverse Articulated Associates",0,0,0,0,0,0,0,0,0,0,0,89,86,89,73]
[null,null,null,null,null,null,null,null,null,null,null,null,null,null,null,null,null,null,null,null,null,null,null,null,null,null,null,null,null,null,null,null,null,null,null,null,null,null,null,null,null,null,null,null,"1-2 Year Certificates",0,0,0,0,0,0,0,0,0,0,0,11,6,8,5,{"$f":"BH200*(1+'Control Data'!$K$24)","v":5},null,null,null,null,"1-2 Year Certificates",0,0,0,0,0,0,0,0,0,0,1,10,9,17,13]
[null,null,null,null,null,null,null,null,null,null,null,null,null,null,null,null,null,null,null,null,null,null,null,null,null,null,null,null,null,null,null,null,null,null,null,null,null,null,null,null,null,null,null,null,"<1yr Certificates",6,7,9,15,2,0,143,166,184,141,201,187,137,243,200,{"$f":"BH201*(1+'Control Data'!$K$24)","v":200},null,null,null,null,"<1yr Certificates",11,8,15,17,0,0,246,275,337,268,347,300,239,388,321]
[null,null,null,null,null,null,null,null,null,null,null,null,null,null,null,null,null,null,null,null,null,null,null,null,null,null,null,null,null,null,null,null,null,null,null,null,null,null,null,null,null,null,null,"All Three Focus Pops","Students Accumulating 12 hrs",287,337,331,284,380,655,535,429,359,307,226,227,172,351,299,{"$f":"BH202*(1+'Control Data'!$K$25)","v":299},null,null,null,"Academically Underprepared","Students Accumulating 12 hrs",1793,1931,1979,2111,2335,2948,1901,1783,1556,1622,1522,1594,1529,1723,1561]
[null,null,null,null,null,null,null,null,null,null,null,null,null,null,null,null,null,null,null,null,null,null,null,null,null,null,null,null,null,null,null,null,null,null,null,null,null,null,null,null,null,null,null,null,"Students Accumulating 24 hrs",240,256,268,283,317,467,508,460,380,335,270,230,196,299,352,{"$f":"BH203*(1+'Control Data'!$K$25)","v":352},null,null,null,null,"Students Accumulating 24 hrs",1273,1266,1381,1344,1541,1828,1597,1500,1367,1310,1300,1377,1299,1438,1438]
[null,null,null,null,null,null,null,null,null,null,null,null,null,null,null,null,null,null,null,null,null,null,null,null,null,null,null,null,null,null,null,null,null,null,null,null,null,null,null,null,null,null,null,null,"Students Accumulating 36 hrs",257,243,249,250,282,376,470,467,384,344,266,247,192,273,332,{"$f":"BH204*(1+'Control Data'!$K$25)","v":332},null,null,null,null,"Students Accumulating 36 hrs",1261,977,1070,1102,1124,1302,1291,1294,1207,1096,1080,1095,1062,1160,1232]
[null,null,null,null,null,null,null,null,null,null,null,null,null,null,null,null,null,null,null,null,null,null,null,null,null,null,null,null,null,null,null,null,null,null,null,null,null,null,null,null,null,null,null,null,"Associates",148,131,131,131,122,174,226,307,332,343,310,287,256,226,220,{"$f":"BH205*(1+'Control Data'!$K$25)","v":220},null,null,null,null,"Associates",414,388,367,392,380,468,528,671,740,719,762,712,731,714,727]
[null,null,null,null,null,null,null,null,null,null,null,null,null,null,null,null,null,null,null,null,null,null,null,null,null,null,null,null,null,null,null,null,null,null,null,null,null,null,null,null,null,null,null,null,"Reverse Articulated Associates",0,0,0,0,0,0,0,0,0,0,0,25,18,17,13,{"$f":"BH206*(1+'Control Data'!$K$25)","v":13},null,null,null,null,"Reverse Articulated Associates",0,0,0,0,0,0,0,0,0,0,0,67,65,83,61]
[null,null,null,null,null,null,null,null,null,null,null,null,null,null,null,null,null,null,null,null,null,null,null,null,null,null,null,null,null,null,null,null,null,null,null,null,null,null,null,null,null,null,null,null,"1-2 Year Certificates",0,0,0,0,0,0,0,0,0,0,1,4,5,4,4,{"$f":"BH207*(1+'Control Data'!$K$25)","v":4},null,null,null,null,"1-2 Year Certificates",0,0,0,0,0,0,0,0,0,0,1,11,11,12,10]
[null,null,null,null,null,null,null,null,null,null,null,null,null,null,null,null,null,null,null,null,null,null,null,null,null,null,null,null,null,null,null,null,null,null,null,null,null,null,null,null,null,null,null,null,"<1yr Certificates",4,2,7,8,0,0,102,118,143,105,152,105,100,142,129,{"$f":"BH208*(1+'Control Data'!$K$25)","v":129},null,null,null,null,"<1yr Certificates",10,11,18,21,2,0,218,251,315,234,353,298,274,381,317]
[]
[null,"Roane","2004-05","2005-06","2006-07","2007-08","2008-09","2009-10","2010-11","2011-12","2012-13","2013-14","2014-15","2015-16","2016-17","2017-18",{"$f":"Q187","v":"2018-19"},"2019-20",null,"Standard Dev.",null,null,null,"Roane","2004-05","2005-06","2006-07","2007-08","2008-09","2009-10","2010-11","2011-12","2012-13","2013-14","2014-15","2015-16","2016-17","2017-18","2018-19","2019-20",null,null,null,null,"Roane","2004-05","2005-06","2006-07","2007-08","2008-09","2009-10","2010-11","2011-12","2012-13","2013-14","2014-15","2015-16","2016-17","2017-18","2018-19","2019-20",null,null,null,null,"Roane","2004-05","2005-06","2006-07","2007-08","2008-09","2009-10","2010-11","2011-12","2012-13","2013-14","2014-15","2015-16","2016-17","2017-18","2018-19","2019-20"]
[null,"Students Accumulating 12 hrs",{"$f":"Y211+AT211*$V$6+AT218*$V$8+AT225*$V$10","v":3421.2},3267.2000000000003,3625.2,3670.2000000000003,3764.8,4699.6000000000004,3357.2,3121.8,2970,2710,2710.4,2898.2000000000003,{"$f":"AK211+BF211*$V$6+BF218*$V$8+BF225*$V$10","v":2586.1999999999998},2747,2798.4,2798.4,null,550.73414477606843,null,null,null,"Students Accumulating 12 hrs",1808,1746,1925,1955,2029,2494,1784,1687,1642,1509,1518,1616,1450,1554,1591,{"$f":"AM211*(1+'Control Data'!$L10)","v":1591},null,null,null,"One Focus Pop Only","Students Accumulating 12 hrs",600,568,585,661,696,741,552,491,533,474,538,548,524,561,546,{"$f":"BH211*(1+'Control Data'!$L$23)","v":546},null,null,null,"Adults","Students Accumulating 12 hrs",509,427,467,413,458,671,531,429,341,264,235,238,193,193,315]
[null,"Students Accumulating 24 hrs",2345,2532.8000000000002,2633.6,2787.2,2765,3198.3999999999996,2682.6,2409.6,2355.1999999999998,2307.4,2166.4,2414.1999999999998,{"$f":"AK212+BF212*$V$6+BF219*$V$8+BF226*$V$10","v":2222},2243.2000000000003,2254.8000000000002,2254.8000000000002,null,277.79913526783287,null,null,null,"Students Accumulating 24 hrs",1214,1335,1391,1474,1462,1696,1414,1269,1256,1248,1184,1319,1227,1240,1263,{"$f":"AM212*(1+'Control Data'!$L11)","v":1263},null,null,null,null,"Students Accumulating 24 hrs",320,400,409,470,471,514,392,353,359,372,385,464,407,428,408,{"$f":"BH212*(1+'Control Data'!$L$23)","v":408},null,null,null,null,"Students Accumulating 24 hrs",419,376,366,366,352,464,441,395,362,302,268,258,222,218,308]
[null,"Students Accumulating 36 hrs",2815,2007.6,2045,2160.4,2221,2322.8000000000002,2256.8000000000002,2108.8000000000002,2103.6,1960.4,1810.8,1863.6000000000001,{"$f":"AK213+BF213*$V$6+BF220*$V$8+BF227*$V$10","v":2020.3999999999999},1921.6000000000001,2047.6,2047.6,null,245.58086154168356,null,null,null,"Students Accumulating 36 hrs",1497,1058,1083,1137,1170,1230,1189,1107,1111,1054,987,1015,1108,1066,1137,{"$f":"AM213*(1+'Control Data'!$L12)","v":1137},null,null,null,null,"Students Accumulating 36 hrs",496,311,342,341,367,385,330,310,314,324,297,339,371,364,371,{"$f":"BH213*(1+'Control Data'!$L$23)","v":371},null,null,null,null,"Students Accumulating 36 hrs",443,356,335,342,352,371,402,392,367,284,247,244,232,207,292]
[null,"Dual Enrollment",{"$f":"Y214","v":190},303,435,552,816,1023,1372,1655,1632,1691,1750,1777,{"$f":"AK214","v":1700},{"$f":"AL214","v":1740},{"$f":"AM214","v":1778},{"$f":"AN214","v":1778},null,589.68738422244644,null,null,null,"Dual Enrollment",190,303,435,552,816,1023,1372,1655,1632,1691,1750,1777,1700,1740,1778,{"$f":"AM214*(1+'Control Data'!$L13)","v":1778},null,null,null,null,"Associates",229,201,212,204,194,197,246,216,218,216,213,231,289,282,285,{"$f":"BH214*(1+'Control Data'!$L$23)","v":285},null,null,null,null,"Associates",367,390,389,348,326,361,417,438,422,401,372,382,331,342,312]
[null,"Associates",{"$f":"Y215+$V$13*Y216+$V$6*(AT214+$V$13*AT215)+$V$8*(AT221+$V$13*AT222)+$V$10*(AT228+$V$13*AT229)","v":1278.6000000000001},1261.5999999999999,1278.1999999999998,1181.6000000000001,1172,1277.8,1476.3999999999999,1553.8,1524.4,1539.1999999999998,1492.8000000000002,1738.8,{"$f":"AK215+$V$13*AK216+$V$6*(BF214+$V$13*BF215)+$V$8*(BF221+$V$13*BF222)+$V$10*(BF228+$V$13*BF229)","v":1643.1},1699.3999999999999,1722.7,1722.7,null,150.0470578037266,null,null,null,"Associates",682,659,671,620,617,676,771,804,787,798,787,882,861,898,923,{"$f":"AM215*(1+'Control Data'!$L15)","v":923},null,null,null,null,"Reverse Articulated Associates",0,0,0,0,0,0,0,0,0,0,0,33,10,20,13,{"$f":"BH215*(1+'Control Data'!$L$23)","v":13},null,null,null,null,"Reverse Articulated Associates",0,0,0,0,0,0,0,0,0,0,0,18,7,9,9]
[null,"1-2 Year Certificates",{"$f":"Y217+AT216*$V$6+AT223*$V$8+AT230*$V$10","v":7.6},64,87,52,15.8,51.800000000000004,118.4,172.2,151.4,194.2,185.8,152,{"$f":"AK217+BF216*$V$6+BF223*$V$8+BF230*$V$10","v":121.6},127,161.80000000000001,161.80000000000001,null,64.934048592912063,null,null,null,"Reverse Articulated Associates",0,0,0,0,0,0,0,0,0,0,0,74,36,47,38,{"$f":"AM216*(1+'Control Data'!$L16)","v":38},null,null,null,null,"1-2 Year Certificates",2,10,15,13,3,9,19,25,21,24,31,23,16,16,20,{"$f":"BH216*(1+'Control Data'!$L$23)","v":20},null,null,null,null,"1-2 Year Certificates",3,26,33,13,2,13,51,59,56,71,57,51,40,36,43]
[null,"<1yr Certificates",157.6,112,89.6,113,103.2,148,140.4,34.200000000000003,38.4,56.8,123.6,113.60000000000001,{"$f":"AK218+BF217*$V$6+BF224*$V$8+BF231*$V$10","v":100.39999999999999},302.60000000000002,142.20000000000002,142.20000000000002,null,44.375273395088904,null,null,null,"1-2 Year Certificates",4,32,45,28,9,28,60,91,77,99,95,77,61,66,87,{"$f":"AM217*(1+'Control Data'!$L17)","v":87},null,null,null,null,"<1yr Certificates",33,24,17,23,13,17,30,5,5,12,19,13,21,70,36,{"$f":"BH217*(1+'Control Data'!$L$23)","v":36},null,null,null,null,"<1yr Certificates",55,39,37,45,34,58,56,10,14,28,44,34,19,81,42]
[null,"Job Placements",{"$f":"Y219","v":0},0,0,432,375,360,427,427,333,315,285,318,{"$f":"AK219","v":321},{"$f":"AL219","v":320},{"$f":"AM219","v":302},{"$f":"AN219","v":302},null,32.341923257592455,null,null,null,"<1yr Certificates",83,59,45,58,52,74,73,17,19,29,66,61,53,161,81,{"$f":"AM218*(1+'Control Data'!$L18)","v":81},null,null,null,"Two Focus Pops Only","Students Accumulating 12 hrs",778,768,901,872,861,1104,720,688,622,607,558,635,561,593,545,{"$f":"BH218*(1+'Control Data'!$L$24)","v":545},null,null,null,"Low-Income","Students Accumulating 12 hrs",1201,1175,1344,1373,1371,1825,1260,1190,1078,1003,989,1050,940,974,918]
[null,"Transfers Out with 12 hrs",402,435,422,399,397,417,413,486,451,394,446,399,370,445,382,382,null,28.960509510557841,null,null,null,"Job Placements",null,null,null,432,375,360,427,427,333,315,285,318,321,320,302,{"$f":"AM219*(1+'Control Data'!$L19)","v":302},null,null,null,null,"Students Accumulating 24 hrs",545,585,631,660,643,676,583,515,506,511,450,508,481,488,429,{"$f":"BH219*(1+'Control Data'!$L$24)","v":429},null,null,null,null,"Students Accumulating 24 hrs",873,920,982,1044,1043,1244,1043,941,911,872,804,896,821,818,775]
[null,"Workforce Training (Contact Hours)",0,0,0,48554,47022,49275,94910,82250,116535,102286,79517,99351.450000000041,111294.39999999999,94935.239999999962,129488.46500130008,129488.46500130008,null,28944.717956328903,null,null,null,"Transfers Out with 12 hrs",402,435,422,399,397,417,413,486,451,394,446,399,370,445,382,{"$f":"AM220*(1+'Control Data'!$L20)","v":382},null,null,null,null,"Students Accumulating 36 hrs",572,426,440,489,497,480,457,431,427,424,381,365,420,394,387,{"$f":"BH220*(1+'Control Data'!$L$24)","v":387},null,null,null,null,"Students Accumulating 36 hrs",1006,720,745,802,822,883,888,823,820,757,672,701,752,707,723]
[null,"Awards per 100 FTE",18.789544321595194,20.023568503206864,20.262048278008887,18.115401818995082,17.377143227263055,17.214116879941315,19.127045627172219,21.917293846831992,22.40644531081163,24.728910126814924,25.83883442053045,29.20193115849964,27.268771454817969,30.675958332470437,30.34324133050248,30.34324133050248,null,2.4110428219426434,null,null,null,"Workforce Training (Contact Hours)",null,null,null,48554,47022,49275,94910,82250,116535,102286,79517,99351.450000000041,111294.39999999999,94935.239999999962,129488.46500130008,{"$f":"AM221*(1+'Control Data'!$L21)","v":129488.46500130008},null,null,null,null,"Associates",249,251,254,216,233,257,265,301,287,296,287,347,289,296,320,{"$f":"BH221*(1+'Control Data'!$L$24)","v":320},null,null,null,null,"Associates",352,378,378,373,373,417,496,556,577,602,562,640,584,602,618]
[null,null,null,null,null,null,null,null,null,null,null,null,null,null,null,null,null,null,null,null,null,null,null,"Awards per 100 FTE",18.789544321595194,20.023568503206864,20.262048278008887,18.115401818995082,17.377143227263055,17.214116879941315,19.127045627172219,21.917293846831992,22.40644531081163,24.728910126814924,25.83883442053045,29.20193115849964,27.268771454817969,30.675958332470437,30.34324133050248,{"$f":"AM222*(1+'Control Data'!$L22)","v":30.34324133050248},null,null,null,null,"Reverse Articulated Associates",0,0,0,0,0,0,0,0,0,0,0,24,13,13,11,{"$f":"BH222*(1+'Control Data'!$L$24)","v":11},null,null,null,null,"Reverse Articulated Associates",0,0,0,0,0,0,0,0,0,0,0,56,22,28,24]
[null,null,null,null,null,null,null,null,null,null,null,null,null,null,null,null,null,null,null,null,null,null,null,null,null,null,null,null,null,null,null,null,null,null,null,null,null,null,null,null,null,null,null,null,"1-2 Year Certificates",2,12,18,10,2,13,24,30,30,46,36,35,25,35,42,{"$f":"BH223*(1+'Control Data'!$L$24)","v":42},null,null,null,null,"1-2 Year Certificates",2,18,24,12,5,16,36,57,55,68,75,54,39,48,59]
[null,null,null,null,null,null,null,null,null,null,null,null,null,null,null,null,null,null,null,null,null,null,null,null,null,null,null,null,null,null,null,null,null,null,null,null,null,null,null,null,null,null,null,null,"<1yr Certificates",29,17,13,21,24,28,23,6,7,11,22,23,21,58,24,{"$f":"BH224*(1+'Control Data'!$L$24)","v":24},null,null,null,null,"<1yr Certificates",45,29,23,27,39,46,36,9,13,14,39,43,39,103,35]
[null,null,null,null,null,null,null,null,null,null,null,null,null,null,null,null,null,null,null,null,null,null,null,null,null,null,null,null,null,null,null,null,null,null,null,null,null,null,null,null,null,null,null,"All Three Focus Pops","Students Accumulating 12 hrs",296,249,276,262,265,424,343,295,233,179,170,174,130,126,188,{"$f":"BH225*(1+'Control Data'!$L$25)","v":188},null,null,null,"Academically Underprepared","Students Accumulating 12 hrs",1334,1249,1404,1405,1384,1725,1230,1133,1057,958,940,1052,903,958,967]
[null,null,null,null,null,null,null,null,null,null,null,null,null,null,null,null,null,null,null,null,null,null,null,null,null,null,null,null,null,null,null,null,null,null,null,null,null,null,null,null,null,null,null,null,"Students Accumulating 24 hrs",275,244,237,231,236,346,310,286,255,209,187,180,157,144,197,{"$f":"BH226*(1+'Control Data'!$L$25)","v":197},null,null,null,null,"Students Accumulating 24 hrs",943,1006,1034,1073,1070,1196,1004,905,863,847,774,866,797,800,774]
[null,null,null,null,null,null,null,null,null,null,null,null,null,null,null,null,null,null,null,null,null,null,null,null,null,null,null,null,null,null,null,null,null,null,null,null,null,null,null,null,null,null,null,null,"Students Accumulating 36 hrs",291,229,207,218,217,254,289,269,262,186,171,177,163,142,189,{"$f":"BH227*(1+'Control Data'!$L$25)","v":189},null,null,null,null,"Students Accumulating 36 hrs",1064,774,763,829,838,853,821,764,767,689,653,655,716,664,697]
[null,null,null,null,null,null,null,null,null,null,null,null,null,null,null,null,null,null,null,null,null,null,null,null,null,null,null,null,null,null,null,null,null,null,null,null,null,null,null,null,null,null,null,null,"Associates",137,159,153,152,139,156,203,230,230,227,207,214,193,199,181,{"$f":"BH228*(1+'Control Data'!$L$25)","v":181},null,null,null,null,"Associates",419,412,412,371,378,401,472,514,483,486,474,545,531,527,538]
[null,null,null,null,null,null,null,null,null,null,null,null,null,null,null,null,null,null,null,null,null,null,null,null,null,null,null,null,null,null,null,null,null,null,null,null,null,null,null,null,null,null,null,null,"Reverse Articulated Associates",0,0,0,0,0,0,0,0,0,0,0,10,3,5,8,{"$f":"BH229*(1+'Control Data'!$L$25)","v":8},null,null,null,null,"Reverse Articulated Associates",0,0,0,0,0,0,0,0,0,0,0,37,16,24,26]
[null,null,null,null,null,null,null,null,null,null,null,null,null,null,null,null,null,null,null,null,null,null,null,null,null,null,null,null,null,null,null,null,null,null,null,null,null,null,null,null,null,null,null,null,"1-2 Year Certificates",0,10,10,3,2,3,16,26,23,25,25,18,19,11,14,{"$f":"BH230*(1+'Control Data'!$L$25)","v":14},null,null,null,null,"1-2 Year Certificates",1,20,24,17,6,15,28,47,39,52,46,42,44,35,44]
[null,null,null,null,null,null,null,null,null,null,null,null,null,null,null,null,null,null,null,null,null,null,null,null,null,null,null,null,null,null,null,null,null,null,null,null,null,null,null,null,null,null,null,null,"<1yr Certificates",16,14,15,13,14,27,17,6,7,6,17,16,8,23,7,{"$f":"BH231*(1+'Control Data'!$L$25)","v":7},null,null,null,null,"<1yr Certificates",39,32,28,32,30,50,35,16,13,10,31,30,29,71,28]
[]
[null,"Southwest","2004-05","2005-06","2006-07","2007-08","2008-09","2009-10","2010-11","2011-12","2012-13","2013-14","2014-15","2015-16","2016-17","2017-18",{"$f":"Q210","v":"2018-19"},"2019-20",null,"Standard Dev.",null,null,null,"Southwest","2004-05","2005-06","2006-07","2007-08","2008-09","2009-10","2010-11","2011-12","2012-13","2013-14","2014-15","2015-16","2016-17","2017-18","2018-19","2019-20",null,null,null,null,"Southwest","2004-05","2005-06","2006-07","2007-08","2008-09","2009-10","2010-11","2011-12","2012-13","2013-14","2014-15","2015-16","2016-17","2017-18","2018-19","2019-20",null,null,null,null,"Southwest","2004-05","2005-06","2006-07","2007-08","2008-09","2009-10","2010-11","2011-12","2012-13","2013-14","2014-15","2015-16","2016-17","2017-18","2018-19","2019-20"]
[null,"Students Accumulating 12 hrs",{"$f":"Y234+AT234*$V$6+AT241*$V$8+AT248*$V$10","v":9182.6},10054,9795.8000000000011,7078.4,10521.2,12964.2,8028,7518.2,5530,6189.6,5797,5486,{"$f":"AK234+BF234*$V$6+BF241*$V$8+BF248*$V$10","v":4577},4735.3999999999996,4791.5999999999995,4791.5999999999995,null,2256.268588129034,null,null,null,"Students Accumulating 12 hrs",4746,5176,5062,3694,5453,6666,4127,3898,2976,3289,3124,2943,2427,2515,2524,{"$f":"AM234*(1+'Control Data'!$M10)","v":2524},null,null,null,"One Focus Pop Only","Students Accumulating 12 hrs",1119,1140,1059,900,1204,1300,831,844,798,815,841,785,644,585,599,{"$f":"BH234*(1+'Control Data'!$M$23)","v":599},null,null,null,"Adults","Students Accumulating 12 hrs",1533,1654,1549,1228,1632,2170,1497,1347,884,925,765,605,556,560,706]
[null,"Students Accumulating 24 hrs",7975.6,7451.5999999999995,7175.4,6758.4,7088,8840,6218,6017.8,4646.6000000000004,4630.2,4392.8,4312,{"$f":"AK235+BF235*$V$6+BF242*$V$8+BF249*$V$10","v":3692},3749,3885.4,3885.4,null,1354.6277743760811,null,null,null,"Students Accumulating 24 hrs",4088,3841,3686,3494,3650,4527,3186,3072,2446,2430,2321,2260,1934,1978,2040,{"$f":"AM235*(1+'Control Data'!$M11)","v":2040},null,null,null,null,"Students Accumulating 24 hrs",932,863,794,765,808,980,674,616,567,636,565,631,502,475,445,{"$f":"BH235*(1+'Control Data'!$M$23)","v":445},null,null,null,null,"Students Accumulating 24 hrs",1515,1389,1318,1190,1295,1739,1362,1346,922,922,769,624,512,535,659]
[null,"Students Accumulating 36 hrs",5984.6,4967.6000000000004,5074,4684.6000000000004,4813.8,5804.2000000000007,4638,4700,3754.4,3290.3999999999996,3267.4,3075.2000000000003,{"$f":"AK236+BF236*$V$6+BF243*$V$8+BF250*$V$10","v":3116.6},3046.8,3048.4,3048.4,null,818.40257656812298,null,null,null,"Students Accumulating 36 hrs",3081,2536,2593,2388,2457,2933,2348,2360,1911,1700,1694,1591,1613,1581,1595,{"$f":"AM236*(1+'Control Data'!$M12)","v":1595},null,null,null,null,"Students Accumulating 36 hrs",731,551,608,501,535,572,465,447,391,399,401,358,410,418,367,{"$f":"BH236*(1+'Control Data'!$M$23)","v":367},null,null,null,null,"Students Accumulating 36 hrs",1250,1133,1148,991,1089,1404,1152,1204,897,731,683,593,526,494,566]
[null,"Dual Enrollment",{"$f":"Y237","v":53},192,237,143,267,421,367,409,407,582,692,910,{"$f":"AK237","v":947},{"$f":"AL237","v":786},{"$f":"AM237","v":1012},{"$f":"AN237","v":1012},null,157.67603918583612,null,null,null,"Dual Enrollment",53,192,237,143,267,421,367,409,407,582,692,910,947,786,1012,{"$f":"AM237*(1+'Control Data'!$M13)","v":1012},null,null,null,null,"Associates",216,212,151,175,133,122,154,138,173,155,144,144,173,205,168,{"$f":"BH237*(1+'Control Data'!$M$23)","v":168},null,null,null,null,"Associates",494,580,547,523,420,445,607,586,630,579,449,418,490,481,381]
[null,"Associates",{"$f":"Y238+$V$13*Y239+$V$6*(AT237+$V$13*AT238)+$V$8*(AT244+$V$13*AT245)+$V$10*(AT251+$V$13*AT252)","v":1403.8},1594,1490,1454.2,1207.8,1338.1999999999998,1695,1629.6000000000001,1802.6000000000001,1688.4,1374.2,1435.3,{"$f":"AK238+$V$13*AK239+$V$6*(BF237+$V$13*BF238)+$V$8*(BF244+$V$13*BF245)+$V$10*(BF251+$V$13*BF252)","v":1799.3999999999999},1942.5,1584.2,1584.2,null,183.10148370052389,null,null,null,"Associates",725,809,745,733,609,664,841,808,897,839,690,685,854,922,759,{"$f":"AM238*(1+'Control Data'!$M15)","v":759},null,null,null,null,"Reverse Articulated Associates",0,0,0,0,0,0,0,0,0,0,0,10,13,22,17,{"$f":"BH238*(1+'Control Data'!$M$23)","v":17},null,null,null,null,"Reverse Articulated Associates",0,0,0,0,0,0,0,0,0,0,0,49,69,58,38]
[null,"1-2 Year Certificates",{"$f":"Y240+AT239*$V$6+AT246*$V$8+AT253*$V$10","v":59.4},50.6,36,85.800000000000011,83.199999999999989,110,119.39999999999999,93,124.39999999999999,63.6,62.4,27.799999999999997,{"$f":"AK240+BF239*$V$6+BF246*$V$8+BF253*$V$10","v":47.4},64.2,80.2,80.2,null,29.950655715322466,null,null,null,"Reverse Articulated Associates",0,0,0,0,0,0,0,0,0,0,0,77,111,122,88,{"$f":"AM239*(1+'Control Data'!$M16)","v":88},null,null,null,null,"1-2 Year Certificates",7,12,5,23,17,21,22,14,16,7,6,3,3,9,9,{"$f":"BH239*(1+'Control Data'!$M$23)","v":9},null,null,null,null,"1-2 Year Certificates",22,14,10,30,30,43,52,32,39,21,18,4,10,21,28]
[null,"<1yr Certificates",616.19999999999993,586,791.4,693.80000000000007,655.80000000000007,785.59999999999991,718.2,852.8,731.2,757.4,647.80000000000007,522.6,{"$f":"AK241+BF240*$V$6+BF247*$V$8+BF254*$V$10","v":664},403.4,450.4,450.4,null,82.730300777083542,null,null,null,"1-2 Year Certificates",32,28,18,46,44,58,63,49,63,32,33,14,24,32,40,{"$f":"AM240*(1+'Control Data'!$M17)","v":40},null,null,null,null,"<1yr Certificates",116,101,108,122,109,126,112,128,110,93,114,91,127,58,118,{"$f":"BH240*(1+'Control Data'!$M$23)","v":118},null,null,null,null,"<1yr Certificates",224,219,305,224,212,265,238,309,265,251,235,184,235,147,192]
[null,"Job Placements",{"$f":"Y242","v":0},0,0,599,435,393,366,366,401,382,345,356,{"$f":"AK242","v":263},{"$f":"AL242","v":263},{"$f":"AM242","v":348},{"$f":"AN242","v":348},null,84.305849088163356,null,null,null,"<1yr Certificates",326,303,403,360,338,406,374,432,377,383,337,268,340,205,236,{"$f":"AM241*(1+'Control Data'!$M18)","v":236},null,null,null,"Two Focus Pops Only","Students Accumulating 12 hrs",2423,2682,2719,1816,2917,3535,2065,1919,1378,1645,1525,1561,1270,1366,1288,{"$f":"BH241*(1+'Control Data'!$M$24)","v":1288},null,null,null,"Low-Income","Students Accumulating 12 hrs",3334,3783,3739,2591,4049,5111,3133,2926,1993,2385,2161,2039,1699,1807,1790]
[null,"Transfers Out with 12 hrs",765,844,809,574,559,589,675,778,773,728,700,682,676,681,626,626,null,103.74027397517555,null,null,null,"Job Placements",null,null,null,599,435,393,366,366,401,382,345,356,263,263,348,{"$f":"AM242*(1+'Control Data'!$M19)","v":348},null,null,null,null,"Students Accumulating 24 hrs",1990,1863,1851,1786,1840,2167,1438,1409,1099,1077,1105,1132,1006,971,989,{"$f":"BH242*(1+'Control Data'!$M$24)","v":989},null,null,null,null,"Students Accumulating 24 hrs",2934,2737,2693,2519,2696,3391,2365,2330,1724,1736,1652,1625,1389,1415,1497]
[null,"Workforce Training (Contact Hours)",0,0,0,58588,57015,45457,53210.899999999507,74172,75009,84906,66743,52041.860000000008,50546.5,44961,48608.25,48608.25,null,14142.399546372106,null,null,null,"Transfers Out with 12 hrs",765,844,809,574,559,589,675,778,773,728,700,682,676,681,626,{"$f":"AM243*(1+'Control Data'!$M20)","v":626},null,null,null,null,"Students Accumulating 36 hrs",1372,1170,1163,1171,1150,1336,1018,1026,813,730,769,773,794,739,729,{"$f":"BH243*(1+'Control Data'!$M$24)","v":729},null,null,null,null,"Students Accumulating 36 hrs",2141,1771,1829,1736,1768,2231,1750,1818,1442,1265,1253,1185,1185,1167,1160]
[null,"Awards per 100 FTE",10.148133252898987,11.339005093746612,10.472809128592736,11.221065064892038,8.6858592083852457,8.236555705126742,9.9516362221944981,9.4093104962670182,12.48006656035499,12.761468472384339,11.41044458122248,12.816947915399455,17.323073306817268,17.709357170690289,14.377242002694668,14.377242002694668,null,1.5010833693608783,null,null,null,"Workforce Training (Contact Hours)",null,null,null,58588,57015,45457,53210.899999999507,74172,75009,84906,66743,52041.860000000008,50546.5,44961,48608.25,{"$f":"AM244*(1+'Control Data'!$M21)","v":48608.25},null,null,null,null,"Associates",290,313,293,292,232,267,282,296,322,297,251,259,352,404,306,{"$f":"BH244*(1+'Control Data'!$M$24)","v":306},null,null,null,null,"Associates",364,451,467,435,384,460,607,593,654,616,498,506,635,675,569]
[null,null,null,null,null,null,null,null,null,null,null,null,null,null,null,null,null,null,null,null,null,null,null,"Awards per 100 FTE",10.148133252898987,11.339005093746612,10.472809128592736,11.221065064892038,8.6858592083852457,8.236555705126742,9.9516362221944981,9.4093104962670182,12.48006656035499,12.761468472384339,11.41044458122248,12.816947915399455,17.323073306817268,17.709357170690289,14.377242002694668,{"$f":"AM245*(1+'Control Data'!$M22)","v":14.377242002694668},null,null,null,null,"Reverse Articulated Associates",0,0,0,0,0,0,0,0,0,0,0,30,47,55,32,{"$f":"BH245*(1+'Control Data'!$M$24)","v":32},null,null,null,null,"Reverse Articulated Associates",0,0,0,0,0,0,0,0,0,0,0,67,96,103,64]
[null,null,null,null,null,null,null,null,null,null,null,null,null,null,null,null,null,null,null,null,null,null,null,null,null,null,null,null,null,null,null,null,null,null,null,null,null,null,null,null,null,null,null,null,"1-2 Year Certificates",11,7,8,13,16,22,28,22,27,14,15,9,15,13,21,{"$f":"BH246*(1+'Control Data'!$M$24)","v":21},null,null,null,null,"1-2 Year Certificates",15,13,12,17,20,25,26,28,40,23,21,12,19,24,28]
[null,null,null,null,null,null,null,null,null,null,null,null,null,null,null,null,null,null,null,null,null,null,null,null,null,null,null,null,null,null,null,null,null,null,null,null,null,null,null,null,null,null,null,null,"<1yr Certificates",111,105,146,139,143,142,137,154,127,150,120,99,118,86,66,{"$f":"BH247*(1+'Control Data'!$M$24)","v":66},null,null,null,null,"<1yr Certificates",156,164,240,201,204,257,226,296,241,277,201,169,218,137,112]
[null,null,null,null,null,null,null,null,null,null,null,null,null,null,null,null,null,null,null,null,null,null,null,null,null,null,null,null,null,null,null,null,null,null,null,null,null,null,null,null,null,null,null,"All Three Focus Pops","Students Accumulating 12 hrs",932,1070,973,707,990,1436,976,855,448,503,396,295,304,322,417,{"$f":"BH248*(1+'Control Data'!$M$25)","v":417},null,null,null,"Academically Underprepared","Students Accumulating 12 hrs",3894,4277,4128,2834,4327,5397,3259,2974,2021,2304,2153,2148,1841,1916,1930]
[null,null,null,null,null,null,null,null,null,null,null,null,null,null,null,null,null,null,null,null,null,null,null,null,null,null,null,null,null,null,null,null,null,null,null,null,null,null,null,null,null,null,null,null,"Students Accumulating 24 hrs",960,881,836,722,793,1135,879,870,540,512,429,346,292,350,417,{"$f":"BH249*(1+'Control Data'!$M$25)","v":417},null,null,null,null,"Students Accumulating 24 hrs",3343,3106,2993,2794,2876,3589,2460,2368,1739,1668,1641,1684,1489,1517,1518]
[null,null,null,null,null,null,null,null,null,null,null,null,null,null,null,null,null,null,null,null,null,null,null,null,null,null,null,null,null,null,null,null,null,null,null,null,null,null,null,null,null,null,null,null,"Students Accumulating 36 hrs",789,684,693,604,649,898,750,797,598,451,403,354,318,327,359,{"$f":"BH250*(1+'Control Data'!$M$25)","v":359},null,null,null,null,"Students Accumulating 36 hrs",2451,2039,2036,1928,1925,2303,1849,1868,1472,1216,1212,1188,1241,1216,1176]
[null,null,null,null,null,null,null,null,null,null,null,null,null,null,null,null,null,null,null,null,null,null,null,null,null,null,null,null,null,null,null,null,null,null,null,null,null,null,null,null,null,null,null,null,"Associates",180,252,276,241,217,258,374,346,371,357,265,248,286,276,250,{"$f":"BH251*(1+'Control Data'!$M$25)","v":250},null,null,null,null,"Associates",478,563,551,524,444,525,626,589,646,625,494,482,610,685,580]
[null,null,null,null,null,null,null,null,null,null,null,null,null,null,null,null,null,null,null,null,null,null,null,null,null,null,null,null,null,null,null,null,null,null,null,null,null,null,null,null,null,null,null,null,"Reverse Articulated Associates",0,0,0,0,0,0,0,0,0,0,0,35,46,40,30,{"$f":"BH252*(1+'Control Data'!$M$25)","v":30},null,null,null,null,"Reverse Articulated Associates",0,0,0,0,0,0,0,0,0,0,0,59,80,91,69]
[null,null,null,null,null,null,null,null,null,null,null,null,null,null,null,null,null,null,null,null,null,null,null,null,null,null,null,null,null,null,null,null,null,null,null,null,null,null,null,null,null,null,null,null,"1-2 Year Certificates",9,5,5,7,8,11,9,9,18,10,8,2,5,10,10,{"$f":"BH253*(1+'Control Data'!$M$25)","v":10},null,null,null,null,"1-2 Year Certificates",19,14,14,23,23,30,27,25,45,21,21,11,19,20,25]
[null,null,null,null,null,null,null,null,null,null,null,null,null,null,null,null,null,null,null,null,null,null,null,null,null,null,null,null,null,null,null,null,null,null,null,null,null,null,null,null,null,null,null,null,"<1yr Certificates",72,81,130,81,73,114,98,137,116,125,83,69,87,55,45,{"$f":"BH254*(1+'Control Data'!$M$25)","v":45},null,null,null,null,"<1yr Certificates",174,171,245,218,198,230,216,242,206,240,167,143,171,111,81]
[null,null,null,null,null,null,null,null,null,null,null,null,null,null,null,null,null,null,null,null,null,null,null,null,null,null,null,null,null,null,null,null,null,null,null,null,null,null,null,null,null,null,null,null,null,null,null,null,null,null,null,null,null,null,null,null,null,null,null,null,null,null,null,null,null,null,null,null,null,null,null,null,null,null,null,null,null,null,null,null,null,null,null," "]
[null,"Volunteer","2004-05","2005-06","2006-07","2007-08","2008-09","2009-10","2010-11","2011-12","2012-13","2013-14","2014-15","2015-16","2016-17","2017-18",{"$f":"Q233","v":"2018-19"},"2019-20",null,"Standard Dev.",null,null,null,"Volunteer","2004-05","2005-06","2006-07","2007-08","2008-09","2009-10","2010-11","2011-12","2012-13","2013-14","2014-15","2015-16","2016-17","2017-18","2018-19","2019-20",null,null,null,null,"Volunteer","2004-05","2005-06","2006-07","2007-08","2008-09","2009-10","2010-11","2011-12","2012-13","2013-14","2014-15","2015-16","2016-17","2017-18","2018-19","2019-20",null,null,null,null,"Volunteer","2004-05","2005-06","2006-07","2007-08","2008-09","2009-10","2010-11","2011-12","2012-13","2013-14","2014-15","2015-16","2016-17","2017-18","2018-19","2019-20"]
[null,"Students Accumulating 12 hrs",{"$f":"Y257+AT257*$V$6+AT264*$V$8+AT271*$V$10","v":4640.4000000000005},4721.2,5033,5341,5824.5999999999995,7280.8,4582.6000000000004,3871,3598.2000000000003,3556.4,3499.4,4082,{"$f":"AK257+BF257*$V$6+BF264*$V$8+BF271*$V$10","v":4349.2},4273.2,4452.8,4452.8,null,1139.0888922487336,null,null,null,"Students Accumulating 12 hrs",2504,2546,2730,2916,3145,3899,2469,2132,2037,2037,2033,2370,2531,2511,2603,{"$f":"AM257*(1+'Control Data'!$N10)","v":2603},null,null,null,"One Focus Pop Only","Students Accumulating 12 hrs",916,904,962,1052,1078,1214,806,724,738,741,748,936,950,937,880,{"$f":"BH257*(1+'Control Data'!$N$23)","v":880},null,null,null,"Adults","Students Accumulating 12 hrs",594,562,654,663,675,1158,724,543,414,376,340,272,290,310,545]
[null,"Students Accumulating 24 hrs",3531.2000000000003,3364.4,3348.2000000000003,3129,3563.2000000000003,4321.3999999999996,3394,3182.8,2940.8,2671.6,2691.7999999999997,3151,{"$f":"AK258+BF258*$V$6+BF265*$V$8+BF272*$V$10","v":3186.2000000000003},3197.2,3240,3240,null,445.51193225072916,null,null,null,"Students Accumulating 24 hrs",1856,1794,1777,1665,1891,2262,1781,1684,1597,1467,1498,1780,1786,1828,1834,{"$f":"AM258*(1+'Control Data'!$N11)","v":1834},null,null,null,null,"Students Accumulating 24 hrs",608,587,628,541,593,668,525,503,513,500,524,691,686,685,640,{"$f":"BH258*(1+'Control Data'!$N$23)","v":640},null,null,null,null,"Students Accumulating 24 hrs",566,470,477,466,533,723,633,576,473,379,354,302,297,310,435]
[null,"Students Accumulating 36 hrs",3483.3999999999996,2573,2671.6,2403.2000000000003,2611.6000000000004,2931.2,2831.7999999999997,2753.6,2536.1999999999998,2408.2000000000003,2327.2000000000003,2314.7999999999997,{"$f":"AK259+BF259*$V$6+BF266*$V$8+BF273*$V$10","v":2865.7999999999997},2789.3999999999996,2731.6000000000004,2731.6000000000004,null,321.02206293164431,null,null,null,"Students Accumulating 36 hrs",1869,1369,1422,1273,1374,1540,1490,1446,1365,1329,1280,1300,1601,1567,1545,{"$f":"AM259*(1+'Control Data'!$N12)","v":1545},null,null,null,null,"Students Accumulating 36 hrs",674,465,467,401,401,455,414,414,417,473,451,452,624,594,541,{"$f":"BH259*(1+'Control Data'!$N$23)","v":541},null,null,null,null,"Students Accumulating 36 hrs",545,440,466,431,482,538,555,569,454,402,357,323,302,296,378]
[null,"Dual Enrollment",{"$f":"Y260","v":602},908,1282,1353,1334,1351,1519,1566,1792,1961,1765,1736,{"$f":"AK260","v":2039},{"$f":"AL260","v":2153},{"$f":"AM260","v":2039},{"$f":"AN260","v":2039},null,394.52328476557932,null,null,null,"Dual Enrollment",602,908,1282,1353,1334,1351,1519,1566,1792,1961,1765,1736,2039,2153,2039,{"$f":"AM260*(1+'Control Data'!$N13)","v":2039},null,null,null,null,"Associates",212,228,242,193,208,194,201,193,199,222,251,276,332,371,379,{"$f":"BH260*(1+'Control Data'!$N$23)","v":379},null,null,null,null,"Associates",301,349,357,333,317,347,406,426,455,392,402,408,379,353,352]
[null,"Associates",{"$f":"Y261+$V$13*Y262+$V$6*(AT260+$V$13*AT261)+$V$8*(AT267+$V$13*AT268)+$V$10*(AT274+$V$13*AT275)","v":1048},1184.6000000000001,1253.3999999999999,1123.8,1161,1206.6000000000001,1399,1470.4,1532.6,1460,1559.3999999999999,1758.8,{"$f":"AK261+$V$13*AK262+$V$6*(BF260+$V$13*BF261)+$V$8*(BF267+$V$13*BF268)+$V$10*(BF274+$V$13*BF275)","v":1910.3},2002.8,2052.5,2052.5,null,166.78428516433382,null,null,null,"Associates",571,634,663,590,616,628,723,763,787,766,824,878,997,1055,1091,{"$f":"AM261*(1+'Control Data'!$N15)","v":1091},null,null,null,null,"Reverse Articulated Associates",0,0,0,0,0,0,0,0,0,0,0,28,25,40,44,{"$f":"BH261*(1+'Control Data'!$N$23)","v":44},null,null,null,null,"Reverse Articulated Associates",0,0,0,0,0,0,0,0,0,0,0,43,28,25,22]
[null,"1-2 Year Certificates",{"$f":"Y263+AT262*$V$6+AT269*$V$8+AT276*$V$10","v":119.6},98.399999999999991,114.6,93.399999999999991,126.8,138.20000000000002,159.6,173,143.80000000000001,158.19999999999999,153.6,149.79999999999998,{"$f":"AK263+BF262*$V$6+BF269*$V$8+BF276*$V$10","v":213.6},208.4,244.8,244.8,null,26.637183701651949,null,null,null,"Reverse Articulated Associates",0,0,0,0,0,0,0,0,0,0,0,110,80,97,106,{"$f":"AM262*(1+'Control Data'!$N16)","v":106},null,null,null,null,"1-2 Year Certificates",26,21,30,12,21,26,32,31,21,21,25,22,34,42,45,{"$f":"BH262*(1+'Control Data'!$N$23)","v":45},null,null,null,null,"1-2 Year Certificates",48,31,37,28,38,39,54,61,55,60,52,46,69,65,83]
[null,"<1yr Certificates",175.60000000000002,261.39999999999998,263.2,351,392.8,612,435.2,958.19999999999993,647.6,548.79999999999995,613.20000000000005,636,{"$f":"AK264+BF263*$V$6+BF270*$V$8+BF277*$V$10","v":569.6},458,425.6,425.6,null,232.57652886260431,null,null,null,"1-2 Year Certificates",62,53,60,48,65,73,82,88,73,79,79,79,112,112,131,{"$f":"AM263*(1+'Control Data'!$N17)","v":131},null,null,null,null,"<1yr Certificates",46,64,68,97,86,140,86,166,112,114,114,134,119,92,91,{"$f":"BH263*(1+'Control Data'!$N$23)","v":91},null,null,null,null,"<1yr Certificates",58,82,77,104,117,210,155,303,183,149,167,157,164,134,106]
[null,"Job Placements",{"$f":"Y265","v":0},0,0,344,335,392,278,387,309,452,323,334,{"$f":"AK265","v":335},{"$f":"AL265","v":368},{"$f":"AM265","v":382},{"$f":"AN265","v":382},null,55.241461309591124,null,null,null,"<1yr Certificates",99,140,143,193,212,332,228,508,343,294,325,343,302,242,233,{"$f":"AM264*(1+'Control Data'!$N18)","v":233},null,null,null,"Two Focus Pops Only","Students Accumulating 12 hrs",1028,1098,1093,1149,1354,1645,948,801,696,683,634,836,895,817,823,{"$f":"BH264*(1+'Control Data'!$N$24)","v":823},null,null,null,"Low-Income","Students Accumulating 12 hrs",1445,1470,1618,1746,1988,2501,1599,1309,1154,1180,1107,1329,1428,1331,1362,null,null,null," "]
[null,"Transfers Out with 12 hrs",547,572,533,572,472,522,536,627,595,569,576,536,559,639,635,635,null,42.742770668786136,null,null,null,"Job Placements",null,null,null,344,335,392,278,387,309,452,323,334,335,368,382,{"$f":"AM265*(1+'Control Data'!$N19)","v":382},null,null,null,null,"Students Accumulating 24 hrs",812,766,758,694,803,955,713,668,595,549,531,637,675,616,606,{"$f":"BH265*(1+'Control Data'!$N$24)","v":606},null,null,null,null,"Students Accumulating 24 hrs",1117,1101,1083,1037,1213,1529,1213,1156,1019,939,901,1067,1104,1029,1057]
[null,"Workforce Training (Contact Hours)",0,0,0,33785,56858,98468,71174,95564,74639,95794,97151,121639.4,167004.5,223649.5,271330.15000000002,271330.15000000002,null,23973.456898359433,null,null,null,"Transfers Out with 12 hrs",547,572,533,572,472,522,536,627,595,569,576,536,559,639,635,{"$f":"AM266*(1+'Control Data'!$N20)","v":635},null,null,null,null,"Students Accumulating 36 hrs",744,550,588,525,576,624,575,560,486,444,450,454,588,554,521,{"$f":"BH266*(1+'Control Data'!$N$24)","v":521},null,null,null,null,"Students Accumulating 36 hrs",1061,811,850,796,893,1028,1030,1011,894,816,813,775,1002,925,890]
[null,"Awards per 100 FTE",14.676672669237725,16.103701272825298,16.853932584269664,15.443579295598497,15.529980540014595,13.072748633981687,14.433938582545395,16.162217256158165,18.05736362491076,18.614111479069219,20.731613989439044,21.06110216993174,22.109901669627909,23.380395475879048,23.433479550077195,23.433479550077195,null,1.6675011557780826,null,null,null,"Workforce Training (Contact Hours)",null,null,null,33785,56858,98468,71174,95564,74639,95794,97151,121639.4,167004.5,223649.5,271330.15000000002,{"$f":"AM267*(1+'Control Data'!$N21)","v":271330.15000000002},null,null,null,null,"Associates",185,229,236,245,213,235,274,283,314,280,297,312,350,367,366,{"$f":"BH267*(1+'Control Data'!$N$24)","v":366},null,null,null,null,"Associates",239,285,335,315,339,379,460,507,537,493,545,592,650,654,635]
[null,null,null,null,null,null,null,null,null,null,null,null,null,null,null,null,null,null,null,null,null,null,null,"Awards per 100 FTE",14.676672669237725,16.103701272825298,16.853932584269664,15.443579295598497,15.529980540014595,13.072748633981687,14.433938582545395,16.162217256158165,18.05736362491076,18.614111479069219,20.731613989439044,21.06110216993174,22.109901669627909,23.380395475879048,23.433479550077195,{"$f":"AM268*(1+'Control Data'!$N22)","v":23.433479550077195},null,null,null,null,"Reverse Articulated Associates",0,0,0,0,0,0,0,0,0,0,0,38,31,31,33,{"$f":"BH268*(1+'Control Data'!$N$24)","v":33},null,null,null,null,"Reverse Articulated Associates",0,0,0,0,0,0,0,0,0,0,0,70,59,57,67,null,null,null," "]
[null,null,null,null,null,null,null,null,null,null,null,null,null,null,null,null,null,null,null,null,null,null,null,null,null,null,null,null,null,null,null,null,null,null,null,null,null,null,null,null,null,null,null,null,"1-2 Year Certificates",20,19,15,25,33,36,22,35,36,30,33,34,48,46,49,{"$f":"BH269*(1+'Control Data'!$N$24)","v":49},null,null,null,null,"1-2 Year Certificates",28,22,23,26,34,37,45,48,42,50,53,52,68,65,74,null,null,null," "]
[null,null,null,null,null,null,null,null,null,null,null,null,null,null,null,null,null,null,null,null,null,null,null,null,null,null,null,null,null,null,null,null,null,null,null,null,null,null,null,null,null,null,null,null,"<1yr Certificates",29,51,49,54,70,114,88,201,137,106,119,127,104,92,73,{"$f":"BH270*(1+'Control Data'!$N$24)","v":73},null,null,null,null,"<1yr Certificates",28,52,59,76,103,147,124,281,195,163,200,201,181,138,125]
[null,null,null,null,null,null,null,null,null,null,null,null,null,null,null,null,null,null,null,null,null,null,null,null,null,null,null,null,null,null,null,null,null,null,null,null,null,null,null,null,null,null,null,"All Three Focus Pops","Students Accumulating 12 hrs",313,295,367,362,386,638,434,299,229,203,195,106,136,163,269,{"$f":"BH271*(1+'Control Data'!$N$25)","v":269},null," ",null,"Academically Underprepared","Students Accumulating 12 hrs",1872,1953,1977,2027,2281,2759,1681,1371,1249,1160,1154,1325,1430,1419,1426]
[null,null,null,null,null,null,null,null,null,null,null,null,null,null,null,null,null,null,null,null,null,null,null,null,null,null,null,null,null,null,null,null,null,null,null,null,null,null,null,null,null,null,null,null,"Students Accumulating 24 hrs",314,279,259,281,329,475,400,357,282,213,203,151,147,171,240,{"$f":"BH272*(1+'Control Data'!$N$25)","v":240},null,null,null,null,"Students Accumulating 24 hrs",1491,1385,1361,1269,1440,1751,1305,1178,1057,919,940,1049,1076,1091,1080,null,null," "]
[null,null,null,null,null,null,null,null,null,null,null,null,null,null,null,null,null,null,null,null,null,null,null,null,null,null,null,null,null,null,null,null,null,null,null,null,null,null,null,null,null,null,null,null,"Students Accumulating 36 hrs",276,235,240,237,284,336,363,347,293,214,197,166,148,161,194,{"$f":"BH273*(1+'Control Data'!$N$25)","v":194},null,null,null,null,"Students Accumulating 36 hrs",1384,1019,1047,935,1030,1145,1068,995,920,785,772,760,940,964,897]
[null,null,null,null,null,null,null,null,null,null,null,null,null,null,null,null,null,null,null,null,null,null,null,null,null,null,null,null,null,null,null,null,null,null,null,null,null,null,null,null,null,null,null,null,"Associates",102,116,134,112,138,157,201,225,227,197,198,207,185,165,164,{"$f":"BH274*(1+'Control Data'!$N$25)","v":164},null,null,null,null,"Associates",348,400,424,371,392,409,486,501,516,488,492,521,558,593,616]
[null,null,null,null,null,null,null,null,null,null,null,null,null,null,null,null,null,null,null,null,null,null,null,null,null,null,null,null,null,null,null,null,null,null,null,null,null,null,null,null,null,null,null,null,"Reverse Articulated Associates",0,0,0,0,0,0,0,0,0,0,0,24,17,10,14,{"$f":"BH275*(1+'Control Data'!$N$25)","v":14},null,null,null,null,"Reverse Articulated Associates",0,0,0,0,0,0,0,0,0,0,0,63,51,50,63]
[null,null,null,null,null,null,null,null,null,null,null,null,null,null,null,null,null,null,null,null,null,null,null,null,null,null,null,null,null,null,null,null,null,null,null,null,null,null,null,null,null,null,null,null,"1-2 Year Certificates",14,8,13,9,10,7,25,21,15,27,18,16,22,14,24,{"$f":"BH276*(1+'Control Data'!$N$25)","v":24},null,null,null,null,"1-2 Year Certificates",32,30,39,35,45,43,52,55,41,52,40,40,59,46,58]
[null,null,null,null,null,null,null,null,null,null,null,null,null,null,null,null,null,null,null,null,null,null,null,null,null,null,null,null,null,null,null,null,null,null,null,null,null,null,null,null,null,null,null,null,"<1yr Certificates",9,16,14,22,35,45,42,97,65,48,65,49,57,42,39,{"$f":"BH277*(1+'Control Data'!$N$25)","v":39},null,null,null,null,"<1yr Certificates",45,80,72,91,111,146,109,275,203,158,180,177,153,130,123]
[null,null,null," "]
[null,"Walters","2004-05","2005-06","2006-07","2007-08","2008-09","2009-10","2010-11","2011-12","2012-13","2013-14","2014-15","2015-16","2016-17","2017-18",{"$f":"Q256","v":"2018-19"},"2019-20",null,"Standard Dev.",null,null,null,"Walters","2004-05","2005-06","2006-07","2007-08","2008-09","2009-10","2010-11","2011-12","2012-13","2013-14","2014-15","2015-16","2016-17","2017-18","2018-19","2019-20",null,null,null,null,"Walters","2004-05","2005-06","2006-07","2007-08","2008-09","2009-10","2010-11","2011-12","2012-13","2013-14","2014-15","2015-16","2016-17","2017-18","2018-19","2019-20",null,null,null,null,"Walters","2004-05","2005-06","2006-07","2007-08","2008-09","2009-10","2010-11","2011-12","2012-13","2013-14","2014-15","2015-16","2016-17","2017-18","2018-19","2019-20"]
[null,"Students Accumulating 12 hrs",{"$f":"Y280+AT280*$V$6+AT287*$V$8+AT294*$V$10","v":3518},3960.7999999999997,4014.6,4213.8,4546.2,5383.8,3723.2000000000003,3655.2,3478.8,3167.4,3039.6,3104.4,{"$f":"AK280+BF280*$V$6+BF287*$V$8+BF294*$V$10","v":3038.4},3119.8,3134.7999999999997,3134.7999999999997,null,644.52300674391574,null,null,null,"Students Accumulating 12 hrs",1869,2115,2163,2268,2444,2842,1988,1976,1927,1779,1749,1777,1726,1770,1800,{"$f":"AM280*(1+'Control Data'!$O10)","v":1800},null,null,null,"One Focus Pop Only","Students Accumulating 12 hrs",594,722,747,802,830,791,603,670,671,678,634,655,642,648,654,{"$f":"BH280*(1+'Control Data'!$O$23)","v":654},null,null,null,"Adults","Students Accumulating 12 hrs",499,522,490,535,548,782,546,525,354,269,188,225,193,206,306]
[null,"Students Accumulating 24 hrs",2600,2833,2845.6,2934.6,3236.4,3781.7999999999997,2829,2634.8,2430.7999999999997,2303.4,2117.6,2271,{"$f":"AK281+BF281*$V$6+BF288*$V$8+BF295*$V$10","v":2263.8000000000002},2316.1999999999998,2253.6,2253.6,null,427.08263108885416,null,null,null,"Students Accumulating 24 hrs",1345,1501,1516,1564,1715,1970,1474,1393,1311,1260,1182,1253,1259,1302,1268,{"$f":"AM281*(1+'Control Data'!$O11)","v":1268},null,null,null,null,"Students Accumulating 24 hrs",396,507,504,565,555,532,388,428,442,438,423,466,455,447,452,{"$f":"BH281*(1+'Control Data'!$O$23)","v":452},null,null,null,null,"Students Accumulating 24 hrs",489,400,392,379,460,586,478,395,310,227,185,194,154,170,260]
[null,"Students Accumulating 36 hrs",3035.6,2097.1999999999998,2229.6,2214.8000000000002,2532.1999999999998,2703.8,2549.6,2261.1999999999998,2077.6,2008,1891.6000000000001,1779.3999999999999,{"$f":"AK282+BF282*$V$6+BF289*$V$8+BF296*$V$10","v":1851.6000000000001},1960,2028.8000000000002,2028.8000000000002,null,328.15877187049921,null,null,null,"Students Accumulating 36 hrs",1626,1100,1178,1172,1342,1411,1329,1173,1112,1095,1036,991,1029,1099,1128,{"$f":"AM282*(1+'Control Data'!$O12)","v":1128},null,null,null,null,"Students Accumulating 36 hrs",560,355,383,399,457,416,352,329,333,389,348,371,373,395,383,{"$f":"BH282*(1+'Control Data'!$O$23)","v":383},null,null,null,null,"Students Accumulating 36 hrs",457,372,365,339,424,450,449,414,336,222,217,166,183,153,231]
[null,"Dual Enrollment",{"$f":"Y283","v":728},814,829,959,801,924,1011,1261,1407,1612,1590,1585,{"$f":"AK283","v":1696},{"$f":"AL283","v":1735},{"$f":"AM283","v":1849},{"$f":"AN283","v":1849},null,294.64524809034725," ",null," ","Dual Enrollment",728,814,829,959,801,924,1011,1261,1407,1612,1590,1585,1696,1735,1849,{"$f":"AM283*(1+'Control Data'!$O13)","v":1849},null,null,null,null,"Associates",172,202,185,195,172,217,221,220,249,247,243,265,243,292,346,{"$f":"BH283*(1+'Control Data'!$O$23)","v":346},null,null,null,null,"Associates",289,275,326,319,283,320,341,390,384,371,321,282,264,227,230]
[null,"Associates",{"$f":"Y284+$V$13*Y285+$V$6*(AT283+$V$13*AT284)+$V$8*(AT290+$V$13*AT291)+$V$10*(AT297+$V$13*AT298)","v":1062},1086,1154.5999999999999,1184,1074.8,1352.3999999999999,1375.8,1523.2,1604.2,1644.3999999999999,1538,1603.4,{"$f":"AK284+$V$13*AK285+$V$6*(BF283+$V$13*BF284)+$V$8*(BF290+$V$13*BF291)+$V$10*(BF297+$V$13*BF298)","v":1490.4},1512.4,1646.7,1646.7,null,223.14742511024733,null,null,null,"Associates",567,574,597,622,558,715,720,791,838,868,812,825,779,807,895,{"$f":"AM284*(1+'Control Data'!$O15)","v":895},null,null,null,null,"Reverse Articulated Associates",0,0,0,0,0,0,0,0,0,0,0,23,19,19,13,{"$f":"BH284*(1+'Control Data'!$O$23)","v":13},null,null,null,null,"Reverse Articulated Associates",0,0,0,0,0,0,0,0,0,0,0,22,19,14,9]
[null,"1-2 Year Certificates",{"$f":"Y286+AT285*$V$6+AT292*$V$8+AT299*$V$10","v":26},40.799999999999997,31.8,41.8,4.8,31.4,31.8,36.4,26.4,55,30.4,47,{"$f":"AK286+BF285*$V$6+BF292*$V$8+BF299*$V$10","v":21.599999999999998},84.6,121.6,121.6,null,13.019796892083654,null,null,null,"Reverse Articulated Associates",0,0,0,0,0,0,0,0,0,0,0,77,62,52,43,{"$f":"AM285*(1+'Control Data'!$O16)","v":43},null,null,null,null,"1-2 Year Certificates",3,10,6,10,1,5,5,5,10,8,3,7,3,7,21,{"$f":"BH285*(1+'Control Data'!$O$23)","v":21},null,null,null,null,"1-2 Year Certificates",7,13,10,15,2,12,10,13,11,22,12,19,6,30,29]
[null,"<1yr Certificates",531.79999999999995,560.6,501.2,477.2,450.20000000000005,544.6,606.79999999999995,557.6,553.79999999999995,625.20000000000005,864,512.79999999999995,{"$f":"AK287+BF286*$V$6+BF293*$V$8+BF300*$V$10","v":704.8},511.40000000000003,411.6,411.6,null,53.424958794763889,null,null,null,"1-2 Year Certificates",14,21,16,23,3,16,16,18,14,28,15,24,11,43,63,{"$f":"AM286*(1+'Control Data'!$O17)","v":63},null,null,null,null,"<1yr Certificates",129,127,126,103,97,109,108,102,88,104,129,94,138,112,91,{"$f":"BH286*(1+'Control Data'!$O$23)","v":91},null,null,null,null,"<1yr Certificates",177,184,145,163,144,162,210,196,174,189,242,154,192,149,114]
[null,"Job Placements",{"$f":"Y288","v":0},0,0,508,467,507,501,501,450,448,433,468,{"$f":"AK288","v":360},{"$f":"AL288","v":441},{"$f":"AM288","v":473},{"$f":"AN288","v":473},null,22.412793965352318,null,null,null,"<1yr Certificates",293,306,275,257,244,298,325,295,290,331,451,275,380,278,230,{"$f":"AM287*(1+'Control Data'!$O18)","v":230},null,null," ","Two Focus Pops Only","Students Accumulating 12 hrs",809,925,942,961,1041,1267,834,758,769,660,661,663,674,673,592,{"$f":"BH287*(1+'Control Data'!$O$24)","v":592},null,null,null,"Low-Income","Students Accumulating 12 hrs",1278,1390,1412,1510,1668,2097,1415,1355,1278,1156,1086,1095,1121,1148,1063]
[null,"Transfers Out with 12 hrs",325,421,398,399,334,383,409,479,393,459,390,416,404,424,438,438,null,47.805160111993487,null,null,null,"Job Placements",null,null,null,508,467,507,501,501,450,448,433,468,360,441,473,{"$f":"AM288*(1+'Control Data'!$O19)","v":473},null,null,null,null,"Students Accumulating 24 hrs",583,642,660,645,727,869,591,549,495,501,446,506,510,521,432,{"$f":"BH288*(1+'Control Data'!$O$24)","v":432},null,null,null,null,"Students Accumulating 24 hrs",916,983,1017,1041,1190,1496,1110,1014,908,874,796,845,846,874,786]
[null,"Workforce Training (Contact Hours)",0,0,0,32371,93412,88322,129099,197866,194026,66428,90554,85969.95,97361.900000000009,73269.200000000012,76143.000000000029,76143.000000000029,null,62813.822468379083,null,null,null,"Transfers Out with 12 hrs",325,421,398,399,334,383,409,479,393,459,390,416,404,424,438,{"$f":"AM289*(1+'Control Data'!$O20)","v":438},null,null,null,null,"Students Accumulating 36 hrs",640,436,474,486,521,576,525,441,404,411,396,356,385,419,406,{"$f":"BH289*(1+'Control Data'!$O$24)","v":406},null,null,null,null,"Students Accumulating 36 hrs",1080,760,792,787,902,1059,1000,894,790,744,722,658,682,729,760]
[null,"Awards per 100 FTE",16.135303265940902,16.514932830021095,16.840350909324005,17.733583833570087,14.197379853723966,16.124170079481203,15.983321751216122,18.942882565055179,21.484227248657238,24.673906059243077,24.022541102654969,25.491641613848305,23.520760915237403,24.523389602754683,27.0782075028336,27.0782075028336,null,3.1006477130305674,null,null,null,"Workforce Training (Contact Hours)",null,null,null,32371,93412,88322,129099,197866,194026,66428,90554,85969.95,97361.900000000009,73269.200000000012,76143.000000000029,{"$f":"AM290*(1+'Control Data'!$O21)","v":76143.000000000029},null,null,null,null,"Associates",205,204,202,226,204,267,269,273,273,298,282,292,286,278,276,{"$f":"BH290*(1+'Control Data'!$O$24)","v":276},null,null,null,null,"Associates",315,335,383,376,349,474,479,570,610,629,578,572,540,536,582]
[null,null,null,null,null,null,null,null,null,null,null,null,null,null,null,null,null,null,null,null,null,null,null,"Awards per 100 FTE",16.135303265940902,16.514932830021095,16.840350909324005,17.733583833570087,14.197379853723966,16.124170079481203,15.983321751216122,18.942882565055179,21.484227248657238,24.673906059243077,24.022541102654969,25.491641613848305,23.520760915237403,24.523389602754683,27.0782075028336,{"$f":"AM291*(1+'Control Data'!$O22)","v":27.0782075028336},null,null,null,null,"Reverse Articulated Associates",0,0,0,0,0,0,0,0,0,0,0,31,20,12,18,{"$f":"BH291*(1+'Control Data'!$O$24)","v":18},null,null,null,null,"Reverse Articulated Associates",0,0,0,0,0,0,0,0,0,0,0,55,47,33,31]
[null,null,null,null,null,null,null,null,null,null,null,null,null,null,null,null,null,null,null,null,null,null,null,null,null,null,null,null,null,null," ",null,null,null,null,null,null,null,null,null,null,null,null,null,"1-2 Year Certificates",6,7,5,6,1,9,7,6,2,11,7,9,7,24,31,{"$f":"BH292*(1+'Control Data'!$O$24)","v":31},null,null,null,null,"Reverse Articulated Associates",0,0,0,0,0,0,0,0,0,16,11,17,8,32,45]
[null,null,null,null,null,null,null,null,null,null,null,null,null,null,null,null,null,null,null,null,null,null,null,null,null,null,null,null,null,null,null,null,null,null,null,null,null,null,null,null,null,null,null,null,"<1yr Certificates",102,105,87,91,83,103,115,121,119,139,173,99,158,103,68,{"$f":"BH293*(1+'Control Data'!$O$24)","v":68},null,null,null,null,"<1yr Certificates",118,136,120,122,135,170,179,172,197,200,313,161,230,152,120]
[null,null,null,null,null,null,null,null,null,null,null,null,null,null,null,null,null,null,null,null,null,null,null,null,null,null,null,null,null,null,null,null,null,null,null,null,null,null,null,null,null,null,null,"All Three Focus Pops","Students Accumulating 12 hrs",304,286,260,286,331,535,349,321,205,155,102,117,104,132,183,{"$f":"BH294*(1+'Control Data'!$O$25)","v":183},null,null,null,"Academically Underprepared","Students Accumulating 12 hrs",1347,1518,1509,1537,1689,2051,1357,1269,1192,1038,988,1012,988,1036,1018]
[null,null,null,null,null,null,null,null,null,null,null,null,null,null,null,null,null,null,null,null,null,null,null,null,null,null,null,null,null,null,null,null,null,null,null,null,null,null,null,null,null,null,null,null,"Students Accumulating 24 hrs",296,237,222,228,292,431,378,292,226,160,126,116,109,113,160,{"$f":"BH295*(1+'Control Data'!$O$25)","v":160},null,null,null,null,"Students Accumulating 24 hrs",1045,1119,1081,1119,1235,1481,1116,993,892,819,712,787,802,784,750]
[null,null,null,null,null,null,null,null,null,null,null,null,null,null,null,null,null,null,null,null,null,null,null,null,null,null,null," ",null,null,null,null,null,null,null,null,null,null,null,null,null,null,null,null,"Students Accumulating 36 hrs",268,231,226,198,253,320,345,320,246,159,151,113,116,105,157,{"$f":"BH296*(1+'Control Data'!$O$25)","v":157},null,null,null,null,"Students Accumulating 36 hrs",1107,788,852,839,932,1019,988,863,753,722,654,598,626,666,675]
[null,null,null,null,null,null,null,null,null,null,null,null,null,null,null,null,null,null,null,null,null,null,null,null,null,null,null,null,null,null,null,null," ",null,null,null,null,null,null,null,null,null,null,null,"Associates",127,122,173,150,146,164,175,236,245,234,208,169,146,123,133,{"$f":"BH297*(1+'Control Data'!$O$25)","v":133},null,null,null,null,"Associates",359,366,399,402,386,449,464,514,536,545,532,502,449,454,485]
[null," ",null," ",null,null,null,null,null,null,null,null,null,null,null,null,null,null,null,null,null,null,null,null,null,null,null,null,null,null,null,null,null,null,null,null,null,null,null,null,null,null,null,null,"Reverse Articulated Associates",0,0,0,0,0,0,0,0,0,0,0,14,12,11,6,{"$f":"BH298*(1+'Control Data'!$O$25)","v":6},null,null,null,null,"Reverse Articulated Associates",0,0,0,0,0,0,0,0,0,0,0,50,29,29,27]
[null,null,null,null,null,null,null," ",null,null,null,null,null,null,null,null,null,null,null,null,null,null,null,null,null,null,null,null,null,null,null,null,null,null,null,null,null,null,null,null,null,null,null,null,"1-2 Year Certificates",3,4,5,4,0,2,4,7,2,8,5,7,1,10,9,{"$f":"BH299*(1+'Control Data'!$O$25)","v":9},null,null,null,null,"1-2 Year Certificates",9,15,12,13,1,10,11,12,5,16,9,10,6,23,36]
[null,null,null,null,null,null,null,null,null,null,null,null,null,null,null,null,null,null,null,null,null,null,null,null,null,null,null,null,null,null,null,null,null,null,null,null,null,null,null,null,null,null,null,null,"<1yr Certificates",28,40,32,39,38,47,67,50,62,60,114,53,47,34,34,{"$f":"BH300*(1+'Control Data'!$O$25)","v":34},null,null,null,null,"<1yr Certificates",122,137,131,117,98,124,150,126,141,173,262,136,173,119,95]
[null,null,null,null,null,null,null,null,null,null,null,null,null,null,null,null,null,null,null,null,"Mathematically Derived Scales","2010-15 Scale Comparison",null,null,null,null,null,null,null,null,null,null,null,null,null,null,null,null,null,null,null,null,null,null," ",null,null,null,null,null,null,null,null,null," "]
[null,"TOTAL","2004-05","2005-06","2006-07","2007-08","2008-09","2009-10","2010-11","2011-12","2012-13","2013-14","2014-15","2015-16","2016-17","2017-18",{"$f":"Q279","v":"2018-19"},"2019-20",null,"Average",null,null,null,"TOTAL","2004-05","2005-06","2006-07","2007-08","2008-09","2009-10","2010-11","2011-12","2012-13","2013-14","2014-15","2015-16","2016-17",{"$f":"AL279","v":"2017-18"},{"$f":"AM279","v":"2018-19"},{"$f":"AN279","v":"2019-20"},null,null,null,null,"Total","2004-05","2005-06","2006-07","2007-08","2008-09","2009-10","2010-11","2011-12","2012-13","2013-14","2014-15","2015-16","2016-17",{"$f":"BG279","v":"2017-18"},{"$f":"BH279","v":"2018-19"},{"$f":"BI279","v":"2019-20"},null,null,null,null,"Total","2004-05","2005-06","2006-07","2007-08","2008-09","2009-10","2010-11","2011-12","2012-13","2013-14","2014-15","2015-16","2016-17",{"$f":"CB279","v":"2017-18"},{"$f":"CC279","v":"2018-19"},"2019-20"]
[null,"Students Accumulating 12 hrs",{"$f":"SUM(C4,C27,C50,C73,C96,C119,C142,C165,C188,C211,C234,C257,C280)","v":50997.2},54409,55879.199999999997,55175.200000000004,62151.999999999993,75385,50588.19999999999,46860.799999999996,43095.4,42625.4,40859.4,43681.200000000004,{"$f":"SUM(O4,O27,O50,O73,O96,O119,O142,O165,O188,O211,O234,O257,O280)","v":40845.799999999996},41551,42164.80000000001,42164.80000000001,null,{"$f":"AVERAGE(T4,T27,T50,T73,T96,T119,T142,T165,T188,T211,T234,T257,T280)","v":794.37130124862824},{"$f":"T303/$T$307*1.5","v":6.1153814559024831},2,null,"Students Accumulating 12 hrs",{"$f":"SUM(Y4,Y27,Y50,Y73,Y96,Y119,Y142,Y165,Y188,Y211,Y234,Y257,Y280)","v":27141},29002,29857,29650,33227,39747,26837,25200,{"$f":"SUM(AG4,AG27,AG50,AG73,AG96,AG119,AG142,AG165,AG188,AG211,AG234,AG257,AG280)","v":23772},23648,23034,24644,{"$f":"SUM(AK4,AK27,AK50,AK73,AK96,AK119,AK142,AK165,AK188,AK211,AK234,AK257,AK280)","v":23055},{"$f":"SUM(AL4,AL27,AL50,AL73,AL96,AL119,AL142,AL165,AL188,AL211,AL234,AL257,AL280)","v":23649},24111,{"$f":"SUM(AN4,AN27,AN50,AN73,AN96,AN119,AN142,AN165,AN188,AN211,AN234,AN257,AN280)","v":24111},null,null,null,"One Focus Pop Only","Students Accumulating 12 hrs",{"$f":"SUM(AT4,AT27,AT50,AT73,AT96,AT119,AT142,AT165,AT188,AT211,AT234,AT257,AT280)","v":8554},9063,9177,9607,10201,10636,7298,7253,7517,7651,7806,{"$f":"SUM(BE4,BE27,BE50,BE73,BE96,BE119,BE142,BE165,BE188,BE211,BE234,BE257,BE280)","v":8739},8251,8275,{"$f":"SUM(BH4,BH27,BH50,BH73,BH96,BH119,BH142,BH165,BH188,BH211,BH234,BH257,BH280)","v":7937},7937,null,null,null,"Adults","Students Accumulating 12 hrs",{"$f":"SUM(BO4,BO27,BO50,BO73,BO96,BO119,BO142,BO165,BO188,BO211,BO234,BO257,BO280)","v":7506},7719,7712,7445,8312,11770,8607,7404,6033,5270,4334,3754,3433,3609,{"$f":"SUM(CC4,CC27,CC50,CC73,CC96,CC119,CC142,CC165,CC188,CC211,CC234,CC257,CC280)","v":4961},0]
[null,"Students Accumulating 24 hrs",{"$f":"SUM(C5,C28,C51,C74,C97,C120,C143,C166,C189,C212,C235,C258,C281)","v":38702.199999999997},39065,40127.199999999997,39405.799999999996,42308.6,51197,40231.799999999996,37855.4,34586.6,33054.800000000003,31730.6,34373.800000000003,{"$f":"SUM(O5,O28,O51,O74,O97,O120,O143,O166,O189,O212,O235,O258,O281)","v":32500},32601.8,33415,33415,null,428.41393338287503,3.2980982816748003,2,null,"Students Accumulating 24 hrs",20230,20665,21196,20874,22362,26770,21007,19858,18497,17842,17381,18934,{"$f":"SUM(AK5,AK28,AK51,AK74,AK97,AK120,AK143,AK166,AK189,AK212,AK235,AK258,AK281)","v":17959},{"$f":"SUM(AL5,AL28,AL51,AL74,AL97,AL120,AL143,AL166,AL189,AL212,AL235,AL258,AL281)","v":18207},18676,{"$f":"SUM(AN5,AN28,AN51,AN74,AN97,AN120,AN143,AN166,AN189,AN212,AN235,AN258,AN281)","v":18676},null,null,null,null,"Students Accumulating 24 hrs",{"$f":"SUM(AT5,AT28,AT51,AT74,AT97,AT120,AT143,AT166,AT189,AT212,AT235,AT258,AT281)","v":5776},6179,6400,6308,6717,7257,5530,5256,5323,5403,5545,{"$f":"SUM(BE5,BE28,BE51,BE74,BE97,BE120,BE143,BE166,BE189,BE212,BE235,BE258,BE281)","v":6644},6195,6237,{"$f":"SUM(BH5,BH28,BH51,BH74,BH97,BH120,BH143,BH166,BH189,BH212,BH235,BH258,BH281)","v":6020},6020,null,null,null,null,"Students Accumulating 24 hrs",{"$f":"SUM(BO5,BO28,BO51,BO74,BO97,BO120,BO143,BO166,BO189,BO212,BO235,BO258,BO281)","v":6982},6352,6492,6177,6772,8991,7987,7275,6050,5348,4489,3873,3326,3473,{"$f":"SUM(CC5,CC28,CC51,CC74,CC97,CC120,CC143,CC166,CC189,CC212,CC235,CC258,CC281)","v":4612},0]
[null,"Students Accumulating 36 hrs",{"$f":"SUM(C6,C29,C52,C75,C98,C121,C144,C167,C190,C213,C236,C259,C282)","v":37428.6},29240.2,30504.6,29547.599999999999,31722.399999999998,36852,33150.799999999996,32112.799999999996,29423.399999999998,27754.000000000004,26521.200000000001,26316.799999999999,{"$f":"SUM(O6,O29,O52,O75,O98,O121,O144,O167,O190,O213,O236,O259,O282)","v":27799.999999999996},27807.399999999994,28559.8,28559.8,null,301.42648825775046,2.3204991843383742,2,null,"Students Accumulating 36 hrs",19949,15402,16072,15554,16670,19246,17282,16673,15524,14828,14369,14369,{"$f":"SUM(AK6,AK29,AK52,AK75,AK98,AK121,AK144,AK167,AK190,AK213,AK236,AK259,AK282)","v":15254},{"$f":"SUM(AL6,AL29,AL52,AL75,AL98,AL121,AL144,AL167,AL190,AL213,AL236,AL259,AL282)","v":15337},15784,{"$f":"SUM(AN6,AN29,AN52,AN75,AN98,AN121,AN144,AN167,AN190,AN213,AN236,AN259,AN282)","v":15784},null,null,null,null,"Students Accumulating 36 hrs",{"$f":"SUM(AT6,AT29,AT52,AT75,AT98,AT121,AT144,AT167,AT190,AT213,AT236,AT259,AT282)","v":6377},4579,4783,4616,4825,5301,4569,4294,4206,4394,4351,{"$f":"SUM(BE6,BE29,BE52,BE75,BE98,BE121,BE144,BE167,BE190,BE213,BE236,BE259,BE282)","v":4593},5247,5257,{"$f":"SUM(BH6,BH29,BH52,BH75,BH98,BH121,BH144,BH167,BH190,BH213,BH236,BH259,BH282)","v":5117},5117,null,null,null,null,"Students Accumulating 36 hrs",{"$f":"SUM(BO6,BO29,BO52,BO75,BO98,BO121,BO144,BO167,BO190,BO213,BO236,BO259,BO282)","v":6464},5676,5845,5503,6081,7431,7077,7087,6005,5129,4492,3901,3480,3373,{"$f":"SUM(CC6,CC29,CC52,CC75,CC98,CC121,CC144,CC167,CC190,CC213,CC236,CC259,CC282)","v":4301},0]
[null,"Dual Enrollment",{"$f":"SUM(C7,C30,C53,C76,C99,C122,C145,C168,C191,C214,C237,C260,C283)","v":3576},4633,6377,7634,9277,10738,12090,13043,13550,16027,17281,17699,{"$f":"SUM(O7,O30,O53,O76,O99,O122,O145,O168,O191,O214,O237,O260,O283)","v":18409},19270,19804,19804,null,327.56393424250939,2.5217154823448649,2,null,"Dual Enrollment",3576,4633,6377,7634,9277,10738,12090,13043,13550,16027,17281,17699,{"$f":"SUM(AK7,AK30,AK53,AK76,AK99,AK122,AK145,AK168,AK191,AK214,AK237,AK260,AK283)","v":18409},{"$f":"SUM(AL7,AL30,AL53,AL76,AL99,AL122,AL145,AL168,AL191,AL214,AL237,AL260,AL283)","v":19270},19804,{"$f":"SUM(AN7,AN30,AN53,AN76,AN99,AN122,AN145,AN168,AN191,AN214,AN237,AN260,AN283)","v":19804},null,null,null,null,"Associates",{"$f":"SUM(AT7,AT30,AT53,AT76,AT99,AT122,AT145,AT168,AT191,AT214,AT237,AT260,AT283)","v":2188},2168,2077,1989,1981,2099,2357,2368,2385,2527,2482,{"$f":"SUM(BE7,BE30,BE53,BE76,BE99,BE122,BE145,BE168,BE191,BE214,BE237,BE260,BE283)","v":2728},3025,3411,{"$f":"SUM(BH7,BH30,BH53,BH76,BH99,BH122,BH145,BH168,BH191,BH214,BH237,BH260,BH283)","v":3556},3556,null,null,null,null,"Associates",{"$f":"SUM(BO7,BO30,BO53,BO76,BO99,BO122,BO145,BO168,BO191,BO214,BO237,BO260,BO283)","v":3836},3871,3934,3826,3717,4112,4672,5188,5267,5177,4688,4421,4086,3980,{"$f":"SUM(CC7,CC30,CC53,CC76,CC99,CC122,CC145,CC168,CC191,CC214,CC237,CC260,CC283)","v":3870},0]
[null,"Associates",{"$f":"SUM(C8,C31,C54,C77,C100,C123,C146,C169,C192,C215,C238,C261,C284)","v":12737.8},12942.400000000001,13140,12887.8,12949.999999999998,14482.8,16060.199999999999,17673.8,17970.399999999998,18373,17509.199999999997,18645.8,{"$f":"SUM(O8,O31,O54,O77,O100,O123,O146,O169,O192,O215,O238,O261,O284)","v":19242},20539.399999999998,20352.7,20352.7,null,194.84589153843669,1.5,1.5,null,"Associates",6763,6818,6886,6716,6760,7536,8312,9087,9261,9501,9157,9400,{"$f":"SUM(AK8,AK31,AK54,AK77,AK100,AK123,AK146,AK169,AK192,AK215,AK238,AK261,AK284)","v":9889},{"$f":"SUM(AL8,AL31,AL54,AL77,AL100,AL123,AL146,AL169,AL192,AL215,AL238,AL261,AL284)","v":10612},10690,{"$f":"SUM(AN8,AN31,AN54,AN77,AN100,AN123,AN146,AN169,AN192,AN215,AN238,AN261,AN284)","v":10690},null,null,null,null,"Reverse Articulated Associates",{"$f":"SUM(AT8,AT31,AT54,AT77,AT100,AT123,AT146,AT169,AT192,AT215,AT238,AT261,AT284)","v":0},0,0,0,0,0,0,0,0,0,0,{"$f":"SUM(BE8,BE31,BE54,BE77,BE100,BE123,BE146,BE169,BE192,BE215,BE238,BE261,BE284)","v":243},211,285,{"$f":"SUM(BH8,BH31,BH54,BH77,BH100,BH123,BH146,BH169,BH192,BH215,BH238,BH261,BH284)","v":264},264,null,null,null,null,"Reverse Articulated Associates",{"$f":"SUM(BO8,BO31,BO54,BO77,BO100,BO123,BO146,BO169,BO192,BO215,BO238,BO261,BO284)","v":0},0,0,0,0,0,0,0,0,0,0,349,319,304,{"$f":"SUM(CC8,CC31,CC54,CC77,CC100,CC123,CC146,CC169,CC192,CC215,CC238,CC261,CC284)","v":217},0]
[null,"1-2 Year Certificates",{"$f":"SUM(C9,C32,C55,C78,C101,C124,C147,C170,C193,C216,C239,C262,C285)","v":893.00000000000011},1055.2,835.19999999999993,886.19999999999993,982.99999999999977,1208.4000000000001,1181.7999999999997,1500.0000000000002,1556.6000000000004,1551.6000000000001,1445.0000000000002,1374.6,{"$f":"SUM(O9,O32,O55,O78,O101,O124,O147,O170,O193,O216,O239,O262,O285)","v":1467.1999999999998},1602.8,1670,1670,null,42.499393363447261,0.32717697838958687,1.5,null,"Reverse Articulated Associates",0,0,0,0,0,0,0,0,0,0,0,884,{"$f":"SUM(AK9,AK32,AK55,AK78,AK101,AK124,AK147,AK170,AK193,AK216,AK239,AK262,AK285)","v":786},{"$f":"SUM(AL9,AL32,AL55,AL78,AL101,AL124,AL147,AL170,AL193,AL216,AL239,AL262,AL285)","v":945},806,{"$f":"SUM(AN9,AN32,AN55,AN78,AN101,AN124,AN147,AN170,AN193,AN216,AN239,AN262,AN285)","v":806},null,null,null,null,"1-2 Year Certificates",{"$f":"SUM(AT9,AT32,AT55,AT78,AT101,AT124,AT147,AT170,AT193,AT216,AT239,AT262,AT285)","v":220},237,202,174,194,216,220,241,243,227,212,{"$f":"SUM(BE9,BE32,BE55,BE78,BE101,BE124,BE147,BE170,BE193,BE216,BE239,BE262,BE285)","v":218},218,235,{"$f":"SUM(BH9,BH32,BH55,BH78,BH101,BH124,BH147,BH170,BH193,BH216,BH239,BH262,BH285)","v":256},256,null,null,null,null,"1-2 Year Certificates",{"$f":"SUM(BO9,BO32,BO55,BO78,BO101,BO124,BO147,BO170,BO193,BO216,BO239,BO262,BO285)","v":321},374,277,293,328,403,418,509,553,518,466,420,446,440,{"$f":"SUM(CC9,CC32,CC55,CC78,CC101,CC124,CC147,CC170,CC193,CC216,CC239,CC262,CC285)","v":457},0]
[null,"<1yr Certificates",{"$f":"SUM(C10,C33,C56,C79,C102,C125,C148,C171,C194,C217,C240,C263,C286)","v":1982.8},2025.4,2071.8000000000002,1984.2,2009,2996.7999999999997,3988.2,4880.4000000000005,4808.0000000000009,4712.3999999999996,5256.4000000000005,4889.2,{"$f":"SUM(O10,O33,O56,O79,O102,O125,O148,O171,O194,O217,O240,O263,O286)","v":5153.8},5329.5999999999995,4769.4000000000005,4769.4000000000005,null,130.1655507396132,1.0020653993153545,1.5,null,"1-2 Year Certificates",{"$f":"SUM(Y10,Y33,Y56,Y79,Y102,Y125,Y148,Y171,Y194,Y217,Y240,Y263,Y286)","v":479},562,443,468,518,631,619,777,{"$f":"SUM(AG10,AG33,AG56,AG79,AG102,AG125,AG148,AG171,AG194,AG217,AG240,AG263,AG286)","v":801},799,744,720,{"$f":"SUM(AK10,AK33,AK56,AK79,AK102,AK125,AK148,AK171,AK194,AK217,AK240,AK263,AK286)","v":764},{"$f":"SUM(AL10,AL33,AL56,AL79,AL102,AL125,AL148,AL171,AL194,AL217,AL240,AL263,AL286)","v":841},876,{"$f":"SUM(AN10,AN33,AN56,AN79,AN102,AN125,AN148,AN171,AN194,AN217,AN240,AN263,AN286)","v":876},null,null,null,null,"<1yr Certificates",{"$f":"SUM(AT10,AT33,AT56,AT79,AT102,AT125,AT148,AT171,AT194,AT217,AT240,AT263,AT286)","v":438},438,404,409,391,574,722,797,901,789,905,{"$f":"SUM(BE10,BE33,BE56,BE79,BE102,BE125,BE148,BE171,BE194,BE217,BE240,BE263,BE286)","v":918},1021,985,{"$f":"SUM(BH10,BH33,BH56,BH79,BH102,BH125,BH148,BH171,BH194,BH217,BH240,BH263,BH286)","v":955},955,null,null,null,null,"<1yr Certificates",{"$f":"SUM(BO10,BO33,BO56,BO79,BO102,BO125,BO148,BO171,BO194,BO217,BO240,BO263,BO286)","v":732},727,727,671,681,1024,1375,1665,1678,1486,1620,1431,1548,1511,{"$f":"SUM(CC10,CC33,CC56,CC79,CC102,CC125,CC148,CC171,CC194,CC217,CC240,CC263,CC286)","v":1427},0]
[null,"Job Placements",{"$f":"SUM(C11,C34,C57,C80,C103,C126,C149,C172,C195,C218,C241,C264,C287)","v":0},0,0,3784,3415,3385,3589,3969,3356,3655,3681,3842,{"$f":"SUM(O11,O34,O57,O80,O103,O126,O149,O172,O195,O218,O241,O264,O287)","v":3558},3868,4043,4043,null,52.381466368326869,0.40325304748337787,0.5,null,"<1yr Certificates",1065,1072,1089,1047,1056,1583,2089,2543,2514,2467,2767,2605,{"$f":"SUM(AK11,AK34,AK57,AK80,AK103,AK126,AK149,AK172,AK195,AK218,AK241,AK264,AK287)","v":2735},{"$f":"SUM(AL11,AL34,AL57,AL80,AL103,AL126,AL149,AL172,AL195,AL218,AL241,AL264,AL287)","v":2865},2579,{"$f":"SUM(AN11,AN34,AN57,AN80,AN103,AN126,AN149,AN172,AN195,AN218,AN241,AN264,AN287)","v":2579},null,null,null,"Two Focus Pops Only","Students Accumulating 12 hrs",{"$f":"SUM(AT11,AT34,AT57,AT80,AT103,AT126,AT149,AT172,AT195,AT218,AT241,AT264,AT287)","v":11937},12861,13235,12826,14787,17768,11056,10174,8967,9091,8535,{"$f":"SUM(BE11,BE34,BE57,BE80,BE103,BE126,BE149,BE172,BE195,BE218,BE241,BE264,BE287)","v":9622},9012,8852,{"$f":"SUM(BH11,BH34,BH57,BH80,BH103,BH126,BH149,BH172,BH195,BH218,BH241,BH264,BH287)","v":8433},8433,null,null,null,"Low-Income","Students Accumulating 12 hrs",{"$f":"SUM(BO11,BO34,BO57,BO80,BO103,BO126,BO149,BO172,BO195,BO218,BO241,BO264,BO287)","v":17226},18643,19508,19175,22290,28110,18631,17152,14994,15193,14115,15070,13966,14099,{"$f":"SUM(CC11,CC34,CC57,CC80,CC103,CC126,CC149,CC172,CC195,CC218,CC241,CC264,CC287)","v":13642},0]
[null,"Transfers Out with 12 hrs",{"$f":"SUM(C12,C35,C58,C81,C104,C127,C150,C173,C196,C219,C242,C265,C288)","v":5039},5885,5531,5275,4885,5261,5602,6439,6315,6116,5952,6267,{"$f":"SUM(O12,O35,O58,O81,O104,O127,O150,O173,O196,O219,O242,O265,O288)","v":6392},6676,6561,6561,null,56.692595340137586,0.43644180710595587,2,null,"Job Placements",0,0,0,3784,3415,3385,3589,3969,3356,3655,3681,3842,{"$f":"SUM(AK12,AK35,AK58,AK81,AK104,AK127,AK150,AK173,AK196,AK219,AK242,AK265,AK288)","v":3558},{"$f":"SUM(AL12,AL35,AL58,AL81,AL104,AL127,AL150,AL173,AL196,AL219,AL242,AL265,AL288)","v":3868},4043,{"$f":"SUM(AN12,AN35,AN58,AN81,AN104,AN127,AN150,AN173,AN196,AN219,AN242,AN265,AN288)","v":4043},null,null,null,null,"Students Accumulating 24 hrs",{"$f":"SUM(AT12,AT35,AT58,AT81,AT104,AT127,AT150,AT173,AT196,AT219,AT242,AT265,AT288)","v":8917},8922,9190,9061,9617,11443,8340,7957,7198,6886,6604,{"$f":"SUM(BE12,BE35,BE58,BE81,BE104,BE127,BE150,BE173,BE196,BE219,BE242,BE265,BE288)","v":7379},7233,6872,{"$f":"SUM(BH12,BH35,BH58,BH81,BH104,BH127,BH150,BH173,BH196,BH219,BH242,BH265,BH288)","v":6665},6665,null,null,null,null,"Students Accumulating 24 hrs",{"$f":"SUM(BO12,BO35,BO58,BO81,BO104,BO127,BO150,BO173,BO196,BO219,BO242,BO265,BO288)","v":13214},13407,13944,13911,15196,19054,14937,14140,12519,12044,11296,12171,11427,11322,{"$f":"SUM(CC12,CC35,CC58,CC81,CC104,CC127,CC150,CC173,CC196,CC219,CC242,CC265,CC288)","v":11348},0]
[null,"Workforce Training (Contact Hours)",{"$f":"SUM(C13,C36,C59,C82,C105,C128,C151,C174,C197,C220,C243,C266,C289)","v":0},0,0,471743,425155,599719,716536.39999999944,871003,798978,672600.5,585211,602313.05999999994,{"$f":"SUM(O13,O36,O59,O82,O105,O128,O151,O174,O197,O220,O243,O266,O289)","v":680813.9},696975.27,926133.03400130011,926133.03400130011,null,20339.806785004563,156.58380033888619,50,null,"Transfers Out with 12 hrs",5039,5885,5531,5275,4885,5261,5602,6439,6315,6116,5952,6267,{"$f":"SUM(AK13,AK36,AK59,AK82,AK105,AK128,AK151,AK174,AK197,AK220,AK243,AK266,AK289)","v":6392},{"$f":"SUM(AL13,AL36,AL59,AL82,AL105,AL128,AL151,AL174,AL197,AL220,AL243,AL266,AL289)","v":6676},6561,{"$f":"SUM(AN13,AN36,AN59,AN82,AN105,AN128,AN151,AN174,AN197,AN220,AN243,AN266,AN289)","v":6561},null,null,null,null,"Students Accumulating 36 hrs",{"$f":"SUM(AT13,AT36,AT59,AT82,AT105,AT128,AT151,AT174,AT197,AT220,AT243,AT266,AT289)","v":7902},6251,6591,6492,6906,7808,6690,6421,5839,5572,5363,{"$f":"SUM(BE13,BE36,BE59,BE82,BE105,BE128,BE151,BE174,BE197,BE220,BE243,BE266,BE289)","v":5385},5844,5842,{"$f":"SUM(BH13,BH36,BH59,BH82,BH105,BH128,BH151,BH174,BH197,BH220,BH243,BH266,BH289)","v":5639},5639,null,null,null,null,"Students Accumulating 36 hrs",{"$f":"SUM(BO13,BO36,BO59,BO82,BO105,BO128,BO151,BO174,BO197,BO220,BO243,BO266,BO289)","v":12365},9882,10402,10297,11287,13573,12338,12038,10905,10255,9570,9572,9951,9738,{"$f":"SUM(CC13,CC36,CC59,CC82,CC105,CC128,CC151,CC174,CC197,CC220,CC243,CC266,CC289)","v":9893},0]
[null,"Awards per 100 FTE",{"$f":"Y314","v":15.399958746313217},15.92004255699181,15.624578064618824,15.218716083242539,14.520091812946584,13.865023002266131,14.302510399387181,16.276833784000825,17.958268710099428,19.699628480307542,19.857979644618183,20.631229949727413,{"$f":"AK314","v":21.957539348211338},{"$f":"AL314","v":23.78069633473574},{"$f":"AM314","v":23.180280517868653},{"$f":"AN314","v":23.180280517868653},null,2.2464835205007829,1.7294310155297466E-2,0.05,null,"Workforce Training (Contact Hours)",0,0,0,471743,425155,599719,716536.39999999944,871003,798978,672600.5,585211,602313.05999999994,{"$f":"SUM(AK14,AK37,AK60,AK83,AK106,AK129,AK152,AK175,AK198,AK221,AK244,AK267,AK290)","v":680813.9},{"$f":"SUM(AL14,AL37,AL60,AL83,AL106,AL129,AL152,AL175,AL198,AL221,AL244,AL267,AL290)","v":696975.27},926133.03400130011,{"$f":"SUM(AN14,AN37,AN60,AN83,AN106,AN129,AN152,AN175,AN198,AN221,AN244,AN267,AN290)","v":926133.03400130011},null,null,null,null,"Associates",{"$f":"SUM(AT14,AT37,AT60,AT83,AT106,AT129,AT152,AT175,AT198,AT221,AT244,AT267,AT290)","v":2488},2482,2478,2537,2522,2840,2919,3276,3283,3332,3225,{"$f":"SUM(BE14,BE37,BE60,BE83,BE106,BE129,BE152,BE175,BE198,BE221,BE244,BE267,BE290)","v":3349},3513,3759,{"$f":"SUM(BH14,BH37,BH60,BH83,BH106,BH129,BH152,BH175,BH198,BH221,BH244,BH267,BH290)","v":3710},3710,null,null,null,null,"Associates",{"$f":"SUM(BO14,BO37,BO60,BO83,BO106,BO129,BO152,BO175,BO198,BO221,BO244,BO267,BO290)","v":3295},3604,3855,3890,4068,4769,5479,6321,6483,6748,6322,6499,6738,6894,{"$f":"SUM(CC14,CC37,CC60,CC83,CC106,CC129,CC152,CC175,CC198,CC221,CC244,CC267,CC290)","v":6748},0]
[null,null,null,null,null,null,null,null,null,null,null,null,null,null,null,null,null,null,null,null,null,null,null,"Awards per 100 FTE",{"$f":"(Y307+Y309)/CH17*100","v":15.399958746313217},15.92004255699181,15.624578064618824,15.218716083242539,14.520091812946584,13.865023002266131,14.302510399387181,16.276833784000825,{"$f":"(AG307+AG309+$V$13*AG308)/CP17*100","v":17.958268710099428},19.699628480307542,19.857979644618183,20.631229949727413,{"$f":"(AK307+AK309+$V$13*AK308)/CT17*100","v":21.957539348211338},{"$f":"(AL307+AL309+$V$13*AL308)/CU17*100","v":23.78069633473574},{"$f":"(AM307+AM309+$V$13*AM308)/CV17*100","v":23.180280517868653},{"$f":"(AN307+AN309+$V$13*AN308)/CW17*100","v":23.180280517868653},null,null,null,null,"Reverse Articulated Associates",{"$f":"SUM(AT15,AT38,AT61,AT84,AT107,AT130,AT153,AT176,AT199,AT222,AT245,AT268,AT291)","v":0},0,0,0,0,0,0,0,0,0,0,{"$f":"SUM(BE15,BE38,BE61,BE84,BE107,BE130,BE153,BE176,BE199,BE222,BE245,BE268,BE291)","v":330},304,341,{"$f":"SUM(BH15,BH38,BH61,BH84,BH107,BH130,BH153,BH176,BH199,BH222,BH245,BH268,BH291)","v":275},275,null,null,null,null,"Reverse Articulated Associates",{"$f":"SUM(BO15,BO38,BO61,BO84,BO107,BO130,BO153,BO176,BO199,BO222,BO245,BO268,BO291)","v":0},0,0,0,0,0,0,0,0,0,0,655,594,663,{"$f":"SUM(CC15,CC38,CC61,CC84,CC107,CC130,CC153,CC176,CC199,CC222,CC245,CC268,CC291)","v":541},0]
[null,null,null,null,null,null,null,null,null,null,null,null,null,null,null,null,null,null,null,null,null,null,null,null,null,null,null,null,null,null,null,null,null,null,null,null,null,null,null,null,null,null,null,null,"1-2 Year Certificates",{"$f":"SUM(AT16,AT39,AT62,AT85,AT108,AT131,AT154,AT177,AT200,AT223,AT246,AT269,AT292)","v":148},174,143,177,197,239,214,277,296,307,283,{"$f":"SUM(BE16,BE39,BE62,BE85,BE108,BE131,BE154,BE177,BE200,BE223,BE246,BE269,BE292)","v":263},302,347,{"$f":"SUM(BH16,BH39,BH62,BH85,BH108,BH131,BH154,BH177,BH200,BH223,BH246,BH269,BH292)","v":354},354,null,null,null,null,"1-2 Year Certificates",{"$f":"SUM(BO16,BO39,BO62,BO85,BO108,BO131,BO154,BO177,BO200,BO223,BO246,BO269,BO292)","v":168},223,176,204,240,309,321,448,474,504,501,467,501,561,{"$f":"SUM(CC16,CC39,CC62,CC85,CC108,CC131,CC154,CC177,CC200,CC223,CC246,CC269,CC292)","v":574},0]
[null,null,null,null,null,null,null,null,null,null,null,null,null,null,null,null,null,null,null,null,null,null,null,null,null,null,null,null,null,null,null,null,null,null,null,null,null,null,null,null,null,null,null,null,"<1yr Certificates",{"$f":"SUM(AT17,AT40,AT63,AT86,AT109,AT132,AT155,AT178,AT201,AT224,AT247,AT270,AT293)","v":355},363,362,370,399,525,730,945,918,923,983,{"$f":"SUM(BE17,BE40,BE63,BE86,BE109,BE132,BE155,BE178,BE201,BE224,BE247,BE270,BE293)","v":927},1008,1043,{"$f":"SUM(BH17,BH40,BH63,BH86,BH109,BH132,BH155,BH178,BH201,BH224,BH247,BH270,BH293)","v":872},872,null,null,null,null,"<1yr Certificates",{"$f":"SUM(BO17,BO40,BO63,BO86,BO109,BO132,BO155,BO178,BO201,BO224,BO247,BO270,BO293)","v":448},486,548,512,572,871,1196,1534,1414,1512,1699,1518,1579,1682,{"$f":"SUM(CC17,CC40,CC63,CC86,CC109,CC132,CC155,CC178,CC201,CC224,CC247,CC270,CC293)","v":1395},0]
[null,null,null,null,null,null,null,null,null,null,null,null,null,null,null,null,null,null,null,null,null,null,null,null,null,null,null,null,null,null,null,null,null,null,null,null,null,null,null,null,null,null,null,"All Three Focus Pops","Students Accumulating 12 hrs",{"$f":"SUM(AT18,AT41,AT64,AT87,AT110,AT133,AT156,AT179,AT202,AT225,AT248,AT271,AT294)","v":4230},4413,4538,4178,4981,7801,5714,4737,3619,3138,2538,{"$f":"SUM(BE18,BE41,BE64,BE87,BE110,BE133,BE156,BE179,BE202,BE225,BE248,BE271,BE294)","v":2020},1815,2025,{"$f":"SUM(BH18,BH41,BH64,BH87,BH110,BH133,BH156,BH179,BH202,BH225,BH248,BH271,BH294)","v":2726},2726,null,null,null,"Academically Underprepared","Students Accumulating 12 hrs",{"$f":"SUM(BO18,BO41,BO64,BO87,BO110,BO133,BO156,BO179,BO202,BO225,BO248,BO271,BO294)","v":20386},21662,22041,21173,24116,29695,19314,17256,15281,14784,14041,15219,14321,14346,{"$f":"SUM(CC18,CC41,CC64,CC87,CC110,CC133,CC156,CC179,CC202,CC225,CC248,CC271,CC294)","v":14378},0]
[null,null,null,null,null,null,null,null,null,null,null,null,null,null,null,null,null,null,null,null,null,null,null,null,null,null,null,null,null,null,null,null,null,null,null,null,null,null,null,null,null,null,null,null,"Students Accumulating 24 hrs",{"$f":"SUM(AT19,AT42,AT65,AT88,AT111,AT134,AT157,AT180,AT203,AT226,AT249,AT272,AT295)","v":4112},3779,3851,3687,4130,5982,5384,4863,3861,3337,2758,{"$f":"SUM(BE19,BE42,BE65,BE88,BE111,BE134,BE157,BE180,BE203,BE226,BE249,BE272,BE295)","v":2288},1960,2111,{"$f":"SUM(BH19,BH42,BH65,BH88,BH111,BH134,BH157,BH180,BH203,BH226,BH249,BH272,BH295)","v":2715},2715,null,null,null,null,"Students Accumulating 24 hrs",{"$f":"SUM(BO19,BO42,BO65,BO88,BO111,BO134,BO157,BO180,BO203,BO226,BO249,BO272,BO295)","v":15750},15601,15897,15403,16373,20044,15438,14344,12733,11794,11242,12222,11788,11519,{"$f":"SUM(CC19,CC42,CC65,CC88,CC111,CC134,CC157,CC180,CC203,CC226,CC249,CC272,CC295)","v":11535},0]
[null,null,null,null,null,null,null,null,null,null,null,null,null,null,null,null,null,null,null,null,null,null,null,null,null,null,null,null,null,null,null,null,null,null,null,null,null,null,null,null,null,null,null,null,"Students Accumulating 36 hrs",{"$f":"SUM(AT20,AT43,AT66,AT89,AT112,AT135,AT158,AT181,AT204,AT227,AT250,AT273,AT296)","v":3730},3270,3346,3174,3572,4631,4603,4653,3913,3199,2757,{"$f":"SUM(BE20,BE43,BE66,BE89,BE112,BE135,BE158,BE181,BE204,BE227,BE250,BE273,BE296)","v":2407},2087,2019,{"$f":"SUM(BH20,BH43,BH66,BH89,BH112,BH135,BH158,BH181,BH204,BH227,BH250,BH273,BH296)","v":2536},2536,null,null,null,null,"Students Accumulating 36 hrs",{"$f":"SUM(BO20,BO43,BO66,BO89,BO112,BO135,BO158,BO181,BO204,BO227,BO250,BO273,BO296)","v":14542},11333,11756,11322,11985,13806,12343,11970,10713,9751,9286,9111,9765,9887,{"$f":"SUM(CC20,CC43,CC66,CC89,CC112,CC135,CC158,CC181,CC204,CC227,CC250,CC273,CC296)","v":9809},0]
[null,null,null,null,null,null,null,null,null,null,null,null,null,null,null,null,null,null,null,null,null,null,null,null,null,null,null,null," ",null,null,null,null,null,null,null,null,null,null,null,null,null,null,null,"Associates",{"$f":"SUM(AT21,AT44,AT67,AT90,AT113,AT136,AT159,AT182,AT205,AT228,AT251,AT274,AT297)","v":1447},1590,1762,1703,1736,2023,2453,2847,2932,2932,2618,{"$f":"SUM(BE21,BE44,BE67,BE90,BE113,BE136,BE159,BE182,BE205,BE228,BE251,BE274,BE297)","v":2403},2231,2139,{"$f":"SUM(BH21,BH44,BH67,BH90,BH113,BH136,BH159,BH182,BH205,BH228,BH251,BH274,BH297)","v":1979},1979,null,null,null,null,"Associates",{"$f":"SUM(BO21,BO44,BO67,BO90,BO113,BO136,BO159,BO182,BO205,BO228,BO251,BO274,BO297)","v":4374},4427,4530,4456,4448,4967,5403,5952,5997,6062,5776,5715,5920,6472,{"$f":"SUM(CC21,CC44,CC67,CC90,CC113,CC136,CC159,CC182,CC205,CC228,CC251,CC274,CC297)","v":6295},0]
[null,null,null,null,null,null,null,null,null,null,null,null,null,null,null,null,null,null,null,null,null,null,null,"FOR REFERENCE",null,null,null,null,null,null,null,null,null,null,null,null,null,null,null,null,null,null,null,null,"Reverse Articulated Associates",{"$f":"SUM(AT22,AT45,AT68,AT91,AT114,AT137,AT160,AT183,AT206,AT229,AT252,AT275,AT298)","v":0},0,0,0,0,0,0,0,0,0,0,{"$f":"SUM(BE22,BE45,BE68,BE91,BE114,BE137,BE160,BE183,BE206,BE229,BE252,BE275,BE298)","v":211},189,193,{"$f":"SUM(BH22,BH45,BH68,BH91,BH114,BH137,BH160,BH183,BH206,BH229,BH252,BH275,BH298)","v":145},145,null,null,null,null,"Reverse Articulated Associates",{"$f":"SUM(BO22,BO45,BO68,BO91,BO114,BO137,BO160,BO183,BO206,BO229,BO252,BO275,BO298)","v":0},0,0,0,0,0,0,0,0,0,0,532,473,579,{"$f":"SUM(CC22,CC45,CC68,CC91,CC114,CC137,CC160,CC183,CC206,CC229,CC252,CC275,CC298)","v":491},0]
[null,null,null," ",null,null,null,null,null,null,null,null,null,null,null,null,null,null,null,null,null,null,null,"Percent that Meet No Focus Criteria",null,null,null,null,null,null,null,null,null,null,null,null,null,null,null,null,null,null,null,null,"1-2 Year Certificates",{"$f":"SUM(AT23,AT46,AT69,AT92,AT115,AT138,AT161,AT184,AT207,AT230,AT253,AT276,AT299)","v":75},108,73,85,94,138,144,211,221,220,207,{"$f":"SUM(BE23,BE46,BE69,BE92,BE115,BE138,BE161,BE184,BE207,BE230,BE253,BE276,BE299)","v":181},189,189,{"$f":"SUM(BH23,BH46,BH69,BH92,BH115,BH138,BH161,BH184,BH207,BH230,BH253,BH276,BH299)","v":196},196,null,null,null,null,"1-2 Year Certificates",{"$f":"SUM(BO23,BO46,BO69,BO92,BO115,BO138,BO161,BO184,BO207,BO230,BO253,BO276,BO299)","v":244},304,245,280,302,389,331,458,467,479,432,400,442,495,{"$f":"SUM(CC23,CC46,CC69,CC92,CC115,CC138,CC161,CC184,CC207,CC230,CC253,CC276,CC299)","v":521},0]
[null,null,null,null,null,null,null,null,null,null,null,null,null,null,null,null,null,null,null,null,null,null,null,null,"2004-05","2005-06","2006-07","2007-08","2008-09","2009-10","2010-11","2011-12","2012-13","2013-14","2014-15","2015-16",null,"2016-17","2017-18",{"$f":"AN302","v":"2019-20"},null,null,null,null,"<1yr Certificates",{"$f":"SUM(AT24,AT47,AT70,AT93,AT116,AT139,AT162,AT185,AT208,AT231,AT254,AT277,AT300)","v":177},200,248,200,201,358,493,629,546,576,652,{"$f":"SUM(BE24,BE47,BE70,BE93,BE116,BE139,BE162,BE185,BE208,BE231,BE254,BE277,BE300)","v":519},495,528,{"$f":"SUM(BH24,BH47,BH70,BH93,BH116,BH139,BH162,BH185,BH208,BH231,BH254,BH277,BH300)","v":462},462,null,null,null,null,"<1yr Certificates",{"$f":"SUM(BO24,BO47,BO70,BO93,BO116,BO139,BO162,BO185,BO208,BO231,BO254,BO277,BO300)","v":499},551,597,566,539,803,1090,1375,1283,1365,1508,1380,1395,1462,{"$f":"SUM(CC24,CC47,CC70,CC93,CC116,CC139,CC162,CC185,CC208,CC231,CC254,CC277,CC300)","v":1263},0]
[null,null,null,null,null,null,null,null,null,null,null,null,null,null,null,null,null,null,null,null,null,null,null,"Students Accumulating 12 hrs",{"$f":"(Y303-AT303-AT310-AT317)/Y303","v":8.9163995431266352E-2},9.1890214467967732E-2,9.7364102220584781E-2,0.10249578414839798,9.8052788394979981E-2,8.9113643797016126E-2,0.10317844766553638,0.12047619047619047,{"$f":"(AG303-BB303-BB310-BB317)/AG303","v":0.15434124179707218},0.15933694181326116,0.18038551706173483,{"$f":"(AJ303-BE303-BE310-BE317)/AJ303","v":0.17298328193475085},null,{"$f":"(AL303-BG303-BG310-BG317)/AL303","v":0.19015603196752506},0.20799635021359544,0.20799635021359544]
[null,null,null,null,null,null,null,null,null,null,null,null,null,null,null,null,null,null,null,null,null,null,null,"Students Accumulating 24 hrs",7.0439940682155214E-2,8.6377933704331E-2,8.2798641253066615E-2,8.7093992526588102E-2,8.4876129147661211E-2,7.7997758685095259E-2,8.3448374351406673E-2,8.9737133648907244E-2,{"$f":"(AG304-BB304-BB311-BB318)/AG304","v":0.11434286641076931},0.12420132272166798,0.14233933605661353,{"$f":"(AJ304-BE304-BE311-BE318)/AJ304","v":0.13853385444174501},null,0.164057779974735,0.17541229385307347,0.17541229385307347,null,null,null,null,null,null," ",null,null,null,null,null,null,null,null,null,null,null,null,null,null,null,null,null,null,null,null," "]
[null,null,null,null,null,null,null,null,null,null,null,null,null,null,null,null,null,null,null,null,null,null,null,"Students Accumulating 36 hrs",9.7247982355005258E-2,8.4534476042072454E-2,8.412145345943256E-2,8.1779606532081786E-2,8.2003599280143974E-2,7.8250025979424292E-2,8.2166415924082858E-2,7.8270257302225157E-2,{"$f":"(AG305-BB305-BB312-BB319)/AG305","v":0.10087606287039423},0.11215268411114108,0.13208991579093882,{"$f":"(AJ305-BE305-BE312-BE319)/AJ305","v":0.13807502261813626},null,0.14468279324509356,0.15788139888494679,0.15788139888494679,null,null,null,null,null,null,null,null,null,null,null,null," ",null,null," "]
[null,null,null,null,null,null,null,null,null,null,null,null,null,null,null,null,null,null,null,null,null,null,null,"Associates",{"$f":"(Y307-AT306-AT313-AT320)/Y307","v":9.4632559515008138E-2},8.4775594015840422E-2,8.263142608190531E-2,7.2513400833829664E-2,7.7071005917159763E-2,7.6167728237791929E-2,7.0139557266602509E-2,6.5588202927258726E-2,{"$f":"(AG307-BB306-BB313-BB320)/AG307","v":7.1374581578663207E-2},7.4728975897273966E-2,9.0859451785519268E-2,{"$f":"(AJ307-BE306-BE313-BE320)/AJ307","v":9.7872340425531917E-2},null,{"$f":"(AL307-BG306-BG313-BG320)/AL307","v":0.12278552581982662},{"$f":"(AM307-BH306-BH313-BH320)/AM307","v":0.13517305893358278},{"$f":"(AN307-BI306-BI313-BI320)/AN307","v":0.13517305893358278},null,null,null,null,null," ",null,null,null,null,null,null," ",null,null," "]
[null,null,null,null,null,null,null,null,null,null,null,null,null,null,null,null,null,null,null,null,null,null,null,"1-2 Year Certificates",{"$f":"(Y309-AT308-AT315-AT322)/Y309","v":7.5156576200417533E-2},7.6512455516014238E-2,5.6433408577878104E-2,6.8376068376068383E-2,6.3706563706563704E-2,6.0221870047543584E-2,6.623586429725363E-2,6.1776061776061778E-2,{"$f":"(AG309-BB308-BB315-BB322)/AG309","v":5.118601747815231E-2},5.6320400500625784E-2,5.6451612903225805E-2,{"$f":"(AJ309-BE308-BE315-BE322)/AJ309","v":8.0555555555555561E-2},null,{"$f":"(AL309-BG308-BG315-BG322)/AL309","v":8.3234244946492272E-2},7.9908675799086754E-2,7.9908675799086754E-2]
[null,null,null,null,null,null,null,null,null,null,null,null,null,null,null,null,null,null,null,null,null,null,null,"<1yr Certificates",8.9201877934272297E-2,6.6231343283582086E-2,6.8870523415977963E-2,6.4947468958930277E-2,6.1553030303030304E-2,7.9595704358812386E-2,6.8932503590234562E-2,6.7636649626425488E-2,{"$f":"(AG310-BB309-BB316-BB323)/AG310","v":5.926809864757359E-2},7.2557762464531814E-2,8.2038308637513546E-2,{"$f":"(AJ310-BE309-BE316-BE323)/AJ310","v":9.2514395393474086E-2},null,0.10785340314136126,0.11244668476153548,0.11244668476153548,null,null,null,null,null,null,null,null,null,null,null,null,null,null,null,null,null,null,null,null,null,null,null,null,null,null,null,null,null,null,null,null,null,null," "]
[null,null,null,null,null,null,null,null,null,null,null,null,null,null,null,null,null,null,null,null,null,null,null,null,null,null,null,null,null,null,null,null,null,null,null,null,null,null,null,null,null,null,null,null,null,null,null,null,null,null,null,null,null,null,null,null," "]
[null,null,null,null,null,null,null,null,null,null,null,null,null,null,null,null,null,null,null,null,null,null,null,"Percent that Meet Just One Focus Criterion"]
[null,null,null,null,null,null,null,null,null,null,null,null,null,null,null,null,null,null,null,null,null,null,null,null,"2004-05","2005-06","2006-07","2007-08","2008-09","2009-10","2010-11","2011-12","2012-13","2013-14","2014-15","2015-16",null,{"$f":"AL323","v":"2016-17"},{"$f":"AM323","v":"2017-18"},{"$f":"AN323","v":"2019-20"}]
[null,null,null,null,null,null,null,null,null,null,null,null,null,null,null,null,null,null,null,null,null,null,null,"Students Accumulating 12 hrs",{"$f":"AT303/Y$303","v":0.31516893261117868},0.31249568995241706,0.30736510701008141,0.32401349072512647,0.30700935985794686,0.26759252270611616,0.27193799605022917,0.28781746031746031,{"$f":"BB303/AG$303","v":0.31621235066464748},0.32353687415426252,0.33889033602500651,{"$f":"BE303/AJ$303","v":0.35460964129199807},null,{"$f":"BG303/AL$303","v":0.34990908706499219},{"$f":"BH303/AM$303","v":0.32918584878271329},{"$f":"BI303/AN$303","v":0.32918584878271329}]
[null,null,null,null,null,null,null,null,null,null,null,null,null,null,null,null,null,null,null,null,null,null,null,"Students Accumulating 24 hrs",{"$f":"AT304/Y$304","v":0.28551655956500249},0.29900798451488025,0.30194376297414605,0.30219411708345312,0.30037563724174937,0.27108703772880088,0.26324558480506499,0.26467922247960518,{"$f":"BB304/AG$304","v":0.28777639617235229},0.30282479542652169,0.31902652321500491,{"$f":"BE304/AJ$304","v":0.35090313721347838},null,{"$f":"BG304/AL$304","v":0.34256055363321797},{"$f":"BH304/AM$304","v":0.32233883058470764},{"$f":"BI304/AN$304","v":0.32233883058470764}]
[null,null,null,null,null,null,null,null,null,null,null,null,null,null,null,null,null,null,null,null,null,null,null,"Students Accumulating 36 hrs",{"$f":"AT305/Y$305","v":0.31966514612261265},0.29729905207115959,0.2975983076157292,0.29677253439629675,0.28944211157768446,0.27543385638574247,0.26437912278671449,0.25754213398908415,{"$f":"BB305/AG$305","v":0.27093532594692088},0.29633126517399516,0.30280464889693087,{"$f":"BE305/AJ$305","v":0.31964646113160278},null,{"$f":"BG305/AL$305","v":0.34276586033774531},{"$f":"BH305/AM$305","v":0.32418905220476429},{"$f":"BI305/AN$305","v":0.32418905220476429}]
[null,null,null,null,null,null,null,null,null,null,null,null,null,null,null,null,null,null,null,null,null,null,null,"Associates",{"$f":"AT306/Y307","v":0.32352506284193405},{"$f":"AU306/Z$307","v":0.31798181284834265},0.301626488527447,0.29615842763549732,0.2930473372781065,0.27852972399150744,0.28356592877767084,0.2605920545834709,{"$f":"BB306/AG$307","v":0.25753158406219628},0.26597200294705819,0.27104947035055149,{"$f":"BE306/AJ$307","v":0.29021276595744683},null,{"$f":"BG306/AL$307","v":0.32142857142857145},{"$f":"BH306/AM$307","v":0.3326473339569691},{"$f":"BI306/AN$307","v":0.3326473339569691}]
[null,null,null,null,null,null,null,null,null,null,null,null,null,null,null,null,null,null,null,null,null,null,null,"1-2 Year Certificates",{"$f":"AT308/Y309","v":0.45929018789144049},0.42170818505338076,0.45598194130925507,0.37179487179487181,0.37451737451737449,0.34231378763866877,0.35541195476575121,0.31016731016731014,{"$f":"BB308/AG309","v":0.30337078651685395},0.28410513141426785,0.28494623655913981,{"$f":"BE308/AJ309","v":0.30277777777777776},null,{"$f":"BG308/AL309","v":0.27942925089179549},0.29223744292237441,0.29223744292237441]
[null,null,null,null,null,null,null,null,null,null,null,null,null,null,null,null,null,null,null,null,null,null,null,"<1yr Certificates",0.41126760563380282,0.40858208955223879,0.37098255280073461,0.39063992359121297,0.37026515151515149,0.36260265319014529,0.34561991383437052,0.3134093590247739,{"$f":"BB309/AG310","v":0.35839299920445505},0.31982164572355087,0.32706902782797254,{"$f":"BE309/AJ310","v":0.35239923224568137},null,0.343804537521815,0.37029856533540134,0.37029856533540134]
[]
[null,null,null,null,null,null,null,null,null,null,null,null,null,null,null,null,null,null,null,null,null,null,null,"Percent that Meet Just Two Focus Criteria"]
[null,null,null,null,null,null,null,null,null,null,null,null,null,null,null,null,null,null,null,null,null,null,null,null,"2004-05","2005-06","2006-07","2007-08","2008-09","2009-10","2010-11","2011-12","2012-13","2013-14","2014-15","2015-16",null,{"$f":"AL332","v":"2016-17"},{"$f":"AM332","v":"2017-18"},{"$f":"AN332","v":"2019-20"}]
[null,null,null,null,null,null,null,null,null,null,null,null,null,null,null,null,null,null,null,null,null,null,null,"Students Accumulating 12 hrs",{"$f":"AT310/Y$303","v":0.43981430308389519},0.44345217571201984,0.44327963291690392,0.43258010118043844,0.44502964456616606,0.4470274486124739,0.41196855088124607,0.40373015873015872,{"$f":"BB310/AG$303","v":0.37720848056537104},0.38442997293640052,0.37053920291742642,{"$f":"BE310/AJ$303","v":0.39043986365849698},null,{"$f":"BG310/AL$303","v":0.37430758171592882},{"$f":"BH310/AM$303","v":0.34975737215378871},{"$f":"BI310/AN$303","v":0.34975737215378871}]
[null,null,null,null,null,null,null,null,null,null,null,null,null,null,null,null,null,null,null,null,null,null,null,"Students Accumulating 24 hrs",{"$f":"AT311/Y$304","v":0.44078101828966881},0.43174449552383259,0.43357237214568789,0.43408067452333043,0.43005992308380286,0.42745610758311542,0.39701052030275624,0.40069493403162454,{"$f":"BB311/AG$304","v":0.38914418554360164},0.38594327990135635,0.37995512341062077,{"$f":"BE311/AJ$304","v":0.38972219288053239},null,{"$f":"BG311/AL$304","v":0.37743724940956774},{"$f":"BH311/AM$304","v":0.3568751338616406},{"$f":"BI311/AN$304","v":0.3568751338616406}]
[null,null,null,null,null,null,null,null,null,null,null,null,null,null,null,null,null,null,null,null,null,null,null,"Students Accumulating 36 hrs",{"$f":"AT312/Y$305","v":0.39611008070579978},0.40585638228801452,0.4100920856147337,0.41738459560241736,0.41427714457108578,0.40569468980567391,0.38710797361416505,0.38511365681041204,{"$f":"BB312/AG$305","v":0.37612728678175728},0.37577555975182086,0.37323404551464961,{"$f":"BE312/AJ$305","v":0.37476511935416523},null,{"$f":"BG312/AL$305","v":0.38090891308600117},{"$f":"BH312/AM$305","v":0.35726051697921946},{"$f":"BI312/AN$305","v":0.35726051697921946}]
[null,null,null,null,null,null,null,null,null,null,null,null,null,null,null,null,null,null,null,null,null,null,null,"Associates",{"$f":"AT313/Y307","v":0.36788407511459409},0.36403637430331476,0.35986058669764742,0.37775461584276354,0.37307692307692308,0.37685774946921446,0.35117901828681425,0.36051502145922748,{"$f":"BB313/AG307","v":0.35449735449735448},0.35069992632354491,0.35218958174074477,{"$f":"BE313/AJ307","v":0.35627659574468085},null,{"$f":"BG313/AL307","v":0.35422163588390504},{"$f":"BH313/AM307","v":0.34705332086061741},{"$f":"BI313/AN307","v":0.34705332086061741}]
[null,null,null,null,null,null,null,null,null,null,null,null,null,null,null,null,null,null,null,null,null,null,null,"1-2 Year Certificates",{"$f":"AT315/Y309","v":0.3089770354906054},0.30960854092526691,0.32279909706546278,0.37820512820512819,0.38030888030888033,0.37876386687797148,0.34571890145395801,0.35649935649935649,{"$f":"BB315/AG309","v":0.36953807740324596},0.38423028785982477,0.3803763440860215,{"$f":"BE315/AJ309","v":0.36527777777777776},null,{"$f":"BG315/AL309","v":0.41260404280618312},0.4041095890410959,0.4041095890410959]
[null,null,null,null,null,null,null,null,null,null,null,null,null,null,null,null,null,null,null,null,null,null,null,"<1yr Certificates",0.33333333333333331,0.33861940298507465,0.33241505968778695,0.35339063992359121,0.37784090909090912,0.33164876816171823,0.3494494973671613,0.37160833661030279,{"$f":"BB316/AG310","v":0.36515513126491644},0.37413862991487634,0.35525840260209612,{"$f":"BE316/AJ310","v":0.35585412667946259},null,0.36404886561954625,0.33811554866227223,0.33811554866227223]
[]
[null,null,null,null,null,null,null,null,null,null,null,null,null,null,null,null,null,null,null,null,null,null,null,"Percent that Meet All Three Focus Criteria"]
[null,null,null,null,null,null,null,null,null,null,null,null,null,null,null,null,null,null,null,null,null,null,null,null,"2004-05","2005-06","2006-07","2007-08","2008-09","2009-10","2010-11","2011-12","2012-13","2013-14","2014-15","2015-16",null,{"$f":"AL341","v":"2016-17"},{"$f":"AM341","v":"2017-18"},{"$f":"AN341","v":"2019-20"}]
[null,null,null,null,null,null,null,null,null,null,null,null,null,null,null,null,null,null,null,null,null,null,null,"Students Accumulating 12 hrs",{"$f":"AT317/Y$303","v":0.15585276887365979},0.15216191986759534,0.15199115785242992,0.14091062394603709,0.14990820718090708,0.1962663848843938,0.21291500540298841,0.18797619047619046,{"$f":"BB317/AG$303","v":0.1522379269729093},0.13269621109607577,0.11018494399583224,{"$f":"BE317/AJ$303","v":8.1967213114754092E-2},null,{"$f":"BG317/AL$303","v":8.5627299251553976E-2},{"$f":"BH317/AM$303","v":0.11306042884990253},{"$f":"BI317/AN$303","v":0.11306042884990253}]
[null,null,null,null,null,null,null,null,null,null,null,null,null,null,null,null,null,null,null,null,null,null,null,"Students Accumulating 24 hrs",{"$f":"AT318/Y$304","v":0.20326248146317349},0.18286958625695621,0.18168522362709946,0.17663121586662833,0.18468831052678653,0.22345909600298841,0.25629552054077215,0.24488870983986302,{"$f":"BB318/AG$304","v":0.20873655187327675},0.18703060195045398,0.15867901731776077,{"$f":"BE318/AJ$304","v":0.12084081546424422},null,{"$f":"BG318/AL$304","v":0.11594441698247927},{"$f":"BH318/AM$304","v":0.14537374170057829},{"$f":"BI318/AN$304","v":0.14537374170057829}]
[null,null,null,null,null,null,null,null,null,null,null,null,null,null,null,null,null,null,null,null,null,null,null,"Students Accumulating 36 hrs",{"$f":"AT319/Y$305","v":0.18697679081658228},0.21231008959875342,0.20818815331010454,0.20406326346920406,0.21427714457108579,0.2406214278291593,0.2663464876750376,0.27907395189827866,{"$f":"BB319/AG$305","v":0.2520613244009276},0.2157404909630429,0.1918713897974807,{"$f":"BE319/AJ$305","v":0.16751339689609576},null,{"$f":"BG319/AL$305","v":0.13164243333115994},{"$f":"BH319/AM$305","v":0.16066903193106943},{"$f":"BI319/AN$305","v":0.16066903193106943}]
[null,null,null,null,null,null,null,null,null,null,null,null,null,null,null,null,null,null,null,null,null,null,null,"Associates",{"$f":"AT320/Y307","v":0.21395830252846371},0.2332062188325022,0.25588149869300031,0.25357355568790946,0.25680473372781065,0.26844479830148621,0.29511549566891243,0.31330472103004292,{"$f":"BB320/AG307","v":0.31659647986178596},0.30859909483212294,0.28590149612318444,{"$f":"BE320/AJ307","v":0.25563829787234044},null,{"$f":"BG320/AL307","v":0.20156426686769693},{"$f":"BH320/AM307","v":0.18512628624883068},{"$f":"BI320/AN307","v":0.18512628624883068}]
[null,null,null,null,null,null,null,null,null,null,null,null,null,null,null,null,null,null,null,null,null,null,null,"1-2 Year Certificates",{"$f":"AT322/Y309","v":0.15657620041753653},0.19217081850533807,0.16478555304740405,0.18162393162393162,0.18146718146718147,0.21870047543581617,0.23263327948303716,0.27155727155727155,{"$f":"BB322/AG309","v":0.27590511860174782},0.27534418022528162,0.27822580645161288,{"$f":"BE322/AJ309","v":0.25138888888888888},null,{"$f":"BG322/AL309","v":0.22473246135552913},0.22374429223744291,0.22374429223744291]
[null,null,null,null,null,null,null,null,null,null,null,null,null,null,null,null,null,null,null,null,null,null,null,"<1yr Certificates",0.16619718309859155,0.18656716417910449,0.22773186409550045,0.19102196752626552,0.19034090909090909,0.22615287428932407,0.23599808520823359,0.24734565473849784,{"$f":"BB323/AG310","v":0.21718377088305491},0.23348196189704093,0.23563426093241779,{"$f":"BE323/AJ310","v":0.19923224568138195},null,0.18429319371727748,0.179139201240791,0.179139201240791]
[]
[null,null,null,null,null,null,null,null,null,null,null,null,null,null,null,null,null,null,null,null,null,null,null,"Percent that Meet Any Focus Criteria"]
[null,null,null,null,null,null,null,null,null,null,null,null,null,null,null,null,null,null,null,null,null,null,null,null,"2004-05","2005-06","2006-07","2007-08","2008-09","2009-10","2010-11","2011-12","2012-13","2013-14","2014-15","2015-16",null,{"$f":"AL341","v":"2016-17"},{"$f":"AM341","v":"2017-18"},{"$f":"AN350","v":"2019-20"}]
[null,null,null,null,null,null,null,null,null,null,null,null,null,null,null,null,null,null,null,null,null,null,null,"Students Accumulating 12 hrs",{"$f":"Y333+Y342+Y351","v":0.91083600456873359},{"$f":"Z333+Z342+Z351","v":0.90810978553203225},0.90263589777941522,0.89750421585160201,0.90194721160502001,0.91088635620298386,0.89682155233446359,0.8795238095238096,0.8456587582029278,0.84066305818673881,0.81961448293826522,{"$f":"AJ333+AJ342+AJ351","v":0.82701671806524912},null,{"$f":"AL333+AL342+AL351","v":0.80984396803247505},0.79200364978640458,{"$f":"AN333+AN342+AN351","v":0.79200364978640458}]
[null,null,null,null,null,null,null,null,null,null,null,null,null,null,null,null,null,null,null,null,null,null,null,"Students Accumulating 24 hrs",{"$f":"Y334+Y343+Y352","v":0.9295600593178448},0.91362206629566911,0.91720135874693343,0.91290600747341188,0.91512387085233882,0.92200224131490471,0.91655162564859349,0.91026286635109266,0.88565713358923071,0.87579867727833194,0.85766066394338647,{"$f":"AJ334+AJ343+AJ352","v":0.86146614555825496},null,{"$f":"AL334+AL343+AL352","v":0.83594222002526497},0.82458770614692645,{"$f":"AN334+AN343+AN352","v":0.82458770614692645}]
[null,null,null,null,null,null,null,null,null,null,null,null,null,null,null,null,null,null,null,null,null,null,null,"Students Accumulating 36 hrs",{"$f":"Y335+Y344+Y353","v":0.90275201764499469},0.91546552395792757,0.91587854654056744,0.91822039346791828,0.917996400719856,0.92174997402057568,0.91783358407591709,0.92172974269777486,0.89912393712960581,0.8878473158888589,0.86791008420906124,{"$f":"AJ335+AJ344+AJ353","v":0.8619249773818638},null,{"$f":"AL335+AL344+AL353","v":0.85531720675490641},0.8421186011150531,{"$f":"AN335+AN344+AN353","v":0.8421186011150531}]
[null,null,null,null,null,null,null,null,null,null,null,null,null,null,null,null,null,null,null,null,null,null,null,"Associates",{"$f":"Y336+Y345+Y354","v":0.90536744048499185},0.91522440598415966,0.91736857391809479,0.92748659916617027,0.92292899408284024,0.92383227176220806,0.92986044273339741,0.93441179707274136,0.92862541842133672,0.92527102410272599,0.90914054821448076,{"$f":"AJ336+AJ345+AJ354","v":0.90212765957446805},null,{"$f":"AL336+AL345+AL354","v":0.8772144741801734},0.86482694106641722,{"$f":"AN336+AN345+AN354","v":0.86482694106641722}]
[null,null,null,null,null,null,null,null,null,null,null,null,null,null,null,null,null,null,null,null,null,null,null,"1-2 Year Certificates",{"$f":"Y337+Y346+Y355","v":0.9248434237995824},0.92348754448398584,0.94356659142212185,0.93162393162393164,0.9362934362934362,0.93977812995245635,0.9337641357027463,0.93822393822393813,0.94881398252184779,0.9436795994993743,0.94354838709677413,{"$f":"AJ337+AJ346+AJ355","v":0.9194444444444444},null,{"$f":"AL337+AL346+AL355","v":0.91676575505350777},0.92009132420091322,{"$f":"AN337+AN346+AN355","v":0.92009132420091322}]
[null,null,null,null,null,null,null,null,null,null,null,null,null,null,null,null,null,null,null,null,null,null,null,"<1yr Certificates",{"$f":"Y338+Y347+Y356","v":0.91079812206572774},0.93376865671641784,0.9311294765840219,0.93505253104106967,0.93844696969696961,0.92040429564118764,0.93106749640976549,0.93236335037357443,0.94073190135242646,0.92744223753546817,0.9179616913624864,{"$f":"AJ338+AJ347+AJ356","v":0.90748560460652594},null,{"$f":"AL338+AL347+AL356","v":0.89214659685863873},0.88755331523846459,{"$f":"AN338+AN347+AN356","v":0.88755331523846459}]

{"sheet":"Univ Data","index":9,"n_rows":238,"n_cols":119,"rows_kept":238,"cut":false,"hidden":false,"merged":[[1,102,1,113],[145,20,146,20],[145,21,146,21],[122,61,128,61],[131,61,137,61],[138,61,144,61],[10,81,16,81],[3,81,9,81],[19,81,25,81],[26,81,32,81],[35,81,41,81],[106,61,112,61],[1,61,1,77],[1,81,1,97],[186,23,186,33],[195,23,195,33],[1,1,1,15],[167,23,167,38],[168,23,168,38],[147,61,153,61],[177,23,177,33],[42,81,48,81],[51,81,57,81],[58,81,64,81],[67,81,73,81],[115,61,121,61],[74,81,80,81],[83,81,89,81],[90,81,96,81],[99,81,105,81],[106,81,112,81],[115,81,121,81],[122,81,128,81],[131,81,137,81],[138,81,144,81],[147,81,153,81],[154,61,160,61],[154,81,160,81],[10,61,16,61],[3,61,9,61],[19,61,25,61],[26,61,32,61],[35,61,41,61],[42,61,48,61],[51,61,57,61],[58,61,64,61],[67,61,73,61],[74,61,80,61],[83,61,89,61],[90,61,96,61],[99,61,105,61]]}
[]
[null,"Combined Outcomes",null,null,null,null,null,null,null,null,null,null,null,null,null,null,null,null,null,"Scale Calculation",null,null,null,null,null,null,null,null,null,null,null,null,"NEW RSSP DEFINITION STARTS HERE",null,null,null,null,null,null,null,null,null,null,null,null,null,null,null,null,null,null,null,null,null,null,null,null,null,null,null,null,"Focus Population Overlap",null,null,null,null,null,null,null,null,null,null,null,null,null,null,null,null,null,null,null,"For Reference",null,null,null,null,null,null,null,null,null,null,null,null,null,null,null,null,null,null,null,null,"Full-time Enrollment for Formula"]
[null,"UTM","2004-05","2005-06","2006-07","2007-08","2008-09","2009-10","2010-11","2011-12","2012-13","2013-14","2014-15","2015-16","2016-17","2017-18","2018-19","2019-20",null,"Standard Dev.",null,null,null,"UTM","2004-05","2005-06","2006-07","2007-08","2008-09","2009-10","2010-11","2011-12","2012-13","2013-14","2014-15","2015-16","2016-17","2017-18","2018-19","2019-20",null,null,"UTM","2004-05","2005-06","2006-07","2007-08","2008-09","2009-10","2010-11","2011-12","2012-13","2013-14","2014-15","2015-16","2016-17","2017-18","2018-19","2019-20",null,null,null,"UTM","2004-05","2005-06","2006-07","2007-08","2008-09","2009-10","2010-11","2011-12","2012-13","2013-14","2014-15","2015-16","2016-17","2017-18","2018-19","2019-20",null,null,null,"UTM","2004-05","2005-06","2006-07","2007-08","2008-09","2009-10","2010-11","2011-12","2012-13","2013-14","2014-15","2015-16","2016-17","2017-18","2018-19","2019-20",null,null,null,null,"2004-05","2005-06","2006-07","2007-08","2008-09","2009-10","2010-11","2011-12","2012-13","2013-14","2014-15","2015-16","2016-17","2017-18","2018-19","2019-20"]
[null,"Students Accumulating 30 hrs",{"$f":"Y4+BL4*$V$6+BL11*$V$8","v":1720},1737.6,1780,1906.2,2136.6,2179.4,2103.4,1809.4,1800.2,1597.4,1564.4,1452.4,{"$f":"AK4+BX4*$V$6+BX11*$V$8","v":1325.2},1363.8,1329.2,1329.2,null,202.94404702336746,null,"Focus Premium",null,"Students Accumulating 30 hrs",1191,1194,1208,1274,1428,1434,1385,1189,1217,1074,1083,1006,908,946,935,{"$f":"AM4*(1+'Control Data'!$C31)","v":935},null,null,"Associate",0,0,0,0,0,0,0,0,0,0,0,0,0,0,0,{"$f":"BF4*(1+'Control Data'!$C35)","v":0},null,null,"One Focus Pop Only","Students Accumulating 30 hrs",560,597,620,679,767,753,743,638,624,593,558,508,464,466,444,{"$f":"BZ4*(1+'Control Data'!$C$48)","v":444},null,null,"Adults","Students Accumulating 30 hrs",102,89,102,109,122,163,143,129,101,75,49,61,66,59,54,null,null,null,null,"UTM",5398.2333333333336,5548.1333333333332,5668.4666666666662,5812.3,5969.6,6342.2333333333336,6600.3666666666668,6646.666666666667,6560.333333333333,6318.3666666666668,6127.8,5768.333333333333,5369.0666666666666,5361.2333333333336,5148.833333333333,{"$f":"DN4*(1+'Control Data'!$C$50)","v":5148.833333333333}]
[null,"Students Accumulating 60 hrs",1310.5999999999999,1525.6,1440.6,1511.6,1729.2,1870.8000000000002,1926.4,1831.4,1680.8,1713.6,1645.8,1588.8,{"$f":"AK5+BX5*$V$6+BX12*$V$8","v":1408.2},1343.2,1345,1345,null,199.83343730884297,null,"One Focus Pop Only",null,"Students Accumulating 60 hrs",911,1052,996,1032,1152,1233,1254,1192,1111,1133,1093,1069,965,919,937,{"$f":"AM5*(1+'Control Data'!$C32)","v":937},null,null,"Reverse Articulated Associates",0,0,0,0,0,0,0,0,0,0,0,7,13,43,19,{"$f":"BF5*(1+'Control Data'!$C36)","v":19},null,null,null,"Students Accumulating 60 hrs",417,472,457,492,594,651,668,633,566,597,596,576,464,444,435,{"$f":"BZ5*(1+'Control Data'!$C$48)","v":435},null,null,null,"Students Accumulating 60 hrs",89,127,109,123,132,150,171,156,142,128,111,74,95,98,75,null,null,null,null,"APSU",6521,7122.5666666666666,7211.1,7054.1333333333332,7206.9,7543.1333333333332,8093.2666666666664,8418.5333333333328,8314.0333333333328,8134.0666666666666,7574.0666666666666,7849.666666666667,8000,7937.5,8101.9333333333334,{"$f":"DN5*(1+'Control Data'!$D$50)","v":8101.9333333333334}]
[null,"Students Accumulating 90 hrs",1329.4,1299.4000000000001,1523.8,1505.4,1581,1784.6,1335.8,1870.2,1849.6,1886,1911.8,1767.4,{"$f":"AK6+BX6*$V$6+BX13*$V$8","v":1688},1681.8,1518.6,1518.6,null,232.79473075365499,null,0.8,null,"Students Accumulating 90 hrs",924,904,1051,1021,1072,1168,854,1206,1199,1212,1244,1151,1131,1121,1038,{"$f":"AM6*(1+'Control Data'!$C33)","v":1038},null,null,"Bachelors",835,890,958,998,1018,1017,1038,1116,1247,1223,1199,1252,1230,1154,1164,{"$f":"BF6*(1+'Control Data'!$C37)","v":1164},null,null,null,"Students Accumulating 90 hrs",373,383,446,443,460,557,391,614,602,615,626,593,550,521,477,{"$f":"BZ6*(1+'Control Data'!$C$48)","v":477},null,null,null,"Students Accumulating 90 hrs",158,130,168,183,179,220,212,230,208,232,195,191,154,195,145,null,null,null,null,"TTU",6424.4,6617.2,6921.6333333333332,7300.0333333333338,7536.4,8007.4333333333334,8458,8812.8666666666668,8943.4666666666672,9221.6666666666661,9409.1666666666661,8961.9,8630.9,8434.1333333333332,8264.7333333333336,{"$f":"DN6*(1+'Control Data'!$E$50)","v":8264.7333333333336}]
[null,"Bachelors and Associates",{"$f":"Y7+BL10*$V$6+BL17*$V$8","v":1181.5999999999999},1312.4,1421.8,1488.8,1498.6,1524.2,1591.8,1734.2,1976.6,1958.8,1874,1962.7,{"$f":"AK7+BX10*$V$6+BX17*$V$8","v":1941.2},1784.9,1780.7,1780.7,null,257.08301210136551,null,"Two Focus Pops Only",null,"Bachelors and Associates",835,890,958,998,1018,1017,1038,1116,{"$f":"AZ4+AZ6+$V$11*AZ5","v":1247},{"$f":"BA4+BA6+$V$11*BA5","v":1223},1199,1255.5,1236.5,1175.5,1173.5,{"$f":"BG4+BG6+$V$11*BG5","v":1173.5},null,null,"Masters",119,142,170,140,115,129,131,132,122,104,119,102,94,110,109,{"$f":"BF7*(1+'Control Data'!$C39)","v":109},null,null,null,"Associates",0,0,0,0,0,0,0,0,0,0,0,0,0,0,0,{"$f":"BZ7*(1+'Control Data'!$C$48)","v":0},null,null,null,"Associates",0,0,0,0,0,0,0,0,0,0,0,0,0,0,0,null,null,null,null,"UTC",6702.2333333333336,6640.9380000000001,6823.6333333333332,7183.333333333333,7628.1,8252.6666666666661,8528.1433333333334,8886.6333333333332,9054.8666666666668,9326.6,9211.2666666666664,9119.5333333333328,9234.6666666666661,9317.3666666666668,9391.9666666666672,{"$f":"DN7*(1+'Control Data'!$F$50)","v":9391.9666666666672}]
[null,"Masters/Ed Specialist Degrees",{"$f":"Y8","v":119},142,170,{"$f":"AB8","v":140},{"$f":"AC8","v":115},129,131,132,122,104,119,102,{"$f":"AK8","v":94},{"$f":"AL8","v":110},{"$f":"AM8","v":109},{"$f":"AN8","v":109},null,18.056700818378861,null,1,null,"Masters/Ed Specialist Degrees",119,142,170,140,115,129,131,132,{"$f":"AZ7+AZ8","v":122},{"$f":"BA7+BA8","v":104},119,102,94,110,109,{"$f":"BG7+BG8","v":109},null,null,"Education Specialist",0,0,0,0,0,0,0,0,0,0,0,0,0,0,0,{"$f":"BF8*(1+'Control Data'!$C40)","v":0},null,null,null,"Reverse Articulated Associates",0,0,0,0,0,0,0,0,0,0,0,5,8,16,7,{"$f":"BZ8*(1+'Control Data'!$C$48)","v":7},null,null,null,"Reverse Articulated Associates",0,0,0,0,0,0,0,0,0,0,0,2,5,16,4,null,null,null,null,"MTSU",18157.7,18573.733333333334,18767.599999999999,18926.733333333334,19212.333333333332,19973.566666666666,20916.033333333333,20591.2,19483.666666666668,18344.333333333332,17811.766666666666,17308.599999999999,16967.766666666666,16713.400000000001,16410.133333333335,{"$f":"DN8*(1+'Control Data'!$G$50)","v":16410.133333333335}]
[null,"Doctoral / Law Degrees",0,0,0,{"$f":"AB9","v":0},0,0,0,0,0,0,0,0,0,0,0,0,null,null,null,null,null,"Doctoral / Law Degrees",0,0,0,0,0,0,0,0,{"$f":"SUM(AZ9:AZ11)","v":0},{"$f":"SUM(BA9:BA11)","v":0},0,0,0,0,0,{"$f":"SUM(BG9:BG11)","v":0},null,null,"Law Degrees",0,0,0,0,0,0,0,0,0,0,0,0,0,0,0,{"$f":"BF9*(1+'Control Data'!$C42)","v":0},null,null,null,"Bachelors",287,343,371,396,367,369,441,454,522,546,510,549,550,485,453,{"$f":"BZ9*(1+'Control Data'!$C$48)","v":453},null,null,null,"Bachelors",246,272,311,313,273,316,300,358,407,390,338,321,331,257,314,null,null,null," ","ETSU",8865.7666666666664,8909.9,9158.0666666666675,9506.9,9833,10402.4,10899.933333333332,11145.366666666667,10789.033333333333,10355.299999999999,10254.5,10292.366666666667,10196.6,10358.866666666667,10364.5,{"$f":"DN9*(1+'Control Data'!$H$50)","v":10364.5}]
[null,"Research, Service and Sponsored Programs",null,null,null,{"$f":"AB10","v":4527799.72},4386318,4311201.5199999996,3646780.32,3036994.36,4394441.16,{"$f":"AH10","v":4482158.2400000012},3479219.100000001,4338019.4999999991,4899473.4799999986,4950442.42,4950442.42,0,null,1046055.9040952764,null,"R.A. Assoc. Credit",null,"Research, Service and Sponsored Programs",null,null,null,4527799.72,4386318,4311201.5199999996,3646780.32,3036994.36,4394441.16,4482158.2400000012,3479219.100000001,4338019.4999999991,4899473.4799999986,4950442.42,{"$f":"AL10*(1+'Control Data'!$C$45)","v":4950442.42},null,null,null,"Degrees of Veterinary Medicine",0,0,0,0,0,0,0,0,0,0,0,0,0,0,0,{"$f":"BF10*(1+'Control Data'!$C43)","v":0},null,null,null,"Bach & Assoc",{"$f":"BL7+BL9+$V$11*BL8","v":287},{"$f":"BM7+BM9+$V$11*BM8","v":343},371,396,367,369,441,454,522,546,510,551.5,554,{"$f":"BY7+BY9+$V$11*BY8","v":493},456.5,456.5,null,null,null,"Bach & Assoc",{"$f":"CF7+CF9+$V$11*CF8","v":246},272,311,313,273,316,300,358,407,390,338,322,333.5,265,316,{"$f":"CU7+CU9+$V$11*CU8","v":0},null,null,null,"TSU",6750.8666666666668,6536.8666666666668,6466.0666666666666,6406.4,5749.5666666666666,5992.166666666667,6025.4333333333334,6166.9,5832.9666666666662,5941.5,6255.9,6411.166666666667,6160.2,5973.7,5366.1,{"$f":"DN10*(1+'Control Data'!$I$50)","v":5366.1}]
[null,"Degrees per 100 FTE",{"$f":"Y11","v":15.468023489166209},{"$f":"Z11","v":16.041431352286654},{"$f":"AA11","v":16.900513954390959},{"$f":"AB11","v":17.17048328544638},{"$f":"AC11","v":17.053068882337175},{"$f":"AD11","v":16.035360835037078},{"$f":"AE11","v":15.726399038437258},{"$f":"AF11","v":16.790371113340019},{"$f":"AG11","v":19.008180478634216},{"$f":"AH11","v":19.35626823387901},19.566565488429781,{"$f":"AJ11","v":21.765385726668594},23.03007350749975,21.925925004818541,22.791570906030493,22.791570906030493,null,1.3110074367824165,null,0.5,null,"Degrees per 100 FTE",15.468023489166209,16.041431352286654,16.900513954390959,17.17048328544638,17.053068882337175,16.035360835037078,15.726399038437258,16.790371113340019,{"$f":"(AZ4+AZ6)/DH4*100","v":19.008180478634216},{"$f":"(BA4+BA6+$V$11*BA5)/DI4*100","v":19.35626823387901},19.566565488429781,21.765385726668594,23.03007350749975,21.925925004818541,22.791570906030493,{"$f":"(BG4+BG6+$V$11*BG5)/DO4*100","v":22.791570906030493},null,null,"Doctoral",0,0,0,0,0,0,0,0,0,0,0,0,0,0,0,{"$f":"BF11*(1+'Control Data'!$C44)","v":0},null,null,"Two Focus Pops Only","Students Accumulating 30 hrs",81,66,76,89,95,143,124,110,84,49,35,40,46,45,39,{"$f":"BZ11*(1+'Control Data'!$C$49)","v":39},null,null,"Low-Income","Students Accumulating 30 hrs",620,640,670,748,835,876,848,729,691,616,579,527,490,497,468,null,null,null,null,"UM",13549.3,13122.5,13132.433333333332,13071.333333333334,13261.233333333334,13793.6,14612.233333333334,14916.6,14433.666666666666,13835.7,13799.066666666668,13530.6,13904.033333333333,13587.033333333333,13311.2,{"$f":"DN11*(1+'Control Data'!$J$50)","v":13311.2}]
[null,"Six-Year Graduation Rate",0.4667381974248927,0.48175865294667913,0.47741935483870968,0.53038674033149169,0.54282765737874095,0.53085376162299236,0.59253246753246758,0.59616985845129056,0.5705378020265004,0.58351729212656367,0.58090379008746351,0.58582677165354335,0.56356589147286817,0.56093868281604842,0.55444785276073616,0.55444785276073616,null,4.6355080822989363,null,null,null,"Six-Year Graduation Rate",0.4667381974248927,0.48175865294667913,0.47741935483870968,0.53038674033149169,0.54282765737874095,0.53085376162299236,0.59253246753246758,0.59616985845129056,0.5705378020265004,0.58351729212656367,0.58090379008746351,0.58582677165354335,0.56356589147286817,0.56093868281604842,0.55444785276073616,{"$f":"AM12*(1+'Control Data'!$C$47)","v":0.55444785276073616},null,null,null,null,null,null,null,null,null,null,null,null,null,null,null,null,null,null,null,null,null,null,"Students Accumulating 60 hrs",66,96,79,86,102,117,138,133,117,103,76,59,72,69,60,{"$f":"BZ12*(1+'Control Data'!$C$49)","v":60},null,null,null,"Students Accumulating 60 hrs",460,537,506,541,666,735,773,743,658,675,637,620,513,484,480,null,null,null,null,"UTK",18460.866666666665,18884.566666666666,19417.766666666666,19959.566666666666,20486.166666666668,20065.433333333334,19605.276666666668,19227,19184.166666666668,19397.866666666665,19716.033333333333,20209.3,20561.166666666668,20869.066666666666,21264.95,{"$f":"DN12*(1+'Control Data'!$K$50)","v":21264.95}]
[null,null,null,null,null,null,null,null,null,null," ",null,null,null,null,null,null,null,null,null,null,null,null,null,null,null,null,null,null,null,null,null,null,null,null,null,null,null,null,null,null,null,null,null,null,null,null,null,null,null,null,null,null,null,null,null,null,null,null,null,null,null,"Students Accumulating 90 hrs",107,89,116,130,141,171,169,173,169,182,167,142,117,144,99,{"$f":"BZ13*(1+'Control Data'!$C$49)","v":99},null,null,null,"Students Accumulating 90 hrs",429,431,510,520,563,679,517,730,732,747,765,686,630,614,530,null,null," ",null,"Total",{"$f":"SUM(CZ4:CZ12)","v":90830.366666666669},91956.404666666684,93566.766666666648,95220.733333333337,96883.3,100372.63333333335,103738.68666666668,104811.76666666666,102596.20000000001,100875.4,{"$f":"SUM(DJ4:DJ12)","v":100159.56666666665},99451.466666666674,99024.4,98552.3,97624.35,97624.35]
[null,null,null,null,null,null,null,null,null,null,null,null,null,null,null,null,null,null,null,null,null,null,null,null,null,null,null,null,null,null,null,null,null," ",null,null,null,null,null,null,null,null," ",null,null,null,null,null,null,null,null,null,null,null,null," "," "," "," ",null,null,null,"Associates",0,0,0,0,0,0,0,0,0,0,0,0,0,0,0,{"$f":"BZ14*(1+'Control Data'!$C$49)","v":0},null,null,null,"Associates",0,0,0,0,0,0,0,0,0,0,0,0,0,0,0]
[null,null,null,null,null,null," ",null,null,null,null,null,null,null,null,null,null,null,null,null,null,null,null,null,null,null,null,null," ",null,null,null,null,null,null," "," "," "," "," ",null,null,null,null,null,null,null,null,null,null,null,null,null,null,null,null,null,null,null,null,null,null,"Reverse Articulated Associates",0,0,0,0,0,0,0,0,0,0,0,2,3,14,4,{"$f":"BZ15*(1+'Control Data'!$C$49)","v":4},null,null,null,"Reverse Articulated Associates",0,0,0,0,0,0,0,0,0,0,0,7,9,28,11]
[null,null,null,null,null,null,null,null,null,null,null,null,null,null,null,null,null,null,null,null,null,null,null,null,null,null,null,null,null,null,null,null,null,null,null,null,null,null,null,null,null,null,null,null,null,null,null,null,null,null,null,null,null,null,null,null,null,null,null,null,null,null,"Bachelors",117,148,167,174,187,212,201,255,312,299,267,265,260,208,240,{"$f":"BZ16*(1+'Control Data'!$C$49)","v":240},null,null,null,"Bachelors",275,367,394,431,468,477,543,606,739,754,706,758,739,644,619]
[null,null,null,null,null,null,null,null,null,null,null,null,null,null,null,null,null,null,null,null,null,null,null,null,null,null,null,null,null,null,null,null,null,null,null,null,null,null,null,null,null,null,null,null,null,null,null,null,null,null,null,null,null,null,null,null,null,null,null,null,null,null,"Bach & Assoc",{"$f":"BL14+BL16+$V$11*BL15","v":117},{"$f":"BM14+BM16+$V$11*BM15","v":148},{"$f":"BN14+BN16+$V$11*BN15","v":167},{"$f":"BO14+BO16+$V$11*BO15","v":174},{"$f":"BP14+BP16+$V$11*BP15","v":187},{"$f":"BQ14+BQ16+$V$11*BQ15","v":212},{"$f":"BR14+BR16+$V$11*BR15","v":201},{"$f":"BS14+BS16+$V$11*BS15","v":255},{"$f":"BT14+BT16+$V$11*BT15","v":312},{"$f":"BU14+BU16+$V$11*BU15","v":299},267,266,261.5,{"$f":"BY14+BY16+$V$11*BY15","v":215},242,242,null," ",null,"Bach & Assoc",{"$f":"CF14+CF16+$V$11*CF15","v":275},{"$f":"CG14+CG16+$V$11*CG15","v":367},{"$f":"CH14+CH16+$V$11*CH15","v":394},{"$f":"CI14+CI16+$V$11*CI15","v":431},{"$f":"CJ14+CJ16+$V$11*CJ15","v":468},{"$f":"CK14+CK16+$V$11*CK15","v":477},{"$f":"CL14+CL16+$V$11*CL15","v":543},{"$f":"CM14+CM16+$V$11*CM15","v":606},{"$f":"CN14+CN16+$V$11*CN15","v":739},754,706,761.5,743.5,658,624.5,{"$f":"CU14+CU16+$V$11*CU15","v":0}]
[]
[null,"APSU","2004-05","2005-06","2006-07","2007-08","2008-09","2009-10","2010-11","2011-12","2012-13","2013-14","2014-15","2015-16","2016-17","2017-18",{"$f":"Q3","v":"2018-19"},{"$f":"R3","v":"2019-20"},null,"Standard Dev.",null,null,null,"APSU","2004-05","2005-06","2006-07","2007-08","2008-09","2009-10","2010-11","2011-12","2012-13","2013-14","2014-15","2015-16","2016-17","2017-18","2018-19","2019-20",null,null,"APSU","2004-05","2005-06","2006-07","2007-08","2008-09","2009-10","2010-11","2011-12","2012-13","2013-14","2014-15","2015-16","2016-17","2017-18","2018-19","2019-20",null,null,null,"APSU","2004-05","2005-06","2006-07","2007-08","2008-09","2009-10","2010-11","2011-12","2012-13","2013-14","2014-15","2015-16",{"$f":"BX3","v":"2016-17"},"2017-18","2018-19",{"$f":"CA3","v":"2019-20"},null,null,null,"APSU","2004-05","2005-06","2006-07","2007-08","2008-09","2009-10","2010-11","2011-12","2012-13","2013-14","2014-15","2015-16","2016-17","2017-18","2018-19",{"$f":"CU3","v":"2019-20"}]
[null,"Students Accumulating 30 hrs",{"$f":"Y20+BL20*$V$6+BL27*$V$8","v":2346.1999999999998},2389.1999999999998,2546,2329.4,2505.1999999999998,2584.1999999999998,2338.1999999999998,2311.8000000000002,2255,2195.6,2287.6,2099.4,{"$f":"AK20+BX20*$V$6+BX27*$V$8","v":2235},2364.8000000000002,2467.6,2467.6,null,136.71619265227264,null,null,null,"Students Accumulating 30 hrs",1475,1527,1621,1463,1590,1636,1482,1480,1453,1422,1495,1361,1474,1584,1670,{"$f":"AM20*(1+'Control Data'!$D31)","v":1670},null,null,"Associate",128,138,131,109,158,134,225,241,312,256,298,316,322,380,406,{"$f":"BF20*(1+'Control Data'!$D35)","v":406},null,null,"One Focus Pop Only","Students Accumulating 30 hrs",804,784,825,773,814,879,804,746,800,747,792,748,785,866,882,{"$f":"BZ20*(1+'Control Data'!$D$48)","v":882},null,null,"Adults","Students Accumulating 30 hrs",347,332,371,337,351,349,297,277,237,236,210,201,185,140,141]
[null,"Students Accumulating 60 hrs",1804.8,1931.2,2134.8000000000002,2027.6,2181.8000000000002,2218.6,2053.6,2197.8000000000002,2323,2285.8000000000002,2117.4,2372.4,{"$f":"AK21+BX21*$V$6+BX28*$V$8","v":2072.1999999999998},2207.4,2189,2189,null,156.661005571478,null,null,null,"Students Accumulating 60 hrs",1112,1211,1335,1279,1354,1385,1273,1358,1463,1432,1349,1493,1305,1422,1459,{"$f":"AM21*(1+'Control Data'!$D32)","v":1459},null,null,"Reverse Articulated Associates",0,0,0,0,0,0,0,0,0,0,0,33,25,30,40,{"$f":"BF21*(1+'Control Data'!$D36)","v":40},null,null,null,"Students Accumulating 60 hrs",541,569,631,597,686,647,637,676,700,746,673,793,689,743,730,{"$f":"BZ21*(1+'Control Data'!$D$48)","v":730},null,null,null,"Students Accumulating 60 hrs",423,407,446,375,397,436,382,390,404,348,306,319,315,271,226]
[null,"Students Accumulating 90 hrs",1490.8,1722.8,1974.6,1873.2,2163.6,2131.6,2096,2209.8000000000002,2463.4,2427.1999999999998,2504.4,2278.8000000000002,{"$f":"AK22+BX22*$V$6+BX29*$V$8","v":2601.8000000000002},2195.8000000000002,2392.1999999999998,2392.1999999999998,null,298.15366955089883,null,null,null,"Students Accumulating 90 hrs",931,1069,1221,1179,1339,1305,1292,1357,1504,1477,1539,1396,1593,1363,1523,{"$f":"AM22*(1+'Control Data'!$D33)","v":1523},null,null,"Bachelors",914,1004,1058,1159,1161,1157,1243,1312,1413,1548,1469,1557,1564,1613,1515,{"$f":"BF22*(1+'Control Data'!$D37)","v":1515},null,null,null,"Students Accumulating 90 hrs",421,456,517,494,592,577,565,631,683,694,728,661,761,646,754,{"$f":"BZ22*(1+'Control Data'!$D$48)","v":754},null,null,null,"Students Accumulating 90 hrs",399,484,528,444,545,519,509,516,578,546,533,469,517,432,383]
[null,"Bachelors and Associates",{"$f":"Y23+BL26*$V$6+BL33*$V$8","v":1696.4},1865.4,1989.8,2097.6,2186,2142.4,2487.8000000000002,2607.1999999999998,2941.2,3059,2989.4,3203.3,{"$f":"AK23+BX26*$V$6+BX33*$V$8","v":3178.8},3354.5,3232.8,3232.8,null,451.87679736848605,null,null,null,"Bachelors and Associates",1042,1142,1189,1268,1319,1291,1468,1553,{"$f":"AZ20+AZ22+$V$11*AZ21","v":1725},{"$f":"BA20+BA22+$V$11*BA21","v":1804},1767,1889.5,1898.5,2008,1941,{"$f":"BG20+BG22+$V$11*BG21","v":1941},null,null,"Masters",123,219,215,214,250,267,289,320,294,310,300,313,372,300,402,{"$f":"BF23*(1+'Control Data'!$D39)","v":402},null,null,null,"Associates",72,88,71,53,78,71,109,110,151,122,133,143,149,171,185,{"$f":"BZ23*(1+'Control Data'!$D$48)","v":185},null,null,null,"Associates",100,124,105,89,131,110,181,182,226,163,188,174,167,173,145,null,null,null," "]
[null,"Masters/Ed Specialist Degrees",{"$f":"Y24","v":136},{"$f":"Z24","v":235},{"$f":"AA24","v":225},{"$f":"AB24","v":222},{"$f":"AC24","v":254},{"$f":"AD24","v":271},{"$f":"AE24","v":296},{"$f":"AF24","v":326},{"$f":"AG24","v":304},{"$f":"AH24","v":316},313,322,{"$f":"AK24","v":384},{"$f":"AL24","v":313},{"$f":"AM24","v":411},{"$f":"AN24","v":411},null,57.279529017306388,null,null,null,"Masters/Ed Specialist Degrees",136,235,225,222,254,271,296,326,{"$f":"AZ23+AZ24","v":304},{"$f":"BA23+BA24","v":316},313,322,384,313,411,{"$f":"BG23+BG24","v":411},null,null,"Education Specialist",13,16,10,8,4,4,7,6,10,6,13,9,12,13,9,{"$f":"BF24*(1+'Control Data'!$D40)","v":9},null,null,null,"Reverse Articulated Associates",0,0,0,0,0,0,0,0,0,0,0,13,13,16,16,{"$f":"BZ24*(1+'Control Data'!$D$48)","v":16},null,null,null,"Reverse Articulated Associates",0,0,0,0,0,0,0,0,0,0,0,13,9,8,17]
[null,"Doctoral / Law Degrees",0,0,0,{"$f":"AB25","v":0},0,0,0,0,0,0,0,0,0,0,0,0,null,null,null,null,null,"Doctoral / Law Degrees",0,0,0,0,0,0,0,0,{"$f":"SUM(AZ25:AZ27)","v":0},{"$f":"SUM(BA25:BA27)","v":0},0,0,0,0,0,{"$f":"SUM(BG25:BG27)","v":0},null,null,"Law Degrees",0,0,0,0,0,0,0,0,0,0,0,0,0,0,0,{"$f":"BF25*(1+'Control Data'!$D42)","v":0},null,null,null,"Bachelors",401,425,480,504,472,497,507,519,613,653,620,734,688,741,693,{"$f":"BZ25*(1+'Control Data'!$D$48)","v":693},null,null,null,"Bachelors",514,570,635,639,629,603,680,683,765,780,732,737,745,740,722]
[null,"Research, Service and Sponsored Programs",null,null,null,{"$f":"AB26","v":2745863.5299999993},{"$f":"AC26","v":2895210.4099999988},{"$f":"AD26","v":3604390.4599999995},{"$f":"AE26","v":3489372.48},{"$f":"AF26","v":3601246},{"$f":"AG26","v":2937824},{"$f":"AH26","v":2641736},2754965,2560618,2811564,3933867,3933867,0,null,506834.90817744675,null,null,null,"Research, Service and Sponsored Programs",null,null,null,2745863.5299999993,2895210.4099999988,3604390.4599999995,3489372.48,3601246,2937824,2641736,2754965,2560618,2811564,3933867,{"$f":"AL26*(1+'Control Data'!$D$45)","v":3933867},null,null,null,"Degrees of Veterinary Medicine",0,0,0,0,0,0,0,0,0,0,0,0,0,0,0,{"$f":"BF26*(1+'Control Data'!$D43)","v":0},null,null,null,"Bach & Assoc",{"$f":"BL23+BL25+$V$11*BL24","v":473},{"$f":"BM23+BM25+$V$11*BM24","v":513},{"$f":"BN23+BN25+$V$11*BN24","v":551},{"$f":"BO23+BO25+$V$11*BO24","v":557},{"$f":"BP23+BP25+$V$11*BP24","v":550},{"$f":"BQ23+BQ25+$V$11*BQ24","v":568},{"$f":"BR23+BR25+$V$11*BR24","v":616},{"$f":"BS23+BS25+$V$11*BS24","v":629},{"$f":"BT23+BT25+$V$11*BT24","v":764},{"$f":"BU23+BU25+$V$11*BU24","v":775},753,883.5,843.5,{"$f":"BY23+BY25+$V$11*BY24","v":920},886,886,null,null,null,"Bach & Assoc",{"$f":"CF23+CF25+$V$11*CF24","v":614},{"$f":"CG23+CG25+$V$11*CG24","v":694},{"$f":"CH23+CH25+$V$11*CH24","v":740},{"$f":"CI23+CI25+$V$11*CI24","v":728},{"$f":"CJ23+CJ25+$V$11*CJ24","v":760},{"$f":"CK23+CK25+$V$11*CK24","v":713},{"$f":"CL23+CL25+$V$11*CL24","v":861},{"$f":"CM23+CM25+$V$11*CM24","v":865},{"$f":"CN23+CN25+$V$11*CN24","v":991},943,920,917.5,916.5,917,875.5,{"$f":"CU23+CU25+$V$11*CU24","v":0}]
[null,"Degrees per 100 FTE",{"$f":"Y27","v":15.979144303021009},{"$f":"Z27","v":16.033545959555777},{"$f":"AA27","v":16.488469165591933},17.975276906211015,18.301905118705687,17.114903620953275,18.138534913796654,18.447393845325394,20.748052489565836,{"$f":"AH27","v":22.178328183524439},23.329607168319967,24.071085821053973,23.731249999999999,25.297637795275591,23.957244772852569,23.957244772852569,null,2.0039597456491838,null,null,null,"Degrees per 100 FTE",15.979144303021009,16.033545959555777,16.488469165591933,17.975276906211015,18.301905118705687,17.114903620953275,18.138534913796654,18.447393845325394,{"$f":"(AZ20+AZ22+$V$11*AZ21)/DH5*100","v":20.748052489565836},{"$f":"(BA20+BA22+$V$11*BA21)/DI5*100","v":22.178328183524439},23.329607168319967,24.071085821053973,23.731249999999999,25.297637795275591,23.957244772852569,{"$f":"(BG20+BG22+$V$11*BG21)/DO5*100","v":23.957244772852569},null,null,"Doctoral",0,0,0,0,0,0,0,0,0,0,0,0,0,0,0,{"$f":"BF27*(1+'Control Data'!$D44)","v":0},null,null,"Two Focus Pops Only","Students Accumulating 30 hrs",228,235,265,248,264,245,213,235,162,176,159,140,133,88,92,{"$f":"BZ27*(1+'Control Data'!$D$49)","v":92},null,null,"Low-Income","Students Accumulating 30 hrs",913,922,984,932,991,1020,933,939,887,863,900,827,866,902,925]
[null,"Six-Year Graduation Rate",0.36086956521739133,0.37366548042704628,0.32810750279955209,0.3711967545638945,0.37048503611971106,0.38059071729957805,0.44127243066884175,0.47019867549668876,0.44865319865319864,0.47593984962406016,0.45255972696245733,0.46113306982872199,0.47662247034194,0.47954866008462621,0.51535836177474403,0.51535836177474403,null,4.9568850818349697,null,null,null,"Six-Year Graduation Rate",0.36086956521739133,0.37366548042704628,0.32810750279955209,0.3711967545638945,0.37048503611971106,0.38059071729957805,0.44127243066884175,0.47019867549668876,0.44865319865319864,0.47593984962406016,0.45255972696245733,0.46113306982872199,0.47662247034194,0.47954866008462621,0.51535836177474403,{"$f":"AM28*(1+'Control Data'!$D$47)","v":0.51535836177474403},null,null,null,null,null,null,null,null,null,null,null,null,null,null,null,null,null,null,null,null,null,null,"Students Accumulating 60 hrs",260,265,295,271,279,316,271,299,300,257,230,245,216,191,146,{"$f":"BZ28*(1+'Control Data'!$D$49)","v":146},null,null,null,"Students Accumulating 60 hrs",638,692,775,764,847,843,797,884,896,912,827,964,806,854,796]
[null,null,null,null,null,null,null,null,null,null,null,null,null,null,null,null,null,null,null,null,null,null,null,null,null,null,null,null,null,null,null,null,null,null,null,null,null,null,null,null,null,null,null,null,null,null,null,null,null,null,null,null,null,null,null,null,null,null,null,null,null,null,"Students Accumulating 90 hrs",223,289,340,299,351,365,352,348,413,395,383,354,400,316,266,{"$f":"BZ29*(1+'Control Data'!$D$49)","v":266},null,null,null,"Students Accumulating 90 hrs",468,550,669,648,749,788,760,811,931,938,961,900,1044,846,903]
[null,null,null,null,null,null,null,null,null,null,null,null,null,null,null,null,null,null,null,null,null,null,null,null,null,null,null,null,null,null,null,null,null,null,null,null,null,null,null,null,null,null,null,null,null,null,null,null,null,null,null,null,null,null,null,null,null,null,null,null,null,null,"Associates",44,44,54,49,66,53,97,110,129,108,127,131,109,120,92,{"$f":"BZ30*(1+'Control Data'!$D$49)","v":92},null,null,null,"Associates",60,52,74,62,79,67,122,148,183,175,199,231,200,238,224]
[null,null,null,null,null,null,null,null,null,null,null,null,null,null,null,null,null,null,null,null,null,null,null,null,null,null,null,null,null,null,null,null,null,null,null,null,null,null,null,null,null,null,null,null,null,null,null,null,null,null,null,null,null,null,null,null,null,null,null,null,null,null,"Reverse Articulated Associates",0,0,0,0,0,0,0,0,0,0,0,12,9,7,14,{"$f":"BZ31*(1+'Control Data'!$D$49)","v":14},null,null,null,"Reverse Articulated Associates",0,0,0,0,0,0,0,0,0,0,0,24,22,22,27]
[null,null,null,null,null,null,null,null,null,null,null,null,null,null,null,null,null,null,null,null,null,null,null,null,null,null,null,null,null,null,null,null,null,null,null,null,null,null,null,null,null,null,null,null,null,null,null,null,null,null,null,null,null,null,null,null,null,null,null,null,null,null,"Bachelors",232,269,306,335,361,344,430,441,476,527,493,470,492,487,484,{"$f":"BZ32*(1+'Control Data'!$D$49)","v":484},null,null,null,"Bachelors",351,393,457,535,565,582,687,718,800,927,874,937,927,975,939]
[null,null,null,null,null,null,null,null,null,null,null,null,null,null,null,null,null,null,null,null,null,null,null,null,null,null,null,null,null,null,null,null,null,null,null,null,null,null,null,null,null,null,null,null,null,null,null,null,null,null,null,null,null,null,null,null,null,null,null,null,null,null,"Bach & Assoc",{"$f":"BL30+BL32+$V$11*BL31","v":276},{"$f":"BM30+BM32+$V$11*BM31","v":313},{"$f":"BN30+BN32+$V$11*BN31","v":360},{"$f":"BO30+BO32+$V$11*BO31","v":384},{"$f":"BP30+BP32+$V$11*BP31","v":427},{"$f":"BQ30+BQ32+$V$11*BQ31","v":397},{"$f":"BR30+BR32+$V$11*BR31","v":527},{"$f":"BS30+BS32+$V$11*BS31","v":551},{"$f":"BT30+BT32+$V$11*BT31","v":605},{"$f":"BU30+BU32+$V$11*BU31","v":635},620,607,605.5,{"$f":"BY30+BY32+$V$11*BY31","v":610.5},583,583,null,null,null,"Bach & Assoc",{"$f":"CF30+CF32+$V$11*CF31","v":411},{"$f":"CG30+CG32+$V$11*CG31","v":445},{"$f":"CH30+CH32+$V$11*CH31","v":531},{"$f":"CI30+CI32+$V$11*CI31","v":597},{"$f":"CJ30+CJ32+$V$11*CJ31","v":644},{"$f":"CK30+CK32+$V$11*CK31","v":649},{"$f":"CL30+CL32+$V$11*CL31","v":809},{"$f":"CM30+CM32+$V$11*CM31","v":866},{"$f":"CN30+CN32+$V$11*CN31","v":983},1102,1073,1180,1138,1224,1176.5,{"$f":"CU30+CU32+$V$11*CU31","v":0}]
[]
[null,"TTU","2004-05","2005-06","2006-07","2007-08","2008-09","2009-10","2010-11","2011-12","2012-13","2013-14","2014-15","2015-16","2016-17","2017-18",{"$f":"Q19","v":"2018-19"},{"$f":"R19","v":"2019-20"},null,"Standard Dev.",null,null,null,"TTU","2004-05","2005-06","2006-07","2007-08","2008-09","2009-10","2010-11","2011-12","2012-13","2013-14","2014-15","2015-16","2016-17","2017-18","2018-19","2019-20",null,null,"TTU","2004-05","2005-06","2006-07","2007-08","2008-09","2009-10","2010-11","2011-12","2012-13","2013-14","2014-15","2015-16","2016-17","2017-18","2018-19","2019-20",null,null,null,"TTU","2004-05","2005-06","2006-07","2007-08","2008-09","2009-10","2010-11","2011-12","2012-13","2013-14","2014-15","2015-16",{"$f":"BX19","v":"2016-17"},"2017-18","2018-19","2019-20",null,null,null,"TTU","2004-05","2005-06","2006-07","2007-08","2008-09","2009-10","2010-11","2011-12","2012-13","2013-14","2014-15","2015-16","2016-17","2017-18","2018-19",{"$f":"CU19","v":"2019-20"}]
[null,"Students Accumulating 30 hrs",{"$f":"Y36+BL36*$V$6+BL43*$V$8","v":1713.4},1920.6,1917.2,2199.4,2251.6,2522.8000000000002,2162,2259.8000000000002,2359.4,2560.8000000000002,2556,2055.8000000000002,{"$f":"AK36+BX36*$V$6+BX43*$V$8","v":1898.2},1938.2,1989.8,1989.8,null,261.26343367906867,null,null,null,"Students Accumulating 30 hrs",1179,1368,1375,1554,1580,1772,1504,1612,1749,1858,1944,1508,1404,1443,1496,{"$f":"AM36*(1+'Control Data'!$E31)","v":1496},null,null,"Associate",0,0,0,0,0,0,0,0,0,0,0,0,0,0,0,{"$f":"BF36*(1+'Control Data'!$E35)","v":0},null,null,"One Focus Pop Only","Students Accumulating 30 hrs",598,642,634,758,787,876,775,746,738,851,745,656,594,574,601,{"$f":"BZ36*(1+'Control Data'!$E$48)","v":601},null,null,"Adults","Students Accumulating 30 hrs",71,48,47,70,67,70,48,68,54,65,39,30,25,48,17]
[null,"Students Accumulating 60 hrs",1530.2,1730.8,1890.2,1917.2,2061.6,2207.8000000000002,2239,2195.1999999999998,2198.8000000000002,2429.6,2587.1999999999998,2591.4,{"$f":"AK37+BX37*$V$6+BX44*$V$8","v":2344},2218.1999999999998,2059.1999999999998,2059.1999999999998,null,262.87042858074011,null,null,null,"Students Accumulating 60 hrs",1081,1225,1341,1357,1456,1533,1550,1524,1534,1722,1845,1887,1679,1583,1521,{"$f":"AM37*(1+'Control Data'!$E32)","v":1521},null,null,"Reverse Articulated Associates",0,0,0,0,0,0,0,0,0,0,0,107,93,115,126,{"$f":"BF37*(1+'Control Data'!$E36)","v":126},null,null,null,"Students Accumulating 60 hrs",469,536,594,599,642,721,740,719,731,792,839,803,755,709,599,{"$f":"BZ37*(1+'Control Data'!$E$48)","v":599},null,null,null,"Students Accumulating 60 hrs",98,98,106,104,126,141,129,126,101,121,104,96,81,82,81]
[null,"Students Accumulating 90 hrs",1497.8,1831.2,2056.6,2247.1999999999998,2253.1999999999998,2475,2425.1999999999998,2662.6,2524.4,2592.1999999999998,2766.6,2922.2,{"$f":"AK38+BX38*$V$6+BX45*$V$8","v":2959.8},2789.8,2596.1999999999998,2596.1999999999998,null,366.20917459227707,null,null,null,"Students Accumulating 90 hrs",1064,1304,1422,1548,1555,1703,1639,1809,1706,1753,1907,2021,2066,1935,1816,{"$f":"AM38*(1+'Control Data'!$E33)","v":1816},null,null,"Bachelors",1270,1295,1354,1445,1528,1528,1603,1696,1830,1804,1857,1930,2115,2173,1966,{"$f":"BF38*(1+'Control Data'!$E37)","v":1966},null,null,null,"Students Accumulating 90 hrs",396,479,592,649,639,700,739,792,788,794,852,929,916,876,784,{"$f":"BZ38*(1+'Control Data'!$E$48)","v":784},null,null,null,"Students Accumulating 90 hrs",160,202,217,244,232,273,252,273,236,247,248,206,204,194,174]
[null,"Bachelors and Associates",{"$f":"Y39+BL42*$V$6+BL49*$V$8","v":1813.4},1865.6,1968.2,2126.6,2281,2292.4,2383.6,2575.6,2792.6,2750.6,2820,2994.1,{"$f":"AK39+BX42*$V$6+BX49*$V$8","v":3235.3},3281.5,3022.2,3022.2,null,348.0138343354904,null,null,null,"Bachelors and Associates",1270,1295,1354,1445,1528,1528,1603,1696,{"$f":"AZ36+AZ38+$V$11*AZ37","v":1830},{"$f":"BA36+BA38+$V$11*BA37","v":1804},1857,1983.5,2161.5,2230.5,2029,{"$f":"BG36+BG38+$V$11*BG37","v":2029},null,null,"Masters",467,532,433,426,544,454,506,347,312,300,310,300,367,331,358,{"$f":"BF39*(1+'Control Data'!$E39)","v":358},null,null,null,"Associates",0,0,0,0,0,0,0,0,0,0,0,0,0,0,0,{"$f":"BZ39*(1+'Control Data'!$E$48)","v":0},null,null,null,"Associates",0,0,0,0,0,0,0,0,0,0,0,0,0,0,0]
[null,"Masters/Ed Specialist Degrees",{"$f":"Y40","v":652},{"$f":"Z40","v":822},{"$f":"AA40","v":705},{"$f":"AB40","v":684},{"$f":"AC40","v":804},{"$f":"AD40","v":633},{"$f":"AE40","v":644},{"$f":"AF40","v":444},{"$f":"AG40","v":376},{"$f":"AH40","v":352},341,327,{"$f":"AK40","v":398},{"$f":"AL40","v":364},{"$f":"AM40","v":394},{"$f":"AN40","v":394},null,166.46000520645589,null,null,null,"Masters/Ed Specialist Degrees",652,822,705,684,804,633,644,444,{"$f":"AZ39+AZ40","v":376},{"$f":"BA39+BA40","v":352},341,327,398,364,394,{"$f":"BG39+BG40","v":394},null,null,"Education Specialist",185,290,272,258,260,179,138,97,64,52,31,27,31,33,36,{"$f":"BF40*(1+'Control Data'!$E40)","v":36},null,null,null,"Reverse Articulated Associates",0,0,0,0,0,0,0,0,0,0,0,50,45,55,66,{"$f":"BZ40*(1+'Control Data'!$E$48)","v":66},null,null,null,"Reverse Articulated Associates",0,0,0,0,0,0,0,0,0,0,0,28,27,28,24]
[null,"Doctoral / Law Degrees",14,13,22,{"$f":"AB41","v":24},17,19,21,18,12,23,19,12,23,19,25,25,null,4.2700507413066324,null,null,null,"Doctoral / Law Degrees",14,13,22,24,17,19,21,18,{"$f":"SUM(AZ41:AZ43)","v":12},{"$f":"SUM(BA41:BA43)","v":23},19,12,23,19,25,{"$f":"SUM(BG41:BG43)","v":25},null,null,"Law Degrees",0,0,0,0,0,0,0,0,0,0,0,0,0,0,0,{"$f":"BF41*(1+'Control Data'!$E42)","v":0},null,null,null,"Bachelors",403,402,454,522,555,543,567,667,702,772,760,787,921,840,821,{"$f":"BZ41*(1+'Control Data'!$E$48)","v":821},null,null,null,"Bachelors",394,408,392,421,454,460,423,469,550,424,489,505,438,458,423]
[null,"Research, Service and Sponsored Programs",null,null,null,{"$f":"AB42","v":9274441.7100000009},{"$f":"AC42","v":10266019.76},{"$f":"AD42","v":11039730.83},{"$f":"AE42","v":10396767.689999999},{"$f":"AF42","v":9586008.5899999999},{"$f":"AG42","v":11904930.470000001},{"$f":"AH42","v":12081470.039999999},12327774.300000001,12486425.039999999,15115327.296,16587502.609999999,16587502.609999999,0,null,940216.67179969035,null,null,null,"Research, Service and Sponsored Programs",null,null,null,9274441.7100000009,10266019.76,11039730.83,10396767.689999999,9586008.5899999999,11904930.470000001,12081470.039999999,12327774.300000001,12486425.039999999,15115327.296,16587502.609999999,{"$f":"AL42*(1+'Control Data'!$E$45)","v":16587502.609999999},null,null,null,"Degrees of Veterinary Medicine",0,0,0,0,0,0,0,0,0,0,0,0,0,0,0,{"$f":"BF42*(1+'Control Data'!$E43)","v":0},null,null,null,"Bach & Assoc",{"$f":"BL39+BL41+$V$11*BL40","v":403},{"$f":"BM39+BM41+$V$11*BM40","v":402},{"$f":"BN39+BN41+$V$11*BN40","v":454},{"$f":"BO39+BO41+$V$11*BO40","v":522},{"$f":"BP39+BP41+$V$11*BP40","v":555},{"$f":"BQ39+BQ41+$V$11*BQ40","v":543},{"$f":"BR39+BR41+$V$11*BR40","v":567},{"$f":"BS39+BS41+$V$11*BS40","v":667},{"$f":"BT39+BT41+$V$11*BT40","v":702},{"$f":"BU39+BU41+$V$11*BU40","v":772},760,812,943.5,{"$f":"BY39+BY41+$V$11*BY40","v":867.5},854,854,null,null,null,"Bach & Assoc",{"$f":"CF39+CF41+$V$11*CF40","v":394},{"$f":"CG39+CG41+$V$11*CG40","v":408},{"$f":"CH39+CH41+$V$11*CH40","v":392},{"$f":"CI39+CI41+$V$11*CI40","v":421},{"$f":"CJ39+CJ41+$V$11*CJ40","v":454},{"$f":"CK39+CK41+$V$11*CK40","v":460},{"$f":"CL39+CL41+$V$11*CL40","v":423},{"$f":"CM39+CM41+$V$11*CM40","v":469},{"$f":"CN39+CN41+$V$11*CN40","v":550},424,489,519,451.5,472,435,{"$f":"CU39+CU41+$V$11*CU40","v":0}]
[null,"Degrees per 100 FTE",{"$f":"Y43","v":19.768383039661291},{"$f":"Z43","v":19.570210965362993},{"$f":"AA43","v":19.561856787174513},19.794430162419349,20.274932328432673,19.082269391357197,18.952471033341215,19.24458935041946,20.461864154093863,{"$f":"AH43","v":19.562624254473164},19.736072978478436,22.132583492339794,25.043738196480092,26.44610787909447,24.550096393511385,24.550096393511385,null,0.48009335891478438,null,null,null,"Degrees per 100 FTE",19.768383039661291,19.570210965362993,19.561856787174513,19.794430162419349,20.274932328432673,19.082269391357197,18.952471033341215,19.24458935041946,{"$f":"(AZ36+AZ38+$V$11*AZ37)/DH6*100","v":20.461864154093863},{"$f":"(BA36+BA38+$V$11*BA37)/DI6*100","v":19.562624254473164},19.736072978478436,22.132583492339794,25.043738196480092,26.44610787909447,24.550096393511385,{"$f":"(BG36+BG38+$V$11*BG37)/DO6*100","v":24.550096393511385},null,null,"Doctoral",14,13,22,24,17,19,21,18,12,23,19,12,23,19,25,{"$f":"BF43*(1+'Control Data'!$E44)","v":25},null,null,"Two Focus Pops Only","Students Accumulating 30 hrs",56,39,35,39,42,50,38,51,20,22,16,23,19,36,13,{"$f":"BZ43*(1+'Control Data'!$E$49)","v":13},null,null,"Low-Income","Students Accumulating 30 hrs",639,672,657,766,804,906,803,780,724,830,738,672,607,598,610]
[null,"Six-Year Graduation Rate",0.50043365134431916,0.50772025431425971,0.47882136279926335,0.49659863945578231,0.57192676547515253,0.54479999999999995,0.56499575191163975,0.57911646586345378,0.60211049037864683,0.59877675840978595,0.61854022376132123,0.60094886663152347,0.58444216990788123,0.63906478324403315,0.63711911357340723,0.63711911357340723,null,4.3974848126431283,null,null,null,"Six-Year Graduation Rate",0.50043365134431916,0.50772025431425971,0.47882136279926335,0.49659863945578231,0.57192676547515253,0.54479999999999995,0.56499575191163975,0.57911646586345378,0.60211049037864683,0.59877675840978595,0.61854022376132123,0.60094886663152347,0.58444216990788123,0.63906478324403315,0.63711911357340723,{"$f":"AM44*(1+'Control Data'!$E$45)","v":0.63711911357340723},null,null,null,null,null,null,null,null,null,null,null,null,null,null,null,null,null,null,null,null,null,null,"Students Accumulating 60 hrs",74,77,74,81,92,98,97,96,80,74,71,62,61,68,59,{"$f":"BZ44*(1+'Control Data'!$E$49)","v":59},null,null,null,"Students Accumulating 60 hrs",519,592,636,657,700,776,805,785,790,819,877,831,796,763,636]
[null,null,null,null,null,null,null,null,null,null,null,null,null,null,null,null,null,null,null,null,null,null,null,null,null,null,null,null,null,null,null,null,null,null,null,null,null,null,null,null,null,null,null,null,null,null,null,null,null,null,null,null,null,null,null,null,null,null,null,null,null,null,"Students Accumulating 90 hrs",117,144,161,180,187,212,195,220,188,204,178,158,161,154,153,{"$f":"BZ45*(1+'Control Data'!$E$49)","v":153},null,null,null,"Students Accumulating 90 hrs",470,565,697,765,781,851,877,959,928,955,960,1039,1034,990,916]
[null,null,null,null,null,null,null,null,null,null,null,null,null,null,null,null,null,null,null,null,null,null,null,null,null,null,null,null,null,null,null,null,null,null,null,null,null,null,null,null,null,null,null,null,null,null,null,null,null,null,null,null,null,null,null,null,null,null,null,null,null,null,"Associates",0,0,0,0,0,0,0,0,0,0,0,0,0,0,0,{"$f":"BZ46*(1+'Control Data'!$E$49)","v":0},null,null,null,"Associates",0,0,0,0,0,0,0,0,0,0,0,0,0,0,0]
[null,null,null,null,null,null,null,null,null,null,null,null,null,null,null,null,null,null,null,null,null,null,null,null,null,null,null,null,null,null,null,null,null,null,null,null,null,null,null,null,null,null,null,null,null,null,null,null,null,null,null,null,null,null,null,null,null,null,null,null,null,null,"Reverse Articulated Associates",0,0,0,0,0,0,0,0,0,0,0,26,24,24,24,{"$f":"BZ47*(1+'Control Data'!$E$49)","v":24},null,null,null,"Reverse Articulated Associates",0,0,0,0,0,0,0,0,0,0,0,74,66,75,90]
[null,null,null,null,null,null,null,null,null,null,null,null,null,null,null,null,null,null,null,null,null,null,null,null,null,null,null,null,null,null,null,null,null,null,null,null,null,null,null,null,null,null,null,null,null,null,null,null,null,null,null,null,null,null,null,null,null,null,null,null,null,null,"Bachelors",221,249,251,264,309,330,327,346,401,329,355,348,307,345,298,{"$f":"BZ48*(1+'Control Data'!$E$49)","v":298},null,null,null,"Bachelors",451,492,564,629,719,743,798,890,954,1006,981,978,1097,1072,994]
[null,null,null,null,null,null,null,null,null,null,null,null,null,null,null,null,null,null,null,null,null,null,null,null,null,null,null,null,null,null,null,null,null,null,null,null,null,null,null,null,null,null,null,null,null,null,null,null,null,null,null,null,null,null,null,null,null,null,null,null,null,null,"Bach & Assoc",{"$f":"BL46+BL48+$V$11*BL47","v":221},{"$f":"BM46+BM48+$V$11*BM47","v":249},{"$f":"BN46+BN48+$V$11*BN47","v":251},{"$f":"BO46+BO48+$V$11*BO47","v":264},{"$f":"BP46+BP48+$V$11*BP47","v":309},{"$f":"BQ46+BQ48+$V$11*BQ47","v":330},{"$f":"BR46+BR48+$V$11*BR47","v":327},{"$f":"BS46+BS48+$V$11*BS47","v":346},{"$f":"BT46+BT48+$V$11*BT47","v":401},{"$f":"BU46+BU48+$V$11*BU47","v":329},355,361,319,{"$f":"BY46+BY48+$V$11*BY47","v":357},310,310,null,null,null,"Bach & Assoc",{"$f":"CF46+CF48+$V$11*CF47","v":451},{"$f":"CG46+CG48+$V$11*CG47","v":492},{"$f":"CH46+CH48+$V$11*CH47","v":564},{"$f":"CI46+CI48+$V$11*CI47","v":629},{"$f":"CJ46+CJ48+$V$11*CJ47","v":719},{"$f":"CK46+CK48+$V$11*CK47","v":743},{"$f":"CL46+CL48+$V$11*CL47","v":798},{"$f":"CM46+CM48+$V$11*CM47","v":890},{"$f":"CN46+CN48+$V$11*CN47","v":954},1006,981,1015,1130,1109.5,1039,{"$f":"CU46+CU48+$V$11*CU47","v":0}]
[]
[null,"UTC","2004-05","2005-06","2006-07","2007-08","2008-09","2009-10","2010-11","2011-12","2012-13","2013-14","2014-15","2015-16","2016-17","2017-18",{"$f":"Q35","v":"2018-19"},{"$f":"R35","v":"2019-20"},null,"Standard Dev.",null,null,null,"UTC","2004-05","2005-06","2006-07","2007-08","2008-09","2009-10","2010-11","2011-12","2012-13","2013-14","2014-15","2015-16","2016-17","2017-18","2018-19","2019-20",null,null,"UTC","2004-05","2005-06","2006-07","2007-08","2008-09","2009-10","2010-11","2011-12","2012-13","2013-14","2014-15","2015-16","2016-17","2017-18","2018-19","2019-20",null,null,null,"UTC","2004-05","2005-06","2006-07","2007-08","2008-09","2009-10","2010-11","2011-12","2012-13","2013-14","2014-15","2015-16",{"$f":"BX35","v":"2016-17"},"2017-18","2018-19","2019-20",null,null,null,"UTC","2004-05","2005-06","2006-07","2007-08","2008-09","2009-10","2010-11","2011-12","2012-13","2013-14","2014-15","2015-16","2016-17","2017-18","2018-19",{"$f":"CU35","v":"2019-20"}]
[null,"Students Accumulating 30 hrs",{"$f":"Y52+BL52*$V$6+BL59*$V$8","v":1803.2},1749.6,1864.8,2217.8000000000002,2273.8000000000002,2662,2492,2241.1999999999998,2342.1999999999998,2506.1999999999998,2316.6,2219,{"$f":"AK52+BX52*$V$6+BX59*$V$8","v":2166.4},2270,2330.4,2330.4,null,308.33434666499983,null,null,null,"Students Accumulating 30 hrs",1294,1260,1338,1577,1639,1916,1793,1647,1745,1863,1728,1664,1654,1734,1775,{"$f":"AM52*(1+'Control Data'!$F31)","v":1775},null,null,"Associate",0,0,0,0,0,0,0,0,0,0,0,0,0,0,0,{"$f":"BF52*(1+'Control Data'!$F35)","v":0},null,null,"One Focus Pop Only","Students Accumulating 30 hrs",604,587,626,771,766,910,835,719,724,779,712,665,623,655,678,{"$f":"BZ52*(1+'Control Data'!$F$48)","v":678},null,null,"Adults","Students Accumulating 30 hrs",38,37,44,37,32,28,43,25,31,24,28,29,25,23,20]
[null,"Students Accumulating 60 hrs",1631.2,1662.8,1558.4,1695.4,1954.8000000000002,2098.6,2351.8000000000002,2117.8000000000002,2150.6,2244,2417.4,2390.4,{"$f":"AK53+BX53*$V$6+BX60*$V$8","v":2317},2246.8000000000002,2256.8000000000002,2256.8000000000002,null,280.96789535856732,null,null,null,"Students Accumulating 60 hrs",1178,1205,1131,1218,1384,1496,1664,1523,1561,1636,1764,1722,1702,1678,1714,{"$f":"AM53*(1+'Control Data'!$F32)","v":1714},null,null,"Reverse Articulated Associates",0,0,0,0,0,0,0,0,0,0,0,54,37,49,49,{"$f":"BF53*(1+'Control Data'!$F36)","v":49},null,null,null,"Students Accumulating 60 hrs",469,501,458,538,641,667,771,671,662,700,748,778,695,656,641,{"$f":"BZ53*(1+'Control Data'!$F$48)","v":641},null,null,null,"Students Accumulating 60 hrs",108,84,96,72,92,96,99,73,85,59,73,66,80,59,59]
[null,"Students Accumulating 90 hrs",1689.4,1779.8,1773.8,1777.4,1958.2,2287.8000000000002,2350.8000000000002,2420.6,2329.8000000000002,2422,2583.1999999999998,2778.6,{"$f":"AK54+BX54*$V$6+BX61*$V$8","v":2770},2769.8,2654,2654,null,303.75969742178904,null,null,null,"Students Accumulating 90 hrs",1195,1244,1256,1243,1370,1552,1621,1661,1619,1702,1815,1942,1952,1993,1914,{"$f":"AM54*(1+'Control Data'!$F33)","v":1914},null,null,"Bachelors",1204,1121,1116,1258,1256,1275,1320,1514,1638,1756,1825,1997,1993,2024,2082,{"$f":"BF54*(1+'Control Data'!$F37)","v":2082},null,null,null,"Students Accumulating 90 hrs",448,486,481,498,549,676,686,732,686,725,739,852,825,806,750,{"$f":"BZ54*(1+'Control Data'!$F$48)","v":750},null,null,null,"Students Accumulating 90 hrs",242,240,194,210,225,263,247,239,199,177,226,203,217,189,197]
[null,"Bachelors and Associates",{"$f":"Y55+BL58*$V$6+BL65*$V$8","v":1720.2},1642,1622.6,1847.4,1870.4,1875,1964.2,2285.1999999999998,2476,2627.6,2708.4,2985.3,{"$f":"AK55+BX58*$V$6+BX65*$V$8","v":2963.5},3013,3061,3061,null,350.58250510955224,null,null,null,"Bachelors and Associates",1204,1121,1116,1258,1256,1275,1320,1514,{"$f":"AZ52+AZ54+$V$11*AZ53","v":1638},{"$f":"BA52+BA54+$V$11*BA53","v":1756},1825,2024,2011.5,2048.5,2106.5,{"$f":"BG52+BG54+$V$11*BG53","v":2106.5},null,null,"Masters",382,347,366,390,377,407,417,481,429,421,414,373,344,379,383,{"$f":"BF55*(1+'Control Data'!$F39)","v":383},null,null,null,"Associates",0,0,0,0,0,0,0,0,0,0,0,0,0,0,0,{"$f":"BZ55*(1+'Control Data'!$F$48)","v":0},null,null,null,"Associates",0,0,0,0,0,0,0,0,0,0,0,0,0,0,0]
[null,"Masters/Ed Specialist Degrees",{"$f":"Y56","v":391},{"$f":"Z56","v":370},{"$f":"AA56","v":379},{"$f":"AB56","v":400},{"$f":"AC56","v":404},{"$f":"AD56","v":427},{"$f":"AE56","v":432},{"$f":"AF56","v":490},{"$f":"AG56","v":446},{"$f":"AH56","v":433},428,385,{"$f":"AK56","v":358},{"$f":"AL56","v":395},{"$f":"AM56","v":402},{"$f":"AN56","v":402},null,35.804406929253211,null,null,null,"Masters/Ed Specialist Degrees",391,370,379,400,404,427,432,490,{"$f":"AZ55+AZ56","v":446},{"$f":"BA55+BA56","v":433},428,385,358,395,402,{"$f":"BG55+BG56","v":402},null,null,"Education Specialist",9,23,13,10,27,20,15,9,17,12,14,12,14,16,19,{"$f":"BF56*(1+'Control Data'!$F40)","v":19},null,null,null,"Reverse Articulated Associates",0,0,0,0,0,0,0,0,0,0,0,39,19,19,16,{"$f":"BZ56*(1+'Control Data'!$F$48)","v":16},null,null,null,"Reverse Articulated Associates",0,0,0,0,0,0,0,0,0,0,0,17,13,11,11]
[null,"Doctoral / Law Degrees",21,27,27,{"$f":"AB57","v":38},50,52,60,54,68,70,64,40,79,86,68,68,null,17.569228149744589,null,null,null,"Doctoral / Law Degrees",21,27,27,38,50,52,60,54,{"$f":"SUM(AZ57:AZ59)","v":68},{"$f":"SUM(BA57:BA59)","v":70},64,40,79,86,68,{"$f":"SUM(BG57:BG59)","v":68},null,null,"Law Degrees",0,0,0,0,0,0,0,0,0,0,0,0,0,0,0,{"$f":"BF57*(1+'Control Data'!$F42)","v":0},null,null,null,"Bachelors",429,400,392,493,493,475,499,564,665,672,718,784,773,798,802,{"$f":"BZ57*(1+'Control Data'!$F$48)","v":802},null,null,null,"Bachelors",431,418,372,393,424,396,406,490,486,482,497,473,458,480,460]
[null,"Research, Service and Sponsored Programs",null,null,null,{"$f":"AB58","v":11077570.690000005},{"$f":"AC58","v":9277657.0000000019},{"$f":"AD58","v":10899108.649999999},{"$f":"AE58","v":10350478.84},{"$f":"AF58","v":11444946.98},{"$f":"AG58","v":13479053.18},{"$f":"AH58","v":11614458.239999998},11255056.159999998,9561461.7199999969,9143624.0200000014,9482192.5099999998,9482192.5099999998,0,null,869160.26375066559,null,null,null,"Research, Service and Sponsored Programs",null,null,null,11077570.690000005,9277657.0000000019,10899108.649999999,10350478.84,11444946.98,13479053.18,11614458.239999998,11255056.159999998,9561461.7199999969,9143624.0200000014,9482192.5099999998,{"$f":"AL58*(1+'Control Data'!$F$45)","v":9482192.5099999998},null,null,null,"Degrees of Veterinary Medicine",0,0,0,0,0,0,0,0,0,0,0,0,0,0,0,{"$f":"BF58*(1+'Control Data'!$F43)","v":0},null,null,null,"Bach & Assoc",{"$f":"BL55+BL57+$V$11*BL56","v":429},{"$f":"BM55+BM57+$V$11*BM56","v":400},{"$f":"BN55+BN57+$V$11*BN56","v":392},{"$f":"BO55+BO57+$V$11*BO56","v":493},{"$f":"BP55+BP57+$V$11*BP56","v":493},{"$f":"BQ55+BQ57+$V$11*BQ56","v":475},{"$f":"BR55+BR57+$V$11*BR56","v":499},{"$f":"BS55+BS57+$V$11*BS56","v":564},{"$f":"BT55+BT57+$V$11*BT56","v":665},{"$f":"BU55+BU57+$V$11*BU56","v":672},718,803.5,782.5,{"$f":"BY55+BY57+$V$11*BY56","v":807.5},810,810,null,null,null,"Bach & Assoc",{"$f":"CF55+CF57+$V$11*CF56","v":431},{"$f":"CG55+CG57+$V$11*CG56","v":418},{"$f":"CH55+CH57+$V$11*CH56","v":372},{"$f":"CI55+CI57+$V$11*CI56","v":393},{"$f":"CJ55+CJ57+$V$11*CJ56","v":424},{"$f":"CK55+CK57+$V$11*CK56","v":396},{"$f":"CL55+CL57+$V$11*CL56","v":406},{"$f":"CM55+CM57+$V$11*CM56","v":490},{"$f":"CN55+CN57+$V$11*CN56","v":486},482,497,481.5,464.5,485.5,465.5,{"$f":"CU55+CU57+$V$11*CU56","v":0}]
[null,"Degrees per 100 FTE",{"$f":"Y59","v":17.96416119999801},{"$f":"Z59","v":16.880145545704536},{"$f":"AA59","v":16.354923330190658},17.512761020881669,16.465437002661211,15.449551660069474,15.478163867633556,17.036823093860068,18.089719708738578,{"$f":"AH59","v":18.82786867668818},19.812693151140994,22.194118120079246,21.782053133121572,21.985825751911307,22.428742293946243,22.428742293946243,null,1.1134653990013725,null,null,null,"Degrees per 100 FTE",17.96416119999801,16.880145545704536,16.354923330190658,17.512761020881669,16.465437002661211,15.449551660069474,15.478163867633556,17.036823093860068,{"$f":"(AZ52+AZ54+$V$11*AZ53)/DH7*100","v":18.089719708738578},{"$f":"(BA52+BA54+$V$11*BA53)/DI7*100","v":18.82786867668818},19.812693151140994,22.194118120079246,21.782053133121572,21.985825751911307,22.428742293946243,{"$f":"(BG52+BG54+$V$11*BG53)/DO7*100","v":22.428742293946243},null,null,"Doctoral",21,27,27,38,50,52,60,54,68,70,64,40,79,86,68,{"$f":"BF59*(1+'Control Data'!$F44)","v":68},null,null,"Two Focus Pops Only","Students Accumulating 30 hrs",26,20,26,24,22,18,31,19,18,20,19,23,14,12,13,{"$f":"BZ59*(1+'Control Data'!$F$49)","v":13},null,null,"Low-Income","Students Accumulating 30 hrs",618,590,634,782,778,918,854,732,729,795,722,682,626,656,684]
[null,"Six-Year Graduation Rate",0.52558139534883719,0.53617810760667906,0.50234741784037562,0.47193877551020408,0.52894356005788712,0.49630624580255206,0.54760250173731762,0.54164305949008495,0.53395541731467078,0.54198841698841704,0.59798994974874375,0.60081883316274309,0.62188365650969524,0.64723926380368102,0.63897216274089941,0.63897216274089941,null,2.3577058954554575,null,null,null,"Six-Year Graduation Rate",0.52558139534883719,0.53617810760667906,0.50234741784037562,0.47193877551020408,0.52894356005788712,0.49630624580255206,0.54760250173731762,0.54164305949008495,0.53395541731467078,0.54198841698841704,0.59798994974874375,0.60081883316274309,0.62188365650969524,0.64723926380368102,0.63897216274089941,{"$f":"AM60*(1+'Control Data'!$F$47)","v":0.63897216274089941},null,null,null,null,null,null,null,null,null,null,null,null,null,null,null,null,null,null,null,null,null,null,"Students Accumulating 60 hrs",78,57,61,47,58,69,71,58,60,48,55,46,59,44,30,{"$f":"BZ60*(1+'Control Data'!$F$49)","v":30},null,null,null,"Students Accumulating 60 hrs",517,531,484,560,665,709,814,714,697,737,785,804,733,685,642]
[null,null,null,null,null,null,null,null,null,null,null,null,null,null,null,null,null,null,null,null,null,null,null,null,null,null,null,null,null,null,null,null,null,null,null,null,null,null,null,null,null,null,null,null,null,null,null,null,null,null,null,null,null,null,null,null,null,null,null,null,null,null,"Students Accumulating 90 hrs",136,147,133,136,149,195,181,174,162,140,177,155,158,132,140,{"$f":"BZ61*(1+'Control Data'!$F$49)","v":140},null,null,null,"Students Accumulating 90 hrs",478,540,553,560,622,803,801,841,811,828,867,959,924,881,833]
[null,null,null,null,null,null,null,null,null,null,null,null,null,null,null,null,null,null,null,null,null,null,null,null,null,null,null,null,null,null,null,null,null,null,null,null,null,null,null,null,null,null,null,null,null,null,null,null,null,null,null,null,null,null,null,null,null,null,null,null,null,null,"Associates",0,0,0,0,0,0,0,0,0,0,0,0,0,0,0,{"$f":"BZ62*(1+'Control Data'!$F$49)","v":0},null,null,null,"Associates",0,0,0,0,0,0,0,0,0,0,0,0,0,0,0]
[null,null,null,null,null,null,null,null,null,null,null,null,null,null,null,null,null,null,null,null,null,null,null,null,null,null,null,null,null,null,null,null,null,null,null,null,null,null,null,null,null,null,null,null,null,null,null,null,null,null,null,null,null,null,null,null,null,null,null,null,null,null,"Reverse Articulated Associates",0,0,0,0,0,0,0,0,0,0,0,9,10,11,11,{"$f":"BZ63*(1+'Control Data'!$F$49)","v":11},null,null,null,"Reverse Articulated Associates",0,0,0,0,0,0,0,0,0,0,0,40,26,30,27]
[null,null,null,null,null,null,null,null,null,null,null,null,null,null,null,null,null,null,null,null,null,null,null,null,null,null,null,null,null,null,null,null,null,null,null,null,null,null,null,null,null,null,null,null,null,null,null,null,null,null,null,null,null,null,null,null,null,null,null,null,null,null,"Bachelors",173,201,193,195,220,220,245,320,306,334,309,314,321,313,301,{"$f":"BZ64*(1+'Control Data'!$F$49)","v":301},null,null,null,"Bachelors",344,384,406,490,509,519,583,714,791,858,839,939,957,944,944]
[null,null,null,null,null,null,null,null,null,null,null,null,null,null,null,null,null,null,null,null,null,null,null,null,null,null,null,null,null,null,null,null,null,null,null,null,null,null,null,null,null,null,null,null,null,null,null,null,null,null,null,null,null,null,null,null,null,null,null,null,null,null,"Bach & Assoc",{"$f":"BL62+BL64+$V$11*BL63","v":173},{"$f":"BM62+BM64+$V$11*BM63","v":201},{"$f":"BN62+BN64+$V$11*BN63","v":193},{"$f":"BO62+BO64+$V$11*BO63","v":195},{"$f":"BP62+BP64+$V$11*BP63","v":220},{"$f":"BQ62+BQ64+$V$11*BQ63","v":220},{"$f":"BR62+BR64+$V$11*BR63","v":245},{"$f":"BS62+BS64+$V$11*BS63","v":320},{"$f":"BT62+BT64+$V$11*BT63","v":306},{"$f":"BU62+BU64+$V$11*BU63","v":334},309,318.5,326,{"$f":"BY62+BY64+$V$11*BY63","v":318.5},306.5,306.5,null,null,null,"Bach & Assoc",{"$f":"CF62+CF64+$V$11*CF63","v":344},{"$f":"CG62+CG64+$V$11*CG63","v":384},{"$f":"CH62+CH64+$V$11*CH63","v":406},{"$f":"CI62+CI64+$V$11*CI63","v":490},{"$f":"CJ62+CJ64+$V$11*CJ63","v":509},{"$f":"CK62+CK64+$V$11*CK63","v":519},{"$f":"CL62+CL64+$V$11*CL63","v":583},{"$f":"CM62+CM64+$V$11*CM63","v":714},{"$f":"CN62+CN64+$V$11*CN63","v":791},858,839,959,970,959,957.5,{"$f":"CU62+CU64+$V$11*CU63","v":0}]
[]
[null,"MTSU","2004-05","2005-06","2006-07","2007-08","2008-09","2009-10","2010-11","2011-12","2012-13","2013-14","2014-15","2015-16","2016-17","2017-18",{"$f":"Q51","v":"2018-19"},{"$f":"R51","v":"2019-20"},null,"Standard Dev.",null,null,null,"MTSU","2004-05","2005-06","2006-07","2007-08","2008-09","2009-10","2010-11","2011-12","2012-13","2013-14","2014-15","2015-16","2016-17","2017-18","2018-19","2019-20",null,null,"MTSU","2004-05","2005-06","2006-07","2007-08","2008-09","2009-10","2010-11","2011-12","2012-13","2013-14","2014-15","2015-16","2016-17","2017-18","2018-19","2019-20",null,null,null,"MTSU","2004-05","2005-06","2006-07","2007-08","2008-09","2009-10","2010-11","2011-12","2012-13","2013-14","2014-15","2015-16",{"$f":"BX51","v":"2016-17"},"2017-18","2018-19","2019-20",null,null,null,"MTSU","2004-05","2005-06","2006-07","2007-08","2008-09","2009-10","2010-11","2011-12","2012-13","2013-14","2014-15","2015-16","2016-17","2017-18","2018-19",{"$f":"CU51","v":"2019-20"}]
[null,"Students Accumulating 30 hrs",{"$f":"Y68+BL68*$V$6+BL75*$V$8","v":5029.2},4876.8,5034.8,5241.2,5675.4,5808.2,5078.8,4956,4231.3999999999996,4447,4253.3999999999996,4168.6000000000004,{"$f":"AK68+BX68*$V$6+BX75*$V$8","v":3873.6000000000004},3994.6000000000004,3727,3727,null,497.43146306244483,null,null,null,"Students Accumulating 30 hrs",3538,3450,3541,3655,3887,3877,3415,3334,2871,3001,2928,2885,2711,2813,2653,{"$f":"AM68*(1+'Control Data'!$G31)","v":2653},null,null,"Associate",2,3,0,0,0,0,0,0,0,0,0,0,0,0,0,{"$f":"BF68*(1+'Control Data'!$G35)","v":0},null,null,"One Focus Pop Only","Students Accumulating 30 hrs",1679,1591,1691,1809,2033,2129,1791,1785,1503,1640,1518,1497,1362,1382,1275,{"$f":"BZ68*(1+'Control Data'!$G$48)","v":1275},null,null,"Adults","Students Accumulating 30 hrs",217,218,190,191,223,295,291,241,204,165,140,127,121,114,89]
[null,"Students Accumulating 60 hrs",4681.3999999999996,4608.8,4915.8,4959,5374.4,5794.2,5126.3999999999996,5277.8,5161.2,4739.2,4849.2,4560.6000000000004,{"$f":"AK69+BX69*$V$6+BX76*$V$8","v":4670.8},4414.8,4242,4242,null,373.28473493210691,null,null,null,"Students Accumulating 60 hrs",3373,3320,3486,3438,3706,3915,3422,3485,3437,3135,3228,3090,3157,3040,2981,{"$f":"AM69*(1+'Control Data'!$G32)","v":2981},null,null,"Reverse Articulated Associates",0,0,0,0,0,0,0,0,0,0,0,194,175,212,162,{"$f":"BF69*(1+'Control Data'!$G36)","v":162},null,null,null,"Students Accumulating 60 hrs",1378,1336,1461,1520,1733,1914,1728,1756,1764,1654,1679,1582,1591,1476,1395,{"$f":"BZ69*(1+'Control Data'!$G$48)","v":1395},null,null,null,"Students Accumulating 60 hrs",319,343,391,415,377,491,416,484,402,345,360,282,322,273,230]
[null,"Students Accumulating 90 hrs",4677.3999999999996,5078.3999999999996,5115.2,5205,5400.4,6044.2,5909,6131.2,5960.4,6075.2,5584.6,5859.6,{"$f":"AK70+BX70*$V$6+BX77*$V$8","v":5647.6},5720.6,5687.6,5687.6,null,515.26182556918479,null,null,null,"Students Accumulating 90 hrs",3357,3590,3606,3603,3653,4015,3895,3980,3845,3904,3601,3765,3716,3787,3828,{"$f":"AM70*(1+'Control Data'!$G33)","v":3828},null,null,"Bachelors",3479,3562,3636,3549,3789,3629,3868,3911,4159,4012,4051,4034,4137,4002,4047,{"$f":"BF70*(1+'Control Data'!$G37)","v":4047},null,null,null,"Students Accumulating 90 hrs",1233,1323,1349,1430,1568,1779,1720,1859,1808,1869,1777,1872,1787,1842,1777,{"$f":"BZ70*(1+'Control Data'!$G$48)","v":1777},null,null,null,"Students Accumulating 90 hrs",573,700,692,689,749,826,857,872,868,819,717,761,651,646,604]
[null,"Bachelors and Associates",{"$f":"Y71+BL74*$V$6+BL81*$V$8","v":5034.6000000000004},5165.2,5283.4,5243,5610.2,5497.8,5960,6130.4,6600,6410,6538.4,6706.5,{"$f":"AK71+BX74*$V$6+BX81*$V$8","v":6796},6508.3,6462.7,6462.7,null,549.47660308090769,null,null,null,"Bachelors and Associates",3481,3565,3636,3549,3789,3629,3868,3911,{"$f":"AZ68+AZ70+$V$11*AZ69","v":4159},{"$f":"BA68+BA70+$V$11*BA69","v":4012},4051,4131,4224.5,4108,4128,{"$f":"BG68+BG70+$V$11*BG69","v":4128},null,null,"Masters",607,547,556,606,682,695,819,811,882,795,791,766,792,752,730,{"$f":"BF71*(1+'Control Data'!$G39)","v":730},null,null,null,"Associates",2,2,0,0,0,0,0,0,0,0,0,0,0,0,0,{"$f":"BZ71*(1+'Control Data'!$G$48)","v":0},null,null,null,"Associates",2,2,0,0,0,0,0,0,0,0,0,0,0,0,0]
[null,"Masters/Ed Specialist Degrees",{"$f":"Y72","v":663},{"$f":"Z72","v":636},{"$f":"AA72","v":615},{"$f":"AB72","v":688},{"$f":"AC72","v":777},{"$f":"AD72","v":831},{"$f":"AE72","v":923},{"$f":"AF72","v":925},{"$f":"AG72","v":1010},{"$f":"AH72","v":861},847,791,{"$f":"AK72","v":820},{"$f":"AL72","v":811},{"$f":"AM72","v":789},{"$f":"AN72","v":789},null,138.2408928083311,null,null,null,"Masters/Ed Specialist Degrees",663,636,615,688,777,831,923,925,{"$f":"AZ71+AZ72","v":1010},{"$f":"BA71+BA72","v":861},847,791,820,811,789,{"$f":"BG71+BG72","v":789},null,null,"Education Specialist",56,89,59,82,95,136,104,114,128,66,56,25,28,59,59,{"$f":"BF72*(1+'Control Data'!$G40)","v":59},null,null,null,"Reverse Articulated Associates",0,0,0,0,0,0,0,0,0,0,0,83,88,107,93,{"$f":"BZ72*(1+'Control Data'!$G$48)","v":93},null,null,null,"Reverse Articulated Associates",0,0,0,0,0,0,0,0,0,0,0,76,56,61,30]
[null,"Doctoral / Law Degrees",14,18,17,{"$f":"AB73","v":15},24,20,20,20,23,32,30,37,75,53,47,47,null,5.1865209919559803,null,null,null,"Doctoral / Law Degrees",14,18,17,15,24,20,20,20,{"$f":"SUM(AZ73:AZ75)","v":23},{"$f":"SUM(BA73:BA75)","v":32},30,37,75,53,47,{"$f":"SUM(BG73:BG75)","v":47},null,null,"Law Degrees",0,0,0,0,0,0,0,0,0,0,0,0,0,0,0,{"$f":"BF73*(1+'Control Data'!$G42)","v":0},null,null,null,"Bachelors",1170,1182,1253,1275,1349,1376,1490,1523,1650,1625,1678,1716,1821,1675,1720,{"$f":"BZ73*(1+'Control Data'!$G$48)","v":1720},null,null,null,"Bachelors",1322,1348,1293,1285,1380,1336,1452,1488,1616,1554,1551,1561,1508,1394,1283]
[null,"Research, Service and Sponsored Programs",null,null,null,{"$f":"AB74","v":27478804.609999999},{"$f":"AC74","v":29049938.300000001},{"$f":"AD74","v":27539106.420000002},{"$f":"AE74","v":28349988.18},{"$f":"AF74","v":30655961.199999999},{"$f":"AG74","v":9997584.0499999989},{"$f":"AH74","v":9396435.3699999973},9112166.1000000015,9905516.2899999991,7878123.459999999,9677920.7899999972,9677920.7899999972,0,null,7894189.468492643,null,null,null,"Research, Service and Sponsored Programs",null,null,null,27478804.609999999,29049938.300000001,27539106.420000002,28349988.18,30655961.199999999,9997584.0499999989,9396435.3699999973,9112166.1000000015,9905516.2899999991,7878123.459999999,9677920.7899999972,{"$f":"AL74*(1+'Control Data'!$G$45)","v":9677920.7899999972},null,null,null,"Degrees of Veterinary Medicine",0,0,0,0,0,0,0,0,0,0,0,0,0,0,0,{"$f":"BF74*(1+'Control Data'!$G43)","v":0},null,null,null,"Bach & Assoc",{"$f":"BL71+BL73+$V$11*BL72","v":1172},{"$f":"BM71+BM73+$V$11*BM72","v":1184},{"$f":"BN71+BN73+$V$11*BN72","v":1253},{"$f":"BO71+BO73+$V$11*BO72","v":1275},{"$f":"BP71+BP73+$V$11*BP72","v":1349},{"$f":"BQ71+BQ73+$V$11*BQ72","v":1376},{"$f":"BR71+BR73+$V$11*BR72","v":1490},{"$f":"BS71+BS73+$V$11*BS72","v":1523},{"$f":"BT71+BT73+$V$11*BT72","v":1650},{"$f":"BU71+BU73+$V$11*BU72","v":1625},1678,1757.5,1865,{"$f":"BY71+BY73+$V$11*BY72","v":1728.5},1766.5,1766.5,null,null,null,"Bach & Assoc",{"$f":"CF71+CF73+$V$11*CF72","v":1324},{"$f":"CG71+CG73+$V$11*CG72","v":1350},{"$f":"CH71+CH73+$V$11*CH72","v":1293},{"$f":"CI71+CI73+$V$11*CI72","v":1285},{"$f":"CJ71+CJ73+$V$11*CJ72","v":1380},{"$f":"CK71+CK73+$V$11*CK72","v":1336},{"$f":"CL71+CL73+$V$11*CL72","v":1452},{"$f":"CM71+CM73+$V$11*CM72","v":1488},{"$f":"CN71+CN73+$V$11*CN72","v":1616},1554,1551,1599,1536,1424.5,1298,{"$f":"CU71+CU73+$V$11*CU72","v":0}]
[null,"Degrees per 100 FTE",{"$f":"Y75","v":19.170930238961983},{"$f":"Z75","v":19.193771849852478},{"$f":"AA75","v":19.373814446173192},18.751254838834662,19.721706542672244,18.169013379349707,18.492990225998877,18.993550642993124,21.346084754751843,{"$f":"AH75","v":21.870514055203245},22.743392476508976,23.866748321643577,24.897207057302769,24.579080258953891,25.155188663914981,25.155188663914981,null,1.1970570348959317,null,null,null,"Degrees per 100 FTE",19.170930238961983,19.193771849852478,19.373814446173192,18.751254838834662,19.721706542672244,18.169013379349707,18.492990225998877,18.993550642993124,{"$f":"(AZ68+AZ70+$V$11*AZ69)/DH8*100","v":21.346084754751843},{"$f":"(BA68+BA70+$V$11*BA69)/DI8*100","v":21.870514055203245},22.743392476508976,23.866748321643577,24.897207057302769,24.579080258953891,25.155188663914981,{"$f":"(BG68+BG70+$V$11*BG69)/DO8*100","v":25.155188663914981},null,null,"Doctoral",14,18,17,15,24,20,20,20,23,32,30,37,75,53,47,{"$f":"BF75*(1+'Control Data'!$G44)","v":47},null,null,"Two Focus Pops Only","Students Accumulating 30 hrs",148,154,141,139,162,228,231,194,158,134,111,86,73,76,54,{"$f":"BZ75*(1+'Control Data'!$G$49)","v":54},null,null,"Low-Income","Students Accumulating 30 hrs",1758,1681,1783,1896,2134,2290,1962,1932,1615,1743,1600,1542,1387,1420,1294]
[null,"Six-Year Graduation Rate",0.45879556259904913,0.47399483585392843,0.48765867418899861,0.50745301360985096,0.52868165045286819,0.52822966507177038,0.54525593008739082,0.54564377044305679,0.55784204671857618,0.53209947946790048,0.51120952117354002,0.50210526315789472,0.49669255104975552,0.51551614946168456,0.53327143299288149,0.53327143299288149,null,3.2184243591810469,null,null,null,"Six-Year Graduation Rate",0.45879556259904913,0.47399483585392843,0.48765867418899861,0.50745301360985096,0.52868165045286819,0.52822966507177038,0.54525593008739082,0.54564377044305679,0.55784204671857618,0.53209947946790048,0.51120952117354002,0.50210526315789472,0.49669255104975552,0.51551614946168456,0.53327143299288149,{"$f":"AM76*(1+'Control Data'!$G$47)","v":0.53327143299288149},null,null,null,null,null,null,null,null,null,null,null,null,null,null,null,null,null,null,null,null,null,null,"Students Accumulating 60 hrs",206,220,261,305,282,348,322,388,313,281,278,205,241,194,145,{"$f":"BZ76*(1+'Control Data'!$G$49)","v":145},null,null,null,"Students Accumulating 60 hrs",1471,1433,1592,1715,1920,2119,1956,2048,1988,1871,1875,1710,1751,1591,1455]
[null,null,null,null,null,null,null,null,null,null,null,null,null,null,null,null,null,null,null,null,null,null,null,null,null,null,null,null,null,null,null,null,null,null,null,null,null,null,null,null,null,null,null,null,null,null,null,null,null,null,null,null,null,null,null,null,null,null,null,null,null,null,"Students Accumulating 90 hrs",334,430,430,458,493,606,638,664,669,676,562,597,502,460,438,{"$f":"BZ77*(1+'Control Data'!$G$49)","v":438},null,null,null,"Students Accumulating 90 hrs",1328,1483,1517,1657,1805,2165,2139,2315,2278,2402,2184,2305,2140,2116,2049]
[null,null,null,null,null,null,null,null,null,null,null,null,null,null,null,null,null,null,null,null,null,null,null,null,null,null,null,null,null,null,null,null,null,null,null,null,null,null,null,null,null,null,null,null,null,null,null,null,null,null,null,null,null,null,null,null,null,null,null,null,null,null,"Associates",0,1,0,0,0,0,0,0,0,0,0,0,0,0,0,{"$f":"BZ78*(1+'Control Data'!$G$49)","v":0},null,null,null,"Associates",0,2,0,0,0,0,0,0,0,0,0,0,0,0,0]
[null,null,null,null,null,null,null,null,null,null,null,null,null,null,null,null,null,null,null,null,null,null,null,null,null,null,null,null,null,null,null,null,null,null,null,null,null,null,null,null,null,null,null,null,null,null,null,null,null,null,null,null,null,null,null,null,null,null,null,null,null,null,"Reverse Articulated Associates",0,0,0,0,0,0,0,0,0,0,0,69,49,55,25,{"$f":"BZ79*(1+'Control Data'!$G$49)","v":25},null,null,null,"Reverse Articulated Associates",0,0,0,0,0,0,0,0,0,0,0,145,130,156,113]
[null,null,null,null,null,null,null,null,null,null,null,null,null,null,null,null,null,null,null,null,null,null,null,null,null,null,null,null,null,null,null,null,null,null,null,null,null,null,null,null,null,null,null,null,null,null,null,null,null,null,null,null,null,null,null,null,null,null,null,null,null,null,"Bachelors",616,652,645,674,742,768,900,1001,1121,1098,1145,1135,1055,990,909,{"$f":"BZ80*(1+'Control Data'!$G$49)","v":909},null,null,null,"Bachelors",1080,1138,1250,1338,1453,1576,1838,2037,2276,2267,2417,2425,2423,2261,2255]
[null,null,null,null,null,null,null,null,null,null,null,null,null,null,null,null,null,null,null,null,null,null,null,null,null,null,null,null,null,null,null,null,null,null,null,null,null,null,null,null,null,null,null,null,null,null,null,null,null,null,null,null,null,null,null,null,null,null,null,null,null,null,"Bach & Assoc",{"$f":"BL78+BL80+$V$11*BL79","v":616},{"$f":"BM78+BM80+$V$11*BM79","v":653},{"$f":"BN78+BN80+$V$11*BN79","v":645},{"$f":"BO78+BO80+$V$11*BO79","v":674},{"$f":"BP78+BP80+$V$11*BP79","v":742},{"$f":"BQ78+BQ80+$V$11*BQ79","v":768},{"$f":"BR78+BR80+$V$11*BR79","v":900},{"$f":"BS78+BS80+$V$11*BS79","v":1001},{"$f":"BT78+BT80+$V$11*BT79","v":1121},{"$f":"BU78+BU80+$V$11*BU79","v":1098},1145,1169.5,1079.5,{"$f":"BY78+BY80+$V$11*BY79","v":1017.5},921.5,921.5,null,null,null,"Bach & Assoc",{"$f":"CF78+CF80+$V$11*CF79","v":1080},{"$f":"CG78+CG80+$V$11*CG79","v":1140},{"$f":"CH78+CH80+$V$11*CH79","v":1250},{"$f":"CI78+CI80+$V$11*CI79","v":1338},{"$f":"CJ78+CJ80+$V$11*CJ79","v":1453},{"$f":"CK78+CK80+$V$11*CK79","v":1576},{"$f":"CL78+CL80+$V$11*CL79","v":1838},{"$f":"CM78+CM80+$V$11*CM79","v":2037},{"$f":"CN78+CN80+$V$11*CN79","v":2276},2267,2417,2497.5,2488,2339,2311.5,{"$f":"CU78+CU80+$V$11*CU79","v":0}]
[]
[null,"ETSU","2004-05","2005-06","2006-07","2007-08","2008-09","2009-10","2010-11","2011-12","2012-13","2013-14","2014-15","2015-16","2016-17","2017-18",{"$f":"Q67","v":"2018-19"},{"$f":"R67","v":"2019-20"},null,"Standard Dev.",null,null,null,"ETSU","2004-05","2005-06","2006-07","2007-08","2008-09","2009-10","2010-11","2011-12","2012-13","2013-14","2014-15","2015-16","2016-17","2017-18","2018-19","2019-20",null,null,"ETSU","2004-05","2005-06","2006-07","2007-08","2008-09","2009-10","2010-11","2011-12","2012-13","2013-14","2014-15","2015-16","2016-17","2017-18","2018-19","2019-20",null,null,null,"ETSU","2004-05","2005-06","2006-07","2007-08","2008-09","2009-10","2010-11","2011-12","2012-13","2013-14","2014-15","2015-16",{"$f":"BX67","v":"2016-17"},"2017-18","2018-19","2019-20",null,null,null,"ETSU","2004-05","2005-06","2006-07","2007-08","2008-09","2009-10","2010-11","2011-12","2012-13","2013-14","2014-15","2015-16","2016-17","2017-18","2018-19",{"$f":"CU67","v":"2019-20"}]
[null,"Students Accumulating 30 hrs",{"$f":"Y84+BL84*$V$6+BL91*$V$8","v":2406.8000000000002},2438.4,2617.1999999999998,2770.8,2899,3032.8,2585.6,2572.4,2452.4,2292,2527.1999999999998,2522,{"$f":"AK84+BX84*$V$6+BX91*$V$8","v":2432.4},2384,2309.8000000000002,2309.8000000000002,null,241.79048414323969,null,null,null,"Students Accumulating 30 hrs",1598,1672,1788,1901,2003,2067,1774,1755,1745,1609,1807,1811,1755,1719,1711,{"$f":"AM84*(1+'Control Data'!$H31)","v":1711},null,null,"Associate",4,0,0,0,0,0,0,0,0,0,0,0,0,0,0,{"$f":"BF84*(1+'Control Data'!$H35)","v":0},null,null,"One Focus Pop Only","Students Accumulating 30 hrs",831,803,889,941,960,1026,832,833,753,750,789,815,773,770,706,{"$f":"BZ84*(1+'Control Data'!$H$48)","v":706},null,null,"Adults","Students Accumulating 30 hrs",216,182,207,195,212,189,163,173,139,111,120,90,88,79,53]
[null,"Students Accumulating 60 hrs",2248.1999999999998,2150.1999999999998,2493.1999999999998,2407.6,2525,2789.2,2565.6,2648.4,2445.6,2392.6,2464.4,2547,{"$f":"AK85+BX85*$V$6+BX92*$V$8","v":2549.6},2506.8000000000002,2345,2345,null,187.68649510405498,null,null,null,"Students Accumulating 60 hrs",1530,1480,1705,1653,1740,1915,1750,1805,1676,1657,1702,1814,1823,1814,1693,{"$f":"AM85*(1+'Control Data'!$H32)","v":1693},null,null,"Reverse Articulated Associates",0,0,0,0,0,0,0,0,0,0,0,119,98,148,112,{"$f":"BF85*(1+'Control Data'!$H36)","v":112},null,null,null,"Students Accumulating 60 hrs",669,619,764,747,795,834,797,778,742,732,753,780,777,746,720,{"$f":"BZ85*(1+'Control Data'!$H$48)","v":720},null,null,null,"Students Accumulating 60 hrs",263,262,264,262,251,290,222,261,206,177,208,147,139,128,114]
[null,"Students Accumulating 90 hrs",2397.4,2380.4,2594.1999999999998,2658.6,2851.6,3016,2877.4,3314.2,3156,3035.4,2982.2,3131,{"$f":"AK86+BX86*$V$6+BX93*$V$8","v":3269.8},3221.8,3257,3257,null,310.44500246509631,null,null,null,"Students Accumulating 90 hrs",1646,1636,1748,1803,1921,2015,1942,2196,2075,2014,2021,2128,2249,2251,2286,{"$f":"AM86*(1+'Control Data'!$H33)","v":2286},null,null,"Bachelors",1623,1715,1698,1693,1878,1873,2028,2146,2314,2321,2229,2320,2326,2442,2448,{"$f":"BF86*(1+'Control Data'!$H37)","v":2448},null,null,null,"Students Accumulating 90 hrs",628,618,689,712,787,815,773,949,875,883,849,905,951,951,925,{"$f":"BZ86*(1+'Control Data'!$H$48)","v":925},null,null,null,"Students Accumulating 90 hrs",385,367,425,402,440,463,399,451,487,380,359,356,340,285,291]
[null,"Bachelors and Associates",{"$f":"Y87+BL90*$V$6+BL97*$V$8","v":2446.8000000000002},2589.8000000000002,2573,2573.4,2882.6,2856.4,3113.2,3341.6,3623.6,3633.8,3497,3725.6,{"$f":"AK87+BX90*$V$6+BX97*$V$8","v":3667.8},3806.1,3785.8,3785.8,null,443.94243921181294,null,null,null,"Bachelors and Associates",1627,1715,1698,1693,1878,1873,2028,2146,{"$f":"AZ84+AZ86+$V$11*AZ85","v":2314},{"$f":"BA84+BA86+$V$11*BA85","v":2321},2229,2379.5,2375,2516,2504,{"$f":"BG84+BG86+$V$11*BG85","v":2504},null,null,"Masters",537,506,496,527,559,648,624,608,574,644,582,609,713,627,712,{"$f":"BF87*(1+'Control Data'!$H39)","v":712},null,null,null,"Associates",1,0,0,0,0,0,0,0,0,0,0,0,0,0,0,{"$f":"BZ87*(1+'Control Data'!$H$48)","v":0},null,null,null,"Associates",4,0,0,0,0,0,0,0,0,0,0,0,0,0,0]
[null,"Masters/Ed Specialist Degrees",{"$f":"Y88","v":546},{"$f":"Z88","v":523},{"$f":"AA88","v":506},{"$f":"AB88","v":530},{"$f":"AC88","v":577},{"$f":"AD88","v":655},{"$f":"AE88","v":630},{"$f":"AF88","v":609},{"$f":"AG88","v":576},{"$f":"AH88","v":647},585,611,{"$f":"AK88","v":714},{"$f":"AL88","v":635},{"$f":"AM88","v":716},{"$f":"AN88","v":716},null,53.604415241035255,null,null,null,"Masters/Ed Specialist Degrees",546,523,506,530,577,655,630,609,{"$f":"AZ87+AZ88","v":576},{"$f":"BA87+BA88","v":647},585,611,714,635,716,{"$f":"BG87+BG88","v":716},null,null,"Education Specialist",9,17,10,3,18,7,6,1,2,3,3,2,1,8,4,{"$f":"BF88*(1+'Control Data'!$H40)","v":4},null,null,null,"Reverse Articulated Associates",0,0,0,0,0,0,0,0,0,0,0,54,45,73,41,{"$f":"BZ88*(1+'Control Data'!$H$48)","v":41},null,null,null,"Reverse Articulated Associates",0,0,0,0,0,0,0,0,0,0,0,42,32,44,39]
[null,"Doctoral / Law Degrees",37,50,54,{"$f":"AB89","v":69},75,57,79,83,86,114,122,127,145,151,126,126,null,22.061530117177078,null,null,null,"Doctoral / Law Degrees",37,50,54,69,75,57,79,83,{"$f":"SUM(AZ89:AZ91)","v":86},{"$f":"SUM(BA89:BA91)","v":114},122,127,145,151,126,{"$f":"SUM(BG89:BG91)","v":126},null,null,"Law Degrees",0,0,0,0,0,0,0,0,0,0,0,0,0,0,0,{"$f":"BF89*(1+'Control Data'!$H42)","v":0},null,null,null,"Bachelors",600,591,635,633,732,658,759,807,902,901,860,910,896,948,963,{"$f":"BZ89*(1+'Control Data'!$H$48)","v":963},null,null,null,"Bachelors",713,764,687,691,754,767,762,860,886,874,850,871,789,740,724]
[null,"Research, Service and Sponsored Programs",null,null,null,{"$f":"AB90","v":20082056.25},{"$f":"AC90","v":21215712.510000002},{"$f":"AD90","v":22883113.969999999},{"$f":"AE90","v":24085480},{"$f":"AF90","v":23159718},{"$f":"AG90","v":24113659.810000002},{"$f":"AH90","v":21227021.160000004},19312236.77,18800634.850000001,21211566.390000001,22701904.719999999,22701904.719999999,0,null,1488531.9371117868,null,null,null,"Research, Service and Sponsored Programs",null,null,null,20082056.25,21215712.510000002,22883113.969999999,24085480,23159718,24113659.810000002,21227021.160000004,19312236.77,18800634.850000001,21211566.390000001,22701904.719999999,{"$f":"AL90*(1+'Control Data'!$H$45)","v":22701904.719999999},null,null,null,"Degrees of Veterinary Medicine",0,0,0,0,0,0,0,0,0,0,0,0,0,0,0,{"$f":"BF90*(1+'Control Data'!$H43)","v":0},null,null,null,"Bach & Assoc",{"$f":"BL87+BL89+$V$11*BL88","v":601},{"$f":"BM87+BM89+$V$11*BM88","v":591},{"$f":"BN87+BN89+$V$11*BN88","v":635},{"$f":"BO87+BO89+$V$11*BO88","v":633},{"$f":"BP87+BP89+$V$11*BP88","v":732},{"$f":"BQ87+BQ89+$V$11*BQ88","v":658},{"$f":"BR87+BR89+$V$11*BR88","v":759},{"$f":"BS87+BS89+$V$11*BS88","v":807},{"$f":"BT87+BT89+$V$11*BT88","v":902},{"$f":"BU87+BU89+$V$11*BU88","v":901},860,937,918.5,{"$f":"BY87+BY89+$V$11*BY88","v":984.5},983.5,983.5,null,null,null,"Bach & Assoc",{"$f":"CF87+CF89+$V$11*CF88","v":717},{"$f":"CG87+CG89+$V$11*CG88","v":764},{"$f":"CH87+CH89+$V$11*CH88","v":687},{"$f":"CI87+CI89+$V$11*CI88","v":691},{"$f":"CJ87+CJ89+$V$11*CJ88","v":754},{"$f":"CK87+CK89+$V$11*CK88","v":767},{"$f":"CL87+CL89+$V$11*CL88","v":762},{"$f":"CM87+CM89+$V$11*CM88","v":860},{"$f":"CN87+CN89+$V$11*CN88","v":886},874,850,892,805,762,743.5,{"$f":"CU87+CU89+$V$11*CU88","v":0}]
[null,"Degrees per 100 FTE",{"$f":"Y91","v":18.351486805051643},{"$f":"Z91","v":19.248251944466269},{"$f":"AA91","v":18.541031222019203},17.808118314066625,19.098952506864638,18.005460278397294,18.605618382987053,19.254637951196461,21.447704613635452,{"$f":"AH91","v":22.413643255144709},21.736798478716661,23.119075301760851,23.29207775140733,24.288371314751291,24.159390226253073,24.159390226253073,null,1.4984035618691831,null,null,null,"Degrees per 100 FTE",18.351486805051643,19.248251944466269,18.541031222019203,17.808118314066625,19.098952506864638,18.005460278397294,18.605618382987053,19.254637951196461,{"$f":"(AZ84+AZ86+$V$11*AZ85)/DH9*100","v":21.447704613635452},{"$f":"(BA84+BA86+$V$11*BA85)/DI9*100","v":22.413643255144709},21.736798478716661,23.119075301760851,23.29207775140733,24.288371314751291,24.159390226253073,{"$f":"(BG84+BG86+$V$11*BG85)/DO9*100","v":24.159390226253073},null,null,"Doctoral",37,50,54,69,75,57,79,83,86,114,122,127,145,151,126,{"$f":"BF91*(1+'Control Data'!$H44)","v":126},null,null,"Two Focus Pops Only","Students Accumulating 30 hrs",144,124,118,117,128,145,146,151,105,83,89,59,59,49,34,{"$f":"BZ91*(1+'Control Data'!$H$49)","v":34},null,null,"Low-Income","Students Accumulating 30 hrs",903,869,918,980,1004,1127,961,962,824,805,847,843,803,789,721]
[null,"Six-Year Graduation Rate",0.42847025495750707,0.46201657458563539,0.42702702702702705,0.47233468286099867,0.47974683544303798,0.45144005358338912,0.52076677316293929,0.51895043731778423,0.52601456815816861,0.5430634347601857,0.52188883423512056,0.50097276264591439,0.49595815501664287,0.54710500490677139,0.57490535424553812,0.57490535424553812,null,4.0013866672790996,null,null,null,"Six-Year Graduation Rate",0.42847025495750707,0.46201657458563539,0.42702702702702705,0.47233468286099867,0.47974683544303798,0.45144005358338912,0.52076677316293929,0.51895043731778423,0.52601456815816861,0.5430634347601857,0.52188883423512056,0.50097276264591439,0.49595815501664287,0.54710500490677139,0.57490535424553812,{"$f":"AM92*(1+'Control Data'!$H$47)","v":0.57490535424553812},null,null,null,null,null,null,null,null,null,null,null,null,null,null,null,null,null,null,null,null,null,null,"Students Accumulating 60 hrs",183,175,177,157,149,207,178,221,176,150,160,109,105,96,76,{"$f":"BZ92*(1+'Control Data'!$H$49)","v":76},null,null,null,"Students Accumulating 60 hrs",772,707,854,799,842,958,931,959,888,855,865,851,848,810,758]
[null,null,null,null,null,null,null,null,null,null,null,null,null,null,null,null,null,null,null,null,null,null,null,null,null,null,null,null,null,null,null,null,null,null,null,null,null,null,null,null,null,null,null,null,null,null,null,null,null,null,null,null,null,null,null,null,null,null,null,null,null,null,"Students Accumulating 90 hrs",249,250,295,286,301,349,317,359,381,315,282,279,260,210,231,{"$f":"BZ93*(1+'Control Data'!$H$49)","v":231},null,null,null,"Students Accumulating 90 hrs",741,751,854,882,949,1050,1008,1216,1150,1133,1054,1107,1131,1086,1096]
[null,null,null,null,null,null,null,null,null,null,null,null,null,null,null,null,null,null,null,null,null,null,null,null,null,null,null,null,null,null,null,null,null,null,null,null,null,null,null,null,null,null,null,null,null,null,null,null,null,null,null,null,null,null,null,null,null,null,null,null,null,null,"Associates",3,0,0,0,0,0,0,0,0,0,0,0,0,0,0,{"$f":"BZ94*(1+'Control Data'!$H$49)","v":0},null,null,null,"Associates",3,0,0,0,0,0,0,0,0,0,0,0,0,0,0]
[null,null,null,null,null,null,null,null,null,null,null,null,null,null,null,null,null,null,null,null,null,null,null,null,null,null,null,null,null,null,null,null,null,null,null,null,null,null,null,null,null,null,null,null,null,null,null,null,null,null,null,null,null,null,null,null,null,null,null,null,null,null,"Reverse Articulated Associates",0,0,0,0,0,0,0,0,0,0,0,39,30,35,38,{"$f":"BZ95*(1+'Control Data'!$H$49)","v":38},null,null,null,"Reverse Articulated Associates",0,0,0,0,0,0,0,0,0,0,0,90,73,99,78]
[null,null,null,null,null,null,null,null,null,null,null,null,null,null,null,null,null,null,null,null,null,null,null,null,null,null,null,null,null,null,null,null,null,null,null,null,null,null,null,null,null,null,null,null,null,null,null,null,null,null,null,null,null,null,null,null,null,null,null,null,null,null,"Bachelors",336,402,367,374,419,457,478,550,588,592,580,577,543,485,476,{"$f":"BZ96*(1+'Control Data'!$H$49)","v":476},null,null,null,"Bachelors",559,631,682,690,816,805,953,1047,1192,1211,1170,1193,1193,1178,1191]
[null,null,null,null,null,null,null,null,null,null,null,null,null,null,null,null,null,null,null,null,null,null,null,null,null,null,null,null,null,null,null,null,null,null,null,null,null,null,null,null,null,null,null,null,null,null,null,null,null,null,null,null,null,null,null,null,null,null,null,null,null,null,"Bach & Assoc",{"$f":"BL94+BL96+$V$11*BL95","v":339},{"$f":"BM94+BM96+$V$11*BM95","v":402},{"$f":"BN94+BN96+$V$11*BN95","v":367},{"$f":"BO94+BO96+$V$11*BO95","v":374},{"$f":"BP94+BP96+$V$11*BP95","v":419},{"$f":"BQ94+BQ96+$V$11*BQ95","v":457},{"$f":"BR94+BR96+$V$11*BR95","v":478},{"$f":"BS94+BS96+$V$11*BS95","v":550},{"$f":"BT94+BT96+$V$11*BT95","v":588},{"$f":"BU94+BU96+$V$11*BU95","v":592},580,596.5,558,{"$f":"BY94+BY96+$V$11*BY95","v":502.5},495,495,null,null,null,"Bach & Assoc",{"$f":"CF94+CF96+$V$11*CF95","v":562},{"$f":"CG94+CG96+$V$11*CG95","v":631},{"$f":"CH94+CH96+$V$11*CH95","v":682},{"$f":"CI94+CI96+$V$11*CI95","v":690},{"$f":"CJ94+CJ96+$V$11*CJ95","v":816},{"$f":"CK94+CK96+$V$11*CK95","v":805},{"$f":"CL94+CL96+$V$11*CL95","v":953},{"$f":"CM94+CM96+$V$11*CM95","v":1047},{"$f":"CN94+CN96+$V$11*CN95","v":1192},1211,1170,1238,1229.5,1227.5,1230,{"$f":"CU94+CU96+$V$11*CU95","v":0}]
[]
[null,"TSU","2004-05","2005-06","2006-07","2007-08","2008-09","2009-10","2010-11","2011-12","2012-13","2013-14","2014-15","2015-16","2016-17","2017-18",{"$f":"Q83","v":"2018-19"},{"$f":"R83","v":"2019-20"},null,"Standard Dev.",null,null,null,"TSU","2004-05","2005-06","2006-07","2007-08","2008-09","2009-10","2010-11","2011-12","2012-13","2013-14","2014-15","2015-16","2016-17","2017-18","2018-19","2019-20",null,null,"TSU","2004-05","2005-06","2006-07","2007-08","2008-09","2009-10","2010-11","2011-12","2012-13","2013-14","2014-15","2015-16","2016-17","2017-18","2018-19","2019-20",null,null,null,"TSU","2004-05","2005-06","2006-07","2007-08","2008-09","2009-10","2010-11","2011-12","2012-13","2013-14","2014-15","2015-16",{"$f":"BX83","v":"2016-17"},"2017-18","2018-19","2019-20",null,null,null,"TSU","2004-05","2005-06","2006-07","2007-08","2008-09","2009-10","2010-11","2011-12","2012-13","2013-14","2014-15","2015-16","2016-17","2017-18","2018-19",{"$f":"CU83","v":"2019-20"}]
[null,"Students Accumulating 30 hrs",{"$f":"Y100+BL100*$V$6+BL107*$V$8","v":2093.8000000000002},1907.2,1894.8000000000002,2026.6,1710.2,1690.6,1451.2,1477,1393.6,1521.2,1637.2,1742.4,{"$f":"AK100+BX100*$V$6+BX107*$V$8","v":1516.2},1432.4,1278.5999999999999,1278.5999999999999,null,255.43131627373623,null,null,null,"Students Accumulating 30 hrs",1376,1266,1251,1316,1099,1076,932,946,914,1018,1120,1236,1087,1066,968,{"$f":"AM100*(1+'Control Data'!$I31)","v":968},null,null,"Associate",132,89,114,149,112,114,115,139,128,104,116,101,108,67,41,{"$f":"BF100*(1+'Control Data'!$I35)","v":41},null,null,"One Focus Pop Only","Students Accumulating 30 hrs",756,679,691,767,664,637,549,550,502,569,589,573,489,418,342,{"$f":"BZ100*(1+'Control Data'!$I$48)","v":342},null,null,"Adults","Students Accumulating 30 hrs",141,131,117,122,99,125,93,104,95,91,128,120,87,49,53]
[null,"Students Accumulating 60 hrs",1832.8,1619.6,1801,1681.8,1499.2,1530.6,1241,1421.4,1341.8,1303.2,1398.8,1575.4,{"$f":"AK101+BX101*$V$6+BX108*$V$8","v":1601.2},1324.2,1308.2,1308.2,null,208.30928394523906,null,null,null,"Students Accumulating 60 hrs",1209,1085,1164,1102,969,966,791,895,854,833,918,1044,1081,932,941,{"$f":"AM101*(1+'Control Data'!$I32)","v":941},null,null,"Reverse Articulated Associates",0,0,0,0,0,0,0,0,0,0,0,24,28,20,11,{"$f":"BF101*(1+'Control Data'!$I36)","v":11},null,null,null,"Students Accumulating 60 hrs",601,527,575,561,529,522,395,503,451,459,451,558,539,414,399,{"$f":"BZ101*(1+'Control Data'!$I$48)","v":399},null,null,null,"Students Accumulating 60 hrs",192,162,223,170,146,170,158,153,152,131,173,185,182,128,72]
[null,"Students Accumulating 90 hrs",1709.6,1686.6,1695.2,1811.8,1516,1588.6,1475.6,1509.8,1474.8,1594.4,1484,1514.6,{"$f":"AK102+BX102*$V$6+BX109*$V$8","v":1656.2},1587.2,1436.4,1436.4,null,115.92865430465793,null,null,null,"Students Accumulating 90 hrs",1139,1145,1111,1157,993,995,918,929,918,985,928,966,1059,1044,976,{"$f":"AM102*(1+'Control Data'!$I33)","v":976},null,null,"Bachelors",988,1020,991,995,948,984,966,959,938,812,872,924,1065,1082,1091,{"$f":"BF102*(1+'Control Data'!$I37)","v":1091},null,null,null,"Students Accumulating 90 hrs",492,447,484,506,425,482,467,431,431,503,455,447,554,524,428,{"$f":"BZ102*(1+'Control Data'!$I$48)","v":428},null,null,null,"Students Accumulating 90 hrs",261,256,263,335,225,251,229,287,250,258,252,264,278,239,191,null,null," "]
[null,"Bachelors and Associates",{"$f":"Y103+BL106*$V$6+BL113*$V$8","v":1688.6},1705.2,1718,1818.8,1694.8,1762.6,1780.8,1861.6,1837.2,1542.8,1666.4,1759.7,{"$f":"AK103+BX106*$V$6+BX113*$V$8","v":1969.2},1923.7,1834.2,1834.2,null,93.119192436360819,null,null,null,"Bachelors and Associates",1120,1109,1105,1144,1060,1098,1081,1098,{"$f":"AZ100+AZ102+$V$11*AZ101","v":1066},{"$f":"BA100+BA102+$V$11*BA101","v":916},988,1037,1187,1159,1137.5,{"$f":"BG100+BG102+$V$11*BG101","v":1137.5},null,null,"Masters",396,382,336,414,401,370,365,404,397,476,408,461,439,376,323,{"$f":"BF103*(1+'Control Data'!$I39)","v":323},null,null,null,"Associates",67,47,55,70,53,48,54,66,43,42,36,42,35,32,12,{"$f":"BZ103*(1+'Control Data'!$I$48)","v":12},null,null,null,"Associates",102,71,85,118,85,82,90,112,111,92,98,74,80,39,24]
[null,"Masters/Ed Specialist Degrees",{"$f":"Y104","v":462},{"$f":"Z104","v":436},{"$f":"AA104","v":371},{"$f":"AB104","v":444},{"$f":"AC104","v":426},{"$f":"AD104","v":393},{"$f":"AE104","v":377},{"$f":"AF104","v":434},{"$f":"AG104","v":417},{"$f":"AH104","v":486},416,467,{"$f":"AK104","v":441},{"$f":"AL104","v":380},{"$f":"AM104","v":326},{"$f":"AN104","v":326},null,36.454537897679259,null,null,null,"Masters/Ed Specialist Degrees",462,436,371,444,426,393,377,434,{"$f":"AZ103+AZ104","v":417},{"$f":"BA103+BA104","v":486},416,467,441,380,326,{"$f":"BG103+BG104","v":326},null,null,"Education Specialist",66,54,35,30,25,23,12,30,20,10,8,6,2,4,3,{"$f":"BF104*(1+'Control Data'!$I40)","v":3},null,null,null,"Reverse Articulated Associates",0,0,0,0,0,0,0,0,0,0,0,12,9,12,6,{"$f":"BZ104*(1+'Control Data'!$I$48)","v":6},null,null,null,"Reverse Articulated Associates",0,0,0,0,0,0,0,0,0,0,0,13,18,10,5]
[null,"Doctoral / Law Degrees",46,48,46,{"$f":"AB105","v":50},60,79,67,72,66,85,54,77,73,75,75,75,null,14.200547720266135,null,null,null,"Doctoral / Law Degrees",46,48,46,50,60,79,67,72,{"$f":"SUM(AZ105:AZ107)","v":66},{"$f":"SUM(BA105:BA107)","v":85},54,77,73,75,75,{"$f":"SUM(BG105:BG107)","v":75},null,null,"Law Degrees",0,0,0,0,0,0,0,0,0,0,0,0,0,0,0,{"$f":"BF105*(1+'Control Data'!$I42)","v":0},null,null,null,"Bachelors",355,362,370,376,378,364,372,381,356,314,337,361,442,506,479,{"$f":"BZ105*(1+'Control Data'!$I$48)","v":479},null,null,null,"Bachelors",362,383,402,416,420,416,420,434,472,359,394,430,472,493,458]
[null,"Research, Service and Sponsored Programs",null,null,null,{"$f":"AB106","v":25359974},{"$f":"AC106","v":28476463},{"$f":"AD106","v":29514410},{"$f":"AE106","v":33644726},{"$f":"AF106","v":31029229},{"$f":"AG106","v":27124264.649999999},{"$f":"AH106","v":33662724.359999999},35273004.649999991,39001830.910000004,33814963.43,34221171.929999992,34221171.929999992,0,null,2887392.3295824509,null,null,null,"Research, Service and Sponsored Programs",null,null,null,25359974,28476463,29514410,33644726,31029229,27124264.649999999,33662724.359999999,35273004.649999991,39001830.910000004,33814963.43,34221171.929999992,{"$f":"AL106*(1+'Control Data'!$I$45)","v":34221171.929999992},null,null,null,"Degrees of Veterinary Medicine",0,0,0,0,0,0,0,0,0,0,0,0,0,0,0,{"$f":"BF106*(1+'Control Data'!$I43)","v":0},null,null,null,"Bach & Assoc",{"$f":"BL103+BL105+$V$11*BL104","v":422},{"$f":"BM103+BM105+$V$11*BM104","v":409},{"$f":"BN103+BN105+$V$11*BN104","v":425},{"$f":"BO103+BO105+$V$11*BO104","v":446},{"$f":"BP103+BP105+$V$11*BP104","v":431},{"$f":"BQ103+BQ105+$V$11*BQ104","v":412},{"$f":"BR103+BR105+$V$11*BR104","v":426},{"$f":"BS103+BS105+$V$11*BS104","v":447},{"$f":"BT103+BT105+$V$11*BT104","v":399},{"$f":"BU103+BU105+$V$11*BU104","v":356},373,409,481.5,{"$f":"BY103+BY105+$V$11*BY104","v":544},494,494,null,null,null,"Bach & Assoc",{"$f":"CF103+CF105+$V$11*CF104","v":464},{"$f":"CG103+CG105+$V$11*CG104","v":454},{"$f":"CH103+CH105+$V$11*CH104","v":487},{"$f":"CI103+CI105+$V$11*CI104","v":534},{"$f":"CJ103+CJ105+$V$11*CJ104","v":505},{"$f":"CK103+CK105+$V$11*CK104","v":498},{"$f":"CL103+CL105+$V$11*CL104","v":510},{"$f":"CM103+CM105+$V$11*CM104","v":546},{"$f":"CN103+CN105+$V$11*CN104","v":583},451,492,510.5,561,537,484.5,{"$f":"CU103+CU105+$V$11*CU104","v":0}]
[null,"Degrees per 100 FTE",{"$f":"Y107","v":16.590462459141047},{"$f":"Z107","v":16.965314676756449},{"$f":"AA107","v":17.089214463197617},17.857142857142858,18.43617200136822,18.323922899340804,17.94061837876114,17.80473171285411,18.275434455880085,{"$f":"AH107","v":15.416982243541193},15.793091321792229,16.174903163750749,19.268854907308206,19.401710832482383,21.197890460483404,21.197890460483404,null,0.95353010681765982,null,null,null,"Degrees per 100 FTE",16.590462459141047,16.965314676756449,17.089214463197617,17.857142857142858,18.43617200136822,18.323922899340804,17.94061837876114,17.80473171285411,{"$f":"(AZ100+AZ102+$V$11*AZ101)/DH10*100","v":18.275434455880085},{"$f":"(BA100+BA102+$V$11*BA101)/DI10*100","v":15.416982243541193},15.793091321792229,16.174903163750749,19.268854907308206,19.401710832482383,21.197890460483404,{"$f":"(BG100+BG102+$V$11*BG101)/DO10*100","v":21.197890460483404},null,null,"Doctoral",46,48,46,50,60,79,67,72,66,85,54,77,73,75,75,{"$f":"BF107*(1+'Control Data'!$I44)","v":75},null,null,"Two Focus Pops Only","Students Accumulating 30 hrs",113,98,91,97,80,105,80,91,78,48,46,48,38,32,37,{"$f":"BZ107*(1+'Control Data'!$I$49)","v":37},null,null,"Low-Income","Students Accumulating 30 hrs",841,744,756,839,725,722,616,628,563,574,553,549,478,433,363]
[null,"Six-Year Graduation Rate",0.46199261992619928,0.43317230273752011,0.42619047619047618,0.39127105666156203,0.42722602739726029,0.37968359700249793,0.43061396131202689,0.43127147766323026,0.40163934426229508,0.4095796676441838,0.34176245210727968,0.33950617283950618,0.33018056749785041,0.36465517241379308,0.39006024096385544,0.39006024096385544,null,2.5029614809059666,null,null,null,"Six-Year Graduation Rate",0.46199261992619928,0.43317230273752011,0.42619047619047618,0.39127105666156203,0.42722602739726029,0.37968359700249793,0.43061396131202689,0.43127147766323026,0.40163934426229508,0.4095796676441838,0.34176245210727968,0.33950617283950618,0.33018056749785041,0.36465517241379308,0.39006024096385544,{"$f":"AM108*(1+'Control Data'!$I$47)","v":0.39006024096385544},null,null,null,null,null,null,null,null,null,null,null,null,null,null,null,null,null,null,null,null,null,null,"Students Accumulating 60 hrs",143,113,177,131,107,147,134,124,127,103,120,85,89,61,48,{"$f":"BZ108*(1+'Control Data'!$I$49)","v":48},null,null,null,"Students Accumulating 60 hrs",695,591,706,653,597,646,505,598,553,534,518,543,535,408,423]
[null,null,null,null,null,null,null,null,null,null,null,null,null,null,null,null,null,null,null,null,null,null,null,null,null,null,null,null,null,null,null,null,null,null,null,null,null,null,null,null,null,null,null,null,null,null,null,null,null,null,null,null,null,null,null,null,null,null,null,null,null,null,"Students Accumulating 90 hrs",177,184,197,250,183,208,184,236,212,207,192,191,154,124,118,{"$f":"BZ109*(1+'Control Data'!$I$49)","v":118},null,null,null,"Students Accumulating 90 hrs",585,559,615,671,566,647,606,616,605,659,587,565,584,533,473]
[null,null,null,null,null,null,null,null,null,null,null,null,null,null,null,null,null,null,null,null,null,null,null,null,null,null,null,null,null,null,null,null,null,null,null,null,null,null,null,null,null,null,null,null,null,null,null,null,null,null,null,null,null,null,null,null,null,null,null,null,null,null,"Associates",46,36,44,66,41,52,55,66,79,60,77,55,62,26,21,{"$f":"BZ110*(1+'Control Data'!$I$49)","v":21},null,null,null,"Associates",57,48,58,84,50,70,74,86,90,70,92,78,79,45,30]
[null,null,null,null,null,null,null,null,null,null,null,null,null,null,null,null,null,null,null,null,null,null,null,null,null,null,null,null,null,null,null,null,null,null,null,null,null,null,null,null,null,null,null,null,null,null,null,null,null,null,null,null,null,null,null,null,null,null,null,null,null,null,"Reverse Articulated Associates",0,0,0,0,0,0,0,0,0,0,0,9,18,7,5,{"$f":"BZ111*(1+'Control Data'!$I$49)","v":5},null,null,null,"Reverse Articulated Associates",0,0,0,0,0,0,0,0,0,0,0,17,27,16,11]
[null,null,null,null,null,null,null,null,null,null,null,null,null,null,null,null,null,null,null,null,null,null,null,null,null,null,null,null,null,null,null,null,null,null,null,null,null,null,null,null,null,null,null,null,null,null,null,null,null,null,null,null,null,null,null,null,null,null,null,null,null,null,"Bachelors",185,233,229,252,249,283,304,340,373,282,303,336,326,300,278,{"$f":"BZ112*(1+'Control Data'!$I$49)","v":278},null,null,null,"Bachelors",363,445,426,464,456,514,560,627,630,519,549,603,622,613,577]
[null,null,null,null,null,null,null,null,null,null,null,null,null,null,null,null,null,null,null,null,null,null,null,null,null,null,null,null,null,null,null,null,null,null,null,null,null,null,null,null,null,null,null,null,null,null,null,null,null,null,null,null,null,null,null,null,null,null,null,null,null,null,"Bach & Assoc",{"$f":"BL110+BL112+$V$11*BL111","v":231},{"$f":"BM110+BM112+$V$11*BM111","v":269},{"$f":"BN110+BN112+$V$11*BN111","v":273},{"$f":"BO110+BO112+$V$11*BO111","v":318},{"$f":"BP110+BP112+$V$11*BP111","v":290},{"$f":"BQ110+BQ112+$V$11*BQ111","v":335},{"$f":"BR110+BR112+$V$11*BR111","v":359},{"$f":"BS110+BS112+$V$11*BS111","v":406},{"$f":"BT110+BT112+$V$11*BT111","v":452},{"$f":"BU110+BU112+$V$11*BU111","v":342},380,395.5,397,{"$f":"BY110+BY112+$V$11*BY111","v":329.5},301.5,301.5,null,null,null,"Bach & Assoc",{"$f":"CF110+CF112+$V$11*CF111","v":420},{"$f":"CG110+CG112+$V$11*CG111","v":493},{"$f":"CH110+CH112+$V$11*CH111","v":484},{"$f":"CI110+CI112+$V$11*CI111","v":548},{"$f":"CJ110+CJ112+$V$11*CJ111","v":506},{"$f":"CK110+CK112+$V$11*CK111","v":584},{"$f":"CL110+CL112+$V$11*CL111","v":634},{"$f":"CM110+CM112+$V$11*CM111","v":713},{"$f":"CN110+CN112+$V$11*CN111","v":720},589,641,689.5,714.5,666,612.5,{"$f":"CU110+CU112+$V$11*CU111","v":0}]
[]
[null,"UM","2004-05","2005-06","2006-07","2007-08","2008-09","2009-10","2010-11","2011-12","2012-13","2013-14","2014-15","2015-16","2016-17","2017-18",{"$f":"Q99","v":"2018-19"},{"$f":"R99","v":"2019-20"},null,"Standard Dev.",null,null,null,"UM","2004-05","2005-06","2006-07","2007-08","2008-09","2009-10","2010-11","2011-12","2012-13","2013-14","2014-15","2015-16","2016-17","2017-18","2018-19","2019-20",null,null,"UM","2004-05","2005-06","2006-07","2007-08","2008-09","2009-10","2010-11","2011-12","2012-13","2013-14","2014-15","2015-16","2016-17","2017-18","2018-19","2019-20",null,null,null,"UM","2004-05","2005-06","2006-07","2007-08","2008-09","2009-10","2010-11","2011-12","2012-13","2013-14","2014-15","2015-16",{"$f":"BX99","v":"2016-17"},"2017-18","2018-19","2019-20",null,null,null,"UM","2004-05","2005-06","2006-07","2007-08","2008-09","2009-10","2010-11","2011-12","2012-13","2013-14","2014-15","2015-16","2016-17","2017-18","2018-19",{"$f":"CU99","v":"2019-20"}]
[null,"Students Accumulating 30 hrs",{"$f":"Y116+BL116*$V$6+BL123*$V$8","v":4598.8},3684.6000000000004,3911,3853.8,3911,3885,3282.8,3333.8,3394.8,3060.6,3162.6,3135.2,{"$f":"AK116+BX116*$V$6+BX123*$V$8","v":3196},3606,3408,3408,null,454.21046712338534,null,null,null,"Students Accumulating 30 hrs",3021,2454,2613,2540,2579,2557,2197,2220,2297,2084,2180,2164,2203,2491,2424,{"$f":"AM116*(1+'Control Data'!$J31)","v":2424},null,null,"Associate",0,0,0,0,0,0,0,0,0,0,0,0,0,0,0,{"$f":"BF116*(1+'Control Data'!$J35)","v":0},null,null,"One Focus Pop Only","Students Accumulating 30 hrs",1661,1282,1330,1391,1435,1410,1186,1201,1211,1097,1122,1084,1110,1275,1115,{"$f":"BZ116*(1+'Control Data'!$J$48)","v":1115},null,null,"Adults","Students Accumulating 30 hrs",333,276,299,254,237,250,180,181,168,132,128,131,129,138,114]
[null,"Students Accumulating 60 hrs",3903,3410.4,3500.6,3776.2,3756.4,4016.6000000000004,3519,3654.8,3748.4,3813,3649.6,3581.2,{"$f":"AK117+BX117*$V$6+BX124*$V$8","v":3655.6},3675.4,3829.8,3829.8,null,186.34588627961006,null,null,null,"Students Accumulating 60 hrs",2623,2280,2324,2497,2461,2598,2304,2377,2459,2492,2414,2395,2449,2491,2611,{"$f":"AM117*(1+'Control Data'!$J32)","v":2611},null,null,"Reverse Articulated Associates",0,0,0,0,0,0,0,0,0,0,0,104,135,146,101,{"$f":"BF117*(1+'Control Data'!$J36)","v":101},null,null,null,"Students Accumulating 60 hrs",1230,1058,1082,1199,1193,1317,1110,1206,1248,1295,1247,1189,1217,1188,1196,{"$f":"BZ117*(1+'Control Data'!$J$48)","v":1196},null,null,null,"Students Accumulating 60 hrs",441,411,435,432,450,469,409,394,366,354,313,299,287,286,332]
[null,"Students Accumulating 90 hrs",3935.2,3436.4,3787.8,3842.8,4185.2,4244.8,4193.6000000000004,4131.2,4357.6000000000004,4374.6000000000004,4409.8,4341.2,{"$f":"AK118+BX118*$V$6+BX125*$V$8","v":4334},4255,4319,4319,null,289.02944794220844,null,null,null,"Students Accumulating 90 hrs",2593,2266,2487,2501,2707,2721,2652,2624,2785,2773,2824,2774,2835,2779,2852,{"$f":"AM118*(1+'Control Data'!$J33)","v":2852},null,null,"Bachelors",2294,2218,2441,2454,2590,2562,2678,2724,2887,2991,2898,3038,3101,3136,2971,{"$f":"BF118*(1+'Control Data'!$J37)","v":2971},null,null,null,"Students Accumulating 90 hrs",1034,903,1021,1046,1114,1161,1182,1159,1227,1317,1306,1299,1305,1260,1260,{"$f":"BZ118*(1+'Control Data'!$J$48)","v":1260},null,null,null,"Students Accumulating 90 hrs",796,673,725,742,785,789,799,758,761,696,672,650,579,602,596]
[null,"Bachelors and Associates",{"$f":"Y119+BL122*$V$6+BL129*$V$8","v":3497.6},3455.6,3801.2,3885,4151.3999999999996,4080,4286,4448.3999999999996,4705,4874.3999999999996,4769,5036.3999999999996,{"$f":"AK119+BX122*$V$6+BX129*$V$8","v":5179.3999999999996},5162.1000000000004,4795.3999999999996,4795.3999999999996,null,475.2783624127818,null,null,null,"Bachelors and Associates",2294,2218,2441,2454,2590,2562,2678,2724,{"$f":"AZ116+AZ118+$V$11*AZ117","v":2887},{"$f":"BA116+BA118+$V$11*BA117","v":2991},2898,3090,3168.5,3209,3021.5,{"$f":"BG116+BG118+$V$11*BG117","v":3021.5},null,null,"Masters",889,823,849,874,862,810,1023,998,1047,1060,915,931,963,913,950,{"$f":"BF119*(1+'Control Data'!$J39)","v":950},null,null,null,"Associates",0,0,0,0,0,0,0,0,0,0,0,0,0,0,0,{"$f":"BZ119*(1+'Control Data'!$J$48)","v":0},null,null,null,"Associates",0,0,0,0,0,0,0,0,0,0,0,0,0,0,0]
[null,"Masters/Ed Specialist Degrees",{"$f":"Y120","v":903},{"$f":"Z120","v":842},{"$f":"AA120","v":867},{"$f":"AB120","v":886},{"$f":"AC120","v":872},{"$f":"AD120","v":823},{"$f":"AE120","v":1042},{"$f":"AF120","v":1009},{"$f":"AG120","v":1064},{"$f":"AH120","v":1071},929,938,{"$f":"AK120","v":972},{"$f":"AL120","v":937},{"$f":"AM120","v":966},{"$f":"AN120","v":966},null,97.290458593498968,null,null,null,"Masters/Ed Specialist Degrees",903,842,867,886,872,823,1042,1009,{"$f":"AZ119+AZ120","v":1064},{"$f":"BA119+BA120","v":1071},929,938,972,937,966,{"$f":"BG119+BG120","v":966},null,null,"Education Specialist",14,19,18,12,10,13,19,11,17,11,14,7,9,24,16,{"$f":"BF120*(1+'Control Data'!$J40)","v":16},null,null,null,"Reverse Articulated Associates",0,0,0,0,0,0,0,0,0,0,0,39,51,63,36,{"$f":"BZ120*(1+'Control Data'!$J$48)","v":36},null,null,null,"Reverse Articulated Associates",0,0,0,0,0,0,0,0,0,0,0,57,79,70,43]
[null,"Doctoral / Law Degrees",269,213,225,{"$f":"AB121","v":233},253,252,256,271,259,260,247,260,263,264,237,237,null,19.168550632046578,null,null,null,"Doctoral / Law Degrees",269,213,225,233,253,252,256,271,{"$f":"SUM(AZ121:AZ123)","v":259},{"$f":"SUM(BA121:BA123)","v":260},247,260,263,264,237,{"$f":"SUM(BG121:BG123)","v":237},null,null,"Law Degrees",160,125,113,126,121,127,128,135,124,130,109,100,101,106,86,{"$f":"BF121*(1+'Control Data'!$J42)","v":86},null,null,null,"Bachelors",877,882,954,960,1033,950,955,1048,1095,1158,1155,1161,1205,1248,1215,{"$f":"BZ121*(1+'Control Data'!$J$48)","v":1215},null,null,null,"Bachelors",1124,1117,1188,1209,1290,1212,1258,1281,1376,1374,1310,1340,1344,1245,1094]
[null,"Research, Service and Sponsored Programs",null,null,null,{"$f":"AB122","v":59102164},{"$f":"AC122","v":58424588},{"$f":"AD122","v":68999975},{"$f":"AE122","v":62442725},{"$f":"AF122","v":55561194},{"$f":"AG122","v":39479900.878076926},{"$f":"AH122","v":45114431.600807697},40136381.617384613,42963872.901179492,42576359.800269231,57065196.40880128,57065196.40880128,0,null,5383981.2653059205,null,null,null,"Research, Service and Sponsored Programs",null,null,null,59102164,58424588,68999975,62442725,55561194,39479900.878076926,45114431.600807697,40136381.617384613,42963872.901179492,42576359.800269231,57065196.40880128,{"$f":"AL122*(1+'Control Data'!$J$45)","v":57065196.40880128},null,null,null,"Degrees of Veterinary Medicine",0,0,0,0,0,0,0,0,0,0,0,0,0,0,0,{"$f":"BF122*(1+'Control Data'!$J43)","v":0},null,null,null,"Bach & Assoc",{"$f":"BL119+BL121+$V$11*BL120","v":877},{"$f":"BM119+BM121+$V$11*BM120","v":882},{"$f":"BN119+BN121+$V$11*BN120","v":954},{"$f":"BO119+BO121+$V$11*BO120","v":960},{"$f":"BP119+BP121+$V$11*BP120","v":1033},{"$f":"BQ119+BQ121+$V$11*BQ120","v":950},{"$f":"BR119+BR121+$V$11*BR120","v":955},{"$f":"BS119+BS121+$V$11*BS120","v":1048},{"$f":"BT119+BT121+$V$11*BT120","v":1095},{"$f":"BU119+BU121+$V$11*BU120","v":1158},1155,1180.5,1230.5,{"$f":"BY119+BY121+$V$11*BY120","v":1279.5},1233,1233,null,null,null,"Bach & Assoc",{"$f":"CF119+CF121+$V$11*CF120","v":1124},{"$f":"CG119+CG121+$V$11*CG120","v":1117},{"$f":"CH119+CH121+$V$11*CH120","v":1188},{"$f":"CI119+CI121+$V$11*CI120","v":1209},{"$f":"CJ119+CJ121+$V$11*CJ120","v":1290},{"$f":"CK119+CK121+$V$11*CK120","v":1212},{"$f":"CL119+CL121+$V$11*CL120","v":1258},{"$f":"CM119+CM121+$V$11*CM120","v":1281},{"$f":"CN119+CN121+$V$11*CN120","v":1376},1374,1310,1368.5,1383.5,1280,1115.5,{"$f":"CU119+CU121+$V$11*CU120","v":0}]
[null,"Degrees per 100 FTE",{"$f":"Y123","v":16.930763950905213},{"$f":"Z123","v":16.902267098494953},{"$f":"AA123","v":18.587568183606493},18.773907278012953,19.530611783217751,18.573831342071685,18.327109476762622,18.261534129761472,20.001847532389551,{"$f":"AH123","v":21.617988247793747},21.001420385919818,22.8371247394794,22.788351581435602,23.618106478971374,22.698930224172127,22.698930224172127,null,1.3984511709788969,null,null,null,"Degrees per 100 FTE",16.930763950905213,16.902267098494953,18.587568183606493,18.773907278012953,19.530611783217751,18.573831342071685,18.327109476762622,18.261534129761472,{"$f":"(AZ116+AZ118+$V$11*AZ117)/DH11*100","v":20.001847532389551},{"$f":"(BA116+BA118+$V$11*BA117)/DI11*100","v":21.617988247793747},21.001420385919818,22.8371247394794,22.788351581435602,23.618106478971374,22.698930224172127,{"$f":"(BG116+BG118+$V$11*BG117)/DO11*100","v":22.698930224172127},null,null,"Doctoral",109,88,112,107,132,125,128,136,135,130,138,160,162,158,151,{"$f":"BF123*(1+'Control Data'!$J44)","v":151},null,null,"Two Focus Pops Only","Students Accumulating 30 hrs",249,205,234,201,184,200,137,153,129,99,85,104,105,95,92,{"$f":"BZ123*(1+'Control Data'!$J$49)","v":92},null,null,"Low-Income","Students Accumulating 30 hrs",1826,1416,1499,1539,1566,1560,1280,1326,1301,1163,1164,1161,1191,1327,1185]
[null,"Six-Year Graduation Rate",0.37840845854201449,0.37651122625215888,0.3952,0.42177650429799429,0.41546391752577322,0.40779092702169623,0.47050147492625366,0.47472315840154067,0.51110014800197334,0.49243951612903225,0.49414414414414415,0.47394747811588162,0.48281374900079937,0.53236098450319047,0.58361284139913749,0.58361284139913749,null,4.646028739447094,null,null,null,"Six-Year Graduation Rate",0.37840845854201449,0.37651122625215888,0.3952,0.42177650429799429,0.41546391752577322,0.40779092702169623,0.47050147492625366,0.47472315840154067,0.51110014800197334,0.49243951612903225,0.49414414414414415,0.47394747811588162,0.48281374900079937,0.53236098450319047,0.58361284139913749,{"$f":"AM124*(1+'Control Data'!$J$47)","v":0.58361284139913749},null,null,null,null,null,null,null,null,null,null,null,null,null,null,null,null,null,null,null,null,null,null,"Students Accumulating 60 hrs",296,284,311,320,341,365,327,313,291,285,238,235,233,234,262,{"$f":"BZ124*(1+'Control Data'!$J$49)","v":262},null,null,null,"Students Accumulating 60 hrs",1381,1215,1269,1407,1425,1578,1355,1438,1464,1511,1410,1360,1396,1370,1388]
[null,null,null,null,null,null,null,null,null,null,null,null,null,null,null,null,null,null,null,null,null,null,null,null,null,null,null,null,null,null,null,null,null,null,null,null,null,null,null,null,null,null,null,null,null,null,null,null,null,null,null,null,null,null,null,null,null,null,null,null,null,null,"Students Accumulating 90 hrs",515,448,484,505,587,595,596,580,591,548,541,528,455,468,459,{"$f":"BZ125*(1+'Control Data'!$J$49)","v":459},null,null,null,"Students Accumulating 90 hrs",1268,1126,1264,1314,1503,1562,1575,1561,1648,1717,1716,1705,1636,1594,1582]
[null,null,null,null,null,null,null,null,null,null," ",null,null,null,null,null,null,null,null,null,null,null,null,null,null,null,null,null,null,null,null,null,null,null,null,null,null,null,null,null,null,null,null,null,null,null,null,null,null,null,null,null,null,null,null,null,null,null,null,null,null,null,"Associates",0,0,0,0,0,0,0,0,0,0,0,0,0,0,0,{"$f":"BZ126*(1+'Control Data'!$J$49)","v":0},null,null,null,"Associates",0,0,0,0,0,0,0,0,0,0,0,0,0,0,0]
[null,null,null,null,null,null,null,null,null,null,null,null,null,null,null,null,null,null,null,null,null,null,null,null,null,null,null,null,null,null,null,null,null,null,null,null,null,null,null,null,null,null,null,null,null,null,null,null,null,null,null,null,null,null,null,null,null,null,null,null,null,null,"Reverse Articulated Associates",0,0,0,0,0,0,0,0,0,0,0,54,69,65,39,{"$f":"BZ127*(1+'Control Data'!$J$49)","v":39},null,null,null,"Reverse Articulated Associates",0,0,0,0,0,0,0,0,0,0,0,90,110,123,71]
[null,null,null,null,null,null,null,null,null,null,null,null,null,null,null,null,null,null,null,null,null,null,null,null,null,null,null,null,null,null,null,null,null,null,null,null,null,null,null,null,null,null,null,null,null,null,null,null,null,null,null,null,null,null,null,null,null,null,null,null,null,null,"Bachelors",502,532,597,663,735,758,844,886,942,957,947,975,992,897,768,{"$f":"BZ128*(1+'Control Data'!$J$49)","v":768},null,null,null,"Bachelors",757,829,960,1077,1213,1254,1385,1539,1603,1698,1739,1771,1845,1797,1657]
[null,null,null,null,null,null,null,null,null,null,null,null,null,null,null,null,null,null,null,null,null,null,null,null,null,null,null,null,null,null,null,null,null,null,null,null,null,null,null,null,null,null,null,null,null,null,null,null,null,null,null,null,null,null,null,null,null,null,null,null,null,null,"Bach & Assoc",{"$f":"BL126+BL128+$V$11*BL127","v":502},{"$f":"BM126+BM128+$V$11*BM127","v":532},{"$f":"BN126+BN128+$V$11*BN127","v":597},{"$f":"BO126+BO128+$V$11*BO127","v":663},{"$f":"BP126+BP128+$V$11*BP127","v":735},{"$f":"BQ126+BQ128+$V$11*BQ127","v":758},{"$f":"BR126+BR128+$V$11*BR127","v":844},{"$f":"BS126+BS128+$V$11*BS127","v":886},{"$f":"BT126+BT128+$V$11*BT127","v":942},{"$f":"BU126+BU128+$V$11*BU127","v":957},947,1002,1026.5,{"$f":"BY126+BY128+$V$11*BY127","v":929.5},787.5,787.5,null,null,null,"Bach & Assoc",{"$f":"CF126+CF128+$V$11*CF127","v":757},{"$f":"CG126+CG128+$V$11*CG127","v":829},{"$f":"CH126+CH128+$V$11*CH127","v":960},{"$f":"CI126+CI128+$V$11*CI127","v":1077},{"$f":"CJ126+CJ128+$V$11*CJ127","v":1213},{"$f":"CK126+CK128+$V$11*CK127","v":1254},{"$f":"CL126+CL128+$V$11*CL127","v":1385},{"$f":"CM126+CM128+$V$11*CM127","v":1539},{"$f":"CN126+CN128+$V$11*CN127","v":1603},1698,1739,1816,1900,1858.5,1692.5,{"$f":"CU126+CU128+$V$11*CU127","v":0}]
[]
[null,"UTK","2004-05","2005-06","2006-07","2007-08","2008-09","2009-10","2010-11","2011-12","2012-13","2013-14","2014-15","2015-16","2016-17","2017-18",{"$f":"Q115","v":"2018-19"},{"$f":"R115","v":"2019-20"},null,"Standard Dev.",null,null,null,"UTK","2004-05","2005-06","2006-07","2007-08","2008-09","2009-10","2010-11","2011-12","2012-13","2013-14","2014-15","2015-16","2016-17","2017-18","2018-19","2019-20",null,null,"UTK","2004-05","2005-06","2006-07","2007-08","2008-09","2009-10","2010-11","2011-12","2012-13","2013-14","2014-15","2015-16","2016-17","2017-18","2018-19","2019-20",null,null,null,"UTK","2004-05","2005-06","2006-07","2007-08","2008-09","2009-10","2010-11","2011-12","2012-13","2013-14","2014-15","2015-16",{"$f":"BX115","v":"2016-17"},"2017-18","2018-19","2019-20",null,null,null,"UTK","2004-05","2005-06","2006-07","2007-08","2008-09","2009-10","2010-11","2011-12","2012-13","2013-14","2014-15","2015-16","2016-17","2017-18","2018-19",{"$f":"CU115","v":"2019-20"}]
[null,"Students Accumulating 30 hrs",{"$f":"Y132+BL132*$V$6+BL139*$V$8","v":5010.2},7534.4,7754.8,5635.6,5776.6,5084.6000000000004,4987.2,4641.3999999999996,4590.8,4598.6000000000004,4952.6000000000004,5199.8,{"$f":"AK132+BX132*$V$6+BX139*$V$8","v":5171.2},5667,5383.6,5383.6,null,1182.8854102480882,null,null,null,"Students Accumulating 30 hrs",3992,5773,5943,4402,4472,3916,3858,3571,3552,3543,3881,4146,4156,4581,4470,{"$f":"AM132*(1+'Control Data'!$K31)","v":4470},null,null,"Associate",0,0,0,0,0,0,0,0,0,0,0,0,0,0,0,{"$f":"BF132*(1+'Control Data'!$K35)","v":0},null,null,"One Focus Pop Only","Students Accumulating 30 hrs",1214,1853,1951,1462,1597,1422,1374,1308,1281,1282,1297,1286,1249,1285,1127,{"$f":"BZ132*(1+'Control Data'!$K$48)","v":1127},null,null,"Adults","Students Accumulating 30 hrs",80,474,423,100,51,54,41,35,26,48,56,36,28,85,24]
[null,"Students Accumulating 60 hrs",4443.6000000000004,5324.4,6311.2,5793.8,5841.8,5967.8,5265.6,5246,5266.6,5378.2,5306.6,5504,{"$f":"AK133+BX133*$V$6+BX140*$V$8","v":5638.6},5947.4,5664.6,5664.6,null,522.65665168976409,null,null,null,"Students Accumulating 60 hrs",3528,4126,4897,4534,4533,4601,4041,4003,4019,4090,4075,4245,4442,4761,4644,{"$f":"AM133*(1+'Control Data'!$K32)","v":4644},null,null,"Reverse Articulated Associates",0,0,0,0,0,0,0,0,0,0,0,130,91,102,91,{"$f":"BF133*(1+'Control Data'!$K36)","v":91},null,null,null,"Students Accumulating 60 hrs",987,1163,1374,1406,1496,1576,1407,1420,1437,1489,1412,1475,1387,1363,1217,{"$f":"BZ133*(1+'Control Data'!$K$48)","v":1217},null,null,null,"Students Accumulating 60 hrs",189,434,488,193,136,140,128,133,127,117,125,99,105,121,72]
[null,"Students Accumulating 90 hrs",4613,3856,4142,5676.6,5604.6,5962.6,5937.4,5422.2,5583,5680.6,5799.6,5900.4,{"$f":"AK134+BX134*$V$6+BX141*$V$8","v":5992},6059.2,6224.2,6224.2,null,754.16011857194223,null,null,null,"Students Accumulating 90 hrs",3664,3075,3285,4437,4327,4539,4478,4078,4175,4193,4305,4407,4512,4699,4877,{"$f":"AM134*(1+'Control Data'!$K33)","v":4877},null,null,"Bachelors",3762,3680,3496,3624,4107,4108,4332,4539,4407,4372,4445,4504,4652,4723,4919,{"$f":"BF134*(1+'Control Data'!$K37)","v":4919},null,null,null,"Students Accumulating 90 hrs",910,790,860,1247,1277,1477,1518,1389,1455,1527,1542,1578,1580,1459,1419,{"$f":"BZ134*(1+'Control Data'!$K$48)","v":1419},null,null,null,"Students Accumulating 90 hrs",350,273,280,344,323,323,308,282,301,313,319,288,265,252,270]
[null,"Bachelors and Associates",{"$f":"Y135+BL138*$V$6+BL145*$V$8","v":4799.6000000000004},4767.8,4575.6000000000004,4676.8,5341,5407.8,5713,6119.2,6016.6,6029.2,6132.2,6344.3,{"$f":"AK135+BX138*$V$6+BX145*$V$8","v":6426.7},6408.8,6568.9,6568.9,null,607.40910211597418,null," ",null,"Bachelors and Associates",3762,3680,3496,3624,4107,4108,4332,4539,{"$f":"AZ132+AZ134+$V$11*AZ133","v":4407},{"$f":"BA132+BA134+$V$11*BA133","v":4372},4445,4569,4697.5,4774,4964.5,{"$f":"BG132+BG134+$V$11*BG133","v":4964.5},null,null,"Masters",1553,1573,1490,1492,1628,1561,1499,1572,1578,1571,1531,1462,1529,1539,1482,{"$f":"BF135*(1+'Control Data'!$K39)","v":1482},null,null,null,"Associates",0,0,0,0,0,0,0,0,0,0,0,0,0,0,0,{"$f":"BZ135*(1+'Control Data'!$K$48)","v":0},null,null,null,"Associates",0,0,0,0,0,0,0,0,0,0,0,0,0,0,0]
[null,"Masters/Ed Specialist Degrees",{"$f":"Y136","v":1565},{"$f":"Z136","v":1579},{"$f":"AA136","v":1503},{"$f":"AB136","v":1502},{"$f":"AC136","v":1645},{"$f":"AD136","v":1573},{"$f":"AE136","v":1515},{"$f":"AF136","v":1583},{"$f":"AG136","v":1607},{"$f":"AH136","v":1579},1552,1473,{"$f":"AK136","v":1545},{"$f":"AL136","v":1553},{"$f":"AM136","v":1496},{"$f":"AN136","v":1496},null,46.256410967081692,null,null,null,"Masters/Ed Specialist Degrees",1565,1579,1503,1502,1645,1573,1515,1583,{"$f":"AZ135+AZ136","v":1607},{"$f":"BA135+BA136","v":1579},1552,1473,1545,1553,1496,{"$f":"BG135+BG136","v":1496},null,null,"Education Specialist",12,6,13,10,17,12,16,11,29,8,21,11,16,14,14,{"$f":"BF136*(1+'Control Data'!$K40)","v":14},null,null,null,"Reverse Articulated Associates",0,0,0,0,0,0,0,0,0,0,0,52,48,45,40,{"$f":"BZ136*(1+'Control Data'!$K$48)","v":40},null,null,null,"Reverse Articulated Associates",0,0,0,0,0,0,0,0,0,0,0,39,30,17,14]
[null,"Doctoral / Law Degrees",426,448,457,{"$f":"AB137","v":462},477,492,481,571,565,549,572,593,562,594,580,580,null,51.181159728078761,null,null,null,"Doctoral / Law Degrees",426,448,457,462,477,492,481,571,{"$f":"SUM(AZ137:AZ139)","v":565},{"$f":"SUM(BA137:BA139)","v":549},572,593,562,594,580,{"$f":"SUM(BG137:BG139)","v":580},null,null,"Law Degrees",136,212,211,212,139,166,147,155,167,152,128,157,100,114,113,{"$f":"BF137*(1+'Control Data'!$K42)","v":113},null,null,null,"Bachelors",867,906,927,891,1025,1096,1185,1349,1387,1449,1479,1560,1560,1491,1478,{"$f":"BZ137*(1+'Control Data'!$K$48)","v":1478},null,null,null,"Bachelors",748,727,684,599,704,673,679,743,733,729,733,686,635,574,588]
[null,"Research, Service and Sponsored Programs",null,null,null,{"$f":"AB138","v":105081863.73999994},{"$f":"AC138","v":141229902.21000004},{"$f":"AD138","v":132545115.68000001},{"$f":"AE138","v":151215597.03},{"$f":"AF138","v":149350434.41999999},{"$f":"AG138","v":196904913.67000002},{"$f":"AH138","v":181567902.84999999},171511653.19999999,194342554.73999998,207218245.46000001,216215875.47999999,216215875.47999999,0,null,16968844.860317394,null,null,null,"Research, Service and Sponsored Programs",null,null,null,105081863.73999994,141229902.21000004,132545115.68000001,151215597.03,149350434.41999999,196904913.67000002,181567902.84999999,171511653.19999999,194342554.73999998,207218245.46000001,216215875.47999999,{"$f":"AL138*(1+'Control Data'!$K$45)","v":216215875.47999999},null,null,null,"Degrees of Veterinary Medicine",62,0,0,0,61,68,64,97,79,80,91,80,81,87,84,{"$f":"BF138*(1+'Control Data'!$K43)","v":84},null,null,null,"Bach & Assoc",{"$f":"BL135+BL137+$V$11*BL136","v":867},{"$f":"BM135+BM137+$V$11*BM136","v":906},{"$f":"BN135+BN137+$V$11*BN136","v":927},{"$f":"BO135+BO137+$V$11*BO136","v":891},{"$f":"BP135+BP137+$V$11*BP136","v":1025},{"$f":"BQ135+BQ137+$V$11*BQ136","v":1096},{"$f":"BR135+BR137+$V$11*BR136","v":1185},{"$f":"BS135+BS137+$V$11*BS136","v":1349},{"$f":"BT135+BT137+$V$11*BT136","v":1387},{"$f":"BU135+BU137+$V$11*BU136","v":1449},1479,1586,1584,{"$f":"BY135+BY137+$V$11*BY136","v":1513.5},1498,1498,null,null,null,"Bach & Assoc",{"$f":"CF135+CF137+$V$11*CF136","v":748},{"$f":"CG135+CG137+$V$11*CG136","v":727},{"$f":"CH135+CH137+$V$11*CH136","v":684},{"$f":"CI135+CI137+$V$11*CI136","v":599},{"$f":"CJ135+CJ137+$V$11*CJ136","v":704},{"$f":"CK135+CK137+$V$11*CK136","v":673},{"$f":"CL135+CL137+$V$11*CL136","v":679},{"$f":"CM135+CM137+$V$11*CM136","v":743},{"$f":"CN135+CN137+$V$11*CN136","v":733},729,733,705.5,650,582.5,595,{"$f":"CU135+CU137+$V$11*CU136","v":0}]
[null,"Degrees per 100 FTE",{"$f":"Y139","v":20.37824154156721},{"$f":"Z139","v":19.486811982271238},{"$f":"AA139","v":18.004130238115266},18.156706808932057,20.047674446984548,20.47301910582544,22.096092157502493,23.607427055702917,22.972068980496068,{"$f":"AH139","v":22.538560941409365},22.545102885806983,22.608403061956626,22.846466234892638,22.875963148008537,23.345928393906405,23.345928393906405,null,1.9628605635914893,null,null,null,"Degrees per 100 FTE",20.37824154156721,19.486811982271238,18.004130238115266,18.156706808932057,20.047674446984548,20.47301910582544,22.096092157502493,23.607427055702917,{"$f":"(AZ132+AZ134+$V$11*AZ133)/DH12*100","v":22.972068980496068},{"$f":"(BA132+BA134+$V$11*BA133)/DI12*100","v":22.538560941409365},22.545102885806983,22.608403061956626,22.846466234892638,22.875963148008537,23.345928393906405,{"$f":"(BG132+BG134+$V$11*BG133)/DO12*100","v":23.345928393906405},null,null,"Doctoral",228,236,246,250,277,258,270,319,319,317,353,356,381,393,383,{"$f":"BF139*(1+'Control Data'!$K44)","v":383},null,null,"Two Focus Pops Only","Students Accumulating 30 hrs",47,279,251,64,27,31,30,24,14,30,34,25,16,58,12,{"$f":"BZ139*(1+'Control Data'!$K$49)","v":12},null,null,"Low-Income","Students Accumulating 30 hrs",1228,1937,2030,1490,1600,1430,1393,1321,1283,1294,1309,1300,1253,1316,1127]
[null,"Six-Year Graduation Rate",0.63978093104306699,0.66981896784652795,0.63750641354540794,0.64183617372182522,0.6610937942759989,0.66537761601455869,0.73886401131275037,0.7572884569803271,0.7723389517432464,0.79295573536411235,0.79502433747971879,0.79956479690522242,0.79702002931118709,0.82248232138502808,0.82659372026641298,0.82659372026641298,null,5.8805443802717905,null,null,null,"Six-Year Graduation Rate",0.63978093104306699,0.66981896784652795,0.63750641354540794,0.64183617372182522,0.6610937942759989,0.66537761601455869,0.73886401131275037,0.7572884569803271,0.7723389517432464,0.79295573536411235,0.79502433747971879,0.79956479690522242,0.79702002931118709,0.82248232138502808,0.82659372026641298,{"$f":"AM140*(1+'Control Data'!$K$47)","v":0.82659372026641298},null,null,null,null,null,null,null,null,null,null,null,null,null,null,null,null,null,null,null,null,null,null,"Students Accumulating 60 hrs",126,268,315,135,112,106,99,107,98,97,102,79,87,96,47,{"$f":"BZ140*(1+'Control Data'!$K$49)","v":47},null,null,null,"Students Accumulating 60 hrs",1050,1265,1516,1483,1584,1648,1477,1501,1506,1566,1491,1534,1456,1434,1239]
[null,null,null,null,null,null,null,null,null,null,null,null,null,null,null,null,null,null,null,null,null,null,null,null,null,null,null,null,null,null,null,null,null,null,null,null,null,null,null,null,null,null,null,null,null,null,null,null,null,null,null,null,null,null,null,null,null,null,null,null,null,null,"Students Accumulating 90 hrs",221,149,169,242,256,242,245,233,244,266,261,231,216,193,212,{"$f":"BZ141*(1+'Control Data'!$K$49)","v":212},null,null,null,"Students Accumulating 90 hrs",1002,815,918,1387,1466,1638,1700,1573,1642,1746,1745,1752,1747,1593,1573]
[null,null,null,null,null,null,null,null,null,null,null,null,null,null,null,null,null,null,null,null,null,null,null,null,null,null,null,null,null,null,null,null,null,null,null,null,null,null,null,null,null,null,null,null,null,null,null,null,null,null,null,null,null,null,null,null,null,null,null,null,null,null,"Associates",0,0,0,0,0,0,0,0,0,0,0,0,0,0,0,{"$f":"BZ142*(1+'Control Data'!$K$49)","v":0},null,null,null,"Associates",0,0,0,0,0,0,0,0,0,0,0,0,0,0,0]
[null,null,null,null,null,null,null,null,null,null,null,null,null,null,null,null,null,null,null,null,null,null,null,null,null,null,null,null,null,null,null,null,null,null,null,null,null,null,null,null,null,null,null,null,null,null,null,null,null,null,null,null,null,null,null,null,null," "," ",null,null,null,"Reverse Articulated Associates",0,0,0,0,0,0,0,0,0,0,0,35,22,14,12,{"$f":"BZ143*(1+'Control Data'!$K$49)","v":12},null,null,null,"Reverse Articulated Associates",0,0,0,0,0,0,0,0,0,0,0,83,62,56,50]
[null,null,null,null,null,null," ",null,null,null,null,null,null,null,null,null,null,null,null,null,null,null,null,null,null,null,null,null,null,null,null,null,null,null,null,null,null,null,null,null,null,null,null,null,null,null,null,null,null," ",null,null,null,null,null,null,null,null,null,null,null,null,"Bachelors",344,363,338,340,414,423,433,501,500,498,504,489,451,417,400,{"$f":"BZ144*(1+'Control Data'!$K$49)","v":400},null,null,null,"Bachelors",807,905,919,972,1149,1269,1372,1608,1654,1716,1754,1852,1827,1751,1690]
[null,null,null,null,null,null,null,null,null,null,null,null,null,null,null,null,null,null,null,null,null,null,null,null,null,null,null,null,null,null,null,null,null,null,null,null,null,null,null,null,null,null,null,null,null,null,null,null,null,null,null,null,null,null,null,null,null,null,null,null,null,null,"Bach & Assoc",{"$f":"BL142+BL144+$V$11*BL143","v":344},{"$f":"BM142+BM144+$V$11*BM143","v":363},{"$f":"BN142+BN144+$V$11*BN143","v":338},{"$f":"BO142+BO144+$V$11*BO143","v":340},{"$f":"BP142+BP144+$V$11*BP143","v":414},{"$f":"BQ142+BQ144+$V$11*BQ143","v":423},{"$f":"BR142+BR144+$V$11*BR143","v":433},{"$f":"BS142+BS144+$V$11*BS143","v":501},{"$f":"BT142+BT144+$V$11*BT143","v":500},{"$f":"BU142+BU144+$V$11*BU143","v":498},504,506.5,462,{"$f":"BY142+BY144+$V$11*BY143","v":424},406,406,null,null,null,"Bach & Assoc",{"$f":"CF142+CF144+$V$11*CF143","v":807},{"$f":"CG142+CG144+$V$11*CG143","v":905},{"$f":"CH142+CH144+$V$11*CH143","v":919},{"$f":"CI142+CI144+$V$11*CI143","v":972},{"$f":"CJ142+CJ144+$V$11*CJ143","v":1149},{"$f":"CK142+CK144+$V$11*CK143","v":1269},{"$f":"CL142+CL144+$V$11*CL143","v":1372},{"$f":"CM142+CM144+$V$11*CM143","v":1608},{"$f":"CN142+CN144+$V$11*CN143","v":1654},1716,{"$f":"CP142+CP144+$V$11*CP143","v":1754},1893.5,1858,1779,1715,{"$f":"CU142+CU144+$V$11*CU143","v":0}]
[null,null,null,null,null,null,null,null,null,null,null,null,null,null,null,null,null,null,null,null,"Mathematically Derived Scales","2010-15 Scale Comparison"]
[null,"TOTAL","2004-05","2005-06","2006-07","2007-08","2008-09","2009-10","2010-11","2011-12","2012-13","2013-14","2014-15","2015-16","2016-17","2017-18",{"$f":"Q131","v":"2018-19"},{"$f":"R131","v":"2019-20"},null,"Average",null,null,null,"TOTAL","2004-05","2005-06","2006-07","2007-08","2008-09","2009-10","2010-11","2011-12","2012-13","2013-14","2014-15","2015-16",{"$f":"AK131","v":"2016-17"},"2017-18","2018-19",{"$f":"AN131","v":"2019-20"},null,null,"TOTAL","2004-05","2005-06","2006-07","2007-08","2008-09","2009-10","2010-11","2011-12","2012-13","2013-14","2014-15","2015-16",{"$f":"BD131","v":"2016-17"},"2017-18","2018-19",{"$f":"BG131","v":"2019-20"},null,null,null,"TOTAL","2004-05","2005-06","2006-07","2007-08","2008-09","2009-10","2010-11","2011-12","2012-13","2013-14","2014-15","2015-16",{"$f":"BX131","v":"2016-17"},{"$f":"BY131","v":"2017-18"},"2018-19","2019-20",null,null,null,"TOTAL","2004-05","2005-06","2006-07","2007-08","2008-09","2009-10","2010-11","2011-12","2012-13","2013-14","2014-15","2015-16",{"$f":"CR131","v":"2016-17"},{"$f":"CS131","v":"2017-18"},"2018-19","2019-20"]
[null,"Students Accumulating 30 hrs",{"$f":"SUM(C4,C20,C36,C52,C68,C84,C100,C116,C132)","v":26721.599999999999},28238.400000000001,29320.6,28180.799999999996,29139.4,29449.599999999999,26481.200000000001,25602.799999999996,24819.799999999996,24779.4,25257.599999999999,24594.6,{"$f":"SUM(O4,O20,O36,O52,O68,O84,O100,O116,O132)","v":23814.2},25020.800000000003,24224,24224,null,{"$f":"AVERAGE(T4,T20,T36,T52,T68,T84,T100,T116,T132)","v":393.44524009673364},{"$f":"T148/$T$151","v":0.9899980796087956},1,null,"Students Accumulating 30 hrs",{"$f":"Y4+Y20+Y36+Y52+Y68+Y84+Y100+Y116+Y132","v":18664},19964,20678,19682,20277,20251,18340,17754,{"$f":"AG4+AG20+AG36+AG52+AG68+AG84+AG100+AG116+AG132","v":17543},17472,18166,17781,17352,{"$f":"AL4+AL20+AL36+AL52+AL68+AL84+AL100+AL116+AL132","v":18377},18102,{"$f":"AN4+AN20+AN36+AN52+AN68+AN84+AN100+AN116+AN132","v":18102},null,null,"Associate",{"$f":"AR4+AR20+AR36+AR52+AR68+AR84+AR100+AR116+AR132","v":266},230,245,258,270,248,340,380,440,360,414,{"$f":"BC4+BC20+BC36+BC52+BC68+BC84+BC100+BC116+BC132","v":417},430,447,{"$f":"BF4+BF20+BF36+BF52+BF68+BF84+BF100+BF116+BF132","v":447},447,null,null,"One Focus Pop Only","Students Accumulating 30 hrs",{"$f":"SUM(BL4,BL20,BL36,BL52,BL68,BL84,BL100,BL116,BL132)","v":8707},8818,9257,9351,9823,10042,8889,8526,8136,8308,8122,{"$f":"SUM(BW4,BW20,BW36,BW52,BW68,BW84,BW100,BW116,BW132)","v":7832},{"$f":"SUM(BX4,BX20,BX36,BX52,BX68,BX84,BX100,BX116,BX132)","v":7449},7691,{"$f":"SUM(BZ4,BZ20,BZ36,BZ52,BZ68,BZ84,BZ100,BZ116,BZ132)","v":7170},7170,null,null,"Adults","Students Accumulating 30 hrs",{"$f":"SUM(CF4,CF20,CF36,CF52,CF68,CF84,CF100,CF116,CF132)","v":1545},1787,1800,1415,1394,1523,1299,1233,1055,947,898,{"$f":"SUM(CQ4,CQ20,CQ36,CQ52,CQ68,CQ84,CQ100,CQ116,CQ132)","v":825},754,735,565,0]
[null,"Students Accumulating 60 hrs",{"$f":"SUM(C5,C21,C37,C53,C69,C85,C101,C117,C133)","v":23385.799999999996},23963.800000000003,26045.8,25770.199999999997,26924.2,28494.2,26288.400000000001,26590.6,26316.800000000003,26299.200000000001,26436.400000000001,26711.200000000001,{"$f":"SUM(O5,O21,O37,O53,O69,O85,O101,O117,O133)","v":26257.199999999997},25884.200000000004,25239.599999999999,25239.599999999999,null,264.29064653004485,0.66501562570430894,1,null,"Students Accumulating 60 hrs",16545,16984,18379,18110,18755,19642,18049,18162,18114,18130,18388,{"$f":"AJ5+AJ21+AJ37+AJ53+AJ69+AJ85+AJ101+AJ117+AJ133","v":18759},{"$f":"AK5+AK21+AK37+AK53+AK69+AK85+AK101+AK117+AK133","v":18603},{"$f":"AL5+AL21+AL37+AL53+AL69+AL85+AL101+AL117+AL133","v":18640},{"$f":"AM5+AM21+AM37+AM53+AM69+AM85+AM101+AM117+AM133","v":18501},{"$f":"AN5+AN21+AN37+AN53+AN69+AN85+AN101+AN117+AN133","v":18501},null,null,"Reverse Articulated Associates",{"$f":"AR5+AR21+AR37+AR53+AR69+AR85+AR101+AR117+AR133","v":0},0,0,0,0,0,0,0,0,0,0,{"$f":"BC5+BC21+BC37+BC53+BC69+BC85+BC101+BC117+BC133","v":772},695,865,{"$f":"BF5+BF21+BF37+BF53+BF69+BF85+BF101+BF117+BF133","v":711},711,null,null,null,"Students Accumulating 60 hrs",{"$f":"SUM(BL5,BL21,BL37,BL53,BL69,BL85,BL101,BL117,BL133)","v":6761},6781,7396,7659,8309,8849,8253,8362,8301,8464,8398,8534,{"$f":"SUM(BX5,BX21,BX37,BX53,BX69,BX85,BX101,BX117,BX133)","v":8114},7739,{"$f":"SUM(BZ5,BZ21,BZ37,BZ53,BZ69,BZ85,BZ101,BZ117,BZ133)","v":7332},7332,null," ",null,"Students Accumulating 60 hrs",{"$f":"SUM(CF5,CF21,CF37,CF53,CF69,CF85,CF101,CF117,CF133)","v":2122},2328,2558,2146,2107,2383,2114,2170,1985,1780,1773,{"$f":"SUM(CQ5,CQ21,CQ37,CQ53,CQ69,CQ85,CQ101,CQ117,CQ133)","v":1567},1606,1446,1261,0]
[null,"Students Accumulating 90 hrs",{"$f":"SUM(C6,C22,C38,C54,C70,C86,C102,C118,C134)","v":23340},23071,24663.200000000001,26598,27513.800000000003,29535.199999999997,28600.800000000003,29671.800000000003,29699,30087.599999999999,30026.199999999997,30493.799999999996,{"$f":"SUM(O6,O22,O38,O54,O70,O86,O102,O118,O134)","v":30919.200000000001},30281.000000000004,30085.200000000001,30085.200000000001,null,353.97136901907891,0.89067280488442657,1,null,"Students Accumulating 90 hrs",16513,16233,17187,18492,18937,20013,19291,19840,19826,20013,20184,20550,21113,{"$f":"AL6+AL22+AL38+AL54+AL70+AL86+AL102+AL118+AL134","v":20972},21110,{"$f":"AN6+AN22+AN38+AN54+AN70+AN86+AN102+AN118+AN134","v":21110},null,null,"Bachelors",{"$f":"AR6+AR22+AR38+AR54+AR70+AR86+AR102+AR118+AR134","v":16369},16505,16748,17175,18275,18133,19076,19917,20833,20839,20845,{"$f":"BC6+BC22+BC38+BC54+BC70+BC86+BC102+BC118+BC134","v":21556},22183,22349,{"$f":"BF6+BF22+BF38+BF54+BF70+BF86+BF102+BF118+BF134","v":22203},22203,null,null,null,"Students Accumulating 90 hrs",{"$f":"SUM(BL6,BL22,BL38,BL54,BL70,BL86,BL102,BL118,BL134)","v":5935},5885,6439,7025,7411,8224,8041,8556,8555,8927,8874,9136,{"$f":"SUM(BX6,BX22,BX38,BX54,BX70,BX86,BX102,BX118,BX134)","v":9229},8885,{"$f":"SUM(BZ6,BZ22,BZ38,BZ54,BZ70,BZ86,BZ102,BZ118,BZ134)","v":8574},8574,null,null,null,"Students Accumulating 90 hrs",{"$f":"SUM(CF6,CF22,CF38,CF54,CF70,CF86,CF102,CF118,CF134)","v":3324},3325,3492,3593,3703,3927,3812,3908,3888,3668,3521,{"$f":"SUM(CQ6,CQ22,CQ38,CQ54,CQ70,CQ86,CQ102,CQ118,CQ134)","v":3388},3205,3034,2851,0]
[null,"Bachelors and Associates",{"$f":"SUM(C7,C23,C39,C55,C71,C87,C103,C119,C135)","v":23878.800000000003},24368.999999999996,24953.599999999999,25757.399999999998,27516,27438.6,29280.400000000001,31103.399999999998,32968.800000000003,32886.199999999997,32994.799999999996,34717.9,{"$f":"SUM(O7,O23,O39,O55,O71,O87,O103,O119,O135)","v":35357.899999999994},35242.9,34543.700000000004,34543.700000000004,null,397.42020535252573,1,1,null,"Bachelors and Associates",16635,16735,16993,17433,18545,18381,19416,20297,21273,21199,21259,22359,22960.5,{"$f":"AL7+AL23+AL39+AL55+AL71+AL87+AL103+AL119+AL135","v":23228.5},23005.5,{"$f":"AN7+AN23+AN39+AN55+AN71+AN87+AN103+AN119+AN135","v":23005.5},null,null,"Masters",{"$f":"AR7+AR23+AR39+AR55+AR71+AR87+AR103+AR119+AR135","v":5073},5071,4911,5083,5418,5341,5673,5673,5635,5681,5370,{"$f":"BC7+BC23+BC39+BC55+BC71+BC87+BC103+BC119+BC135","v":5317},5613,5327,{"$f":"BF7+BF23+BF39+BF55+BF71+BF87+BF103+BF119+BF135","v":5449},5449,null,null,null,"Associates",{"$f":"SUM(BL7,BL23,BL39,BL55,BL71,BL87,BL103,BL119,BL135)","v":142},137,126,123,131,119,163,176,194,164,169,185,{"$f":"SUM(BX7,BX23,BX39,BX55,BX71,BX87,BX103,BX119,BX135)","v":184},203,{"$f":"SUM(BZ7,BZ23,BZ39,BZ55,BZ71,BZ87,BZ103,BZ119,BZ135)","v":197},197,null,null,null,"Associates",{"$f":"SUM(CF7,CF23,CF39,CF55,CF71,CF87,CF103,CF119,CF135)","v":208},197,190,207,216,192,271,294,337,255,286,{"$f":"SUM(CQ7,CQ23,CQ39,CQ55,CQ71,CQ87,CQ103,CQ119,CQ135)","v":248},247,212,169,0]
[null,"Masters/Ed Specialist Degrees",{"$f":"SUM(C8,C24,C40,C56,C72,C88,C104,C120,C136)","v":5437},5585,5341,5496,5874,5735,5990,5952,5922,5849,5530,5416,{"$f":"SUM(O8,O24,O40,O56,O72,O88,O104,O120,O136)","v":5726},5498,5609,5609,null,72.160817497668958,0.18157309700361049,0.3,null,"Masters/Ed Specialist Degrees",5437,5585,5341,5496,5874,5735,5990,5952,5922,5849,5530,5416,5726,{"$f":"AL8+AL24+AL40+AL56+AL72+AL88+AL104+AL120+AL136","v":5498},5609,{"$f":"AN8+AN24+AN40+AN56+AN72+AN88+AN104+AN120+AN136","v":5609},null,null,"Education Specialist",{"$f":"AR8+AR24+AR40+AR56+AR72+AR88+AR104+AR120+AR136","v":364},514,430,413,456,394,317,279,287,168,160,{"$f":"BC8+BC24+BC40+BC56+BC72+BC88+BC104+BC120+BC136","v":99},113,171,{"$f":"BF8+BF24+BF40+BF56+BF72+BF88+BF104+BF120+BF136","v":160},160,null,null,null,"Reverse Articulated Associates",{"$f":"SUM(BL8,BL24,BL40,BL56,BL72,BL88,BL104,BL120,BL136)","v":0},0,0,0,0,0,0,0,0,0,0,347,{"$f":"SUM(BX8,BX24,BX40,BX56,BX72,BX88,BX104,BX120,BX136)","v":326},406,{"$f":"SUM(BZ8,BZ24,BZ40,BZ56,BZ72,BZ88,BZ104,BZ120,BZ136)","v":321},321,null,null,null,"Reverse Articulated Associates",{"$f":"SUM(CF8,CF24,CF40,CF56,CF72,CF88,CF104,CF120,CF136)","v":0},0,0,0,0,0,0,0,0,0,0,{"$f":"SUM(CQ8,CQ24,CQ40,CQ56,CQ72,CQ88,CQ104,CQ120,CQ136)","v":287},269,265,187,0]
[null,"Doctoral / Law Degrees",{"$f":"SUM(C9,C25,C41,C57,C73,C89,C105,C121,C137)","v":827},817,848,891,956,971,984,1089,1079,1133,1108,1146,{"$f":"SUM(O9,O25,O41,O57,O73,O89,O105,O121,O137)","v":1220},1242,1158,1158,null,19.091084011510823,4.8037527419061039E-2,0.05,null,"Doctoral / Law Degrees",827,817,848,891,956,971,984,1089,1079,1133,1108,1146,{"$f":"AK9+AK25+AK41+AK57+AK73+AK89+AK105+AK121+AK137","v":1220},{"$f":"AL9+AL25+AL41+AL57+AL73+AL89+AL105+AL121+AL137","v":1242},{"$f":"AM9+AM25+AM41+AM57+AM73+AM89+AM105+AM121+AM137","v":1158},1158,null,null,"Law Degrees",{"$f":"AR9+AR25+AR41+AR57+AR73+AR89+AR105+AR121+AR137","v":296},337,324,338,260,293,275,290,291,282,237,{"$f":"BC9+BC25+BC41+BC57+BC73+BC89+BC105+BC121+BC137","v":257},201,220,{"$f":"BF9+BF25+BF41+BF57+BF73+BF89+BF105+BF121+BF137","v":199},199,null,null,null,"Bachelors",{"$f":"SUM(BL9,BL25,BL41,BL57,BL73,BL89,BL105,BL121,BL137)","v":5389},5493,5836,6050,6404,6328,6775,7312,7892,8090,8117,8562,{"$f":"SUM(BX9,BX25,BX41,BX57,BX73,BX89,BX105,BX121,BX137)","v":8856},8732,{"$f":"SUM(BZ9,BZ25,BZ41,BZ57,BZ73,BZ89,BZ105,BZ121,BZ137)","v":8624},8624,null,null,null,"Bachelors",{"$f":"SUM(CF9,CF25,CF41,CF57,CF73,CF89,CF105,CF121,CF137)","v":5854},6007,5964,5966,6328,6179,6380,6806,7291,6966,6894,{"$f":"SUM(CQ9,CQ25,CQ41,CQ57,CQ73,CQ89,CQ105,CQ121,CQ137)","v":6924},6720,6381,6066,0]
[null,"Research, Service and Sponsored Programs",{"$f":"SUM(C10,C26,C42,C58,C74,C90,C106,C122,C138)","v":0},0,0,264730538.24999994,305221809.19000006,311336152.52999997,327621915.53999996,317425732.54999995,330336571.86807692,321788337.86080766,305162456.89738458,333960933.9511795,{"$f":"SUM(O10,O26,O42,O58,O74,O90,O106,O122,O138)","v":344669247.33626926},374836073.86880124,374836073.86880124,0,null,4220578.6231814753,{"$f":"T154/$T$151","v":10619.939717050051},20000,null,"Research, Service and Sponsored Programs",0,0,0,264730538.24999994,305221809.19000006,311336152.52999997,327621915.53999996,317425732.54999995,330336571.86807692,321788337.86080766,305162456.89738458,333960933.9511795,344669247.33626926,{"$f":"AL10+AL26+AL42+AL58+AL74+AL90+AL106+AL122+AL138","v":374836073.86880124},374836073.86880124,null,null,null,"Degrees of Veterinary Medicine",{"$f":"AR10+AR26+AR42+AR58+AR74+AR90+AR106+AR122+AR138","v":62},0,0,0,61,68,64,97,79,80,91,{"$f":"BC10+BC26+BC42+BC58+BC74+BC90+BC106+BC122+BC138","v":80},81,87,{"$f":"BF10+BF26+BF42+BF58+BF74+BF90+BF106+BF122+BF138","v":84},84,null,null,null,"Bach & Assoc",{"$f":"SUM(BL10,BL26,BL42,BL58,BL74,BL90,BL106,BL122,BL138)","v":5531},5630,5962,6173,6535,6447,6938,7488,8086,8254,8286,8920.5,{"$f":"SUM(BX10,BX26,BX42,BX58,BX74,BX90,BX106,BX122,BX138)","v":9203},9138,{"$f":"SUM(BZ10,BZ26,BZ42,BZ58,BZ74,BZ90,BZ106,BZ122,BZ138)","v":8981.5},8981.5,null,null,null,"Bach & Assoc",{"$f":"SUM(CF10,CF26,CF42,CF58,CF74,CF90,CF106,CF122,CF138)","v":6062},6204,6154,6173,6544,6371,6651,7100,7628,7221,7180,{"$f":"SUM(CQ10,CQ26,CQ42,CQ58,CQ74,CQ90,CQ106,CQ122,CQ138)","v":7315.5},7101.5,6725.5,6328.5,0]
[null,"Degrees per 100 FTE",{"$f":"AVERAGE(C11,C27,C43,C59,C75,C91,C107,C123,C139)","v":17.844621891941514},17.813527930527929,17.877946865606649,18.20000905243862,18.77005117924935,17.914148056933549,18.195333052802319,18.826784321717,20.261217463131718,20.42030867685078,20.696082703901538,22.085491972081424,{"$f":"AVERAGE(O11,O27,O43,O59,O75,O91,O107,O123,O139)","v":22.964452485494213},23.379858718251935,23.364998037230077,23.364998037230077,null,1.3243142642778798,3.3322771375027759E-3,0.02,null,"Degrees per 100 FTE",{"$f":"(AR148+AR150)/CZ13*100","v":18.314359624956559},18.198841136365434,18.161362848561264,18.30798754612966,19.141585804777499,18.312760549937416,18.716257766389045,19.365192139686606,{"$f":"(AZ148+AZ150+$V$11*AZ149)/DH13*100","v":20.734686079991263},{"$f":"(BA148+BA150+$V$11*BA149)/DI13*100","v":21.015034388959052},21.225131764747388,{"$f":"(BC148+BC150+$V$11*BC149)/DK13*100","v":22.482323035959915},{"$f":"(BD148+BD150+$V$11*BD149)/DL13*100","v":23.186709538255219},{"$f":"(BE148+BE150+$V$11*BE149)/DM13*100","v":23.569718819347695},{"$f":"(BF148+BF150+$V$11*BF149)/DN13*100","v":23.565329756356888},{"$f":"(BG148+BG150+$V$11*BG149)/DO13*100","v":23.565329756356888},null,null,"Doctoral",{"$f":"AR11+AR27+AR43+AR59+AR75+AR91+AR107+AR123+AR139","v":469},480,524,553,635,610,645,702,709,771,780,{"$f":"BC11+BC27+BC43+BC59+BC75+BC91+BC107+BC123+BC139","v":809},938,935,{"$f":"BF11+BF27+BF43+BF59+BF75+BF91+BF107+BF123+BF139","v":875},875,null,null,"Two Focus Pops Only","Students Accumulating 30 hrs",{"$f":"SUM(BL11,BL27,BL43,BL59,BL75,BL91,BL107,BL123,BL139)","v":1092},1220,1237,1018,1004,1165,1030,1028,768,661,594,548,{"$f":"SUM(BX11,BX27,BX43,BX59,BX75,BX91,BX107,BX123,BX139)","v":503},491,{"$f":"SUM(BZ11,BZ27,BZ43,BZ59,BZ75,BZ91,BZ107,BZ123,BZ139)","v":386},386,null,null,"Low-Income","Students Accumulating 30 hrs",{"$f":"SUM(CF11,CF27,CF43,CF59,CF75,CF91,CF107,CF123,CF139)","v":9346},9471,9931,9972,10437,10849,9650,9349,8617,8683,8412,{"$f":"SUM(CQ11,CQ27,CQ43,CQ59,CQ75,CQ91,CQ107,CQ123,CQ139)","v":8103},7701,7938,7377,0]
[null,"Six-Year Graduation Rate",{"$f":"AVERAGE(C12,C28,C44,C60,C76,C92,C108,C124,C140)","v":0.46900784848925298},0.47942626695227059,0.46225313658109002,0.47831026011262279,0.50293280490293668,0.48723028704655946,0.53915614473906981,0.54611170667860642,0.54713244080636392,0.55226223894602688,0.5460025532999766,0.54053600166010574,{"$f":"AVERAGE(O12,O28,O44,O60,O76,O92,O108,O124,O140)","v":0.53879769334540228},0.56765678029098399,0.58381567563529024,0.58381567563529024,null,4.0663254999241651,1.023180363040976E-2,0.04,null,"Six-Year Graduation Rate",{"$f":"AVERAGE(Y140,Y124,Y108,Y92,Y76,Y60,Y44,Y28,Y12)","v":0.46900784848925298},0.47942626695227059,0.46225313658109002,0.47831026011262268,0.50293280490293668,0.48723028704655946,0.5391561447390697,0.54611170667860631,{"$f":"AVERAGE(AG140,AG124,AG108,AG92,AG76,AG60,AG44,AG28,AG12)","v":0.54713244080636392},0.55226223894602677,0.5460025532999766,0.54053600166010574,{"$f":"AVERAGE(AK140,AK124,AK108,AK92,AK76,AK60,AK44,AK28,AK12)","v":0.53879769334540228},{"$f":"AVERAGE(AL140,AL124,AL108,AL92,AL76,AL60,AL44,AL28,AL12)","v":0.5676567802909841},0.58381567563529035,{"$f":"AVERAGE(AN140,AN124,AN108,AN92,AN76,AN60,AN44,AN28,AN12)","v":0.58381567563529035},null,null,null,null,null,null,null,null,null,null,null,null,null,null,null,null,null,null,null,null,null,null,"Students Accumulating 60 hrs",{"$f":"SUM(BL12,BL28,BL44,BL60,BL76,BL92,BL108,BL124,BL140)","v":1432},1555,1750,1533,1522,1773,1637,1739,1562,1398,1330,1125,{"$f":"SUM(BX12,BX28,BX44,BX60,BX76,BX92,BX108,BX124,BX140)","v":1163},1053,{"$f":"SUM(BZ12,BZ28,BZ44,BZ60,BZ76,BZ92,BZ108,BZ124,BZ140)","v":873},873,null,null,null,"Students Accumulating 60 hrs",{"$f":"SUM(CF12,CF28,CF44,CF60,CF76,CF92,CF108,CF124,CF140)","v":7503},7563,8338,8579,9246,10012,9413,9670,9440,9480,9285,{"$f":"SUM(CQ12,CQ28,CQ44,CQ60,CQ76,CQ92,CQ108,CQ124,CQ140)","v":9217},8834,8399,7817,0]
[null,null,null,null,null,null,null,null,null,null,null,null,null,null,null,null,null,null,null,null,null,null,null,"Overall Grad Rate",null,null,null,null,null,null,null,null,null,null,null,0.56971366722424477,0.57100386483004661,0.60415716096324457,0.61830837798587812,null,null,null,null,null,null,null,null,null,null,null,null,null,null,null,null,null,null,null,null,null,null,null,"Students Accumulating 90 hrs",{"$f":"SUM(BL13,BL29,BL45,BL61,BL77,BL93,BL109,BL125,BL141)","v":2079},2130,2325,2486,2648,2943,2877,2987,3029,2933,2743,2635,{"$f":"SUM(BX13,BX29,BX45,BX61,BX77,BX93,BX109,BX125,BX141)","v":2423},2201,{"$f":"SUM(BZ13,BZ29,BZ45,BZ61,BZ77,BZ93,BZ109,BZ125,BZ141)","v":2116},2116,null,null,null,"Students Accumulating 90 hrs",{"$f":"SUM(CF13,CF29,CF45,CF61,CF77,CF93,CF109,CF125,CF141)","v":6769},6820,7597,8404,9004,10183,9983,10622,10725,11125,10839,{"$f":"SUM(CQ13,CQ29,CQ45,CQ61,CQ77,CQ93,CQ109,CQ125,CQ141)","v":11018},10870,10253,9955,0]
[null,null,null,null,null,null,null,null,null,null,null,null,null,null,null,null,null,null,null,null,null,null,null,null,null,null,null,null,null,null,null,null,null,null,null," ",null,null,null,null,null,null,null,null,null,null,null,null,null,null,null,null,null,null,null,null,null,null,null,null,null,null,"Associates",{"$f":"SUM(BL14,BL30,BL46,BL62,BL78,BL94,BL110,BL126,BL142)","v":93},81,98,115,107,105,152,176,208,168,204,186,{"$f":"SUM(BX14,BX30,BX46,BX62,BX78,BX94,BX110,BX126,BX142)","v":171},146,{"$f":"SUM(BZ14,BZ30,BZ46,BZ62,BZ78,BZ94,BZ110,BZ126,BZ142)","v":113},113,null,null,null,"Associates",{"$f":"SUM(CF14,CF30,CF46,CF62,CF78,CF94,CF110,CF126,CF142)","v":120},102,132,146,129,137,196,234,273,245,291,{"$f":"SUM(CQ14,CQ30,CQ46,CQ62,CQ78,CQ94,CQ110,CQ126,CQ142)","v":309},279,283,254,0]
[null,null,null,null,null,null,null,null,null,null,null,null,null,null,null,null,null,null,null,null,null,null,null,null,null," ",null,null,null,null,null,null,null,null,null,null,null,null,null,null,null,null,null,null,null,null,null,null,null,null,null,null,null,null,null,null,null,null,null,null,null,null,"Reverse Articulated Associates",{"$f":"SUM(BL15,BL31,BL47,BL63,BL79,BL95,BL111,BL127,BL143)","v":0},0,0,0,0,0,0,0,0,0,0,255,{"$f":"SUM(BX15,BX31,BX47,BX63,BX79,BX95,BX111,BX127,BX143)","v":234},232,{"$f":"SUM(BZ15,BZ31,BZ47,BZ63,BZ79,BZ95,BZ111,BZ127,BZ143)","v":172},172,null,null,null,"Reverse Articulated Associates",{"$f":"SUM(CF15,CF31,CF47,CF63,CF79,CF95,CF111,CF127,CF143)","v":0},0,0,0,0,0,0,0,0,0,0,{"$f":"SUM(CQ15,CQ31,CQ47,CQ63,CQ79,CQ95,CQ111,CQ127,CQ143)","v":570},525,605,478,0]
[null,null,null,null,null,null,null,null,null,null,null,null,null,null,null,null,null,null,null,null,null,null,null,null,null,null,null," ",null,null,null,null," ",null,null,null,null,null,null,null,null,null,null,null,null,null,null,null,null,null,null,null,null,null,null,null,null,null,null,null,null,null,"Bachelors",{"$f":"SUM(BL16,BL32,BL48,BL64,BL80,BL96,BL112,BL128,BL144)","v":2726},3049,3093,3271,3636,3795,4162,4640,5019,4916,4903,4909,{"$f":"SUM(BX16,BX32,BX48,BX64,BX80,BX96,BX112,BX128,BX144)","v":4747},4442,{"$f":"SUM(BZ16,BZ32,BZ48,BZ64,BZ80,BZ96,BZ112,BZ128,BZ144)","v":4154},4154,null,null,null,"Bachelors",{"$f":"SUM(CF16,CF32,CF48,CF64,CF80,CF96,CF112,CF128,CF144)","v":4987},5584,6058,6626,7348,7739,8719,9786,10639,10956,11029,{"$f":"SUM(CQ16,CQ32,CQ48,CQ64,CQ80,CQ96,CQ112,CQ128,CQ144)","v":11456},11630,11235,10866,0]
[null,null,null,null,null,null,null,null,null,null,null,null,null,null,null,null,null,null,null,null,null,null,null,null,null,null,null,null,null,null,null,null," ",null,null,null,null,null,null,null,null,null,null,null,null,null,null,null,null,null,null,null,null,null,null,null,null,null,null,null,null,null,"Bach & Assoc",{"$f":"SUM(BL17,BL33,BL49,BL65,BL81,BL97,BL113,BL129,BL145)","v":2819},3130,3191,3386,3743,3900,4314,4816,5227,5084,5107,5222.5,{"$f":"SUM(BX17,BX33,BX49,BX65,BX81,BX97,BX113,BX129,BX145)","v":5035},4704,{"$f":"SUM(BZ17,BZ33,BZ49,BZ65,BZ81,BZ97,BZ113,BZ129,BZ145)","v":4353},4353,null,null,null,"Bach & Assoc",{"$f":"SUM(CF17,CF33,CF49,CF65,CF81,CF97,CF113,CF129,CF145)","v":5107},5686,6190,6772,7477,7876,8915,10020,10912,11201,11320,{"$f":"SUM(CQ17,CQ33,CQ49,CQ65,CQ81,CQ97,CQ113,CQ129,CQ145)","v":12050},12171.5,11820.5,11359,0]
[]
[]
[]
[]
[]
[]
[null,null,null,null,null,null,null,null,null,null,null,null,null,null,null,null,null,null,null,null,null,null,null,"FOR REFERENCE"]
[null,null,null,null,null,null,null,null,null,null,null,null,null,null,null,null,null,null,null,null,null,null,null,"Percent that Meet No Focus Criteria"]
[null,null,null,null,null,null,null,null,null,null,null,null,null,null,null,null,null,null,null,null,null,null,null,null,"2004-05","2005-06","2006-07","2007-08","2008-09","2009-10","2010-11","2011-12","2012-13","2013-14","2014-15","2015-16",null,{"$f":"AL3","v":"2017-18"},{"$f":"AM3","v":"2018-19"}]
[null,null,null,null,null,null,null,null,null,null,null,null,null,null,null,null,null,null,null,null,null,null,null,"Students Accumulating 30 hrs",{"$f":"(Y148-BL148-BL155)/Y148","v":0.47497856836690955},0.49719495091164095,0.49250411064899896,0.4731734579819124,0.46604527296937415,0.44659522986519185,0.45916030534351143,0.46186774811310127,0.49244712990936557,0.48666437728937728,0.52020257624132993,0.52871042123615097,null,{"$f":"(AL148-BY148-BY155)/AL148","v":0.55476954889263752},0.58258755938570328]
[null,null,null,null,null,null,null,null,null,null,null,null,null,null,null,null,null,null,null,null,null,null,null,"Students Accumulating 60 hrs",0.50480507706255662,0.50918511540273204,0.50236683171010388,0.4924351187189398,0.47581978139162889,0.45922003869259748,0.45204720483129257,0.44383878427485962,0.45550403003201945,0.45603971318257031,0.4709593212964977,0.48510048510048509,null,0.52832618025751077,0.55651045889411388]
[null,null,null,null,null,null,null,null,null,null,null,null,null,null,null,null,null,null,null,null,null,null,null,"Students Accumulating 90 hrs",0.51468539938230484,0.50625269512721005,0.49007971140978646,0.48566947869348909,0.46881765855204099,0.44201269175036229,0.43403659737701517,0.41819556451612905,0.41571673559971756,0.40738519962024683,0.42444510503369004,0.42720194647201948,null,0.4713904253290101,0.49360492657508293]
[null,null,null,null,null,null,null,null,null,null,null,null,null,null,null,null,null,null,null,null,null,null,null,"Associates",{"$f":"(AR148-BL151-BL158)/AR148","v":0.11654135338345864},5.2173913043478258E-2,8.5714285714285715E-2,7.7519379844961239E-2,0.11851851851851852,9.6774193548387094E-2,7.3529411764705885E-2,7.3684210526315783E-2,8.6363636363636365E-2,7.7777777777777779E-2,9.9033816425120769E-2,0.11031175059952038,null,{"$f":"(BE148-BY151-BY158)/BE148","v":0.21923937360178972},{"$f":"(BF148-BZ151-BZ158)/BF148","v":0.30648769574944074}]
[null,null,null,null,null,null,null,null,null,null,null,null,null,null,null,null,null,null,null,null,null,null,null,"Bachelors",{"$f":"(AR150-BL153-BL160)/AR150","v":0.50424583053332517},0.48245986064828839,0.4668617148316217,0.45729257641921395,0.45061559507523941,0.4417360613246567,0.42666177395680438,0.39990962494351556,0.38026208419334712,0.37588176016123614,0.37538978172223553,0.37506958619409908,null,{"$f":"(BE150-BY153-BY160)/BE150","v":0.41053290974987694},{"$f":"(BF150-BZ153-BZ160)/BF150","v":0.42449218574066566}]
[null,null,null,null,null,null,null,null,null,null,null,null,null,null,null,null,null,null,null,null,null,null,null,"Bach & Assoc",{"$f":"(Y151-BL154-BL161)/Y151","v":0.49804628794709949},0.47654616074096207,0.46136644500676749,0.45167211610164631,0.44578053383661365,0.43708176921821446,0.42047795632468066,0.39380203971030203,0.37418323696704742,0.37081937827256001,0.37000799661319911,0.36745829419920389,null,{"$f":"(AL151-BY154-BY161)/AL151","v":0.40409410853046901},{"$f":"(AM151-BZ154-BZ161)/AM151","v":0.4203777357588403}]
[]
[null,null,null,null,null,null,null,null,null,null,null,null,null,null,null,null,null,null,null,null,null,null,null,"Percent that Meet Just One Focus Criterion"]
[null,null,null,null,null,null,null,null,null,null,null,null,null,null,null,null,null,null,null,null,null,null,null,null,"2004-05","2005-06","2006-07","2007-08","2008-09","2009-10","2010-11","2011-12","2012-13","2013-14","2014-15","2015-16",null,{"$f":"$AL$3","v":"2017-18"},{"$f":"AM170","v":"2018-19"}]
[null,null,null,null,null,null,null,null,null,null,null,null,null,null,null,null,null,null,null,null,null,null,null,"Students Accumulating 30 hrs",{"$f":"BL148/Y148","v":0.46651307329618519},0.44169505109196555,0.44767385627236678,0.47510415608169904,0.48444049908763626,0.49587674682731719,0.48467829880043622,0.48022980736735382,0.46377472496152311,0.47550366300366298,0.44709897610921501,0.44047016478263312,null,{"$f":"BY148/AL148","v":0.41851227077324915},0.39608882996353995]
[null,null,null,null,null,null,null,null,null,null,null,null,null,null,null,null,null,null,null,null,null,null,null,"Students Accumulating 60 hrs",0.40864309459051074,0.39925812529439475,0.40241580064203708,0.42291551628934293,0.44302852572647294,0.45051420425618571,0.45725524959831571,0.46041184891531772,0.45826432593574029,0.46685052399338112,0.45671089841200785,0.45492830108214721,null,0.4151824034334764,0.39630290254580836]
[null,null,null,null,null,null,null,null,null,null,null,null,null,null,null,null,null,null,null,null,null,null,null,"Students Accumulating 90 hrs",0.35941379519166716,0.36253311156286577,0.37464362599639262,0.37989400821977071,0.39135026667370754,0.41093289361914753,0.41682649940386707,0.43125000000000002,0.43150408554423486,0.44606006096037576,0.43965517241379309,0.44457420924574209,null,0.42366011825290861,0.40615821885362385]
[null,null,null,null,null,null,null,null,null,null,null,null,null,null,null,null,null,null,null,null,null,null,null,"Associates",{"$f":"BL151/AR148","v":0.53383458646616544},0.59565217391304348,0.51428571428571423,0.47674418604651164,0.48518518518518516,0.47983870967741937,0.47941176470588237,0.4631578947368421,0.44090909090909092,0.45555555555555555,0.40821256038647341,0.44364508393285373,null,{"$f":"BY151/BE148","v":0.45413870246085009},{"$f":"BZ151/BF148","v":0.4407158836689038}]
[null,null,null,null,null,null,null,null,null,null,null,null,null,null,null,null,null,null,null,null,null,null,null,"Bachelors",{"$f":"BL153/AR150","v":0.32921986682143073},0.33280823992729475,0.34845951755433485,0.3522561863173217,0.35042407660738711,0.34897700325373626,0.35515831411197318,0.36712356278556008,0.37882206115297845,0.38821440568165461,0.38939793715519311,0.39719799591760996,null,{"$f":"BY153/BE150","v":0.39071099378048235},{"$f":"BZ153/BF150","v":0.3884159798225465}]
[null,null,null,null,null,null,null,null,null,null,null,null,null,null,null,null,null,null,null,null,null,null,null,"Bach & Assoc",{"$f":"BL154/Y151","v":0.33249173429516082},0.33642067523155067,0.35085035014417704,0.3540985487294212,0.35238608789431114,0.35074261465643869,0.35733415739596208,0.36892151549490071,0.38010623795421428,0.38935798858436721,0.38976433510513192,0.39896685898295986,null,{"$f":"BY154/AL151","v":0.39339604365327074},{"$f":"BZ154/AM151","v":0.39040664188998281}]
[]
[null,null,null,null,null,null,null,null,null,null,null,null,null,null,null,null,null,null,null,null,null,null,null,"Percent that Meet Just Two Focus Criteria"]
[null,null,null,null,null,null,null,null,null,null,null,null,null,null,null,null,null,null,null,null,null,null,null,null,"2004-05","2005-06","2006-07","2007-08","2008-09","2009-10","2010-11","2011-12","2012-13","2013-14","2014-15","2015-16",null,{"$f":"$AL$3","v":"2017-18"},{"$f":"AM179","v":"2018-19"}]
[null,null,null,null,null,null,null,null,null,null,null,null,null,null,null,null,null,null,null,null,null,null,null,"Students Accumulating 30 hrs",{"$f":"BL155/Y148","v":5.8508358336905271E-2},6.1109997996393509E-2,5.9822033078634297E-2,5.172238593638858E-2,4.9514227942989597E-2,5.7528023307490989E-2,5.6161395856052343E-2,5.7902444519544891E-2,4.3778145129111323E-2,3.7831959706959704E-2,3.2698447649455023E-2,3.0819413981215904E-2,null,{"$f":"BY155/AL148","v":2.6718180334113294E-2},2.1323610650756823E-2]
[null,null,null,null,null,null,null,null,null,null,null,null,null,null,null,null,null,null,null,null,null,null,null,"Students Accumulating 60 hrs",8.6551828346932605E-2,9.1556759302873297E-2,9.5217367647858972E-2,8.4649364991717282E-2,8.1151692881898163E-2,9.0265757051216783E-2,9.0697545570391711E-2,9.5749366809822711E-2,8.6231644032240262E-2,7.7109762824048536E-2,7.232978029149445E-2,5.9971213817367662E-2,null,5.6491416309012873E-2,4.7186638560077834E-2]
[null,null,null,null,null,null,null,null,null,null,null,null,null,null,null,null,null,null,null,null,null,null,null,"Students Accumulating 90 hrs",0.12590080542602797,0.13121419330992423,0.1352766625938209,0.13443651308674021,0.13983207477425147,0.14705441463049018,0.14913690321911771,0.15055443548387096,0.15277917885604761,0.14655473941937741,0.13589972255251684,0.12822384428223843,null,0.10494945641808125,0.10023685457129322]
[null,null,null,null,null,null,null,null,null,null,null,null,null,null,null,null,null,null,null,null,null,null,null,"Associates",{"$f":"BL158/AR148","v":0.34962406015037595},0.35217391304347828,0.4,0.44573643410852715,0.39629629629629631,0.42338709677419356,0.44705882352941179,0.4631578947368421,0.47272727272727272,0.46666666666666667,0.49275362318840582,0.4460431654676259,null,{"$f":"BY158/BE148","v":0.32662192393736017},{"$f":"BZ158/BF148","v":0.25279642058165547}]
[null,null,null,null,null,null,null,null,null,null,null,null,null,null,null,null,null,null,null,null,null,null,null,"Bachelors",{"$f":"BL160/AR150","v":0.16653430264524405},0.18473189942441684,0.18467876761404348,0.19045123726346433,0.19896032831737345,0.20928693542160701,0.21817991193122249,0.23296681227092433,0.24091585465367446,0.23590383415710928,0.23521228112257136,0.22773241788829096,null,{"$f":"BY160/BE150","v":0.19875609646964071},{"$f":"BZ160/BF150","v":0.18709183443678781}]
[null,null,null,null,null,null,null,null,null,null,null,null,null,null,null,null,null,null,null,null,null,null,null,"Bach & Assoc",{"$f":"BL161/Y151","v":0.16946197775773972},0.18703316402748729,0.1877832048490555,0.19422933516893248,0.20183337826907521,0.21217561612534683,0.22218788627935723,0.23727644479479726,0.24571052507873831,0.23982263314307278,0.24022766828166894,0.23357484681783622,null,{"$f":"BY161/AL151","v":0.20250984781626019},{"$f":"BZ161/AM151","v":0.18921562235117689}]
[]
[null,null,null,null,null,null,null,null,null,null,null,null,null,null,null,null,null,null,null,null,null,null,null,"Percent that Meet Any Focus Criteria"]
[null,null,null,null,null,null,null,null,null,null,null,null,null,null,null,null,null,null,null,null,null,null,null,null,"2004-05","2005-06","2006-07","2007-08","2008-09","2009-10","2010-11","2011-12","2012-13","2013-14","2014-15","2015-16",null,{"$f":"$AL$3","v":"2017-18"},{"$f":"AM188","v":"2018-19"}]
[null,null,null,null,null,null,null,null,null,null,null,null,null,null,null,null,null,null,null,null,null,null,null,"Students Accumulating 30 hrs",{"$f":"Y180+Y189","v":0.52502143163309045},{"$f":"Z180+Z189","v":0.5028050490883591},0.50749588935100109,0.52682654201808765,0.53395472703062585,0.55340477013480815,0.54083969465648862,{"$f":"AF180+AF189","v":0.53813225188689873},0.50755287009063443,0.51333562271062272,0.47979742375867002,{"$f":"AJ180+AJ189","v":0.47128957876384903},null,0.44523045110736242,0.41741244061429678]
[null,null,null,null,null,null,null,null,null,null,null,null,null,null,null,null,null,null,null,null,null,null,null,"Students Accumulating 60 hrs",{"$f":"Y181+Y190","v":0.49519492293744333},{"$f":"Z181+Z190","v":0.49081488459726808},0.49763316828989607,0.50756488128106025,0.52418021860837105,0.54077996130740247,0.54795279516870743,{"$f":"AF181+AF190","v":0.55616121572514043},0.54449596996798055,0.54396028681742969,0.52904067870350224,{"$f":"AJ181+AJ190","v":0.51489951489951491},null,0.47167381974248929,0.44348954110588618]
[null,null,null,null,null,null,null,null,null,null,null,null,null,null,null,null,null,null,null,null,null,null,null,"Students Accumulating 90 hrs",0.48531460061769516,{"$f":"Z182+Z191","v":0.49374730487279},0.50992028859021354,0.51433052130651091,0.53118234144795906,0.55798730824963771,0.56596340262298472,{"$f":"AF182+AF191","v":0.58180443548387095},0.58428326440028244,0.59261480037975311,0.57555489496630996,{"$f":"AJ182+AJ191","v":0.57279805352798052},null,0.5286095746709899,0.50639507342491707]
[null,null,null,null,null,null,null,null,null,null,null,null,null,null,null,null,null,null,null,null,null,null,null,"Associates",0.88345864661654139,{"$f":"Z183+Z192","v":0.94782608695652182},0.91428571428571426,0.92248062015503884,0.88148148148148153,0.90322580645161299,0.92647058823529416,{"$f":"AF183+AF192","v":0.9263157894736842},0.91363636363636358,0.92222222222222228,0.90096618357487923,{"$f":"AJ183+AJ192","v":0.88968824940047964},null,0.78076062639821031,0.69351230425055932]
[null,null,null,null,null,null,null,null,null,null,null,null,null,null,null,null,null,null,null,null,null,null,null,"Bachelors",0.49575416946667478,{"$f":"Z184+Z193","v":0.51754013935171161},0.53313828516837836,0.54270742358078605,0.54938440492476059,0.5582639386753433,0.57333822604319562,{"$f":"AF184+AF193","v":0.60009037505648444},0.61973791580665294,0.62411823983876391,0.62461021827776442,{"$f":"AJ184+AJ193","v":0.62493041380590086},null,0.58946709025012312,0.57550781425933428]
[null,null,null,null,null,null,null,null,null,null,null,null,null,null,null,null,null,null,null,null,null,null,null,"Bach & Assoc",0.50195371205290051,{"$f":"Z185+Z194","v":0.52345383925903799},0.53863355499323251,0.54832788389835363,0.55421946616338635,0.56291823078178549,0.57952204367531934,{"$f":"AF185+AF194","v":0.60619796028969797},0.62581676303295253,0.62918062172744005,0.62999200338680084,{"$f":"AJ185+AJ194","v":0.63254170580079605},null,0.59590589146953099,0.5796222642411597]
[]
[]
[]
[]
[]
[]
[]
[]
[]
[]
[]
[]
[]
[]
[null,null,null,null,null,null,null,null,null,null,null,null,null,null,null,null,null,null,null,null,null,null,null,null,null,null,null,null,null,null,null,null,null,null,null,null,null,null,null,null,null,null,null,null,null,null,null,null,null,null,null,null,null,null,null,null,null,null,null,null,null,null,null,null,null,null,null,null,null,null,null,null,null,null,null,null,null,null,null,null," "]
[]
[]
[]
[]
[]
[]
[]
[]
[]
[]
[]
[]
[]
[]
[]
[]
[]
[]
[]
[null,null,null,null,null,null,null,null,null,null,null,null,null,null,null,null,null,null,null,null,null,null,null,null,null,null,null,null,null,null,null,null,null,null,null,null,null,null,null,null,null,null,null,null,null,null,null,null,null,null,null,null,null,null,null,null,null,null,null,null,null,null,null,null,null,null,null,null,null,null,null,null,null,null,null,null,null,null,null,null," "]

{"sheet":"2020-21 CC","index":10,"n_rows":86,"n_cols":29,"rows_kept":86,"cut":false,"hidden":false,"merged":[[1,1,1,14]]}
[]
[null,"2020-21 Formula Weighted Outcomes Calculation"]
[]
[]
[null,"Combined Outcomes (16-17 to 18-19 Data)","Chattanooga","Cleveland","Columbia","Dyersburg","Jackson","Motlow","Nashville","Northeast","Pellissippi","Roane","Southwest","Volunteer","Walters","All CC","Avg All CC"]
[null,"Students Accumulating 12 hrs",3372.8000000000006,1712,2848.0666666666662,1445.3333333333333,2459.5333333333333,3657.9333333333329,3556.6666666666665,2810.8666666666668,4789.3999999999996,2710.5333333333333,4701.333333333333,4358.4000000000005,3097.6666666666665,{"$f":"SUM(C6:O6)","v":41520.533333333333},{"$f":"AVERAGE(C6:O6)","v":3193.8871794871793}]
[null,"Students Accumulating 24 hrs",2715.6666666666665,1171,2358.7999999999997,951.46666666666658,1663.0666666666666,2796.1333333333332,2881.0666666666671,2410.6000000000004,4390,2240.0000000000005,3775.4666666666667,3207.7999999999997,2277.8666666666668,{"$f":"SUM(C7:O7)","v":32838.933333333334},{"$f":"AVERAGE(C7:O7)","v":2526.0717948717947}]
[null,"Students Accumulating 36 hrs",2399,996.6,1930.9333333333334,772.59999999999991,1413.6000000000001,2407,2572.9333333333329,2174.4,3579.1333333333332,1996.5333333333335,3070.6,2795.6,1946.8000000000002,28055.733333333326,2158.1333333333328]
[null,"Dual Enrollment",1481,1131.6666666666667,1377,1047,1800.6666666666667,1611.6666666666667,1314,1095.3333333333333,1811.3333333333333,1739.3333333333333,915,2077,1760,{"$f":"SUM(C9:O9)","v":19161},1473.9230769230769]
[null,"Associates",2006.3333333333333,789.76666666666677,1270.5,629.9,914.73333333333323,1644.8,1592.7666666666667,1667.3333333333333,2526.4333333333334,1688.3999999999999,1775.3666666666666,1988.5333333333335,1549.8333333333333,20044.7,1541.9]
[null,"1-2 Year Certificates",183.4,60.733333333333327,102.73333333333333,78.199999999999989,29.733333333333331,14.799999999999999,282.40000000000003,290.8,38.266666666666659,136.79999999999998,63.933333333333337,222.26666666666665,75.933333333333323,{"$f":"SUM(C11:O11)","v":1580},121.53846153846153]
[null,"<1yr Certificates",473,449,208.20000000000002,125.93333333333335,117.06666666666666,227.13333333333333,157,565.4,1046.8666666666668,181.73333333333335,505.93333333333339,484.39999999999992,542.6,5084.2666666666673,391.09743589743596]
[null,"Job Placements",431,206.66666666666666,248,122,181,116.33333333333333,314,452.33333333333331,359.66666666666669,314.33333333333331,291.33333333333331,361.66666666666669,424.66666666666669,3822.9999999999995,294.07692307692304]
[null,"Transfers Out with 12 hrs",563.66666666666663,250,455.33333333333331,171.33333333333334,308,606.33333333333337,740,440,915.33333333333337,399,661,611,422,6543,503.30769230769232]
[null,"Workforce Training (Contact Hours)",58064.783333333333,14696.9,59066.543333333335,9307.4,23584.972999999998,16973.833333333332,25086.076666666664,47642.763333333336,50686.76,111906.03500043334,48038.583333333336,220661.38333333333,82258.033333333355,767974.06800043327,59074.928307725633]
[null,"Awards per 100 FTE",24.150174010000317,24.510077775794276,21.118707885468094,26.858599007761857,20.410650097457729,24.394019613846819,19.946041592853202,27.754864006154872,22.847639408624673,29.429323705930297,16.469890826734076,22.974592231861383,25.040786006941897,305.9053661694295,{"$f":"AVERAGE(C16:O16)","v":23.531182013033039}]
[]
["Scales","Scaled Outcomes (16-17 to 18-19 Data)","Chattanooga","Cleveland","Columbia","Dyersburg","Jackson","Motlow","Nashville","Northeast","Pellissippi","Roane","Southwest","Volunteer","Walters","All CC"]
[6.1,"Students Accumulating 12 hrs",{"$f":"C6/$A19","v":552.91803278688542},{"$f":"D6/$A19","v":280.65573770491807},466.8961748633879,236.93989071038251,403.20218579234972,599.66120218579238,583.06010928961746,460.79781420765033,785.14754098360652,444.3497267759563,770.71038251366122,714.49180327868862,507.8142076502732,{"$f":"SUM(C19:O19)","v":6806.6448087431691}]
[3.3,"Students Accumulating 24 hrs",{"$f":"C7/$A20","v":822.92929292929296},354.84848484848487,714.78787878787875,288.32323232323233,503.95959595959596,847.31313131313129,873.05050505050519,730.48484848484861,1330.3030303030305,678.78787878787898,1144.0808080808081,972.06060606060601,690.26262626262633,9951.1919191919187]
[2.2999999999999998,"Students Accumulating 36 hrs",1043.0434782608697,433.304347826087,839.53623188405811,335.91304347826087,614.60869565217399,1046.5217391304348,1118.6666666666665,945.39130434782624,1556.144927536232,868.05797101449286,1335.0434782608697,1215.4782608695652,846.43478260869574,12198.144927536234]
[2.5,"Dual Enrollment",592.4,452.66666666666669,550.79999999999995,418.8,720.26666666666665,644.66666666666674,525.6,438.13333333333333,724.5333333333333,695.73333333333335,366,830.8,704,7664.4000000000005]
[1.5,"Associates",1337.5555555555554,526.51111111111118,847,419.93333333333334,609.82222222222219,1096.5333333333333,1061.8444444444444,1111.5555555555554,1684.288888888889,1125.5999999999999,1183.5777777777778,1325.6888888888891,1033.2222222222222,13363.133333333337]
[2.5,"1-2 Year Certificates",73.36,24.293333333333329,41.093333333333334,31.279999999999994,11.893333333333333,5.92,112.96000000000001,116.32000000000001,15.306666666666663,54.719999999999992,25.573333333333334,88.906666666666666,30.373333333333328,632]
[3,"<1yr Certificates",157.66666666666666,149.66666666666666,69.400000000000006,41.977777777777781,39.022222222222219,75.711111111111109,52.333333333333336,188.46666666666667,348.95555555555558,60.577777777777783,168.64444444444447,161.46666666666664,180.86666666666667,{"$f":"SUM(C25:O25)","v":1694.7555555555555}]
[0.4,"Job Placements",1077.5,516.66666666666663,620,305,452.5,290.83333333333331,785,1130.8333333333333,899.16666666666663,785.83333333333326,728.33333333333326,904.16666666666663,1061.6666666666667,9557.4999999999982]
[1.5,"Transfers Out with 12 hrs",375.77777777777777,166.66666666666666,303.55555555555554,114.22222222222223,205.33333333333334,404.22222222222223,493.33333333333331,293.33333333333331,610.22222222222229,266,440.66666666666669,407.33333333333331,281.33333333333331,4362,null,null,null,null,null,null,null,null,null,null,null,null," "]
[157,"Workforce Training (Contact Hours)",369.83938428874734,93.610828025477701,376.22002123142249,59.2828025477707,150.22275796178343,108.11358811040338,159.78392781316347,303.45709129511681,322.84560509554143,712.77729299639077,305.97823779193209,1405.4865180467091,523.93651804670924,4891.5545732511682,null,null,null,null,null,null,null,null,null,null,null,null," "]
[0.05,"Awards per 100 FTE",483.00348020000632,490.2015555158855,422.37415770936184,537.17198015523707,408.21300194915455,487.88039227693633,398.920831857064,555.09728012309745,456.95278817249346,588.58647411860591,329.39781653468151,459.49184463722764,500.81572013883789,6118.10732338859,null,null,null,null,null,null,null,null,null,null,null,null," "]
[null,null,null,null," ",null,null,null,null,null,null,null,null,null,null,null,null,null,null,null,null,null,null,null,null,null,null,null," "]
[null,"Weights Based on Institutional Mission","Chattanooga","Cleveland","Columbia","Dyersburg","Jackson","Motlow","Nashville","Northeast","Pellissippi","Roane","Southwest","Volunteer","Walters","Average",null," ",null,null,null,null,null,null,null,null,null,null," "]
[null,"Students Accumulating 12 hrs",0.03,0.03,0.03,0.03,0.03,0.03,0.03,0.03,0.03,0.03,0.03,0.03,0.03,{"$f":"AVERAGE(C32:O32)","v":3.0000000000000009E-2},null,null,null,null,null,null,null,null,null,null,null,null," "]
[null,"Students Accumulating 24 hrs",0.05,0.05,0.05,0.05,0.05,0.05,0.05,0.05,0.05,0.05,0.05,0.05,0.05,0.05,null,null,null,null,null,null,null,null,null,null,null,null," "]
[null,"Students Accumulating 36 hrs",7.0000000000000007E-2,7.0000000000000007E-2,7.0000000000000007E-2,7.0000000000000007E-2,7.0000000000000007E-2,7.0000000000000007E-2,7.0000000000000007E-2,7.0000000000000007E-2,7.0000000000000007E-2,7.0000000000000007E-2,7.0000000000000007E-2,7.0000000000000007E-2,7.0000000000000007E-2,7.0000000000000034E-2,null,null,null,null,null,null,null,null,null,null,null,null," "]
[null,"Dual Enrollment",0.05,0.05,7.4999999999999997E-2,0.1,7.4999999999999997E-2,7.4999999999999997E-2,0.15,0.1,0.1,0.15,7.4999999999999997E-2,0.05,0.1,8.8461538461538466E-2,null,null,null,null,null,null,null,null,null,null,null,null," "]
[null,"Associates",0.22500000000000001,0.22500000000000001,0.22500000000000001,0.22500000000000001,0.22500000000000001,0.22500000000000001,0.22500000000000001,0.22500000000000001,0.22500000000000001,0.22500000000000001,0.22500000000000001,0.22500000000000001,0.22500000000000001,0.22500000000000006,null,null,null,null,null,null,null,null,null,null,null,null," "]
[null,"1-2 Year Certificates",0.1,2.5000000000000001E-2,0.17499999999999999,0.1,0.1,0,0.1,0.125,0,0.1,2.5000000000000001E-2,0.05,2.5000000000000001E-2,8.3094732132025298E-2,null,null,null,null,null,null,null,null,null,null,null,null," "]
[null,"<1yr Certificates",0.1,0.17499999999999999,2.5000000000000001E-2,0.1,0.1,0.2,0.1,7.4999999999999997E-2,0.2,0.1,0.17499999999999999,0.15,0.17499999999999999,5.1520652483359318E-2,null,null,null,null,null,null,null,null,null,null,null,null," "]
[null,"Job Placements",0.15,0.15,0.05,0.125,0.15,7.4999999999999997E-2,7.4999999999999997E-2,0.15,7.4999999999999997E-2,0.05,0.05,7.4999999999999997E-2,7.4999999999999997E-2,9.6153846153846131E-2,null,null,null,null,null,null,null,null,null,null,null,null," "]
[null,"Transfers Out with 12 hrs",0.1,0.05,0.15,0.1,0.05,0.125,0.1,0.05,0.15,0.1,0.125,0.15,0.15,0.10769230769230768,null,null,null,null,null,null,null,null,null,null,null,null," "]
[null,"Workforce Training (Contact Hours)",7.4999999999999997E-2,0.125,0.1,0.05,0.1,0.1,0.05,7.4999999999999997E-2,0.05,7.4999999999999997E-2,0.125,0.1,0.05,8.2692307692307704E-2,null,null,null,null,null,null,null,null,null,null,null,null," "]
[null,"Awards per 100 FTE",0.05,0.05,0.05,0.05,0.05,0.05,0.05,0.05,0.05,0.05,0.05,0.05,0.05,0.05]
[null,null,{"$f":"SUM(C32:C42)","v":1},1,1,1,1,1,1,1,1,1,1.0000000000000002,1,1,{"$f":"(SUM(P32:P42))","v":0.93461538461538485}]
[]
[null,"Weighted Outcomes","Chattanooga","Cleveland","Columbia","Dyersburg","Jackson","Motlow","Nashville","Northeast","Pellissippi","Roane","Southwest","Volunteer","Walters","All CC"]
[null,"Students Accumulating 12 hrs",{"$f":"C19*C32","v":16.587540983606562},{"$f":"D19*D32","v":8.4196721311475411},14.006885245901637,7.108196721311475,12.096065573770492,17.989836065573769,17.491803278688522,13.82393442622951,23.554426229508195,13.330491803278688,23.121311475409836,21.434754098360656,15.234426229508195,{"$f":"SUM(C46:O46)","v":204.19934426229506}]
[null,"Students Accumulating 24 hrs",{"$f":"C20*C33","v":41.146464646464651},17.742424242424246,35.739393939393942,14.416161616161617,25.197979797979798,42.365656565656565,43.652525252525265,36.524242424242431,66.51515151515153,33.939393939393952,57.204040404040406,48.603030303030302,34.513131313131318,{"$f":"SUM(C47:O47)","v":497.55959595959609}]
[null,"Students Accumulating 36 hrs",73.013043478260883,30.331304347826091,58.767536231884073,23.513913043478265,43.022608695652181,73.256521739130434,78.306666666666658,66.177391304347836,108.93014492753625,60.764057971014509,93.453043478260895,85.083478260869569,59.250434782608707,{"$f":"SUM(C48:O48)","v":853.87014492753633}]
[null,"Dual Enrollment",29.62,22.633333333333336,41.309999999999995,41.88,54.019999999999996,48.35,78.84,43.813333333333333,72.453333333333333,104.36,27.45,41.54,70.400000000000006,{"$f":"SUM(C49:O49)","v":676.67}]
[null,"Associates",300.95,118.46500000000002,190.57500000000002,94.484999999999999,137.21,246.72,238.91499999999999,250.09999999999997,378.96500000000003,253.26,266.30500000000001,298.28000000000003,232.47499999999999,{"$f":"SUM(C50:O50)","v":3006.7049999999995}]
[null,"1-2 Year Certificates",7.3360000000000003,0.60733333333333328,7.1913333333333327,3.1279999999999997,1.1893333333333334,0,11.296000000000001,14.540000000000001,0,5.4719999999999995,0.63933333333333342,4.4453333333333331,0.75933333333333319,{"$f":"SUM(C51:O51)","v":56.603999999999992}]
[null,"<1yr Certificates",15.766666666666666,26.191666666666663,1.7350000000000003,4.1977777777777785,3.902222222222222,15.142222222222223,5.2333333333333343,14.135,69.791111111111121,6.0577777777777788,29.512777777777782,24.219999999999995,31.651666666666667,247.53722222222225]
[null,"Job Placements",161.625,77.499999999999986,31,38.125,67.875,21.812499999999996,58.875,169.62499999999997,67.4375,39.291666666666664,36.416666666666664,67.8125,79.625,917.02083333333326]
[null,"Transfers Out with 12 hrs",37.577777777777776,8.3333333333333339,45.533333333333331,11.422222222222224,10.266666666666667,50.527777777777779,49.333333333333336,14.666666666666666,91.533333333333346,26.6,55.083333333333336,61.099999999999994,42.199999999999996,504.17777777777775]
[null,"Workforce Training (Contact Hours)",27.737953821656049,11.701353503184713,37.622002123142252,2.9641401273885353,15.022275796178343,10.811358811040339,7.989196390658174,22.75928184713376,16.142280254777074,53.458296974729308,38.247279723991511,140.54865180467093,26.196825902335462,411.20089708088642]
[null,"Awards per 100 FTE",24.150174010000317,24.510077775794276,21.118707885468094,26.858599007761853,20.410650097457729,24.394019613846819,19.946041592853202,27.754864006154875,22.847639408624673,29.429323705930297,16.469890826734076,22.974592231861383,25.040786006941897,305.9053661694295]
[null,"Total",{"$f":"SUM(C46:C56)","v":735.51062138443297},346.43549866704353,484.59919209245663,268.09901051610177,390.21280218326075,551.36989279524801,609.87889984805861,673.91971400810826,918.1699201133755,625.96300883879121,{"$f":"SUM(M46:M56)","v":643.90267701954781},816.04234003212628,{"$f":"SUM(O46:O56)","v":617.34660423452556},7681.4501817330765]
[]
[null,"Weighted Outcomes Breakdown","Chattanooga","Cleveland","Columbia","Dyersburg","Jackson","Motlow","Nashville","Northeast","Pellissippi","Roane","Southwest","Volunteer","Walters","All CC"]
[null,"Students Accumulating 12 hrs",{"$f":"C46/$C$57","v":2.2552415289916895E-2},{"$f":"D46/$D$57","v":2.4303722232690776E-2},{"$f":"E46/$E$57","v":2.8904062314716497E-2},{"$f":"F46/$F$57","v":2.6513326951964126E-2},{"$f":"G46/$G$57","v":3.0998638450846258E-2},{"$f":"H46/$H$57","v":3.2627527002556743E-2},{"$f":"I46/$I$57","v":2.8680781189587508E-2},{"$f":"J46/$J$57","v":2.0512731915812731E-2},{"$f":"K46/$K$57","v":2.5653667925213338E-2},{"$f":"L46/$L$57","v":2.1295973747726338E-2},{"$f":"M46/$M$57","v":3.5908084094994235E-2},{"$f":"N46/$N$57","v":2.6266718093961649E-2},{"$f":"O46/$O$57","v":2.4677265777460638E-2},{"$f":"P46/$P$57","v":2.6583436646883771E-2}]
[null,"Students Accumulating 24 hrs",5.5942719860408954E-2,5.1214221148498273E-2,7.3750419981251689E-2,5.3771782254659964E-2,6.4574969496120585E-2,7.6837087260745868E-2,7.1575726366989542E-2,5.4196726501760994E-2,7.2443182964367039E-2,5.4219488148914897E-2,8.883957536692115E-2,5.955944675752594E-2,5.5905598372774118E-2,6.4774174692015962E-2]
[null,"Students Accumulating 36 hrs",9.926851000578385E-2,8.755252987794207E-2,0.12127039663052476,8.7706079176543772E-2,0.11025422142722757,0.13286275274797121,0.12839707470806988,9.8197737696024162E-2,0.1186383288553883,9.7072921423482256E-2,0.14513535478813333,0.10426355850300607,9.5975962897011241E-2,0.11116001858061748]
[null,"Dual Enrollment",4.0271342301280474E-2,6.5332026944173116E-2,8.5245705469765759E-2,0.15621094579714881,0.13843728267692734,8.769067849331201E-2,0.1292715652560561,6.5012689824364145E-2,7.8910593503636897E-2,0.16671911682704016,4.2630666061303953E-2,5.0904221462779294E-2,0.11403642543282792,8.8091438984940568E-2]
[null,"Associates",0.40917152145747326,0.34195398697826812,0.39326314015736169,0.35242576918919782,0.35162864783600895,0.44746730502316312,0.39174170488521864,0.37111245568487833,0.41273950681504085,0.40459259800322145,0.41357958198380879,0.36552024982950915,0.37657127844455496,0.39142413592033887]
[null,"1-2 Year Certificates",9.9740231979133544E-3,1.7530920926698585E-3,1.483975510211189E-2,1.166733138618628E-2,3.0479095680073847E-3,0,1.8521709806347153E-2,2.1575270314506727E-2,0,8.7417306178379037E-3,9.929036734132484E-4,5.4474297659093613E-3,1.2299951568938538E-3,7.3689210579803675E-3]
[null,"<1yr Certificates",2.1436354837391022E-2,7.5603299221478654E-2,3.5802783585098916E-3,1.5657565351311374E-2,1.0000241407737233E-2,2.7462910869972563E-2,8.5809385021143273E-3,2.0974308521014617E-2,7.601110598623545E-2,9.6775331644842963E-3,4.5834221274532488E-2,2.9679832542814498E-2,5.1270496103097418E-2,3.2225324172625608E-2]
[null,"Job Placements",0.21974529707780069,0.22370686692960595,6.3970391420061459E-2,0.14220492618233757,0.17394354982777571,3.9560556869397474E-2,9.6535558148786171E-2,0.25169912153357654,7.3447733935427584E-2,6.2769949840256023E-2,5.6556165964753574E-2,8.3099242126738582E-2,0.12897940873705857,0.11938121209378676]
[null,"Transfers Out with 12 hrs",5.1090734362266695E-2,2.4054501820387743E-2,9.3960811483660159E-2,4.2604492274081765E-2,2.6310430127418009E-2,9.1640436734077069E-2,8.0890375688721039E-2,2.1763225443335532E-2,9.9691060802809595E-2,4.2494523836712039E-2,8.5546054239592953E-2,7.4873565993640215E-2,6.8357061836155364E-2,6.5635754427821588E-2]
[null,"Workforce Training (Contact Hours)",3.7712512933457849E-2,3.3776427497202853E-2,7.7635296833025572E-2,1.1056139751066004E-2,3.8497649775014901E-2,1.9608177654080131E-2,1.3099643868067173E-2,3.3771503302335408E-2,1.7580929086398113E-2,8.5401687032431034E-2,5.9399162465091582E-2,0.17223205820317822,4.243455090324507E-2,5.3531675315521207E-2]
[null,"Awards per 100 FTE",3.2834568676306887E-2,7.0749325257082621E-2,4.3579742249010719E-2,0.10018164168550242,5.2306459406916146E-2,4.4242567344723649E-2,3.2704921580042255E-2,4.1184229262390952E-2,2.4883890125482928E-2,4.7014477357893596E-2,2.557823008745478E-2,2.8153676720936945E-2,4.0561956338920888E-2,3.9823908107467748E-2]
[null,"Total",{"$f":"SUM(C60:C70)","v":1.0000000000000002},1,1,0.99999999999999978,1,1,0.99999999999999967,1,1.0000000000000002,1,1,0.99999999999999989,1,0.99999999999999978]
[]
[]
[null,"W.O. % Change from 18-19","Chattanooga","Cleveland","Columbia","Dyersburg","Jackson","Motlow","Nashville","Northeast","Pellissippi","Roane","Southwest","Volunteer","Walters","All CC"]
[null,"Students Accumulating 12 hrs",{"$f":"C46/'2020-21 CC'!C46-1","v":0},{"$f":"D46/'2020-21 CC'!D46-1","v":0},{"$f":"E46/'2020-21 CC'!E46-1","v":0},{"$f":"F46/'2020-21 CC'!F46-1","v":0},{"$f":"G46/'2020-21 CC'!G46-1","v":0},{"$f":"H46/'2020-21 CC'!H46-1","v":0},{"$f":"I46/'2020-21 CC'!I46-1","v":0},{"$f":"J46/'2020-21 CC'!J46-1","v":0},{"$f":"K46/'2020-21 CC'!K46-1","v":0},{"$f":"L46/'2020-21 CC'!L46-1","v":0},{"$f":"M46/'2020-21 CC'!M46-1","v":0},{"$f":"N46/'2020-21 CC'!N46-1","v":0},{"$f":"O46/'2020-21 CC'!O46-1","v":0},{"$f":"P46/'2020-21 CC'!P46-1","v":0}]
[null,"Students Accumulating 24 hrs",{"$f":"C47/'2020-21 CC'!C47-1","v":0},{"$f":"D47/'2020-21 CC'!D47-1","v":0},{"$f":"E47/'2020-21 CC'!E47-1","v":0},{"$f":"F47/'2020-21 CC'!F47-1","v":0},{"$f":"G47/'2020-21 CC'!G47-1","v":0},{"$f":"H47/'2020-21 CC'!H47-1","v":0},{"$f":"I47/'2020-21 CC'!I47-1","v":0},{"$f":"J47/'2020-21 CC'!J47-1","v":0},{"$f":"K47/'2020-21 CC'!K47-1","v":0},{"$f":"L47/'2020-21 CC'!L47-1","v":0},{"$f":"M47/'2020-21 CC'!M47-1","v":0},{"$f":"N47/'2020-21 CC'!N47-1","v":0},{"$f":"O47/'2020-21 CC'!O47-1","v":0},{"$f":"P47/'2020-21 CC'!P47-1","v":0}]
[null,"Students Accumulating 36 hrs",{"$f":"C48/'2020-21 CC'!C48-1","v":0},{"$f":"D48/'2020-21 CC'!D48-1","v":0},{"$f":"E48/'2020-21 CC'!E48-1","v":0},{"$f":"F48/'2020-21 CC'!F48-1","v":0},{"$f":"G48/'2020-21 CC'!G48-1","v":0},{"$f":"H48/'2020-21 CC'!H48-1","v":0},{"$f":"I48/'2020-21 CC'!I48-1","v":0},{"$f":"J48/'2020-21 CC'!J48-1","v":0},{"$f":"K48/'2020-21 CC'!K48-1","v":0},{"$f":"L48/'2020-21 CC'!L48-1","v":0},{"$f":"M48/'2020-21 CC'!M48-1","v":0},{"$f":"N48/'2020-21 CC'!N48-1","v":0},{"$f":"O48/'2020-21 CC'!O48-1","v":0},{"$f":"P48/'2020-21 CC'!P48-1","v":0}]
[null,"Dual Enrollment",{"$f":"C49/'2020-21 CC'!C49-1","v":0},{"$f":"D49/'2020-21 CC'!D49-1","v":0},{"$f":"E49/'2020-21 CC'!E49-1","v":0},{"$f":"F49/'2020-21 CC'!F49-1","v":0},{"$f":"G49/'2020-21 CC'!G49-1","v":0},{"$f":"H49/'2020-21 CC'!H49-1","v":0},{"$f":"I49/'2020-21 CC'!I49-1","v":0},{"$f":"J49/'2020-21 CC'!J49-1","v":0},{"$f":"K49/'2020-21 CC'!K49-1","v":0},{"$f":"L49/'2020-21 CC'!L49-1","v":0},{"$f":"M49/'2020-21 CC'!M49-1","v":0},{"$f":"N49/'2020-21 CC'!N49-1","v":0},{"$f":"O49/'2020-21 CC'!O49-1","v":0},{"$f":"P49/'2020-21 CC'!P49-1","v":0}]
[null,"Associates",{"$f":"C50/'2020-21 CC'!C50-1","v":0},{"$f":"D50/'2020-21 CC'!D50-1","v":0},{"$f":"E50/'2020-21 CC'!E50-1","v":0},{"$f":"F50/'2020-21 CC'!F50-1","v":0},{"$f":"G50/'2020-21 CC'!G50-1","v":0},{"$f":"H50/'2020-21 CC'!H50-1","v":0},{"$f":"I50/'2020-21 CC'!I50-1","v":0},{"$f":"J50/'2020-21 CC'!J50-1","v":0},{"$f":"K50/'2020-21 CC'!K50-1","v":0},{"$f":"L50/'2020-21 CC'!L50-1","v":0},{"$f":"M50/'2020-21 CC'!M50-1","v":0},{"$f":"N50/'2020-21 CC'!N50-1","v":0},{"$f":"O50/'2020-21 CC'!O50-1","v":0},{"$f":"P50/'2020-21 CC'!P50-1","v":0}]
[null,"1-2 Year Certificates",{"$f":"C51/'2020-21 CC'!C51-1","v":0},{"$f":"D51/'2020-21 CC'!D51-1","v":0},{"$f":"E51/'2020-21 CC'!E51-1","v":0},{"$f":"F51/'2020-21 CC'!F51-1","v":0},{"$f":"G51/'2020-21 CC'!G51-1","v":0},{"$f":"H51/'2020-21 CC'!H51-1","v":{"$error":"#DIV/0!"}},{"$f":"I51/'2020-21 CC'!I51-1","v":0},{"$f":"J51/'2020-21 CC'!J51-1","v":0},{"$f":"K51/'2020-21 CC'!K51-1","v":{"$error":"#DIV/0!"}},{"$f":"L51/'2020-21 CC'!L51-1","v":0},{"$f":"M51/'2020-21 CC'!M51-1","v":0},{"$f":"N51/'2020-21 CC'!N51-1","v":0},{"$f":"O51/'2020-21 CC'!O51-1","v":0},{"$f":"P51/'2020-21 CC'!P51-1","v":0}]
[null,"<1yr Certificates",{"$f":"C52/'2020-21 CC'!C52-1","v":0},{"$f":"D52/'2020-21 CC'!D52-1","v":0},{"$f":"E52/'2020-21 CC'!E52-1","v":0},{"$f":"F52/'2020-21 CC'!F52-1","v":0},{"$f":"G52/'2020-21 CC'!G52-1","v":0},{"$f":"H52/'2020-21 CC'!H52-1","v":0},{"$f":"I52/'2020-21 CC'!I52-1","v":0},{"$f":"J52/'2020-21 CC'!J52-1","v":0},{"$f":"K52/'2020-21 CC'!K52-1","v":0},{"$f":"L52/'2020-21 CC'!L52-1","v":0},{"$f":"M52/'2020-21 CC'!M52-1","v":0},{"$f":"N52/'2020-21 CC'!N52-1","v":0},{"$f":"O52/'2020-21 CC'!O52-1","v":0},{"$f":"P52/'2020-21 CC'!P52-1","v":0}]
[null,"Job Placements",{"$f":"C53/'2020-21 CC'!C53-1","v":0},{"$f":"D53/'2020-21 CC'!D53-1","v":0},{"$f":"E53/'2020-21 CC'!E53-1","v":0},{"$f":"F53/'2020-21 CC'!F53-1","v":0},{"$f":"G53/'2020-21 CC'!G53-1","v":0},{"$f":"H53/'2020-21 CC'!H53-1","v":0},{"$f":"I53/'2020-21 CC'!I53-1","v":0},{"$f":"J53/'2020-21 CC'!J53-1","v":0},{"$f":"K53/'2020-21 CC'!K53-1","v":0},{"$f":"L53/'2020-21 CC'!L53-1","v":0},{"$f":"M53/'2020-21 CC'!M53-1","v":0},{"$f":"N53/'2020-21 CC'!N53-1","v":0},{"$f":"O53/'2020-21 CC'!O53-1","v":0},{"$f":"P53/'2020-21 CC'!P53-1","v":0}]
[null,"Transfers Out with 12 hrs",{"$f":"C54/'2020-21 CC'!C54-1","v":0},{"$f":"D54/'2020-21 CC'!D54-1","v":0},{"$f":"E54/'2020-21 CC'!E54-1","v":0},{"$f":"F54/'2020-21 CC'!F54-1","v":0},{"$f":"G54/'2020-21 CC'!G54-1","v":0},{"$f":"H54/'2020-21 CC'!H54-1","v":0},{"$f":"I54/'2020-21 CC'!I54-1","v":0},{"$f":"J54/'2020-21 CC'!J54-1","v":0},{"$f":"K54/'2020-21 CC'!K54-1","v":0},{"$f":"L54/'2020-21 CC'!L54-1","v":0},{"$f":"M54/'2020-21 CC'!M54-1","v":0},{"$f":"N54/'2020-21 CC'!N54-1","v":0},{"$f":"O54/'2020-21 CC'!O54-1","v":0},{"$f":"P54/'2020-21 CC'!P54-1","v":0}]
[null,"Workforce Training (Contact Hours)",{"$f":"C55/'2020-21 CC'!C55-1","v":0},{"$f":"D55/'2020-21 CC'!D55-1","v":0},{"$f":"E55/'2020-21 CC'!E55-1","v":0},{"$f":"F55/'2020-21 CC'!F55-1","v":0},{"$f":"G55/'2020-21 CC'!G55-1","v":0},{"$f":"H55/'2020-21 CC'!H55-1","v":0},{"$f":"I55/'2020-21 CC'!I55-1","v":0},{"$f":"J55/'2020-21 CC'!J55-1","v":0},{"$f":"K55/'2020-21 CC'!K55-1","v":0},{"$f":"L55/'2020-21 CC'!L55-1","v":0},{"$f":"M55/'2020-21 CC'!M55-1","v":0},{"$f":"N55/'2020-21 CC'!N55-1","v":0},{"$f":"O55/'2020-21 CC'!O55-1","v":0},{"$f":"P55/'2020-21 CC'!P55-1","v":0}]
[null,"Awards per 100 FTE",{"$f":"C56/'2020-21 CC'!C56-1","v":0},{"$f":"D56/'2020-21 CC'!D56-1","v":0},{"$f":"E56/'2020-21 CC'!E56-1","v":0},{"$f":"F56/'2020-21 CC'!F56-1","v":0},{"$f":"G56/'2020-21 CC'!G56-1","v":0},{"$f":"H56/'2020-21 CC'!H56-1","v":0},{"$f":"I56/'2020-21 CC'!I56-1","v":0},{"$f":"J56/'2020-21 CC'!J56-1","v":0},{"$f":"K56/'2020-21 CC'!K56-1","v":0},{"$f":"L56/'2020-21 CC'!L56-1","v":0},{"$f":"M56/'2020-21 CC'!M56-1","v":0},{"$f":"N56/'2020-21 CC'!N56-1","v":0},{"$f":"O56/'2020-21 CC'!O56-1","v":0},{"$f":"P56/'2020-21 CC'!P56-1","v":0}]
[null,"Total",{"$f":"C57/'2020-21 CC'!C57-1","v":0},{"$f":"D57/'2020-21 CC'!D57-1","v":0},{"$f":"E57/'2020-21 CC'!E57-1","v":0},{"$f":"F57/'2020-21 CC'!F57-1","v":0},{"$f":"G57/'2020-21 CC'!G57-1","v":0},{"$f":"H57/'2020-21 CC'!H57-1","v":0},{"$f":"I57/'2020-21 CC'!I57-1","v":0},{"$f":"J57/'2020-21 CC'!J57-1","v":0},{"$f":"K57/'2020-21 CC'!K57-1","v":0},{"$f":"L57/'2020-21 CC'!L57-1","v":0},{"$f":"M57/'2020-21 CC'!M57-1","v":0},{"$f":"N57/'2020-21 CC'!N57-1","v":0},{"$f":"O57/'2020-21 CC'!O57-1","v":0},{"$f":"P57/'2020-21 CC'!P57-1","v":0}]

{"sheet":"2020-21 Univ","index":11,"n_rows":74,"n_cols":16,"rows_kept":74,"cut":false,"hidden":false,"merged":[[1,1,1,10]]}
[]
[null,"2020-21 Formula Weighted Outcomes Calculation"]
[]
[" ","Combined Outcomes (16-17 to 18-19 Data)","UTM","APSU","TTU","UTC","MTSU","ETSU","TSU","UM","UTK","All Univ","Avg All Univ"]
[null,"Students Accumulating 30 hrs",1339.3999999999999,2355.7999999999997,1942.0666666666666,2255.6,3865.0666666666671,2375.4,1409.0666666666668,3403.3333333333335,5407.2666666666673,{"$f":"SUM(C5:K5)","v":24353},{"$f":"AVERAGE(C5:K5)","v":2705.8888888888887}]
[null,"Students Accumulating 60 hrs",1365.4666666666665,2156.2000000000003,2207.1333333333332,2273.5333333333333,4442.5333333333338,2467.1333333333332,1411.2,3720.2666666666664,5750.2,{"$f":"SUM(C6:K6)","v":25793.666666666668},{"$f":"AVERAGE(C6:K6)","v":2865.962962962963}]
[null,"Students Accumulating 90 hrs",1629.4666666666665,2396.6,2781.9333333333329,2731.2666666666664,5685.2666666666673,3249.5333333333333,1559.9333333333334,4302.666666666667,6091.8,30428.466666666667,3380.9407407407407]
[null,"Bachelors and Associates",1835.6000000000001,3255.3666666666668,3179.6666666666665,3012.5,6589,3753.2333333333336,1909.0333333333335,5045.6333333333332,6468.1333333333341,35048.166666666664,3894.2407407407404]
[null,"Masters/Ed Specialist Degrees",104.33333333333333,369.33333333333331,385.33333333333331,385,806.66666666666663,688.33333333333337,382.33333333333331,958.33333333333337,1531.3333333333333,5611,623.44444444444446]
[null,"Doctoral / Law Degrees",0,0,22.333333333333332,77.666666666666671,58.333333333333336,140.66666666666666,74.333333333333329,254.66666666666666,578.66666666666663,1206.6666666666665,134.07407407407405]
[null,"Research, Service and Sponsored Programs",4729311.7999999989,3102016.3333333335,14729751.648666665,9395759.416666666,9153853.5133333337,20904701.986666668,35679322.089999996,47535143.036749996,205925558.55999997,351155418.38541663,39017268.709490739," "]
[null,"Degrees per 100 FTE",22.582523139449592,24.328710856042722,25.346647489695314,22.065540392993039,24.877158660057216,23.913279764137229,19.956152066757998,23.035129428193034,23.022785925602523,209.12792772292869,23.236436413658744]
[null,"Six-Year Graduation Rate",55.965080901655092,49.050983073377012,62.020868890844049,63.603169435142526,51.516004450144059,53.932283805631741,36.163199362516636,53.292919163437581,81.536535698754264,507.08104478150301,56.34233830905589]
[null,null,null,null," "]
["Scales","Scaled Outcomes (16-17 to 18-19 Data)","UTM","APSU","TTU","UTC","MTSU","ETSU","TSU","UM","UTK","All Univ","Avg All Univ"]
[2.5,"Students Accumulating 30 hrs",{"$f":"C5/$A16","v":535.76},{"$f":"D5/$A16","v":942.31999999999994},776.8266666666666,902.24,1546.0266666666669,950.16000000000008,563.62666666666678,1361.3333333333335,2162.9066666666668,9741.2000000000007,{"$f":"AVERAGE(C16:K16)","v":1082.3555555555556}]
[2,"Students Accumulating 60 hrs",{"$f":"C6/$A17","v":682.73333333333323},1078.1000000000001,1103.5666666666666,1136.7666666666667,2221.2666666666669,1233.5666666666666,705.6,1860.1333333333332,2875.1,12896.833333333334,{"$f":"AVERAGE(C17:K17)","v":1432.9814814814815}]
[1.5,"Students Accumulating 90 hrs",1086.3111111111109,1597.7333333333333,1854.622222222222,1820.8444444444442,3790.1777777777784,2166.3555555555554,1039.9555555555555,2868.4444444444448,4061.2000000000003,20285.644444444446,2253.9604938271605]
[1,"Bachelors and Associates",1835.6000000000001,3255.3666666666668,3179.6666666666665,3012.5,6589,3753.2333333333336,1909.0333333333335,5045.6333333333332,6468.1333333333341,35048.166666666664,3894.2407407407404]
[0.3,"Masters/Ed Specialist Degrees",347.77777777777777,1231.1111111111111,1284.4444444444443,1283.3333333333335,2688.8888888888887,2294.4444444444448,1274.4444444444443,3194.4444444444448,5104.4444444444443,18703.333333333336,2078.1481481481483]
[0.05,"Doctoral / Law Degrees",0,0,446.66666666666663,1553.3333333333333,1166.6666666666667,2813.333333333333,1486.6666666666665,5093.333333333333,11573.333333333332,24133.333333333332,2681.4814814814813]
[15000,"Research, Service and Sponsored Programs",315.28745333333325,206.8010888888889,981.98344324444429,626.38396111111103,610.25690088888894,1393.6467991111112,2378.6214726666663,3169.0095357833329,13728.370570666664,23410.36122569444,2601.1512472993822]
[0.02,"Degrees per 100 FTE",1129.1261569724795,1216.4355428021361,1267.3323744847658,1103.2770196496519,1243.8579330028608,1195.6639882068614,997.80760333789988,1151.7564714096518,1151.1392962801262,10456.396386146433,1161.821820682937]
[0.01,"Six-Year Graduation Rate",5596.5080901655092,4905.098307337701,6202.0868890844049,6360.3169435142527,5151.6004450144055,5393.2283805631741,3616.3199362516634,5329.2919163437582,8153.653569875426,50708.104478150293,5634.2338309055885]
[]
[null,"Weights Based on Institutional Mission","UTM","APSU","TTU","UTC","MTSU","ETSU","TSU","UM","UTK","Average"," "]
[null,"Students Accumulating 30 hrs",4.0000000000000008E-2,0.03,4.0000000000000008E-2,4.0000000000000008E-2,0.03,0.06,0.04,0.03,0.02,{"$f":"AVERAGE(C27:K27)","v":3.6666666666666674E-2}," "]
[null,"Students Accumulating 60 hrs",0.06,4.4999999999999998E-2,0.06,0.06,4.4999999999999998E-2,7.4999999999999997E-2,0.06,4.4999999999999998E-2,0.04,{"$f":"AVERAGE(C28:K28)","v":5.4444444444444434E-2}]
[null,"Students Accumulating 90 hrs",0.1,7.4999999999999997E-2,0.1,0.1,7.4999999999999997E-2,0.09,0.1,7.4999999999999997E-2,6.5000000000000002E-2,8.666666666666667E-2]
[null,"Bachelors and Associates",0.3,0.27500000000000002,0.25,0.25,0.22500000000000001,0.2,0.22500000000000001,0.22500000000000001,0.2,0.23888888888888893]
[null,"Masters/Ed Specialist Degrees",0.15,0.2,0.15,0.1,0.2,0.15,0.125,0.1,0.1,0.14166666666666672]
[null,"Doctoral / Law Degrees",0,0,0.05,0.05,7.4999999999999997E-2,0.15,7.4999999999999997E-2,0.15,0.125,7.4999999999999997E-2]
[null,"Research, Service and Sponsored Programs",0.05,0.1,0.1,0.1,0.1,0.1,0.15,0.1,0.125,0.10277777777777777]
[null,"Degrees per 100 FTE",0.1,0.17499999999999999,0.1,0.15,0.1,7.4999999999999997E-2,0.125,0.1,0.17499999999999999,0.1222222222222222,null," "]
[null,"Six-Year Graduation Rate",0.2,0.1,0.15,0.15,0.15,0.1,0.1,0.17499999999999999,0.15,0.14166666666666666]
[null,null,{"$f":"SUM(C27:C35)","v":1},0.99999999999999989,1,1,0.99999999999999989,1,1,1,1,1]
[null,null,null,null,null,null,null,null,null,null,null,null,null,null,null," "]
[null,"Weighted Outcomes","UTM","APSU","TTU","UTC","MTSU","ETSU","TSU","UM","UTK","All Univ","Avg All Univ",null,null," "]
[null,"Students Accumulating 30 hrs",{"$f":"C16*C27","v":21.430400000000002},{"$f":"D16*D27","v":28.269599999999997},31.073066666666669,36.089600000000004,46.380800000000008,57.009600000000006,22.545066666666671,40.840000000000003,43.258133333333333,326.89626666666669,{"$f":"AVERAGE(C39:K39)","v":36.321807407407412}]
[null,"Students Accumulating 60 hrs",{"$f":"C17*C28","v":40.963999999999992},48.514500000000005,66.213999999999999,68.206000000000003,99.957000000000008,92.517499999999998,42.335999999999999,83.705999999999989,115.004,657.41899999999998,{"$f":"AVERAGE(C40:K40)","v":73.046555555555557}]
[null,"Students Accumulating 90 hrs",108.6311111111111,119.83,185.46222222222221,182.08444444444444,284.26333333333338,194.97199999999998,103.99555555555555,215.13333333333335,263.97800000000001,1658.3500000000001,184.26111111111112]
[null,"Bachelors and Associates",550.68000000000006,895.22583333333341,794.91666666666663,753.125,1482.5250000000001,750.64666666666676,429.53250000000003,1135.2674999999999,1293.626666666667,{"$f":"SUM(C42:K42)","v":8085.5458333333336},898.39398148148155]
[null,"Masters/Ed Specialist Degrees",52.166666666666664,246.22222222222223,192.66666666666666,128.33333333333334,537.77777777777771,344.16666666666669,159.30555555555554,319.44444444444451,510.44444444444446,2490.5277777777778,276.72530864197529]
[null,"Doctoral / Law Degrees",0,0,22.333333333333332,77.666666666666671,87.5,421.99999999999994,111.49999999999999,763.99999999999989,1446.6666666666665,2931.6666666666665,325.7407407407407]
[null,"Research, Service and Sponsored Programs",15.764372666666663,20.680108888888892,98.198344324444435,62.638396111111106,61.025690088888894,139.36467991111112,356.79322089999994,316.90095357833331,1716.046321333333,2787.412087802777,309.71245420030857]
[null,"Degrees per 100 FTE",112.91261569724796,212.87621999037381,126.73323744847659,165.49155294744779,124.38579330028608,89.674799115514602,124.72595041723748,115.17564714096518,201.44937684902209,1273.4251929065717,141.49168810073019]
[null,"Six-Year Graduation Rate",1119.3016180331019,490.50983073377012,930.31303336266069,954.04754152713781,772.74006675216083,539.32283805631744,361.63199362516639,932.62608536015762,1223.0480354813139,7323.5410429317872,813.72678254797631]
[null,"Total",{"$f":"SUM(C39:C47)","v":2021.8507841747942},2062.1283151685884,2447.9105706911369,2427.6825350301415,3496.5554612524465,2629.6747504162768,1712.3658427201817,3923.093963857234,6813.5216447747807,27534.783868085582,3059.420429787287]
[]
[null,"Weighted Outcomes Breakdown","UTM","APSU","TTU","UTC","MTSU","ETSU","TSU","UM","UTK","All Univs"]
[null,"Students Accumulating 24 hrs",{"$f":"C39/$C$48","v":1.0599397427217503E-2},{"$f":"D39/$D$48","v":1.3708943227273823E-2},{"$f":"E39/$E$48","v":1.2693709908648165E-2},{"$f":"F39/$F$48","v":1.4865864658680309E-2},{"$f":"G39/$G$48","v":1.3264711660940355E-2},{"$f":"H39/$H$48","v":2.1679335055019788E-2},{"$f":"I39/$I$48","v":1.31660338604119E-2},{"$f":"J39/$J$48","v":1.0410150859564326E-2},{"$f":"K39/$K$48","v":6.348865621716715E-3},{"$f":"L39/$L$48","v":1.1872120305456927E-2}]
[null,"Students Accumulating 48 hrs",2.0260644514733164E-2,2.3526421534071085E-2,2.7049190764066724E-2,2.8095106759563674E-2,2.8587277138225623E-2,3.5182107591577437E-2,2.4723688679019123E-2,2.1336730848449836E-2,1.6878789852850233E-2,2.3875945536728432E-2]
[null,"Students Accumulating 72 hrs",5.3728550079648045E-2,5.8109865966417006E-2,7.5763479451726568E-2,7.500340008096805E-2,8.1298105087545744E-2,7.4143009499230264E-2,6.0732089464219416E-2,5.4837670296790861E-2,3.8743254041387246E-2,6.0227456585273016E-2]
[null,"Bachelors and Associates",0.27236431308888936,0.4341271232969538,0.32473272356605409,0.31022384069284803,0.42399584860838097,0.28545228513444093,0.2508415487415151,0.28938065477376201,0.18986168006947418,0.29364842201303609]
[null,"Masters / Ed Specialists",2.5801442458058627E-2,0.11940198891168052,7.8706578979423111E-2,5.2862485716955572E-2,0.15380215864934363,0.13087803600509348,9.3032430092444746E-2,8.1426661555249316E-2,7.4916389945851133E-2,9.0450238858219054E-2]
[null,"Doctoral / Law Degree",0,0,9.123426975123439E-3,3.1992101745586095E-2,2.5024628086024406E-2,0.16047611969244388,6.5114590129219385E-2,0.19474425212309363,0.21232289880169386,0.1064713883614187]
[null,"Research and Service",7.7970010398669427E-3,1.0028526710375052E-2,4.0115168217407293E-2,2.5801724569532072E-2,1.7453087979056345E-2,5.2996926668991952E-2,0.2083627295048209,8.0778323562444687E-2,0.25185893738949977,0.1012323939478439]
[null,"Degrees per 100 FTE",5.584616658213605E-2,0.10323131612349264,5.1772004649947259E-2,6.816853132956821E-2,3.5573808188854465E-2,3.4101099043263472E-2,7.2838377936284837E-2,2.9358370766047897E-2,2.9566116811782867E-2,4.6247873199489524E-2]
[null,"Six-Year Graduation Rate",0.5536024848094504,0.23786581422973607,0.38004371748760352,0.39298694444629789,0.22100037460162855,0.20509108130993872,0.2111885115920645,0.23772718521459738,0.17950306746574393,0.26597416119253425]
[null,"Total",{"$f":"SUM(C51:C59)","v":1},1,1.0000000000000002,1,1,1,0.99999999999999989,0.99999999999999989,0.99999999999999989,0.99999999999999989]
[]
[]
[]
[null,"W.O. % Change from 18-19","UTM","APSU","TTU","UTC","MTSU","ETSU","TSU","UM","UTK","All Univs"]
[null,"Students Accumulating 30 hrs",{"$f":"C39/'2020-21 Univ'!C39-1","v":0},{"$f":"D39/'2020-21 Univ'!D39-1","v":0},{"$f":"E39/'2020-21 Univ'!E39-1","v":0},{"$f":"F39/'2020-21 Univ'!F39-1","v":0},{"$f":"G39/'2020-21 Univ'!G39-1","v":0},{"$f":"H39/'2020-21 Univ'!H39-1","v":0},{"$f":"I39/'2020-21 Univ'!I39-1","v":0},{"$f":"J39/'2020-21 Univ'!J39-1","v":0},{"$f":"K39/'2020-21 Univ'!K39-1","v":0},{"$f":"L39/'2020-21 Univ'!L39-1","v":0}]
[null,"Students Accumulating 60 hrs",{"$f":"C40/'2020-21 Univ'!C40-1","v":0},{"$f":"D40/'2020-21 Univ'!D40-1","v":0},{"$f":"E40/'2020-21 Univ'!E40-1","v":0},{"$f":"F40/'2020-21 Univ'!F40-1","v":0},{"$f":"G40/'2020-21 Univ'!G40-1","v":0},{"$f":"H40/'2020-21 Univ'!H40-1","v":0},{"$f":"I40/'2020-21 Univ'!I40-1","v":0},{"$f":"J40/'2020-21 Univ'!J40-1","v":0},{"$f":"K40/'2020-21 Univ'!K40-1","v":0},{"$f":"L40/'2020-21 Univ'!L40-1","v":0}]
[null,"Students Accumulating 90 hrs",{"$f":"C41/'2020-21 Univ'!C41-1","v":0},{"$f":"D41/'2020-21 Univ'!D41-1","v":0},{"$f":"E41/'2020-21 Univ'!E41-1","v":0},{"$f":"F41/'2020-21 Univ'!F41-1","v":0},{"$f":"G41/'2020-21 Univ'!G41-1","v":0},{"$f":"H41/'2020-21 Univ'!H41-1","v":0},{"$f":"I41/'2020-21 Univ'!I41-1","v":0},{"$f":"J41/'2020-21 Univ'!J41-1","v":0},{"$f":"K41/'2020-21 Univ'!K41-1","v":0},{"$f":"L41/'2020-21 Univ'!L41-1","v":0}]
[null,"Bachelors and Associates",{"$f":"C42/'2020-21 Univ'!C42-1","v":0},{"$f":"D42/'2020-21 Univ'!D42-1","v":0},{"$f":"E42/'2020-21 Univ'!E42-1","v":0},{"$f":"F42/'2020-21 Univ'!F42-1","v":0},{"$f":"G42/'2020-21 Univ'!G42-1","v":0},{"$f":"H42/'2020-21 Univ'!H42-1","v":0},{"$f":"I42/'2020-21 Univ'!I42-1","v":0},{"$f":"J42/'2020-21 Univ'!J42-1","v":0},{"$f":"K42/'2020-21 Univ'!K42-1","v":0},{"$f":"L42/'2020-21 Univ'!L42-1","v":0}]
[null,"Masters/Ed Specialist Degrees",{"$f":"C43/'2020-21 Univ'!C43-1","v":0},{"$f":"D43/'2020-21 Univ'!D43-1","v":0},{"$f":"E43/'2020-21 Univ'!E43-1","v":0},{"$f":"F43/'2020-21 Univ'!F43-1","v":0},{"$f":"G43/'2020-21 Univ'!G43-1","v":0},{"$f":"H43/'2020-21 Univ'!H43-1","v":0},{"$f":"I43/'2020-21 Univ'!I43-1","v":0},{"$f":"J43/'2020-21 Univ'!J43-1","v":0},{"$f":"K43/'2020-21 Univ'!K43-1","v":0},{"$f":"L43/'2020-21 Univ'!L43-1","v":0}]
[null,"Doctoral / Law Degrees",{"$f":"C44/'2020-21 Univ'!C44-1","v":{"$error":"#DIV/0!"}},{"$f":"D44/'2020-21 Univ'!D44-1","v":{"$error":"#DIV/0!"}},{"$f":"E44/'2020-21 Univ'!E44-1","v":0},{"$f":"F44/'2020-21 Univ'!F44-1","v":0},{"$f":"G44/'2020-21 Univ'!G44-1","v":0},{"$f":"H44/'2020-21 Univ'!H44-1","v":0},{"$f":"I44/'2020-21 Univ'!I44-1","v":0},{"$f":"J44/'2020-21 Univ'!J44-1","v":0},{"$f":"K44/'2020-21 Univ'!K44-1","v":0},{"$f":"L44/'2020-21 Univ'!L44-1","v":0}]
[null,"Research and Service",{"$f":"C45/'2020-21 Univ'!C45-1","v":0},{"$f":"D45/'2020-21 Univ'!D45-1","v":0},{"$f":"E45/'2020-21 Univ'!E45-1","v":0},{"$f":"F45/'2020-21 Univ'!F45-1","v":0},{"$f":"G45/'2020-21 Univ'!G45-1","v":0},{"$f":"H45/'2020-21 Univ'!H45-1","v":0},{"$f":"I45/'2020-21 Univ'!I45-1","v":0},{"$f":"J45/'2020-21 Univ'!J45-1","v":0},{"$f":"K45/'2020-21 Univ'!K45-1","v":0},{"$f":"L45/'2020-21 Univ'!L45-1","v":0}]
[null,"Degrees per 100 FTE",{"$f":"C46/'2020-21 Univ'!C46-1","v":0},{"$f":"D46/'2020-21 Univ'!D46-1","v":0},{"$f":"E46/'2020-21 Univ'!E46-1","v":0},{"$f":"F46/'2020-21 Univ'!F46-1","v":0},{"$f":"G46/'2020-21 Univ'!G46-1","v":0},{"$f":"H46/'2020-21 Univ'!H46-1","v":0},{"$f":"I46/'2020-21 Univ'!I46-1","v":0},{"$f":"J46/'2020-21 Univ'!J46-1","v":0},{"$f":"K46/'2020-21 Univ'!K46-1","v":0},{"$f":"L46/'2020-21 Univ'!L46-1","v":0}]
[null,"Six-Year Graduation Rate",{"$f":"C47/'2020-21 Univ'!C47-1","v":0},{"$f":"D47/'2020-21 Univ'!D47-1","v":0},{"$f":"E47/'2020-21 Univ'!E47-1","v":0},{"$f":"F47/'2020-21 Univ'!F47-1","v":0},{"$f":"G47/'2020-21 Univ'!G47-1","v":0},{"$f":"H47/'2020-21 Univ'!H47-1","v":0},{"$f":"I47/'2020-21 Univ'!I47-1","v":0},{"$f":"J47/'2020-21 Univ'!J47-1","v":0},{"$f":"K47/'2020-21 Univ'!K47-1","v":0},{"$f":"L47/'2020-21 Univ'!L47-1","v":0}]
[null,"Total",{"$f":"C48/'2020-21 Univ'!C48-1","v":0},{"$f":"D48/'2020-21 Univ'!D48-1","v":0},{"$f":"E48/'2020-21 Univ'!E48-1","v":0},{"$f":"F48/'2020-21 Univ'!F48-1","v":0},{"$f":"G48/'2020-21 Univ'!G48-1","v":0},{"$f":"H48/'2020-21 Univ'!H48-1","v":0},{"$f":"I48/'2020-21 Univ'!I48-1","v":0},{"$f":"J48/'2020-21 Univ'!J48-1","v":0},{"$f":"K48/'2020-21 Univ'!K48-1","v":0},{"$f":"L48/'2020-21 Univ'!L48-1","v":0}]

{"sheet":"20-21 Point Calculation","index":12,"n_rows":40,"n_cols":19,"rows_kept":40,"cut":false,"hidden":false,"merged":[[1,1,1,9],[3,3,3,6],[3,7,3,8],[4,9,5,9],[12,12,12,18],[3,1,5,1],[4,2,5,2],[4,3,5,3],[4,4,5,4],[4,5,5,5],[4,6,5,6],[4,7,5,7],[4,8,5,8]]}
[" "]
[null,"2020-21 Total Point Calculation"]
[]
[null,"Academic Formula Units","2020-21","2020-21 Fixed Costs",null,null,null,"2020-21 Quality Assurance",null,"2020-21"]
[null,null,"Weighted Outcomes","Fixed Costs","Fixed Cost Share","Fixed Cost Points","Point Subtotal","QA Score","QA Points","Point Total"]
[null,null,null,null,null,null,null,null,null,null,null,"Fixed  Cost Constant"]
[null,"LGI Universities",null,null,null,null,null,null,null,null,null,{"$f":"S17","v":0.21828599692538883}]
[null,"Austin Peay",{"$f":"'2020-21 Univ'!D48","v":2062.1283151685884},18879651.450315397,{"$f":"D8/$D$38","v":3.8893716642656249E-2},{"$f":"$C$38*E8*$L$7","v":298.98419697545859},{"$f":"C8+F8","v":2361.1125121440468},90,{"$f":"G8*$L$9*H8/100","v":115.8125687206655},{"$f":"G8+I8","v":2476.9250808647125},null,"Quality Assurance Constant"]
[null,"East Tennessee",{"$f":"'2020-21 Univ'!H48","v":2629.6747504162768},30772749.61888729,{"$f":"D9/$D$38","v":6.3394528608864548E-2},{"$f":"$C$38*E9*$L$7","v":487.32710229013077},{"$f":"C9+F9","v":3117.0018527064076},91,154.58770688497427,3271.5895595913817,null,5.45E-2]
[null,"Middle Tennessee",{"$f":"'2020-21 Univ'!G48","v":3496.5554612524465},49150216.058703728,0.10125370064925751,778.35853686993426,4274.9139981223807,89,207.3547034789261,4482.2687016013069]
[null,"Tennessee State",{"$f":"'2020-21 Univ'!I48","v":1712.3658427201817},26551312.346059345,5.469800232255035E-2,420.47507186889914,2132.840914589081,79,91.829465577632874,2224.670380166714]
[null,"Tennessee Tech",{"$f":"'2020-21 Univ'!E48","v":2447.9105706911369},28866543.473139647,5.9467578903764973E-2,457.13981227283955,2905.0503829639765,97,153.5754884953906,3058.6258714593673]
[null,"University of Memphis",{"$f":"'2020-21 Univ'!J48","v":3923.093963857234},58542533.991113476,0.12060268880416231,927.09828676149357,4850.1922506187275,93,245.83199422261023,5096.0242448413373,null,null,"Fixed Cost Constant Rationalization"]
[null,"Subtotal",{"$f":"SUM(C8:C13)","v":16271.728904105865},212763006.93821889,{"$f":"SUM(E8:E13)","v":0.43831021593125596},{"$f":"SUM(F8:F13)","v":3369.3830070387557},{"$f":"SUM(G8:G13)","v":19641.111911144621},"NA",{"$f":"SUM(I8:I13)","v":968.99192738019951},{"$f":"SUM(J8:J13)","v":20610.103838524821},null,null,null,"2011-12","2012-13","2013-14","2014-15","2015-16","Average"]
[null,null,null,null,null,null,null,null,null,null,null,null,"Fixed Costs",366690869.55848902,387809994.31726682,377226237.08081514,399315726.19111466,415758477.64899808,389360260.9593367]
[null,"Community Colleges",null," ",null,null,null,null,null,null,null,null,"Monetized Outcomes",1660440473.6720634,1758941535.9990635,1789558365.309818,1834925392.4408126,1874715049.5699492,1783716163.3983414]
[null,"Chattanooga",{"$f":"'2020-21 CC'!C57","v":735.51062138443297},10650599.959604217,{"$f":"D17/$D$38","v":2.1941158076634531E-2},{"$f":"$C$38*E17*$L$7","v":168.66630639920641},{"$f":"C17+F17","v":904.17692778363937},93,{"$f":"G17*$L$9*H17/100","v":45.828207584713752},{"$f":"G17+I17","v":950.00513536835308},null,null,"Ratio",{"$f":"N15/N16","v":0.22083951540132743},{"$f":"O15/O16","v":0.2204791838615569},{"$f":"P15/P16","v":0.21079292209366285},{"$f":"Q15/Q16","v":0.21761959796084462},{"$f":"R15/R16","v":0.22177155815993002},{"$f":"S15/S16","v":0.21828599692538883}]
[null,"Cleveland",{"$f":"'2020-21 CC'!D57","v":346.43549866704353},4356679.779101924,8.9751375589272181E-3,68.993773993229453,{"$f":"C18+F18","v":415.429272660273},91,{"$f":"G18*$L$9*H18/100","v":20.603214777586242},436.03248743785923]
[null,"Columbia",{"$f":"'2020-21 CC'!E57","v":484.59919209245663},5697961.8911482645,1.1738294841840002E-2,90.234746383163213,574.83393847561979,87,27.255751192821513,602.08968966844134]
[null,"Dyersburg",{"$f":"'2020-21 CC'!F57","v":268.09901051610177},3922204.9263258935,8.0800817441151074E-3,62.113291305022734,330.21230182112453,100,17.996570449251287,348.20887227037582]
[null,"Jackson",{"$f":"'2020-21 CC'!G57","v":390.21280218326075},5531568.5725421887,1.1395510198695129E-2,87.599688586866449,477.81249077012717,91,23.697110479744456,501.50960124987165]
[null,"Motlow",{"$f":"'2020-21 CC'!H57","v":551.36989279524801},4869514.6629272355,1.0031621822339718E-2,77.115191188087252,628.48508398333524,94,32.19729085246626,660.68237483580151]
[null,"Nashville",{"$f":"'2020-21 CC'!I57","v":609.87889984805861},6933853.5498921154,1.4284338665938394E-2,109.80672185689606,719.68562170495466,78,30.593835778677626,750.27945748363231]
[null,"Northeast ",{"$f":"'2020-21 CC'!J57","v":673.91971400810826},8025325.9107615817,1.6532866232173673E-2,127.09162715264577,801.011341160754,94,41.035811007665423,842.04715216841942]
[null,"Pellissippi",{"$f":"'2020-21 CC'!K57","v":918.1699201133755},10770728.210651783,2.2188632674845075E-2,170.56869579278407,1088.7386159061596,93,55.182716747203706,1143.9213326533634]
[null,"Roane",{"$f":"'2020-21 CC'!L57","v":625.96300883879121},10032386.468349749,2.0667584757932355E-2,158.87607988318544,784.83908872197662,92,39.351831908519912,824.19092063049652]
[null,"Southwest",{"$f":"'2020-21 CC'!M57","v":643.90267701954781},15502833.138687925,3.1937178545975567E-2,245.50782248353985,889.41049950308764,92,44.595042445084822,934.00554194817244]
[null,"Volunteer",{"$f":"'2020-21 CC'!N57","v":816.04234003212628},8313599.0379925491,1.7126733833793317E-2,131.65681256836038,947.69915260048663,94,48.550627587722929,996.24978018820957]
[null,"Walters",{"$f":"'2020-21 CC'!O57","v":617.34660423452556},10933654.100825634,2.2524274115199548E-2,173.14884228374731,790.49544651827284,92,39.635441688426198,830.13088820669907]
[null,"Community College Subtotal",{"$f":"SUM(C17:C29)","v":7681.4501817330765},105540910.20881106,{"$f":"SUM(E17:E29)","v":0.21742341306840965},{"$f":"SUM(F17:F29)","v":1671.3795998767346},{"$f":"SUM(G17:G29)","v":9352.8297816098111},"NA",{"$f":"SUM(I17:I29)","v":466.52345249988412},{"$f":"SUM(J17:J29)","v":9819.3532341096943}]
[null,null,null,null,null,null,null,null,null,null,null," "]
[null,"UT Universities",null," "]
[null,"UT Chattanooga",{"$f":"'2020-21 Univ'!F48","v":2427.6825350301415},26308287.873953789,5.4197350868248916E-2,{"$f":"$C$38*E33*$L$7","v":416.62645862362388},{"$f":"C33+F33","v":2844.3089936537654},90,{"$f":"G33*$L$9*H33/100","v":139.5133561387172},{"$f":"G33+I33","v":2983.8223497924828}]
[null,"UT Knoxville",{"$f":"'2020-21 Univ'!K48","v":6813.5216447747807},121616605.14901535,0.25054073652554598,{"$f":"$C$38*E34*$L$7","v":1925.9594450167849},{"$f":"C34+F34","v":8739.481089791565},93,{"$f":"G34*$L$9*H34/100","v":442.96059903608545},{"$f":"G34+I34","v":9182.4416888276501}]
[null,"UT Martin",{"$f":"'2020-21 Univ'!C48","v":2021.8507841747942},19187680.719157811,3.9528283606539545E-2,{"$f":"$C$38*E35*$L$7","v":303.86224696659065},2325.7130311413848,83,{"$f":"G35*$L$9*H35/100","v":105.20362896368054},{"$f":"G35+I35","v":2430.9166601050651},null," "]
[null,"Subtotal",{"$f":"SUM(C33:C35)","v":11263.054963979715},167112573.74212694,{"$f":"SUM(E33:E35)","v":0.34426637100033441},{"$f":"SUM(F33:F35)","v":2646.4481506069997},{"$f":"SUM(G33:G35)","v":13909.503114586714},"NA",{"$f":"SUM(I33:I35)","v":687.67758413848321},{"$f":"SUM(J33:J35)","v":14597.180698725198}]
[]
[null,"Colleges and Universities Total",{"$f":"SUM(C14,C30,C36)","v":35216.23404981866},{"$f":"SUM(D14,D30,D36)","v":485416490.88915688},{"$f":"SUM(E14,E30,E36)","v":1},{"$f":"SUM(F14,F30,F36)","v":7687.21075752249},{"$f":"SUM(G36,G30,G14)","v":42903.444807341148},"NA",{"$f":"SUM(I36,I30,I14)","v":2123.1929640185672},{"$f":"SUM(J36,J30,J14)","v":45026.637771359718}]
[]
[null,null,null,null,null,null,null,null," "]

{"sheet":"Dynamic - 21-22 Recommendation","index":13,"n_rows":40,"n_cols":12,"rows_kept":40,"cut":false,"hidden":false,"merged":[[8,16,8,17],[8,20,8,21],[8,24,8,26],[6,1,7,1],[7,10,7,11],[1,1,1,8],[3,2,5,2],[3,3,5,3],[3,4,5,4],[3,5,5,5],[3,6,5,6],[3,7,5,7],[3,8,5,8]]}
[]
[null,"2021-22 State Appropriations Distribution Recommendation"]
[]
[null,null,"A","B = Ai / ATOT",null,"C = Adjusted by Point Total Annual Percent Change","D = E x Total Rec","E = D - A","F = E / A"]
[]
[]
[null,"Academic Formula Units","2020-21","2020-21","2021-22","2021-22","2021-22","2021-22","Percent"]
[null,null,"Appropriation","Approp Share","Approp Share Growth","Approp Share","Appropriation","Changes","Change",null,"Total Appropriation Request"]
[null,"TBR Universities",null,null,null,null,null,null,null,null,"2020-21 Recurring Approp (less Leg Initiatives)",1078850800]
[null,"Austin Peay",50766800,{"$f":"C10/$C$40","v":4.7056367757246878E-2},{"$f":"D10*(1+'Dynamic 21-22 Point Calculation'!L8)","v":4.7626136363764081E-2},{"$f":"E10/$E$40","v":4.7151862874592894E-2},{"$f":"ROUND(F10*$L$11,-2)","v":50869800},{"$f":"G10-C10","v":103000},{"$f":"H10/C10","v":2.0288850193433505E-3},null,"2021-22 New Funding Rec",{"$f":"'Control Data'!L6","v":0}]
[null,"East Tennessee",70065800,{"$f":"C11/$C$40","v":6.494484686853827E-2},{"$f":"D11*(1+'Dynamic 21-22 Point Calculation'!L9)","v":6.5490847347236383E-2},{"$f":"E11/$E$40","v":6.4838672406088232E-2},{"$f":"ROUND(F11*$L$11,-2)","v":69951300},{"$f":"G11-C11","v":-114500},-1.634178158245535E-3,null,"2021-22 Total OBF Appropriation Request",{"$f":"L9+L10","v":1078850800}]
[null,"Middle Tennessee",105781200,9.8049887899234994E-2,{"$f":"D12*(1+'Dynamic 21-22 Point Calculation'!L10)","v":9.7492672412056933E-2},9.6521814949248552E-2,{"$f":"ROUND(F12*$L$11,-2)+100","v":104132700},{"$f":"G12-C12","v":-1648500},-1.5584054633526563E-2]
[null,"Tennessee State",41088400,3.8085340438177365E-2,{"$f":"D13*(1+'Dynamic 21-22 Point Calculation'!L11)","v":3.7687237031493702E-2},3.7311937694431641E-2,{"$f":"ROUND(F13*$L$11,-2)","v":40254000},{"$f":"G13-C13","v":-834400},-2.0307434701764975E-2]
[null,"Tennessee Tech",57001700,5.2835572815073222E-2,{"$f":"D14*(1+'Dynamic 21-22 Point Calculation'!L12)","v":5.3027997708397424E-2},5.2499931074882759E-2,{"$f":"ROUND(F14*$L$11,-2)","v":56639600},{"$f":"G14-C14","v":-362100},-6.3524421201472938E-3]
[null,"University of Memphis",123127000,0.11412792204445693,{"$f":"D15*(1+'Dynamic 21-22 Point Calculation'!L13)","v":0.11520486327296316},0.11405762319334316,{"$f":"ROUND(F15*$L$11,-2)","v":123051200},{"$f":"G15-C15","v":-75800},-6.1562451777433052E-4]
[null,"Subtotal",{"$f":"SUM(C10:C15)","v":447830900},{"$f":"SUM(D10:D15)","v":0.41509993782272764},{"$f":"SUM(E10:E15)","v":0.41652975413591165},{"$f":"SUM(F10:F15)","v":0.41238184219258722},{"$f":"SUM(G10:G15)","v":444898600},{"$f":"SUM(H10:H15)","v":-2932300},-6.5477839961467594E-3]
[null,null,null,null," "]
[null,"Community Colleges"," ",null," "," ",null,null,null,null," "]
[null,"Chattanooga",32917600,{"$f":"C19/$C$40","v":3.0511725995846693E-2},{"$f":"D19*(1+'Dynamic 21-22 Point Calculation'!L17)","v":3.063944388186662E-2},{"$f":"E19/$E$40","v":3.0334328307402892E-2},{"$f":"ROUND(F19*$L$11,-2)","v":32726200},{"$f":"G19-C19","v":-191400},{"$f":"H19/C19","v":-5.8145186769387805E-3}]
[null,"Cleveland",11875200,{"$f":"C20/$C$40","v":1.1007268104171587E-2},{"$f":"D20*(1+'Dynamic 21-22 Point Calculation'!L18)","v":1.1260176243237333E-2},{"$f":"E20/$E$40","v":1.1148044470994186E-2},{"$f":"ROUND(F20*$L$11,-2)+100","v":12027200},{"$f":"G20-C20","v":152000},1.2799784424683373E-2]
[null,"Columbia",17530400,1.6249142142731876E-2,{"$f":"D21*(1+'Dynamic 21-22 Point Calculation'!L19)","v":1.6969716688217076E-2},1.6800727822891215E-2,{"$f":"ROUND(F21*$L$11,-2)","v":18125500},{"$f":"G21-C21","v":595100},3.3946743941952268E-2]
[null,"Dyersburg",10655600,9.8768059494417585E-3,{"$f":"D22*(1+'Dynamic 21-22 Point Calculation'!L20)","v":1.0117875478745788E-2},1.0017119035484197E-2,{"$f":"ROUND(F22*$L$11,-2)-100","v":10806900},151300,1.419910657306956E-2]
[null,"Jackson",14785800,1.3705138838475163E-2,{"$f":"D23*(1+'Dynamic 21-22 Point Calculation'!L21)","v":1.3853559541989142E-2},1.3715602182373908E-2,{"$f":"ROUND(F23*$L$11,-2)","v":14797100},11300,7.6424677731336819E-4]
[null,"Motlow",19233600,1.7827859051501839E-2,{"$f":"D24*(1+'Dynamic 21-22 Point Calculation'!L22)","v":1.9054704156298966E-2},1.88649524418977E-2,{"$f":"ROUND(F24*$L$11,-2)-200","v":20352300},1118700,5.816383828300474E-2]
[null,"Nashville",22601800,2.0949884821886401E-2,{"$f":"D25*(1+'Dynamic 21-22 Point Calculation'!L23)","v":2.0841065596433145E-2},2.0633524828839275E-2,{"$f":"ROUND(F25*$L$11,-2)","v":22260500},-341300,-1.5100567211461033E-2]
[null,"Northeast ",22886200,2.1213498659870298E-2,{"$f":"D26*(1+'Dynamic 21-22 Point Calculation'!L24)","v":2.2163602855585118E-2},2.1942891916981237E-2,{"$f":"ROUND(F26*$L$11,-2)","v":23673100},786900,3.4383165400983996E-2]
[null,"Pellissippi",35276300,3.2698033870855917E-2,{"$f":"D27*(1+'Dynamic 21-22 Point Calculation'!L25)","v":3.3303488021345216E-2},3.2971843200425587E-2,{"$f":"ROUND(F27*$L$11,-2)","v":35571700},295400,8.3738940875318548E-3]
[null,"Roane",23992000,2.2238478202917401E-2,{"$f":"D28*(1+'Dynamic 21-22 Point Calculation'!L26)","v":2.258845793206788E-2},2.2363516175789085E-2,{"$f":"ROUND(F28*$L$11,-2)","v":24126900},134900,5.6227075691897303E-3]
[null,"Southwest",29792500,2.7615032588380155E-2,{"$f":"D29*(1+'Dynamic 21-22 Point Calculation'!L27)","v":2.7284177186504985E-2},2.7012474233013801E-2,{"$f":"ROUND(F29*$L$11,-2)","v":29142400},-650100,-2.1820928085927668E-2]
[null,"Volunteer",27669100,2.564682716090121E-2,{"$f":"D30*(1+'Dynamic 21-22 Point Calculation'!L28)","v":2.6546172634487105E-2},2.6281818922833138E-2,{"$f":"ROUND(F30*$L$11,-2)+100","v":28354300},{"$f":"G30-C30","v":685200},2.4764087014033705E-2]
[null,"Walters",25330600,2.3479242912921788E-2,{"$f":"D31*(1+'Dynamic 21-22 Point Calculation'!L29)","v":2.3931881035799199E-2},2.3693561121822006E-2,{"$f":"ROUND(F31*$L$11,-2)","v":25561800},{"$f":"G31-C31","v":231200},9.1273005771675356E-3]
[null,"Subtotal",{"$f":"SUM(C19:C31)","v":294546700},{"$f":"SUM(D19:D31)","v":0.27301893829990209},{"$f":"SUM(E19:E31)","v":0.27855432125257756},{"$f":"SUM(F19:F31)","v":0.27578040466074827},{"$f":"SUM(G19:G31)","v":297525900},{"$f":"SUM(H19:H31)","v":2979200},1.0114525133026443E-2]
[null," "]
[null,"UT Universities"]
[null,"UT Chattanooga",59089600,{"$f":"C35/$C$40","v":5.4770872858415642E-2},{"$f":"D35*(1+'Dynamic 21-22 Point Calculation'!L33)","v":5.5174878345737664E-2},{"$f":"E35/$E$40","v":5.4625432514823311E-2},{"$f":"ROUND(F35*$L$11,-2)","v":58932700},{"$f":"G35-C35","v":-156900},{"$f":"H35/C35","v":-2.6552895941079312E-3}]
[null,"UT Knoxville",243466900,{"$f":"C36/$C$40","v":0.22567244701491623},{"$f":"D36*(1+'Dynamic 21-22 Point Calculation'!L34)","v":0.22864394462424423},{"$f":"E36/$E$40","v":0.22636704858198392},{"$f":"ROUND(F36*$L$11,-2)","v":244216300},{"$f":"G36-C36","v":749400},{"$f":"H36/C36","v":3.0780364805236358E-3}]
[null,"UT Martin",33916700,3.1437804004038374E-2,{"$f":"D37*(1+'Dynamic 21-22 Point Calculation'!L35)","v":3.1155526913772713E-2},3.0845272049857188E-2,{"$f":"ROUND(F37*$L$11,-2)-100","v":33277300},{"$f":"G37-C37","v":-639400},{"$f":"H37/C37","v":-1.8852069924255602E-2}]
[null,"Subtotal",{"$f":"SUM(C35:C37)","v":336473200},{"$f":"SUM(D35:D37)","v":0.31188112387737027},{"$f":"SUM(E35:E37)","v":0.31497434988375461},{"$f":"SUM(F35:F37)","v":0.31183775314666445},{"$f":"SUM(G35:G37)","v":336426300},{"$f":"SUM(H35:H37)","v":-46900},{"$f":"H38/C38","v":-1.3938702993284457E-4}]
[]
[null,"Total",{"$f":"C16+C32+C38","v":1078850800},{"$f":"D16+D32+D38","v":1},{"$f":"SUM(E16,E32,E38)","v":1.010058425272244},{"$f":"SUM(F16,F32,F38)","v":1},{"$f":"SUM(G16,G32,G38)","v":1078850800},{"$f":"H16+H32+H38","v":0},{"$f":"H40/C40","v":0}]

{"sheet":"Institutions","index":14,"n_rows":25,"n_cols":11,"rows_kept":25,"cut":false,"hidden":true,"merged":[]}
["All Institutions",null,"Students Accumulating 12 hrs",null,"Students Accumulating 30 hrs",null,null,null,"Select an Institution",null,"Select an Institution"]
["All Community Colleges",null,"Students Accumulating 24 hrs",null,"Students Accumulating 60 hrs",null,null,null,"Chattanooga",null,"UTM"]
["All Universities",null,"Students Accumulating 36 hrs",null,"Students Accumulating 90 hrs",null,null,null,"Cleveland",null,"APSU"]
["Chattanooga",null,"Dual Enrollment",null,"Associate",null,null,null,"Columbia",null,"TTU"]
["Cleveland",null,"Associates",null,"Reverse Articulated Associates",null,null,null,"Dyersburg",null,"UTC"]
["Columbia",null,"Reverse Associates",null,"Bachelors",null,null,null,"Jackson",null,"MTSU"]
["Dyersburg",null,"1-2 Year Certificates",null,"Masters",null,null,null,"Motlow",null,"ETSU"]
["Jackson",null,"<1yr Certificates",null,"Education Specialist",null,null,null,"Nashville",null,"TSU"]
["Motlow",null,"Job Placements",null,"Law Degrees",null,null,null,"Northeast",null,"UM"]
["Nashville",null,"Transfers Out with 12 hrs",null,"Degrees of Veterinary Medicine",null,null,null,"Pellissippi",null,"UTK"]
["Northeast",null,"Workforce Training (Contact Hours)",null,"Doctoral",null,null,null,"Roane"]
["Pellissippi",null,"Awards per 100 FTE",null,"Research, Service and Sponsored Programs",null,null,null,"Southwest"]
["Roane",null,"Focus Population: 1",null,"Degrees per 100 FTE",null,null,null,"Volunteer"]
["Southwest",null,"Focus Population: 2",null,"Six-Year Graduation Rate",null,null,null,"Walters"]
["Volunteer",null,"Focus Population: 3",null,"Focus Population: 1"]
["Walters",null,"Enrollment ",null,"Focus Population: 2"]
["UTM",null,null,null,"Enrollment "]
["APSU"]
["TTU"]
["UTC"]
["MTSU"]
["ETSU"]
["TSU"]
["UM"]
["UTK"]

{"sheet":"Tabs Flow Chart","index":15,"n_rows":2,"n_cols":2,"rows_kept":2,"cut":false,"hidden":true,"merged":[[1,1,1,22]]}
[]
[null,"2015-2020 Outcomes-based Funding Formula Tabs Flow Chart"]

{"sheet":"Scales","index":16,"n_rows":29,"n_cols":15,"rows_kept":29,"cut":false,"hidden":true,"merged":[[1,1,1,4]]}
[]
[null,"Scale Comparisons"]
[null,null,null,null," "]
[null,null,"2010-15","Mathematically","2015-20"]
[null,"Community Colleges","Scales","Derived Scales","Proposed Scales"]
[null,"Students Accumulating 12 hrs",2,{"$f":"'CC Data'!U303","v":6.1153814559024831},6.1]
[null,"Students Accumulating 24 hrs",2,{"$f":"'CC Data'!U304","v":3.2980982816748003},3.3]
[null,"Students Accumulating 36 hrs",2,{"$f":"'CC Data'!U305","v":2.3204991843383742},2.2999999999999998]
[null,"Dual Enrollment",2,{"$f":"'CC Data'!U306","v":2.5217154823448649},2.5]
[null,"Associates",1.5,{"$f":"'CC Data'!U307","v":1.5},1.5]
[null,"1-2 Year Certificates",1.5,{"$f":"'CC Data'!U308","v":0.32717697838958687},2.5]
[null,"<1yr Certificates",1.5,{"$f":"'CC Data'!U309","v":1.0020653993153545},3]
[null,"Job Placements",0.5,{"$f":"'CC Data'!U310","v":0.40325304748337787},0.4,null,null,null,null,null,null,null,null,null," "]
[null,"Transfers Out with 12 hrs",2,{"$f":"'CC Data'!U311","v":0.43644180710595587},1.5]
[null,"Workforce Training (Contact Hours)",50,{"$f":"'CC Data'!U312","v":156.58380033888619},157,null,null," "]
[null,"Awards per 100 FTE",0.05,{"$f":"'CC Data'!U313","v":1.7294310155297466E-2},0.05]
[null,null,null," "]
[null,null,null,null," "," ",null,null,null,null,null,null,null," "]
[null,null,"2010-15","Mathematically","2015-20"]
[null,"Universities","Actual Scales","Derived Scales","Proposed Scales"]
[null,"Students Accumulating 30 hrs",1,{"$f":"'Univ Data'!U148","v":0.9899980796087956},2.5,null,null,null,null,null," "]
[null,"Students Accumulating 60 hrs",1,{"$f":"'Univ Data'!U149","v":0.66501562570430894},2]
[null,"Students Accumulating 90 hrs",1,{"$f":"'Univ Data'!U150","v":0.89067280488442657},1.5]
[null,"Bachelors and Associates",1,{"$f":"'Univ Data'!U151","v":1},1," "]
[null,"Masters/Ed Specialist Degrees",0.3,{"$f":"'Univ Data'!U152","v":0.18157309700361049},0.3]
[null,"Doctoral / Law Degrees",0.05,{"$f":"'Univ Data'!U153","v":4.8037527419061039E-2},0.05]
[null,"Research and Service",20000,{"$f":"'Univ Data'!U154","v":10619.939717050051},15000]
[null,"Degrees per 100 FTE",0.02,{"$f":"'Univ Data'!U155","v":3.3322771375027759E-3},0.02]
[null,"Six-Year Graduation Rate",0.04,{"$f":"'Univ Data'!U156","v":1.023180363040976E-2},0.01]